{"text_format":"2","workbook":"xlsx","n_sheets":6,"sheets":["Phaglob","OLPV1","OLPV2","gi2taxid","best_hits","Sheet1"],"not_rendered":{"charts":1,"images":0,"macros":0,"external_links":1,"defined_names":0,"comments":0,"pivot_tables":0},"unopened":[],"bounds":{"document_bytes":16777216,"sheet_cells":100000,"run_cost":"one","rows_first":2000,"rows_last":500,"rows_between":2000,"halvings":0,"cell_chars":16384,"cell_head_chars":4096},"cells_cut":0,"cells_raw":0,"read":"whole","date_system":"1900"}

{"sheet":"Phaglob","index":0,"n_rows":440,"n_cols":11,"rows_kept":440,"cut":false,"hidden":false,"merged":[]}
["query","consensus annotation by first 10 refseq hits","best refseq hit ann","gi","hit_len","%id","aln_len","e_val","bit_score"]
["Phaglob357289535","z band alternatively spliced pdz motif 52 isoform c ","GH20594 [Drosophila grimshawi]","ref|XP_001986308.1|",1166,32,92,1E-3,38.9,{"$f":"VLOOKUP(K2,gi2taxid!G:H,2,FALSE)","v":"Metazoa"},{"$f":"VLOOKUP(D2,gi2taxid!A:E,4,FALSE)","v":"Drosophila grimshawi"}]
["Phaglob357289536","aldehyde dehydrogenase 22a1 ","hypothetical protein HMPREF1020_02805 [Clostridium sp. 7_3_54FAA]","ref|ZP_09048726.1|",657,33,48,1.7000000000000001E-2,33.1,{"$f":"VLOOKUP(K3,gi2taxid!G:H,2,FALSE)","v":"Clostridia"},{"$f":"VLOOKUP(D3,gi2taxid!A:E,4,FALSE)","v":"Clostridium sp. 7_3_54FAA"}]
["Phaglob357289537",0,"predicted protein [Micromonas sp. RCC299]","ref|XP_002500422.1|",495,34,131,4.0000000000000001E-10,61.2,{"$f":"VLOOKUP(K4,gi2taxid!G:H,2,FALSE)","v":"Chlorophyta"},{"$f":"VLOOKUP(D4,gi2taxid!A:E,4,FALSE)","v":"Micromonas sp. RCC299"}]
["Phaglob357289538","paired mesoderm homeobox 1b ","hypothetical protein OtV2_063 [Ostreococcus tauri virus 2]","ref|YP_004063496.1|",1617,39,51,8.9999999999999993E-3,35,{"$f":"VLOOKUP(K5,gi2taxid!G:H,2,FALSE)","v":"Phycodnaviridae"},{"$f":"VLOOKUP(D5,gi2taxid!A:E,4,FALSE)","v":"Ostreococcus tauri virus 2"}]
["Phaglob357289539","osv5_080f ","hypothetical protein ATCV1_Z669L [Acanthocystis turfacea Chlorella virus 1]","ref|YP_001427150.1|",574,40,238,4.0000000000000002E-32,134,{"$f":"VLOOKUP(K6,gi2taxid!G:H,2,FALSE)","v":"Phycodnaviridae"},{"$f":"VLOOKUP(D6,gi2taxid!A:E,4,FALSE)","v":"Acanthocystis turfacea Chlorella virus 1"}]
["Phaglob357289540","group 1 glycosyl transferase ","hypothetical protein BRAFLDRAFT_233021 [Branchiostoma floridae]","ref|XP_002595248.1|",976,35,66,2E-3,37,{"$f":"VLOOKUP(K7,gi2taxid!G:H,2,FALSE)","v":"Metazoa"},{"$f":"VLOOKUP(D7,gi2taxid!A:E,4,FALSE)","v":"Branchiostoma floridae"}]
["Phaglob357289541","replication factor c subunit 2 ","replication factor C, subunit 2 [Plasmodium falciparum 3D7]","ref|XP_001349685.1|",330,28,330,4.9999999999999995E-22,95.1,{"$f":"VLOOKUP(K8,gi2taxid!G:H,2,FALSE)","v":"Apicomplexa"},{"$f":"VLOOKUP(D8,gi2taxid!A:E,4,FALSE)","v":"Plasmodium falciparum 3D7"}]
["Phaglob357289542","heat shock 40 kda ","PREDICTED: dnaJ homolog subfamily B member 5-like [Glycine max]","ref|XP_003532046.1|",289,27,281,1.0000000000000001E-18,84,{"$f":"VLOOKUP(K9,gi2taxid!G:H,2,FALSE)","v":"Streptophyta"},{"$f":"VLOOKUP(D9,gi2taxid!A:E,4,FALSE)","v":"Glycine max"}]
["Phaglob357289543","uncharacterized loc100828553 ","PREDICTED: uncharacterized protein LOC100828553 [Brachypodium distachyon]","ref|XP_003560805.1|",191,45,40,4.7E-2,30.8,{"$f":"VLOOKUP(K10,gi2taxid!G:H,2,FALSE)","v":"Streptophyta"},{"$f":"VLOOKUP(D10,gi2taxid!A:E,4,FALSE)","v":"Brachypodium distachyon"}]
["Phaglob357289544","msu_0576 ","hypothetical protein MJ_0642 [Methanocaldococcus jannaschii DSM 2661]","ref|NP_247626.1|",333,25,226,7.9999999999999996E-6,47.4,{"$f":"VLOOKUP(K11,gi2taxid!G:H,2,FALSE)","v":"Methanococci"},{"$f":"VLOOKUP(D11,gi2taxid!A:E,4,FALSE)","v":"Methanocaldococcus jannaschii DSM 2661"}]
["Phaglob357289545","dnaj subfamily c 17 ","unnamed protein product [Canary polyomavirus]","ref|YP_005454256.1|",167,49,41,1E-4,42.4,{"$f":"VLOOKUP(K12,gi2taxid!G:H,2,FALSE)","v":"Polyomaviridae"},{"$f":"VLOOKUP(D12,gi2taxid!A:E,4,FALSE)","v":"Canary polyomavirus"}]
["Phaglob357289546","oocyte zinc finger xlcof6 ","Fis family sigma-54 specific transcriptional regulator with PAS/PAC sensor [Desulfomicrobium baculatum DSM 4028]","ref|YP_003158663.1|",575,21,107,1.4E-2,38.5,{"$f":"VLOOKUP(K13,gi2taxid!G:H,2,FALSE)","v":"delta-epsilon_subdivisions"},{"$f":"VLOOKUP(D13,gi2taxid!A:E,4,FALSE)","v":"Desulfomicrobium baculatum DSM 4028"}]
["Phaglob357289547",{"$error":"#N/A"},{"$nulls":7},{"$f":"VLOOKUP(K14,gi2taxid!G:H,2,FALSE)","v":{"$error":"#N/A"}},{"$f":"VLOOKUP(D14,gi2taxid!A:E,4,FALSE)","v":{"$error":"#N/A"}}]
["Phaglob357289548","zinc finger involved transcriptional activator ","PREDICTED: zinc finger RNA-binding protein 2-like [Loxodonta africana]","ref|XP_003421968.1|",1340,24,90,2.9999999999999997E-4,43.1,{"$f":"VLOOKUP(K15,gi2taxid!G:H,2,FALSE)","v":"Metazoa"},{"$f":"VLOOKUP(D15,gi2taxid!A:E,4,FALSE)","v":"Loxodonta africana"}]
["Phaglob357289549","pullulanase precursor ","predicted protein [Populus trichocarpa]","ref|XP_002297788.1|",111,30,60,1.2E-2,31.6,{"$f":"VLOOKUP(K16,gi2taxid!G:H,2,FALSE)","v":"Streptophyta"},{"$f":"VLOOKUP(D16,gi2taxid!A:E,4,FALSE)","v":"Populus trichocarpa"}]
["Phaglob357289550","thioredoxin ","thioredoxin [Fusobacterium mortiferum ATCC 9817]","ref|ZP_08686504.1|",104,36,92,2E-12,60.8,{"$f":"VLOOKUP(K17,gi2taxid!G:H,2,FALSE)","v":"Fusobacteriia"},{"$f":"VLOOKUP(D17,gi2taxid!A:E,4,FALSE)","v":"Fusobacterium mortiferum ATCC 9817"}]
["Phaglob357289551","5' 3' exonuclease ","putative 5'-3' exonuclease [Cafeteria roenbergensis virus BV-PW1]","ref|YP_003969937.1|",562,29,567,2E-51,187,{"$f":"VLOOKUP(K18,gi2taxid!G:H,2,FALSE)","v":"unclassified_dsDNA_viruses (CroV)"},{"$f":"VLOOKUP(D18,gi2taxid!A:E,4,FALSE)","v":"Cafeteria roenbergensis virus BV-PW1"}]
["Phaglob357289552","integral membrane ","GD24409 [Drosophila simulans]","ref|XP_002105761.1|",971,29,97,5.9999999999999995E-4,41.2,{"$f":"VLOOKUP(K19,gi2taxid!G:H,2,FALSE)","v":"Metazoa"},{"$f":"VLOOKUP(D19,gi2taxid!A:E,4,FALSE)","v":"Drosophila simulans"}]
["Phaglob357289553","fad linked sulfhydryl oxidase alr ","hypothetical protein WIV_gp135 [Wiseana iridescent virus]","ref|YP_004732918.1|",154,30,103,3E-11,58.9,{"$f":"VLOOKUP(K20,gi2taxid!G:H,2,FALSE)","v":"Iridoviridae"},{"$f":"VLOOKUP(D20,gi2taxid!A:E,4,FALSE)","v":"Wiseana iridescent virus"}]
["Phaglob357289554","dna binding ","hypothetical protein crov207 [Cafeteria roenbergensis virus BV-PW1]","ref|YP_003969839.1|",119,38,58,8.0000000000000002E-3,35.799999999999997,{"$f":"VLOOKUP(K21,gi2taxid!G:H,2,FALSE)","v":"unclassified_dsDNA_viruses (CroV)"},{"$f":"VLOOKUP(D21,gi2taxid!A:E,4,FALSE)","v":"Cafeteria roenbergensis virus BV-PW1"}]
["Phaglob357289555","osv5_138r ","hypothetical protein AR158_C492R [Paramecium bursaria Chlorella virus AR158]","ref|YP_001498573.1|",126,23,119,1.9999999999999999E-7,46.6,{"$f":"VLOOKUP(K22,gi2taxid!G:H,2,FALSE)","v":"Phycodnaviridae"},{"$f":"VLOOKUP(D22,gi2taxid!A:E,4,FALSE)","v":"Paramecium bursaria Chlorella virus AR158"}]
["Phaglob357289556","amino acid permease ","hypothetical protein Aeqsu_2510 [Aequorivita sublithincola DSM 14238]","ref|YP_006418982.1|",65,30,63,2.5000000000000001E-2,30,{"$f":"VLOOKUP(K23,gi2taxid!G:H,2,FALSE)","v":"Bacteroidetes"},{"$f":"VLOOKUP(D23,gi2taxid!A:E,4,FALSE)","v":"Aequorivita sublithincola DSM 14238"}]
["Phaglob357289557",0,"hypothetical protein crov259 [Cafeteria roenbergensis virus BV-PW1]","ref|YP_003969891.1|",324,42,199,8E-41,145,{"$f":"VLOOKUP(K24,gi2taxid!G:H,2,FALSE)","v":"unclassified_dsDNA_viruses (CroV)"},{"$f":"VLOOKUP(D24,gi2taxid!A:E,4,FALSE)","v":"Cafeteria roenbergensis virus BV-PW1"}]
["Phaglob357289558",0,"hypothetical protein TDE1418 [Treponema denticola ATCC 35405]","ref|NP_972024.1|",460,32,425,2.9999999999999999E-50,179,{"$f":"VLOOKUP(K25,gi2taxid!G:H,2,FALSE)","v":"Spirochaetia"},{"$f":"VLOOKUP(D25,gi2taxid!A:E,4,FALSE)","v":"Treponema denticola ATCC 35405"}]
["Phaglob357289559",0,"hypothetical protein ATCV1_Z830R [Acanthocystis turfacea Chlorella virus 1]","ref|YP_001427311.1|",284,31,214,3.0000000000000001E-26,106,{"$f":"VLOOKUP(K26,gi2taxid!G:H,2,FALSE)","v":"Phycodnaviridae"},{"$f":"VLOOKUP(D26,gi2taxid!A:E,4,FALSE)","v":"Acanthocystis turfacea Chlorella virus 1"}]
["Phaglob357289560","transferase ","hypothetical protein rrnAC1576 [Haloarcula marismortui ATCC 43049]","ref|YP_136200.1|",310,33,310,2.9999999999999999E-41,147,{"$f":"VLOOKUP(K27,gi2taxid!G:H,2,FALSE)","v":"Halobacteria"},{"$f":"VLOOKUP(D27,gi2taxid!A:E,4,FALSE)","v":"Haloarcula marismortui ATCC 43049"}]
["Phaglob357289561","fkbm methyltransferase ","hypothetical protein P9515_13901 [Prochlorococcus marinus str. MIT 9515]","ref|YP_001011704.1|",288,43,258,1E-59,194,{"$f":"VLOOKUP(K28,gi2taxid!G:H,2,FALSE)","v":"Prochlorales"},{"$f":"VLOOKUP(D28,gi2taxid!A:E,4,FALSE)","v":"Prochlorococcus marinus str. MIT 9515"}]
["Phaglob357289562","methyltransferase fkbm ","methyltransferase fkbm family [Paludibacter propionicigenes WB4]","ref|YP_004042269.1|",249,39,200,7.9999999999999997E-38,134,{"$f":"VLOOKUP(K29,gi2taxid!G:H,2,FALSE)","v":"Bacteroidetes"},{"$f":"VLOOKUP(D29,gi2taxid!A:E,4,FALSE)","v":"Paludibacter propionicigenes WB4"}]
["Phaglob357289563","ny2a_b543l ","hypothetical protein OsV5_124f [Ostreococcus virus OsV5]","ref|YP_001648201.1|",280,53,273,6.0000000000000002E-105,311,{"$f":"VLOOKUP(K30,gi2taxid!G:H,2,FALSE)","v":"Phycodnaviridae"},{"$f":"VLOOKUP(D30,gi2taxid!A:E,4,FALSE)","v":"Ostreococcus virus OsV5"}]
["Phaglob357289564","tepre1_0238 ","hypothetical protein OsV5_125r [Ostreococcus virus OsV5]","ref|YP_001648202.1|",204,34,192,3.9999999999999999E-16,74.3,{"$f":"VLOOKUP(K31,gi2taxid!G:H,2,FALSE)","v":"Phycodnaviridae"},{"$f":"VLOOKUP(D31,gi2taxid!A:E,4,FALSE)","v":"Ostreococcus virus OsV5"}]
["Phaglob357289565","ankyrin 1 ","ankyrin domain protein [Persephonella marina EX-H1]","ref|YP_002730164.1|",238,42,170,4.9999999999999997E-30,117,{"$f":"VLOOKUP(K32,gi2taxid!G:H,2,FALSE)","v":"Aquificae"},{"$f":"VLOOKUP(D32,gi2taxid!A:E,4,FALSE)","v":"Persephonella marina EX-H1"}]
["Phaglob357289566","glycosyl transferase 25 ","glycosyl transferase family 25 [Burkholderia ambifaria MEX-5]","ref|ZP_02907204.1|",218,31,200,1.0000000000000001E-18,82.4,{"$f":"VLOOKUP(K33,gi2taxid!G:H,2,FALSE)","v":"Betaproteobacteria"},{"$f":"VLOOKUP(D33,gi2taxid!A:E,4,FALSE)","v":"Burkholderia ambifaria MEX-5"}]
["Phaglob357289567","glycolipid 2 alpha 1 ","hypothetical protein NCER_101962 [Nosema ceranae BRL01]","ref|XP_002995229.1|",328,30,183,3E-10,60.8,{"$f":"VLOOKUP(K34,gi2taxid!G:H,2,FALSE)","v":"Fungi"},{"$f":"VLOOKUP(D34,gi2taxid!A:E,4,FALSE)","v":"Nosema ceranae BRL01"}]
["Phaglob357289568","oocyte zinc finger xlcof7.1 partial ","hypothetical protein SMAC_07699 [Sordaria macrospora k-hell]","ref|XP_003350892.1|",194,33,93,3.0000000000000001E-5,44.7,{"$f":"VLOOKUP(K35,gi2taxid!G:H,2,FALSE)","v":"Fungi"},{"$f":"VLOOKUP(D35,gi2taxid!A:E,4,FALSE)","v":"Sordaria macrospora k-hell"}]
["Phaglob357289569","dna replication repair recf ","hypothetical protein crov255 [Cafeteria roenbergensis virus BV-PW1]","ref|YP_003969887.1|",253,34,257,5.0000000000000003E-34,125,{"$f":"VLOOKUP(K36,gi2taxid!G:H,2,FALSE)","v":"unclassified_dsDNA_viruses (CroV)"},{"$f":"VLOOKUP(D36,gi2taxid!A:E,4,FALSE)","v":"Cafeteria roenbergensis virus BV-PW1"}]
["Phaglob357289570","methyltransferase fkbm ","hypothetical protein [Methylomicrobium alcaliphilum]","ref|YP_004918352.1|",242,33,192,9.9999999999999996E-24,97.4,{"$f":"VLOOKUP(K37,gi2taxid!G:H,2,FALSE)","v":"Gammaproteobacteria"},{"$f":"VLOOKUP(D37,gi2taxid!A:E,4,FALSE)","v":"Methylomicrobium alcaliphilum 20Z"}]
["Phaglob357289571",0,"predicted protein [Thalassiosira pseudonana CCMP1335]","ref|XP_002296746.1|",291,37,249,4.9999999999999997E-50,177,{"$f":"VLOOKUP(K38,gi2taxid!G:H,2,FALSE)","v":"Bacillariophyta"},{"$f":"VLOOKUP(D38,gi2taxid!A:E,4,FALSE)","v":"Thalassiosira pseudonana CCMP1335"}]
["Phaglob357289572","bcere0021_3110 ","SusC/RagA family TonB-linked outer membrane protein [Tannerella sp. 6_1_58FAA_CT1]","ref|ZP_09338432.1|",1055,28,163,8.9999999999999993E-3,37.4,{"$f":"VLOOKUP(K39,gi2taxid!G:H,2,FALSE)","v":"Bacteroidetes"},{"$f":"VLOOKUP(D39,gi2taxid!A:E,4,FALSE)","v":"Tannerella sp. 6_1_58FAA_CT1"}]
["Phaglob357289573","outer membrane porin ","acyltransferase, WS/DGAT/MGAT [delta proteobacterium NaphS2]","ref|ZP_07205208.1|",522,29,51,2.5999999999999999E-2,35,{"$f":"VLOOKUP(K40,gi2taxid!G:H,2,FALSE)","v":"delta-epsilon_subdivisions"},{"$f":"VLOOKUP(D40,gi2taxid!A:E,4,FALSE)","v":"delta proteobacterium NaphS2"}]
["Phaglob357289574",0,"predicted protein [Micromonas sp. RCC299]","ref|XP_002505285.1|",399,37,54,3.0000000000000001E-3,38.5,{"$f":"VLOOKUP(K41,gi2taxid!G:H,2,FALSE)","v":"Chlorophyta"},{"$f":"VLOOKUP(D41,gi2taxid!A:E,4,FALSE)","v":"Micromonas sp. RCC299"}]
["Phaglob357289575","probable ribonuclease zc3h12b ","peptidase S45 penicillin amidase [Saccharomonospora paurometabolica YIM 90007]","ref|ZP_09030931.1|",950,38,53,2E-3,37,{"$f":"VLOOKUP(K42,gi2taxid!G:H,2,FALSE)","v":"Actinobacteria"},{"$f":"VLOOKUP(D42,gi2taxid!A:E,4,FALSE)","v":"Saccharomonospora paurometabolica YIM 90007"}]
["Phaglob357289576","auxin transport big ","PREDICTED: laminin subunit alpha-2-like [Strongylocentrotus purpuratus]","ref|XP_001197954.2|",1187,31,86,1.7000000000000001E-2,36.6,{"$f":"VLOOKUP(K43,gi2taxid!G:H,2,FALSE)","v":"Metazoa"},{"$f":"VLOOKUP(D43,gi2taxid!A:E,4,FALSE)","v":"Strongylocentrotus purpuratus"}]
["Phaglob357289577","acix9_2575 ","hypothetical protein AciX9_2575 [Granulicella tundricola MP5ACTX9]","ref|YP_004218381.1|",650,33,101,4.2000000000000003E-2,33.5,{"$f":"VLOOKUP(K44,gi2taxid!G:H,2,FALSE)","v":"Acidobacteria"},{"$f":"VLOOKUP(D44,gi2taxid!A:E,4,FALSE)","v":"Granulicella tundricola MP5ACTX9"}]
["Phaglob357289578",0,"hypothetical protein Lreu23DRAFT_5198 [Lactobacillus reuteri 100-23]","ref|ZP_03073724.1|",3246,25,289,5E-15,82,{"$f":"VLOOKUP(K45,gi2taxid!G:H,2,FALSE)","v":"Bacilli"},{"$f":"VLOOKUP(D45,gi2taxid!A:E,4,FALSE)","v":"Lactobacillus reuteri 100-23"}]
["Phaglob357289579","haemagluttinin motif hep_hag iss ","hypothetical protein OtV2_063 [Ostreococcus tauri virus 2]","ref|YP_004063496.1|",1617,27,400,9.9999999999999998E-17,87,{"$f":"VLOOKUP(K46,gi2taxid!G:H,2,FALSE)","v":"Phycodnaviridae"},{"$f":"VLOOKUP(D46,gi2taxid!A:E,4,FALSE)","v":"Ostreococcus tauri virus 2"}]
["Phaglob357289580","replication factor c large subunit 1 ","hypothetical protein TPHA_0F03230 [Tetrapisispora phaffii CBS 4417]","ref|XP_003686238.1|",845,25,329,2.0000000000000002E-15,79.3,{"$f":"VLOOKUP(K47,gi2taxid!G:H,2,FALSE)","v":"Fungi"},{"$f":"VLOOKUP(D47,gi2taxid!A:E,4,FALSE)","v":"Tetrapisispora phaffii CBS 4417"}]
["Phaglob357289581",{"$error":"#N/A"},{"$nulls":7},{"$f":"VLOOKUP(K48,gi2taxid!G:H,2,FALSE)","v":{"$error":"#N/A"}},{"$f":"VLOOKUP(D48,gi2taxid!A:E,4,FALSE)","v":{"$error":"#N/A"}}]
["Phaglob357289582","zinc finger 202 ","PREDICTED: zinc finger protein 202-like [Cavia porcellus]","ref|XP_003472683.1|",641,29,87,4.0000000000000003E-5,45.8,{"$f":"VLOOKUP(K49,gi2taxid!G:H,2,FALSE)","v":"Metazoa"},{"$f":"VLOOKUP(D49,gi2taxid!A:E,4,FALSE)","v":"Cavia porcellus"}]
["Phaglob357289583","zinc finger dna binding ","hypothetical protein OlV1_055c [Ostreococcus lucimarinus virus OlV1]","ref|YP_004061688.1|",169,34,107,3E-9,56.2,{"$f":"VLOOKUP(K50,gi2taxid!G:H,2,FALSE)","v":"Phycodnaviridae"},{"$f":"VLOOKUP(D50,gi2taxid!A:E,4,FALSE)","v":"Ostreococcus lucimarinus virus OlV1"}]
["Phaglob357289584","replication factor c subunit 5 ","predicted protein [Phaeodactylum tricornutum CCAP 1055/1]","ref|XP_002179670.1|",338,38,223,3.0000000000000002E-53,181,{"$f":"VLOOKUP(K51,gi2taxid!G:H,2,FALSE)","v":"Bacillariophyta"},{"$f":"VLOOKUP(D51,gi2taxid!A:E,4,FALSE)","v":"Phaeodactylum tricornutum CCAP 1055/1"}]
["Phaglob357289585","tata box binding ","putative TATA-box binding protein [Cafeteria roenbergensis virus BV-PW1]","ref|YP_003969792.1|",299,24,222,3.9999999999999998E-7,51.6,{"$f":"VLOOKUP(K52,gi2taxid!G:H,2,FALSE)","v":"unclassified_dsDNA_viruses (CroV)"},{"$f":"VLOOKUP(D52,gi2taxid!A:E,4,FALSE)","v":"Cafeteria roenbergensis virus BV-PW1"}]
["Phaglob357289586","glycosyl transferase ","hypothetical protein MGYG_08205 [Arthroderma gypseum CBS 118893]","ref|XP_003170026.1|",261,35,72,0.02,33.9,{"$f":"VLOOKUP(K53,gi2taxid!G:H,2,FALSE)","v":"Fungi"},{"$f":"VLOOKUP(D53,gi2taxid!A:E,4,FALSE)","v":"Arthroderma gypseum CBS 118893"}]
["Phaglob357289587","otv1_135 ","mg484 gene product [Megavirus chiliensis]","ref|YP_004894535.1|",167,31,102,2.0000000000000001E-13,65.900000000000006,{"$f":"VLOOKUP(K54,gi2taxid!G:H,2,FALSE)","v":"Mimiviridae"},{"$f":"VLOOKUP(D54,gi2taxid!A:E,4,FALSE)","v":"Megavirus chiliensis"}]
["Phaglob357289588","dna topoisomerase ii iss ","predicted protein [Ostreococcus lucimarinus CCE9901]","ref|XP_001420882.1|",1292,44,1148,0,946,{"$f":"VLOOKUP(K55,gi2taxid!G:H,2,FALSE)","v":"Chlorophyta"},{"$f":"VLOOKUP(D55,gi2taxid!A:E,4,FALSE)","v":"Ostreococcus lucimarinus CCE9901"}]
["Phaglob357289589","hyalin ","hypothetical protein BpV1_168 [Bathycoccus sp. RCC1105 virus BpV1]","ref|YP_004061598.1|",1154,31,154,2.0000000000000001E-10,67.8,{"$f":"VLOOKUP(K56,gi2taxid!G:H,2,FALSE)","v":"Phycodnaviridae"},{"$f":"VLOOKUP(D56,gi2taxid!A:E,4,FALSE)","v":"Bathycoccus sp. RCC1105 virus BpV1"}]
["Phaglob357289590",0,"amidase [Schistosoma mansoni]","ref|XP_002571882.1|",614,31,58,1.0999999999999999E-2,36.200000000000003,{"$f":"VLOOKUP(K57,gi2taxid!G:H,2,FALSE)","v":"Metazoa"},{"$f":"VLOOKUP(D57,gi2taxid!A:E,4,FALSE)","v":"Schistosoma mansoni"}]
["Phaglob357289591","collagen binding partial ","collagen binding domain protein, partial [Lachnospiraceae bacterium oral taxon 082 str. F0431]","ref|ZP_09561647.1|",494,27,98,2E-3,41.2,{"$f":"VLOOKUP(K58,gi2taxid!G:H,2,FALSE)","v":"Clostridia"},{"$f":"VLOOKUP(D58,gi2taxid!A:E,4,FALSE)","v":"Lachnospiraceae bacterium oral taxon 082 str. F0431"}]
["Phaglob357289592",0,"hypothetical protein MettrDRAFT_1279 [Methylosinus trichosporium OB3b]","ref|ZP_06887563.1|",714,24,433,1E-14,80.099999999999994,{"$f":"VLOOKUP(K59,gi2taxid!G:H,2,FALSE)","v":"Alphaproteobacteria"},{"$f":"VLOOKUP(D59,gi2taxid!A:E,4,FALSE)","v":"Methylosinus trichosporium OB3b"}]
["Phaglob357289593","queuine trna ribosyltransferase ","tgt gene product [Aeromonas salmonicida subsp. salmonicida A449]","ref|YP_001142396.1|",378,38,48,1E-4,43.1,{"$f":"VLOOKUP(K60,gi2taxid!G:H,2,FALSE)","v":"Gammaproteobacteria"},{"$f":"VLOOKUP(D60,gi2taxid!A:E,4,FALSE)","v":"Aeromonas salmonicida subsp. salmonicida A449"}]
["Phaglob357289594","replication factor c small subunit 2 ","replication factor C, 40 kDa subunit [Plasmodium yoelii yoelii 17XNL]","ref|XP_724000.1|",330,41,144,3.9999999999999996E-21,91.3,{"$f":"VLOOKUP(K61,gi2taxid!G:H,2,FALSE)","v":"Apicomplexa"},{"$f":"VLOOKUP(D61,gi2taxid!A:E,4,FALSE)","v":"Plasmodium yoelii yoelii 17XNL"}]
["Phaglob357289595","fr483_n624l ","hypothetical protein OTV1_103 [Ostreococcus tauri virus 1]","ref|YP_003494942.1|",284,31,200,2.9999999999999999E-22,95.5,{"$f":"VLOOKUP(K62,gi2taxid!G:H,2,FALSE)","v":"Phycodnaviridae"},{"$f":"VLOOKUP(D62,gi2taxid!A:E,4,FALSE)","v":"Ostreococcus tauri virus 1"}]
["Phaglob357289596","hnh endonuclease prophage lambdasa2 ","HNH endonuclease family protein [Enterococcus phage EFRM31]","ref|YP_004306639.1|",173,48,99,6.0000000000000001E-17,76.599999999999994,{"$f":"VLOOKUP(K63,gi2taxid!G:H,2,FALSE)","v":"Caudovirales"},{"$f":"VLOOKUP(D63,gi2taxid!A:E,4,FALSE)","v":"Enterococcus phage EFRM31"}]
["Phaglob357289597","dna methylase n 6 ","DNA methylase [Vibrio cholerae 623-39]","ref|ZP_01983885.1|",314,43,257,4E-55,184,{"$f":"VLOOKUP(K64,gi2taxid!G:H,2,FALSE)","v":"Gammaproteobacteria"},{"$f":"VLOOKUP(D64,gi2taxid!A:E,4,FALSE)","v":"Vibrio cholerae 623-39"}]
["Phaglob357289598","arginyl trna synthetase ","arginyl-tRNA synthetase [Enterococcus faecium 1,231,408]","ref|ZP_05674354.1|",470,39,71,1.7999999999999999E-2,36.200000000000003,{"$f":"VLOOKUP(K65,gi2taxid!G:H,2,FALSE)","v":"Bacilli"},{"$f":"VLOOKUP(D65,gi2taxid!A:E,4,FALSE)","v":"NULL"}]
["Phaglob357289599","kinase ","Protein Y73B6A.1 [Caenorhabditis elegans]","ref|NP_501030.2|",414,39,70,4.0000000000000002E-9,59.7,{"$f":"VLOOKUP(K66,gi2taxid!G:H,2,FALSE)","v":"Metazoa"},{"$f":"VLOOKUP(D66,gi2taxid!A:E,4,FALSE)","v":"Caenorhabditis elegans"}]
["Phaglob357289600","vv a32 virion packaging atpase ","hypothetical protein MpV1_092c [Micromonas sp. RCC1109 virus MpV1]","ref|YP_004061975.1|",275,37,227,2E-50,169,{"$f":"VLOOKUP(K67,gi2taxid!G:H,2,FALSE)","v":"Phycodnaviridae"},{"$f":"VLOOKUP(D67,gi2taxid!A:E,4,FALSE)","v":"Micromonas sp. RCC1109 virus MpV1"}]
["Phaglob357289601","vv a32 virion packaging atpase ","hypothetical protein MpV1_092c [Micromonas sp. RCC1109 virus MpV1]","ref|YP_004061975.1|",275,43,277,4.9999999999999998E-82,252,{"$f":"VLOOKUP(K68,gi2taxid!G:H,2,FALSE)","v":"Phycodnaviridae"},{"$f":"VLOOKUP(D68,gi2taxid!A:E,4,FALSE)","v":"Micromonas sp. RCC1109 virus MpV1"}]
["Phaglob357289602","zinc finger a20 an1 stress 9 isoform c ","PREDICTED: zinc finger A20 and AN1 domain-containing stress-associated protein 1-like [Glycine max]","ref|XP_003525555.1|",123,50,50,2E-12,59.3,{"$f":"VLOOKUP(K69,gi2taxid!G:H,2,FALSE)","v":"Streptophyta"},{"$f":"VLOOKUP(D69,gi2taxid!A:E,4,FALSE)","v":"Glycine max"}]
["Phaglob357289603","otv2_075 ","hypothetical protein crov339 [Cafeteria roenbergensis virus BV-PW1]","ref|YP_003969972.1|",211,38,120,4.0000000000000003E-15,73.900000000000006,{"$f":"VLOOKUP(K70,gi2taxid!G:H,2,FALSE)","v":"unclassified_dsDNA_viruses (CroV)"},{"$f":"VLOOKUP(D70,gi2taxid!A:E,4,FALSE)","v":"Cafeteria roenbergensis virus BV-PW1"}]
["Phaglob357289604","histidine kinase response regulator ","hypothetical protein [Acanthamoeba polyphaga mimivirus]","ref|YP_003986938.1|",159,45,74,1E-14,66.2,{"$f":"VLOOKUP(K71,gi2taxid!G:H,2,FALSE)","v":"Mimiviridae"},{"$f":"VLOOKUP(D71,gi2taxid!A:E,4,FALSE)","v":"Acanthamoeba polyphaga mimivirus"}]
["Phaglob357289605","glutamine gamma glutamyltransferase ","glutamine gamma-glutamyltransferase [Culex quinquefasciatus]","ref|XP_001845163.1|",917,27,128,5.5E-2,35,{"$f":"VLOOKUP(K72,gi2taxid!G:H,2,FALSE)","v":"Metazoa"},{"$f":"VLOOKUP(D72,gi2taxid!A:E,4,FALSE)","v":"Culex quinquefasciatus"}]
["Phaglob357289606","amidinotransferase ","transferase [Bacillus licheniformis DSM 13 = ATCC 14580]","ref|YP_078590.1|",295,29,234,5.9999999999999998E-21,90.5,{"$f":"VLOOKUP(K73,gi2taxid!G:H,2,FALSE)","v":"Bacilli"},{"$f":"VLOOKUP(D73,gi2taxid!A:E,4,FALSE)","v":"Bacillus licheniformis DSM 13 = ATCC 14580"}]
["Phaglob357289607",0,"hypothetical protein DICPUDRAFT_31892 [Dictyostelium purpureum]","ref|XP_003287039.1|",314,25,275,2.9999999999999999E-21,91.7,{"$f":"VLOOKUP(K74,gi2taxid!G:H,2,FALSE)","v":"Mycetozoa"},{"$f":"VLOOKUP(D74,gi2taxid!A:E,4,FALSE)","v":"Dictyostelium purpureum"}]
["Phaglob357289608","hnh endonuclease ","putative HNH endonuclease [Lactobacillus phage Lc-Nu]","ref|YP_358789.1|",181,57,47,9.9999999999999994E-12,60.5,{"$f":"VLOOKUP(K75,gi2taxid!G:H,2,FALSE)","v":"Caudovirales"},{"$f":"VLOOKUP(D75,gi2taxid!A:E,4,FALSE)","v":"Lactobacillus phage Lc-Nu"}]
["Phaglob357289609","methionyl trna synthetase ","hypothetical protein bthur0004_63860 [Bacillus thuringiensis serovar sotto str. T04001]","ref|ZP_04130507.1|",165,30,60,2E-3,34.299999999999997,{"$f":"VLOOKUP(K76,gi2taxid!G:H,2,FALSE)","v":"Bacilli"},{"$f":"VLOOKUP(D76,gi2taxid!A:E,4,FALSE)","v":"Bacillus thuringiensis serovar sotto str. T04001"}]
["Phaglob357289610","metallophosphoesterase ","mg561 gene product [Megavirus chiliensis]","ref|YP_004894612.1|",531,30,159,2.9999999999999999E-19,90.9,{"$f":"VLOOKUP(K77,gi2taxid!G:H,2,FALSE)","v":"Mimiviridae"},{"$f":"VLOOKUP(D77,gi2taxid!A:E,4,FALSE)","v":"Megavirus chiliensis"}]
["Phaglob357289611","1 phosphatidylinositol 4 5 bisphosphate phosphodiesterase delta ","predicted protein [Nematostella vectensis]","ref|XP_001623656.1|",553,22,327,5.9999999999999995E-8,55.1,{"$f":"VLOOKUP(K78,gi2taxid!G:H,2,FALSE)","v":"Metazoa"},{"$f":"VLOOKUP(D78,gi2taxid!A:E,4,FALSE)","v":"Nematostella vectensis"}]
["Phaglob357289612","atcv1_z280l ","mg464 gene product [Megavirus chiliensis]","ref|YP_004894515.1|",589,25,378,2.0000000000000001E-25,111,{"$f":"VLOOKUP(K79,gi2taxid!G:H,2,FALSE)","v":"Mimiviridae"},{"$f":"VLOOKUP(D79,gi2taxid!A:E,4,FALSE)","v":"Megavirus chiliensis"}]
["Phaglob357289613","bpv1_044c ","hypothetical protein OlV1_201 [Ostreococcus lucimarinus virus OlV1]","ref|YP_004061833.1|",141,43,53,4.0000000000000002E-9,52.4,{"$f":"VLOOKUP(K80,gi2taxid!G:H,2,FALSE)","v":"Phycodnaviridae"},{"$f":"VLOOKUP(D80,gi2taxid!A:E,4,FALSE)","v":"Ostreococcus lucimarinus virus OlV1"}]
["Phaglob357289614",0,"hypothetical protein [Paramecium bursaria Chlorella virus 1]","ref|NP_048469.2|",104,31,101,7.9999999999999996E-6,41.6,{"$f":"VLOOKUP(K81,gi2taxid!G:H,2,FALSE)","v":"Phycodnaviridae"},{"$f":"VLOOKUP(D81,gi2taxid!A:E,4,FALSE)","v":"Paramecium bursaria Chlorella virus 1"}]
["Phaglob357289615","transcriptional repressor ctcfl isoform 2 ","hypothetical protein AaeL_AAEL013592 [Aedes aegypti]","ref|XP_001663784.1|",441,26,97,7.0000000000000001E-3,38.5,{"$f":"VLOOKUP(K82,gi2taxid!G:H,2,FALSE)","v":"Metazoa"},{"$f":"VLOOKUP(D82,gi2taxid!A:E,4,FALSE)","v":"Aedes aegypti"}]
["Phaglob357289616","polynucleotide kinase 3' phosphatase ","PREDICTED: hypothetical protein [Saccoglossus kowalevskii]","ref|XP_002740993.1|",423,31,353,8.9999999999999998E-48,168,{"$f":"VLOOKUP(K83,gi2taxid!G:H,2,FALSE)","v":"Metazoa"},{"$f":"VLOOKUP(D83,gi2taxid!A:E,4,FALSE)","v":"Saccoglossus kowalevskii"}]
["Phaglob357289617","shew185_1696 ","predicted protein [Nematostella vectensis]","ref|XP_001633218.1|",212,29,184,4.0000000000000001E-13,65.099999999999994,{"$f":"VLOOKUP(K84,gi2taxid!G:H,2,FALSE)","v":"Metazoa"},{"$f":"VLOOKUP(D84,gi2taxid!A:E,4,FALSE)","v":"Nematostella vectensis"}]
["Phaglob357289618","sarcolemmal membrane isoform 1 ","PREDICTED: sarcolemmal membrane-associated protein isoform 1 [Bos taurus]","ref|XP_002697041.1|",811,29,68,3.0000000000000001E-3,35.4,{"$f":"VLOOKUP(K85,gi2taxid!G:H,2,FALSE)","v":"Metazoa"},{"$f":"VLOOKUP(D85,gi2taxid!A:E,4,FALSE)","v":"Bos taurus"}]
["Phaglob357289619","phosphoesterase pa phosphatase ","hypothetical protein [Bradyrhizobium japonicum USDA 6]","ref|YP_005609691.1|",196,29,149,1E-14,70.099999999999994,{"$f":"VLOOKUP(K86,gi2taxid!G:H,2,FALSE)","v":"Alphaproteobacteria"},{"$f":"VLOOKUP(D86,gi2taxid!A:E,4,FALSE)","v":"Bradyrhizobium japonicum USDA 6"}]
["Phaglob357289620","pmi18_06083 ","hypothetical protein CRE_00073 [Caenorhabditis remanei]","ref|XP_003117801.1|",498,22,156,2.7E-2,37,{"$f":"VLOOKUP(K87,gi2taxid!G:H,2,FALSE)","v":"Metazoa"},{"$f":"VLOOKUP(D87,gi2taxid!A:E,4,FALSE)","v":"Caenorhabditis remanei"}]
["Phaglob357289621","gmp reductase 2 isoform 1 ","PREDICTED: guanosine monophosphate reductase 2 [Oryctolagus cuniculus]","ref|XP_002718146.1|",348,51,343,9.0000000000000002E-116,343,{"$f":"VLOOKUP(K88,gi2taxid!G:H,2,FALSE)","v":"Metazoa"},{"$f":"VLOOKUP(D88,gi2taxid!A:E,4,FALSE)","v":"Oryctolagus cuniculus"}]
["Phaglob357289622","terminal quinol oxidase subunit ","terminal quinol oxidase subunit [Bacteroides sp. 2_1_22]","ref|ZP_06082839.1|",340,34,86,2.5000000000000001E-2,37.4,{"$f":"VLOOKUP(K89,gi2taxid!G:H,2,FALSE)","v":"Bacteroidetes"},{"$f":"VLOOKUP(D89,gi2taxid!A:E,4,FALSE)","v":"Bacteroides sp. 2_1_22"}]
["Phaglob357289623","glycosyl transferase group 2 ","glycosyl transferase, group 2 family protein domain protein [Burkholderia oklahomensis C6786]","ref|ZP_02364780.1|",471,41,235,3E-57,197,{"$f":"VLOOKUP(K90,gi2taxid!G:H,2,FALSE)","v":"Betaproteobacteria"},{"$f":"VLOOKUP(D90,gi2taxid!A:E,4,FALSE)","v":"Burkholderia oklahomensis C6786"}]
["Phaglob357289624","possible ambient ph signal transduction pathway sensor ","hypothetical protein MYCGRDRAFT_89653 [Mycosphaerella graminicola IPO323]","ref|XP_003856439.1|",330,34,113,2E-3,38.5,{"$f":"VLOOKUP(K91,gi2taxid!G:H,2,FALSE)","v":"Fungi"},{"$f":"VLOOKUP(D91,gi2taxid!A:E,4,FALSE)","v":"Zymoseptoria tritici IPO323"}]
["Phaglob357289625",0,"putative eIF-4E [Cafeteria roenbergensis virus BV-PW1]","ref|YP_003969852.1|",163,37,133,9.9999999999999998E-20,84,{"$f":"VLOOKUP(K92,gi2taxid!G:H,2,FALSE)","v":"unclassified_dsDNA_viruses (CroV)"},{"$f":"VLOOKUP(D92,gi2taxid!A:E,4,FALSE)","v":"Cafeteria roenbergensis virus BV-PW1"}]
["Phaglob357289626","atp dependent protease binding subunit clpb ","PREDICTED: RING finger protein 145-like [Anolis carolinensis]","ref|XP_003228995.1|",780,25,138,3.0000000000000001E-3,38.9,{"$f":"VLOOKUP(K93,gi2taxid!G:H,2,FALSE)","v":"Metazoa"},{"$f":"VLOOKUP(D93,gi2taxid!A:E,4,FALSE)","v":"Anolis carolinensis"}]
["Phaglob357289627","bmd_1663 ","hypothetical protein BMQ_1683 [Bacillus megaterium QM B1551]","ref|YP_003562148.1|",73,42,36,1E-3,33.9,{"$f":"VLOOKUP(K94,gi2taxid!G:H,2,FALSE)","v":"Bacilli"},{"$f":"VLOOKUP(D94,gi2taxid!A:E,4,FALSE)","v":"Bacillus megaterium QM B1551"}]
["Phaglob357289628","transcriptional regulator arac ","transcriptional regulator, AraC family [Neisseria polysaccharea ATCC 43768]","ref|ZP_06864355.1|",328,40,47,1.6E-2,32.299999999999997,{"$f":"VLOOKUP(K95,gi2taxid!G:H,2,FALSE)","v":"Betaproteobacteria"},{"$f":"VLOOKUP(D95,gi2taxid!A:E,4,FALSE)","v":"Neisseria polysaccharea ATCC 43768"}]
["Phaglob357289629","ny2a_b261l ","hypothetical protein OlV1_111 [Ostreococcus lucimarinus virus OlV1]","ref|YP_004061744.1|",248,37,253,1.9999999999999999E-49,167,{"$f":"VLOOKUP(K96,gi2taxid!G:H,2,FALSE)","v":"Phycodnaviridae"},{"$f":"VLOOKUP(D96,gi2taxid!A:E,4,FALSE)","v":"Ostreococcus lucimarinus virus OlV1"}]
["Phaglob357289630","outer membrane ","dsba oxidoreductase [Rhodobacterales bacterium Y4I]","ref|ZP_05077741.1|",221,30,82,2E-3,35.4,{"$f":"VLOOKUP(K97,gi2taxid!G:H,2,FALSE)","v":"Alphaproteobacteria"},{"$f":"VLOOKUP(D97,gi2taxid!A:E,4,FALSE)","v":"Rhodobacterales bacterium Y4I"}]
["Phaglob357289631","exodeoxyribonuclease iii ","exodeoxyribonuclease III Xth [Thermoanaerobacter wiegelii Rt8.B1]","ref|YP_004820839.1|",257,42,262,9.0000000000000004E-62,199,{"$f":"VLOOKUP(K98,gi2taxid!G:H,2,FALSE)","v":"Clostridia"},{"$f":"VLOOKUP(D98,gi2taxid!A:E,4,FALSE)","v":"Thermoanaerobacter wiegelii Rt8.B1"}]
["Phaglob357289632","otv2_120 ","EsV-1-52 [Ectocarpus siliculosus virus 1]","ref|NP_077537.1|",122,61,44,3E-10,53.9,{"$f":"VLOOKUP(K99,gi2taxid!G:H,2,FALSE)","v":"Phycodnaviridae"},{"$f":"VLOOKUP(D99,gi2taxid!A:E,4,FALSE)","v":"Ectocarpus siliculosus virus 1"}]
["Phaglob357289633","tail collar ","Phage Tail Collar Domain family [Verrucomicrobiae bacterium DG1235]","ref|ZP_05057080.1|",373,41,103,6.0000000000000001E-17,84.3,{"$f":"VLOOKUP(K100,gi2taxid!G:H,2,FALSE)","v":"Verrucomicrobia"},{"$f":"VLOOKUP(D100,gi2taxid!A:E,4,FALSE)","v":"Verrucomicrobiae bacterium DG1235"}]
["Phaglob357289634","tail collar ","tail collar domain-containing protein [Acetonema longum DSM 6540]","ref|ZP_08622988.1|",244,40,103,1.0000000000000001E-15,79,{"$f":"VLOOKUP(K101,gi2taxid!G:H,2,FALSE)","v":"Negativicutes"},{"$f":"VLOOKUP(D101,gi2taxid!A:E,4,FALSE)","v":"Acetonema longum DSM 6540"}]
["Phaglob357289635","2og fe ii oxygenase ","putative dioxygenase [Ostreococcus tauri virus 2]","ref|YP_004063598.1|",194,33,201,2.0000000000000002E-31,119,{"$f":"VLOOKUP(K102,gi2taxid!G:H,2,FALSE)","v":"Phycodnaviridae"},{"$f":"VLOOKUP(D102,gi2taxid!A:E,4,FALSE)","v":"Ostreococcus tauri virus 2"}]
["Phaglob357289636",{"$error":"#N/A"},{"$nulls":7},{"$f":"VLOOKUP(K103,gi2taxid!G:H,2,FALSE)","v":{"$error":"#N/A"}},{"$f":"VLOOKUP(D103,gi2taxid!A:E,4,FALSE)","v":{"$error":"#N/A"}}]
["Phaglob357289637",0,"mg434 gene product [Megavirus chiliensis]","ref|YP_004894485.1|",1230,26,240,8.9999999999999999E-8,55.8,{"$f":"VLOOKUP(K104,gi2taxid!G:H,2,FALSE)","v":"Mimiviridae"},{"$f":"VLOOKUP(D104,gi2taxid!A:E,4,FALSE)","v":"Megavirus chiliensis"}]
["Phaglob357289638","baseplate wedge initiator ","baseplate wedge initiator [Prochlorococcus phage P-HM1]","ref|YP_004322520.1|",2425,43,93,2.9999999999999998E-14,79.3,{"$f":"VLOOKUP(K105,gi2taxid!G:H,2,FALSE)","v":"Caudovirales"},{"$f":"VLOOKUP(D105,gi2taxid!A:E,4,FALSE)","v":"Prochlorococcus phage P-HM1"}]
["Phaglob357289639","olv1_191 ","hypothetical protein MpV1_190 [Micromonas sp. RCC1109 virus MpV1]","ref|YP_004062073.1|",157,31,113,4.9999999999999997E-12,62,{"$f":"VLOOKUP(K106,gi2taxid!G:H,2,FALSE)","v":"Phycodnaviridae"},{"$f":"VLOOKUP(D106,gi2taxid!A:E,4,FALSE)","v":"Micromonas sp. RCC1109 virus MpV1"}]
["Phaglob357289640","transmembrane channel 2 ","PREDICTED: transmembrane channel-like protein 2-like [Loxodonta africana]","ref|XP_003411501.1|",1003,31,80,5.0000000000000001E-3,36.6,{"$f":"VLOOKUP(K107,gi2taxid!G:H,2,FALSE)","v":"Metazoa"},{"$f":"VLOOKUP(D107,gi2taxid!A:E,4,FALSE)","v":"Loxodonta africana"}]
["Phaglob357289641","low quality hydrocephalus inducing ","hypothetical protein NCU01912 [Neurospora crassa OR74A]","ref|XP_965543.1|",1167,30,92,2.9999999999999997E-4,42.7,{"$f":"VLOOKUP(K108,gi2taxid!G:H,2,FALSE)","v":"Fungi"},{"$f":"VLOOKUP(D108,gi2taxid!A:E,4,FALSE)","v":"Neurospora crassa OR74A"}]
["Phaglob357289642","e3 ubiquitin ligase rfwd2 isoform 1 ","PREDICTED: E3 ubiquitin-protein ligase RFWD2-like [Cricetulus griseus]","ref|XP_003500969.1|",812,25,104,2.0000000000000001E-4,40.4,{"$f":"VLOOKUP(K109,gi2taxid!G:H,2,FALSE)","v":"Metazoa"},{"$f":"VLOOKUP(D109,gi2taxid!A:E,4,FALSE)","v":"Cricetulus griseus"}]
["Phaglob357289643","sri 63 ","hypothetical protein PROVRETT_07477 [Providencia rettgeri DSM 1131]","ref|ZP_06125431.1|",432,40,45,1.0999999999999999E-2,33.9,{"$f":"VLOOKUP(K110,gi2taxid!G:H,2,FALSE)","v":"Gammaproteobacteria"},{"$f":"VLOOKUP(D110,gi2taxid!A:E,4,FALSE)","v":"Providencia rettgeri DSM 1131"}]
["Phaglob357289644","ribonucleoside diphosphate reductase small chain a ","hypothetical protein FG05409.1 [Gibberella zeae PH-1]","ref|XP_385585.1|",399,63,334,5.9999999999999998E-145,419,{"$f":"VLOOKUP(K111,gi2taxid!G:H,2,FALSE)","v":"Fungi"},{"$f":"VLOOKUP(D111,gi2taxid!A:E,4,FALSE)","v":"Gibberella zeae PH-1"}]
["Phaglob357289645","glycerol 3 phosphate dehydrogenase fad dependent mitochondrial ","DNA-directed DNA polymerase [Paenibacillus larvae subsp. larvae BRL-230010]","ref|ZP_02327458.1|",375,35,54,2E-3,36.200000000000003,{"$f":"VLOOKUP(K112,gi2taxid!G:H,2,FALSE)","v":"Bacilli"},{"$f":"VLOOKUP(D112,gi2taxid!A:E,4,FALSE)","v":"Paenibacillus larvae subsp. larvae BRL-230010"}]
["Phaglob357289646","vansg ","VanSG [Enterococcus faecalis DS5]","ref|ZP_05562251.1|",370,27,95,4.0000000000000002E-4,43.9,{"$f":"VLOOKUP(K113,gi2taxid!G:H,2,FALSE)","v":"Bacilli"},{"$f":"VLOOKUP(D113,gi2taxid!A:E,4,FALSE)","v":"Enterococcus faecalis DS5"}]
["Phaglob357289647","glucosamine fructose 6 phosphate aminotransferase ","glucosamine-fructose-6-phosphate aminotransferase [Cryptosporidium hominis TU502]","ref|XP_667116.1|",597,36,611,2.9999999999999998E-129,397,{"$f":"VLOOKUP(K114,gi2taxid!G:H,2,FALSE)","v":"Apicomplexa"},{"$f":"VLOOKUP(D114,gi2taxid!A:E,4,FALSE)","v":"Cryptosporidium hominis TU502"}]
["Phaglob357289648","integral membrane sensor signal transduction histidine kinase ","two-component sensor histidine kinase [Geobacillus kaustophilus HTA426]","ref|YP_147467.1|",430,32,62,1.4E-2,33.5,{"$f":"VLOOKUP(K115,gi2taxid!G:H,2,FALSE)","v":"Bacilli"},{"$f":"VLOOKUP(D115,gi2taxid!A:E,4,FALSE)","v":"Geobacillus kaustophilus HTA426"}]
["Phaglob357289649","beta 1 4 galactosyltransferase ","PREDICTED: beta-1,4-N-acetylgalactosaminyltransferase bre-4-like, partial [Megachile rotundata]","ref|XP_003708164.1|",254,30,159,2.9999999999999999E-16,76.3,{"$f":"VLOOKUP(K116,gi2taxid!G:H,2,FALSE)","v":"Metazoa"},{"$f":"VLOOKUP(D116,gi2taxid!A:E,4,FALSE)","v":"Megachile rotundata"}]
["Phaglob357289650","transcription initiation factor iib ","putative transcription initiation factor IIb-like protein [Acanthamoeba polyphaga mimivirus]","ref|YP_003986746.1|",461,32,379,9.9999999999999993E-41,151,{"$f":"VLOOKUP(K117,gi2taxid!G:H,2,FALSE)","v":"Mimiviridae"},{"$f":"VLOOKUP(D117,gi2taxid!A:E,4,FALSE)","v":"Acanthamoeba polyphaga mimivirus"}]
["Phaglob357289651","tetratricopeptide repeat ","Uro-adherence factor A precursor [Entamoeba histolytica HM-1:IMSS]","ref|XP_653236.1|",1069,45,93,1.9999999999999999E-6,51.6,{"$f":"VLOOKUP(K118,gi2taxid!G:H,2,FALSE)","v":"Archamoebae"},{"$f":"VLOOKUP(D118,gi2taxid!A:E,4,FALSE)","v":"Entamoeba histolytica HM-1:IMSS"}]
["Phaglob357289652","prophage lambdaba03 hnh endonuclease ","prophage LambdaBa03, HNH endonuclease family protein [Bacillus anthracis str. A0442]","ref|ZP_02394996.1|",271,41,61,2.0000000000000001E-4,38.1,{"$f":"VLOOKUP(K119,gi2taxid!G:H,2,FALSE)","v":"Bacilli"},{"$f":"VLOOKUP(D119,gi2taxid!A:E,4,FALSE)","v":"Bacillus anthracis str. A0442"}]
["Phaglob357289653",0,"hypothetical protein VOLCADRAFT_99764 [Volvox carteri f. nagariensis]","ref|XP_002958512.1|",441,36,76,8.9999999999999995E-9,54.7,{"$f":"VLOOKUP(K120,gi2taxid!G:H,2,FALSE)","v":"Chlorophyta"},{"$f":"VLOOKUP(D120,gi2taxid!A:E,4,FALSE)","v":"Volvox carteri f. nagariensis"}]
["Phaglob357289654","patatin phospholipase ","mg442 gene product [Megavirus chiliensis]","ref|YP_004894493.1|",323,30,184,2.0000000000000001E-17,82.4,{"$f":"VLOOKUP(K121,gi2taxid!G:H,2,FALSE)","v":"Mimiviridae"},{"$f":"VLOOKUP(D121,gi2taxid!A:E,4,FALSE)","v":"Megavirus chiliensis"}]
["Phaglob357289655","disulfide isomerase tmx3 ","predicted protein [Physcomitrella patens subsp. patens]","ref|XP_001776169.1|",362,31,111,1E-14,70.900000000000006,{"$f":"VLOOKUP(K122,gi2taxid!G:H,2,FALSE)","v":"Streptophyta"},{"$f":"VLOOKUP(D122,gi2taxid!A:E,4,FALSE)","v":"Physcomitrella patens subsp. patens"}]
["Phaglob357289656","human hepatopoietin ","putative Erv-family thiol oxidoreductase [Cafeteria roenbergensis virus BV-PW1]","ref|YP_003969775.1|",181,53,175,9.9999999999999997E-61,190,{"$f":"VLOOKUP(K123,gi2taxid!G:H,2,FALSE)","v":"unclassified_dsDNA_viruses (CroV)"},{"$f":"VLOOKUP(D123,gi2taxid!A:E,4,FALSE)","v":"Cafeteria roenbergensis virus BV-PW1"}]
["Phaglob357289657","mechanosensitive ion channel ","mechanosensitive ion channel [Leptospira kirschneri serovar Bim str. 1051]","ref|ZP_10524596.1|",336,25,148,3.2000000000000001E-2,37.4,{"$f":"VLOOKUP(K124,gi2taxid!G:H,2,FALSE)","v":"Spirochaetia"},{"$f":"VLOOKUP(D124,gi2taxid!A:E,4,FALSE)","v":"Leptospira kirschneri serovar Bim str. 1051"}]
["Phaglob357289658","perosamine synthetase ","sugar kinase [Actinomyces sp. oral taxon 178 str. F0338]","ref|ZP_08026196.1|",520,27,124,1.7999999999999999E-2,36.6,{"$f":"VLOOKUP(K125,gi2taxid!G:H,2,FALSE)","v":"Actinobacteria"},{"$f":"VLOOKUP(D125,gi2taxid!A:E,4,FALSE)","v":"Actinomyces sp. oral taxon 178 str. F0338"}]
["Phaglob357289659","exonuclease rnase t dna polymerase iii subunit alpha ","exonuclease RNAse t and DNA polymerase iii [Paludibacter propionicigenes WB4]","ref|YP_004044113.1|",189,37,200,5.9999999999999996E-31,115,{"$f":"VLOOKUP(K126,gi2taxid!G:H,2,FALSE)","v":"Bacteroidetes"},{"$f":"VLOOKUP(D126,gi2taxid!A:E,4,FALSE)","v":"Paludibacter propionicigenes WB4"}]
["Phaglob357289660","ferrochelatase ","hypothetical protein NB231_02448 [Nitrococcus mobilis Nb-231]","ref|ZP_01127474.1|",694,34,111,1.0000000000000001E-18,84.7,{"$f":"VLOOKUP(K127,gi2taxid!G:H,2,FALSE)","v":"Gammaproteobacteria"},{"$f":"VLOOKUP(D127,gi2taxid!A:E,4,FALSE)","v":"Nitrococcus mobilis Nb-231"}]
["Phaglob357289661","rhodanese sulfurtransferase ","hypothetical protein [Streptomyces cattleya NRRL 8057 = DSM 46488]","ref|YP_004909934.1|",111,28,97,9.9999999999999995E-8,50.1,{"$f":"VLOOKUP(K128,gi2taxid!G:H,2,FALSE)","v":"Actinobacteria"},{"$f":"VLOOKUP(D128,gi2taxid!A:E,4,FALSE)","v":"Streptomyces cattleya NRRL 8057 = DSM 46488"}]
["Phaglob357289662","amine oxidase ","putative monoamine oxidase [Amycolicicoccus subflavus DQS3-9A1]","ref|YP_004494171.1|",500,21,496,3.9999999999999998E-20,93.2,{"$f":"VLOOKUP(K129,gi2taxid!G:H,2,FALSE)","v":"Actinobacteria"},{"$f":"VLOOKUP(D129,gi2taxid!A:E,4,FALSE)","v":"Amycolicicoccus subflavus DQS3-9A1"}]
["Phaglob357289663","ribonucleoside diphosphate reductase subunit alpha ","ribonucleoside-diphosphate reductase subunit alpha [Cyclobacterium marinum DSM 745]","ref|YP_004774121.1|",798,54,818,0,906,{"$f":"VLOOKUP(K130,gi2taxid!G:H,2,FALSE)","v":"Bacteroidetes"},{"$f":"VLOOKUP(D130,gi2taxid!A:E,4,FALSE)","v":"Cyclobacterium marinum DSM 745"}]
["Phaglob357289664","lambda type exonuclease ","putative lambda-type exonuclease [Cafeteria roenbergensis virus BV-PW1]","ref|YP_003969838.1|",479,30,341,1.0000000000000001E-32,129,{"$f":"VLOOKUP(K131,gi2taxid!G:H,2,FALSE)","v":"unclassified_dsDNA_viruses (CroV)"},{"$f":"VLOOKUP(D131,gi2taxid!A:E,4,FALSE)","v":"Cafeteria roenbergensis virus BV-PW1"}]
["Phaglob357289665","uncharacterized c1orf50 ","PREDICTED: uncharacterized protein LOC100914024 [Sarcophilus harrisii]","ref|XP_003763227.1|",319,50,66,1E-14,69.3,{"$f":"VLOOKUP(K132,gi2taxid!G:H,2,FALSE)","v":"Metazoa"},{"$f":"VLOOKUP(D132,gi2taxid!A:E,4,FALSE)","v":"Sarcophilus harrisii"}]
["Phaglob357289666","ribonuclease h1 ","predicted protein [Laccaria bicolor S238N-H82]","ref|XP_001874114.1|",561,35,237,2.0000000000000001E-32,124,{"$f":"VLOOKUP(K133,gi2taxid!G:H,2,FALSE)","v":"Fungi"},{"$f":"VLOOKUP(D133,gi2taxid!A:E,4,FALSE)","v":"Laccaria bicolor S238N-H82"}]
["Phaglob357289667",0,"predicted protein [Thalassiosira pseudonana CCMP1335]","ref|XP_002289565.1|",779,26,110,3.0000000000000001E-3,38.1,{"$f":"VLOOKUP(K134,gi2taxid!G:H,2,FALSE)","v":"Bacillariophyta"},{"$f":"VLOOKUP(D134,gi2taxid!A:E,4,FALSE)","v":"Thalassiosira pseudonana CCMP1335"}]
["Phaglob357289668","cre_13804 ","Hypothetical protein CBG19858 [Caenorhabditis briggsae]","ref|XP_002633826.1|",1137,33,92,3.0000000000000001E-6,47.4,{"$f":"VLOOKUP(K135,gi2taxid!G:H,2,FALSE)","v":"Metazoa"},{"$f":"VLOOKUP(D135,gi2taxid!A:E,4,FALSE)","v":"Caenorhabditis briggsae"}]
["Phaglob357289669",0,"Protein T21C9.6 [Caenorhabditis elegans]","ref|NP_505715.2|",1235,30,112,2.9999999999999997E-4,41.6,{"$f":"VLOOKUP(K136,gi2taxid!G:H,2,FALSE)","v":"Metazoa"},{"$f":"VLOOKUP(D136,gi2taxid!A:E,4,FALSE)","v":"Caenorhabditis elegans"}]
["Phaglob357289670","osv5_242f ","hypothetical protein [Acanthamoeba polyphaga mimivirus]","ref|YP_003987019.1|",259,51,116,1.9999999999999999E-34,125,{"$f":"VLOOKUP(K137,gi2taxid!G:H,2,FALSE)","v":"Mimiviridae"},{"$f":"VLOOKUP(D137,gi2taxid!A:E,4,FALSE)","v":"Acanthamoeba polyphaga mimivirus"}]
["Phaglob357289671","type ii dna methyltransferase ","putative DNA methyltransferase [Cafeteria roenbergensis virus BV-PW1]","ref|YP_003970080.1|",200,77,171,2.9999999999999999E-88,271,{"$f":"VLOOKUP(K138,gi2taxid!G:H,2,FALSE)","v":"unclassified_dsDNA_viruses (CroV)"},{"$f":"VLOOKUP(D138,gi2taxid!A:E,4,FALSE)","v":"Cafeteria roenbergensis virus BV-PW1"}]
["Phaglob357289672","restriction endonuclease ","restriction endonuclease [Helicobacter pylori PeCan18]","ref|YP_006229131.1|",195,38,176,5.0000000000000004E-31,116,{"$f":"VLOOKUP(K139,gi2taxid!G:H,2,FALSE)","v":"delta-epsilon_subdivisions"},{"$f":"VLOOKUP(D139,gi2taxid!A:E,4,FALSE)","v":"Helicobacter pylori PeCan18"}]
["Phaglob357289673","transposase ","transposase [Sinorhizobium meliloti AK83]","ref|YP_004551971.1|",314,22,321,3.0000000000000001E-17,81.599999999999994,{"$f":"VLOOKUP(K140,gi2taxid!G:H,2,FALSE)","v":"Alphaproteobacteria"},{"$f":"VLOOKUP(D140,gi2taxid!A:E,4,FALSE)","v":"Sinorhizobium meliloti AK83"}]
["Phaglob357289674","l arabinose isomerase ","L-arabinose isomerase [Paenibacillus terrae HPL-003]","ref|YP_005076936.1|",81,37,43,5.0000000000000001E-3,33.1,{"$f":"VLOOKUP(K141,gi2taxid!G:H,2,FALSE)","v":"Bacilli"},{"$f":"VLOOKUP(D141,gi2taxid!A:E,4,FALSE)","v":"Paenibacillus terrae HPL-003"}]
["Phaglob357289675","zinc finger 729 ","PREDICTED: zinc finger protein 347-like [Saccoglossus kowalevskii]","ref|XP_002738422.1|",1330,27,113,8.0000000000000004E-4,42,{"$f":"VLOOKUP(K142,gi2taxid!G:H,2,FALSE)","v":"Metazoa"},{"$f":"VLOOKUP(D142,gi2taxid!A:E,4,FALSE)","v":"Saccoglossus kowalevskii"}]
["Phaglob357289676","thimadraft_3897 ","hypothetical protein EhV330 [Emiliania huxleyi virus 86]","ref|YP_294088.1|",142,61,141,3E-57,180,{"$f":"VLOOKUP(K143,gi2taxid!G:H,2,FALSE)","v":"Phycodnaviridae"},{"$f":"VLOOKUP(D143,gi2taxid!A:E,4,FALSE)","v":"Emiliania huxleyi virus 86"}]
["Phaglob357289677","rhodanese ","hypothetical protein [Streptomyces cattleya NRRL 8057 = DSM 46488]","ref|YP_004909934.1|",111,31,58,1E-4,39.299999999999997,{"$f":"VLOOKUP(K144,gi2taxid!G:H,2,FALSE)","v":"Actinobacteria"},{"$f":"VLOOKUP(D144,gi2taxid!A:E,4,FALSE)","v":"Streptomyces cattleya NRRL 8057 = DSM 46488"}]
["Phaglob357289678",0,"Deoxynucleoside kinase family protein [Tetrahymena thermophila]","ref|XP_001027990.1|",257,36,208,4.0000000000000002E-33,123,{"$f":"VLOOKUP(K145,gi2taxid!G:H,2,FALSE)","v":"Ciliophora"},{"$f":"VLOOKUP(D145,gi2taxid!A:E,4,FALSE)","v":"Tetrahymena thermophila"}]
["Phaglob357289679","tspo mbr proteins ","TspO/MBR family protein [Segniliparus rugosus ATCC BAA-974]","ref|ZP_07965252.1|",165,34,111,4.0000000000000002E-9,52.4,{"$f":"VLOOKUP(K146,gi2taxid!G:H,2,FALSE)","v":"Actinobacteria"},{"$f":"VLOOKUP(D146,gi2taxid!A:E,4,FALSE)","v":"Segniliparus rugosus ATCC BAA-974"}]
["Phaglob357289680",{"$error":"#N/A"},{"$nulls":7},{"$f":"VLOOKUP(K147,gi2taxid!G:H,2,FALSE)","v":{"$error":"#N/A"}},{"$f":"VLOOKUP(D147,gi2taxid!A:E,4,FALSE)","v":{"$error":"#N/A"}}]
["Phaglob357289681","membrane ","putative membrane protein [Clostridium perfringens NCTC 8239]","ref|ZP_02641553.1|",636,32,75,6.9999999999999999E-4,38.9,{"$f":"VLOOKUP(K148,gi2taxid!G:H,2,FALSE)","v":"Clostridia"},{"$f":"VLOOKUP(D148,gi2taxid!A:E,4,FALSE)","v":"Clostridium perfringens NCTC 8239"}]
["Phaglob357289682","ntpase ","mg683 gene product [Megavirus chiliensis]","ref|YP_004894734.1|",570,27,257,7.0000000000000001E-15,79.7,{"$f":"VLOOKUP(K149,gi2taxid!G:H,2,FALSE)","v":"Mimiviridae"},{"$f":"VLOOKUP(D149,gi2taxid!A:E,4,FALSE)","v":"Megavirus chiliensis"}]
["Phaglob357289683","gaf sensor histidine kinase ","hypothetical protein AARI_01840 [Arthrobacter arilaitensis Re117]","ref|YP_003915391.1|",565,62,37,2.0000000000000002E-5,47,{"$f":"VLOOKUP(K150,gi2taxid!G:H,2,FALSE)","v":"Actinobacteria"},{"$f":"VLOOKUP(D150,gi2taxid!A:E,4,FALSE)","v":"Arthrobacter arilaitensis Re117"}]
["Phaglob357289684","flagellar motor switch flig ","calmodulin-binding transcription activator (camta), plants, putative [Ricinus communis]","ref|XP_002519300.1|",999,38,68,2.0000000000000001E-4,41.6,{"$f":"VLOOKUP(K151,gi2taxid!G:H,2,FALSE)","v":"Streptophyta"},{"$f":"VLOOKUP(D151,gi2taxid!A:E,4,FALSE)","v":"Ricinus communis"}]
["Phaglob357289685",0,"PREDICTED: dihydroxyacetone kinase 2 [Taeniopygia guttata]","ref|XP_002195774.1|",270,29,228,7.0000000000000005E-14,68.900000000000006,{"$f":"VLOOKUP(K152,gi2taxid!G:H,2,FALSE)","v":"Metazoa"},{"$f":"VLOOKUP(D152,gi2taxid!A:E,4,FALSE)","v":"Taeniopygia guttata"}]
["Phaglob357289686","peptide methionine sulfoxide reductase msra msrb ","acyl carrier protein phosphodiesterase [Roseobacter sp. MED193]","ref|ZP_01055805.1|",198,33,78,1E-3,37.700000000000003,{"$f":"VLOOKUP(K153,gi2taxid!G:H,2,FALSE)","v":"Alphaproteobacteria"},{"$f":"VLOOKUP(D153,gi2taxid!A:E,4,FALSE)","v":"Roseobacter sp. MED193"}]
["Phaglob357289687","von willebrand factor type a ","von Willebrand factor type A [Ruminococcus albus 7]","ref|YP_004103749.1|",217,39,197,4.0000000000000003E-37,134,{"$f":"VLOOKUP(K154,gi2taxid!G:H,2,FALSE)","v":"Clostridia"},{"$f":"VLOOKUP(D154,gi2taxid!A:E,4,FALSE)","v":"Ruminococcus albus 7"}]
["Phaglob357289688","signal peptide peptidase ","ZYRO0F01760p [Zygosaccharomyces rouxii]","ref|XP_002497273.1|",1109,28,71,1.2999999999999999E-2,36.200000000000003,{"$f":"VLOOKUP(K155,gi2taxid!G:H,2,FALSE)","v":"Fungi"},{"$f":"VLOOKUP(D155,gi2taxid!A:E,4,FALSE)","v":"Zygosaccharomyces rouxii CBS 732"}]
["Phaglob357289689",0,"hypothetical protein [Muricauda ruestringensis DSM 13258]","ref|YP_004789520.1|",125,29,48,5.0999999999999997E-2,30,{"$f":"VLOOKUP(K156,gi2taxid!G:H,2,FALSE)","v":"Bacteroidetes"},{"$f":"VLOOKUP(D156,gi2taxid!A:E,4,FALSE)","v":"Muricauda ruestringensis DSM 13258"}]
["Phaglob357289690","l lactate permease ","hypothetical protein [Cryptosporidium muris RN66]","ref|XP_002142315.1|",569,31,86,1.0999999999999999E-2,35,{"$f":"VLOOKUP(K157,gi2taxid!G:H,2,FALSE)","v":"Apicomplexa"},{"$f":"VLOOKUP(D157,gi2taxid!A:E,4,FALSE)","v":"Cryptosporidium muris RN66"}]
["Phaglob357289691","hmpref6123_0036 ","PREDICTED: uncharacterized protein LOC100920889 [Sarcophilus harrisii]","ref|XP_003763597.1|",2175,35,147,9.9999999999999995E-7,51.2,{"$f":"VLOOKUP(K158,gi2taxid!G:H,2,FALSE)","v":"Metazoa"},{"$f":"VLOOKUP(D158,gi2taxid!A:E,4,FALSE)","v":"Sarcophilus harrisii"}]
["Phaglob357289692","major capsid ","major capsid protein [Cafeteria roenbergensis virus BV-PW1]","ref|YP_003969975.1|",506,44,547,3.0000000000000002E-140,418,{"$f":"VLOOKUP(K159,gi2taxid!G:H,2,FALSE)","v":"unclassified_dsDNA_viruses (CroV)"},{"$f":"VLOOKUP(D159,gi2taxid!A:E,4,FALSE)","v":"Cafeteria roenbergensis virus BV-PW1"}]
["Phaglob357289693","bpv1_097 ","mg462 gene product [Megavirus chiliensis]","ref|YP_004894513.1|",415,35,399,1E-62,209,{"$f":"VLOOKUP(K160,gi2taxid!G:H,2,FALSE)","v":"Mimiviridae"},{"$f":"VLOOKUP(D160,gi2taxid!A:E,4,FALSE)","v":"Megavirus chiliensis"}]
["Phaglob357289694","cre_16351 ","hypothetical protein CRE_16351 [Caenorhabditis remanei]","ref|XP_003093982.1|",451,33,78,1.7999999999999999E-2,36.6,{"$f":"VLOOKUP(K161,gi2taxid!G:H,2,FALSE)","v":"Metazoa"},{"$f":"VLOOKUP(D161,gi2taxid!A:E,4,FALSE)","v":"Caenorhabditis remanei"}]
["Phaglob357289695",{"$error":"#N/A"},{"$nulls":7},{"$f":"VLOOKUP(K162,gi2taxid!G:H,2,FALSE)","v":{"$error":"#N/A"}},{"$f":"VLOOKUP(D162,gi2taxid!A:E,4,FALSE)","v":{"$error":"#N/A"}}]
["Phaglob357289696","udp glucuronosyltransferase 2b23 ","hypothetical protein MCU_01042 [Bartonella elizabethae Re6043vi]","ref|ZP_10459341.1|",1569,41,66,1E-3,38.9,{"$f":"VLOOKUP(K163,gi2taxid!G:H,2,FALSE)","v":"Alphaproteobacteria"},{"$f":"VLOOKUP(D163,gi2taxid!A:E,4,FALSE)","v":"Bartonella elizabethae Re6043vi"}]
["Phaglob357289697","cobalamin biosynthesis ","predicted protein [Nematostella vectensis]","ref|XP_001639005.1|",1507,32,59,8.9999999999999998E-4,37.4,{"$f":"VLOOKUP(K164,gi2taxid!G:H,2,FALSE)","v":"Metazoa"},{"$f":"VLOOKUP(D164,gi2taxid!A:E,4,FALSE)","v":"Nematostella vectensis"}]
["Phaglob357289698","e3 ubiquitin ligase rnf168 isoform 1 ","PREDICTED: E3 ubiquitin-protein ligase RNF168 isoform 1 [Callithrix jacchus]","ref|XP_002758296.1|",569,38,50,1.0999999999999999E-2,33.5,{"$f":"VLOOKUP(K165,gi2taxid!G:H,2,FALSE)","v":"Metazoa"},{"$f":"VLOOKUP(D165,gi2taxid!A:E,4,FALSE)","v":"Callithrix jacchus"}]
["Phaglob357289699","atp synthase f1 epsilon subunit ","RND efflux system [Achromobacter piechaudii ATCC 43553]","ref|ZP_06688134.1|",475,35,71,2E-3,36.6,{"$f":"VLOOKUP(K166,gi2taxid!G:H,2,FALSE)","v":"Betaproteobacteria"},{"$f":"VLOOKUP(D166,gi2taxid!A:E,4,FALSE)","v":"Achromobacter piechaudii ATCC 43553"}]
["Phaglob357289700","4 carboxymuconolactone decarboxylase ","hypothetical protein MMP1078 [Methanococcus maripaludis S2]","ref|NP_988198.1|",314,29,84,7.0000000000000001E-3,35,{"$f":"VLOOKUP(K167,gi2taxid!G:H,2,FALSE)","v":"Methanococci"},{"$f":"VLOOKUP(D167,gi2taxid!A:E,4,FALSE)","v":"Methanococcus maripaludis S2"}]
["Phaglob357289701","iscps3 transposase orfa ","hypothetical protein SS1G_12070 [Sclerotinia sclerotiorum 1980]","ref|XP_001587041.1|",1627,31,110,4.0000000000000002E-4,39.700000000000003,{"$f":"VLOOKUP(K168,gi2taxid!G:H,2,FALSE)","v":"Fungi"},{"$f":"VLOOKUP(D168,gi2taxid!A:E,4,FALSE)","v":"Sclerotinia sclerotiorum 1980 UF-70"}]
["Phaglob357289702","peptidase s24 s26a s26b region ","MazG nucleotide pyrophosphohydrolase [Halalkalicoccus jeotgali B3]","ref|YP_003738211.1|",98,27,78,1.4999999999999999E-2,34.299999999999997,{"$f":"VLOOKUP(K169,gi2taxid!G:H,2,FALSE)","v":"Halobacteria"},{"$f":"VLOOKUP(D169,gi2taxid!A:E,4,FALSE)","v":"Halalkalicoccus jeotgali B3"}]
["Phaglob357289703","oxysterol binding 1 isoform ","GntR family transcriptional regulator [Bifidobacterium dentium ATCC 27679]","ref|ZP_07457000.1|",509,25,136,6.9999999999999999E-4,40.799999999999997,{"$f":"VLOOKUP(K170,gi2taxid!G:H,2,FALSE)","v":"Actinobacteria"},{"$f":"VLOOKUP(D170,gi2taxid!A:E,4,FALSE)","v":"Bifidobacterium dentium ATCC 27679"}]
["Phaglob357289704","sugar abc transporter permease ","hypothetical protein BZARG_2890 [Bizionia argentinensis JUB59]","ref|ZP_08819954.1|",495,31,65,1E-3,36.6,{"$f":"VLOOKUP(K171,gi2taxid!G:H,2,FALSE)","v":"Bacteroidetes"},{"$f":"VLOOKUP(D171,gi2taxid!A:E,4,FALSE)","v":"Bizionia argentinensis JUB59"}]
["Phaglob357289705","proton coupled amino acid transporter 3 ","hypothetical protein [Acanthamoeba polyphaga mimivirus]","ref|YP_003986812.1|",95,37,62,3.0000000000000001E-6,41.6,{"$f":"VLOOKUP(K172,gi2taxid!G:H,2,FALSE)","v":"Mimiviridae"},{"$f":"VLOOKUP(D172,gi2taxid!A:E,4,FALSE)","v":"Acanthamoeba polyphaga mimivirus"}]
["Phaglob357289706","caspase recruitment 11 ","PREDICTED: XK-related protein 9 [Bos taurus]","ref|XP_002692744.1|",367,28,110,2E-3,39.700000000000003,{"$f":"VLOOKUP(K173,gi2taxid!G:H,2,FALSE)","v":"Metazoa"},{"$f":"VLOOKUP(D173,gi2taxid!A:E,4,FALSE)","v":"Bos taurus"}]
["Phaglob357289707","transposase ","transposase [Bacillus thuringiensis BMB171]","ref|YP_003667877.1|",358,42,52,5.0000000000000001E-4,39.299999999999997,{"$f":"VLOOKUP(K174,gi2taxid!G:H,2,FALSE)","v":"Bacilli"},{"$f":"VLOOKUP(D174,gi2taxid!A:E,4,FALSE)","v":"Bacillus thuringiensis BMB171"}]
["Phaglob357289708","paired amphipathic helix sin3 ","putative membrane protein [Photobacterium leiognathi subsp. mandapamensis svers.1.1.]","ref|ZP_08309169.1|",785,34,82,4.0000000000000001E-3,39.700000000000003,{"$f":"VLOOKUP(K175,gi2taxid!G:H,2,FALSE)","v":"Gammaproteobacteria"},{"$f":"VLOOKUP(D175,gi2taxid!A:E,4,FALSE)","v":"Photobacterium leiognathi subsp. mandapamensis svers.1.1."}]
["Phaglob357289709","flagellar m ring flif ","putative metal-dependent enzyme of the double-stranded beta helix superfamily [Caulobacter sp. AP07]","ref|ZP_10753959.1|",208,52,23,0.02,32.700000000000003,{"$f":"VLOOKUP(K176,gi2taxid!G:H,2,FALSE)","v":"Alphaproteobacteria"},{"$f":"VLOOKUP(D176,gi2taxid!A:E,4,FALSE)","v":"Caulobacter sp. AP07"}]
["Phaglob357289710",{"$error":"#N/A"},{"$nulls":7},{"$f":"VLOOKUP(K177,gi2taxid!G:H,2,FALSE)","v":{"$error":"#N/A"}},{"$f":"VLOOKUP(D177,gi2taxid!A:E,4,FALSE)","v":{"$error":"#N/A"}}]
["Phaglob357289711","rna ligase atp ","RNA ligase [Marseillevirus]","ref|YP_003406938.1|",410,23,311,8.0000000000000003E-10,60.8,{"$f":"VLOOKUP(K178,gi2taxid!G:H,2,FALSE)","v":"unclassified_dsDNA_viruses (Marseil)"},{"$f":"VLOOKUP(D178,gi2taxid!A:E,4,FALSE)","v":"Marseillevirus"}]
["Phaglob357289712","alpha glucosidase ","alpha-glucosidase [Bacteroides faecis MAJ27]","ref|ZP_09858297.1|",648,39,46,1.6E-2,32.700000000000003,{"$f":"VLOOKUP(K179,gi2taxid!G:H,2,FALSE)","v":"Bacteroidetes"},{"$f":"VLOOKUP(D179,gi2taxid!A:E,4,FALSE)","v":"Bacteroides faecis MAJ27"}]
["Phaglob357289713","rna polymerase ii subunit ","hypothetical protein SS1G_05346 [Sclerotinia sclerotiorum 1980]","ref|XP_001593918.1|",335,23,286,5.0000000000000003E-10,60.8,{"$f":"VLOOKUP(K180,gi2taxid!G:H,2,FALSE)","v":"Fungi"},{"$f":"VLOOKUP(D180,gi2taxid!A:E,4,FALSE)","v":"Sclerotinia sclerotiorum 1980 UF-70"}]
["Phaglob357289714","aldose 1 epimerase ","aldose 1-epimerase [Kingella kingae PYKK081]","ref|ZP_09925408.1|",306,38,64,8.9999999999999993E-3,36.6,{"$f":"VLOOKUP(K181,gi2taxid!G:H,2,FALSE)","v":"Betaproteobacteria"},{"$f":"VLOOKUP(D181,gi2taxid!A:E,4,FALSE)","v":"Kingella kingae PYKK081"}]
["Phaglob357289715","multidrug efflux system mdti ","hypothetical protein PROPEN_03811 [Proteus penneri ATCC 35198]","ref|ZP_03805416.1|",110,41,32,4.0000000000000002E-4,38.1,{"$f":"VLOOKUP(K182,gi2taxid!G:H,2,FALSE)","v":"Gammaproteobacteria"},{"$f":"VLOOKUP(D182,gi2taxid!A:E,4,FALSE)","v":"Proteus penneri ATCC 35198"}]
["Phaglob357289716","acrb acrd acrf transporter ","hypothetical protein FR483_N494R [Paramecium bursaria Chlorella virus FR483]","ref|YP_001426126.1|",231,30,152,4.0000000000000003E-5,45.4,{"$f":"VLOOKUP(K183,gi2taxid!G:H,2,FALSE)","v":"Phycodnaviridae"},{"$f":"VLOOKUP(D183,gi2taxid!A:E,4,FALSE)","v":"Paramecium bursaria Chlorella virus FR483"}]
["Phaglob357289717","cna00380 ","hypothetical protein SNOG_10891 [Phaeosphaeria nodorum SN15]","ref|XP_001801149.1|",324,33,268,3.0000000000000002E-36,135,{"$f":"VLOOKUP(K184,gi2taxid!G:H,2,FALSE)","v":"Fungi"},{"$f":"VLOOKUP(D184,gi2taxid!A:E,4,FALSE)","v":"Phaeosphaeria nodorum SN15"}]
["Phaglob357289718",0,"hypothetical protein OTV1_100 [Ostreococcus tauri virus 1]","ref|YP_003494939.1|",225,25,204,5.9999999999999997E-15,71.599999999999994,{"$f":"VLOOKUP(K185,gi2taxid!G:H,2,FALSE)","v":"Phycodnaviridae"},{"$f":"VLOOKUP(D185,gi2taxid!A:E,4,FALSE)","v":"Ostreococcus tauri virus 1"}]
["Phaglob357289719","type i restriction modification system m subunit ","type I restriction-modification system, M subunit [Odoribacter splanchnicus DSM 20712]","ref|YP_004253600.1|",518,30,80,6.0000000000000001E-3,37.4,{"$f":"VLOOKUP(K186,gi2taxid!G:H,2,FALSE)","v":"Bacteroidetes"},{"$f":"VLOOKUP(D186,gi2taxid!A:E,4,FALSE)","v":"Odoribacter splanchnicus DSM 20712"}]
["Phaglob357289720","dna methyltransferase ","GJ19676 [Drosophila virilis]","ref|XP_002058875.1|",487,32,78,2E-3,37.4,{"$f":"VLOOKUP(K187,gi2taxid!G:H,2,FALSE)","v":"Metazoa"},{"$f":"VLOOKUP(D187,gi2taxid!A:E,4,FALSE)","v":"Drosophila virilis"}]
["Phaglob357289721","gdp mannose 4 6 dehydratase ","Magnesium and cobalt transport protein CorA [Thermococcus sibiricus MM 739]","ref|YP_002994107.1|",362,36,66,8.0000000000000002E-3,35.4,{"$f":"VLOOKUP(K188,gi2taxid!G:H,2,FALSE)","v":"Thermococci"},{"$f":"VLOOKUP(D188,gi2taxid!A:E,4,FALSE)","v":"Thermococcus sibiricus MM 739"}]
["Phaglob357289722","outer membrane ompa motb ","Outer membrane protein, OmpA/MotB family protein [Oceanicola granulosus HTCC2516]","ref|ZP_01155065.1|",675,24,268,8.9999999999999998E-4,44.7,{"$f":"VLOOKUP(K189,gi2taxid!G:H,2,FALSE)","v":"Alphaproteobacteria"},{"$f":"VLOOKUP(D189,gi2taxid!A:E,4,FALSE)","v":"Oceanicola granulosus HTCC2516"}]
["Phaglob357289723","dna polymerase iii epsilon subunit ","glucose transport protein [Stigmatella aurantiaca DW4/3-1]","ref|ZP_01460654.1|",474,40,50,5.0000000000000001E-3,35.4,{"$f":"VLOOKUP(K190,gi2taxid!G:H,2,FALSE)","v":"delta-epsilon_subdivisions"},{"$f":"VLOOKUP(D190,gi2taxid!A:E,4,FALSE)","v":"Stigmatella aurantiaca DW4/3-1"}]
["Phaglob357289724","abc transporter permease ","family 5 extracellular solute-binding protein [Ilyobacter polytropus DSM 2926]","ref|YP_003968322.1|",539,27,98,3.0000000000000001E-3,37.4,{"$f":"VLOOKUP(K191,gi2taxid!G:H,2,FALSE)","v":"Fusobacteriia"},{"$f":"VLOOKUP(D191,gi2taxid!A:E,4,FALSE)","v":"Ilyobacter polytropus DSM 2926"}]
["Phaglob357289725","replicative dna helicase dnab gene product ","replicative DNA helicase DnaB, intein-containing [Sulfurovum sp. NBC37-1]","ref|YP_001359430.1|",822,45,370,9.0000000000000003E-84,289,{"$f":"VLOOKUP(K192,gi2taxid!G:H,2,FALSE)","v":"delta-epsilon_subdivisions"},{"$f":"VLOOKUP(D192,gi2taxid!A:E,4,FALSE)","v":"Sulfurovum sp. NBC37-1"}]
["Phaglob357289726",{"$error":"#N/A"},{"$nulls":7},{"$f":"VLOOKUP(K193,gi2taxid!G:H,2,FALSE)","v":{"$error":"#N/A"}},{"$f":"VLOOKUP(D193,gi2taxid!A:E,4,FALSE)","v":{"$error":"#N/A"}}]
["Phaglob357289727",{"$error":"#N/A"},{"$nulls":7},{"$f":"VLOOKUP(K194,gi2taxid!G:H,2,FALSE)","v":{"$error":"#N/A"}},{"$f":"VLOOKUP(D194,gi2taxid!A:E,4,FALSE)","v":{"$error":"#N/A"}}]
["Phaglob357289728",{"$error":"#N/A"},{"$nulls":7},{"$f":"VLOOKUP(K195,gi2taxid!G:H,2,FALSE)","v":{"$error":"#N/A"}},{"$f":"VLOOKUP(D195,gi2taxid!A:E,4,FALSE)","v":{"$error":"#N/A"}}]
["Phaglob357289729","hmpref1977_1998 ","dihydrolipoamide dehydrogenase E3 component of 3 enzyme complexes [Psychromonas ingrahamii 37]","ref|YP_944086.1|",431,28,88,3.0000000000000001E-3,36.6,{"$f":"VLOOKUP(K196,gi2taxid!G:H,2,FALSE)","v":"Gammaproteobacteria"},{"$f":"VLOOKUP(D196,gi2taxid!A:E,4,FALSE)","v":"Psychromonas ingrahamii 37"}]
["Phaglob357289730","uncharacterized loc100888756 ","PREDICTED: uncharacterized protein LOC100888756 [Strongylocentrotus purpuratus]","ref|XP_003723832.1|",483,29,94,1.0999999999999999E-2,35.799999999999997,{"$f":"VLOOKUP(K197,gi2taxid!G:H,2,FALSE)","v":"Metazoa"},{"$f":"VLOOKUP(D197,gi2taxid!A:E,4,FALSE)","v":"Strongylocentrotus purpuratus"}]
["Phaglob357289731","olv1_030c ","hypothetical protein MpV1_021c [Micromonas sp. RCC1109 virus MpV1]","ref|YP_004061904.1|",171,39,166,3.9999999999999999E-28,105,{"$f":"VLOOKUP(K198,gi2taxid!G:H,2,FALSE)","v":"Phycodnaviridae"},{"$f":"VLOOKUP(D198,gi2taxid!A:E,4,FALSE)","v":"Micromonas sp. RCC1109 virus MpV1"}]
["Phaglob357289732","dna directed rna polymerase subunit ","RNA polymerases K / 14 to 18 kDa subunit family protein [Tetrahymena thermophila]","ref|XP_001033371.1|",163,48,75,4.0000000000000003E-15,70.900000000000006,{"$f":"VLOOKUP(K199,gi2taxid!G:H,2,FALSE)","v":"Ciliophora"},{"$f":"VLOOKUP(D199,gi2taxid!A:E,4,FALSE)","v":"Tetrahymena thermophila"}]
["Phaglob357289733","dna directed rna polymerase ii subunit rpb9 ","DNA-directed RNA polymerase II 15.1 kDa polypeptide-like [Acyrthosiphon pisum]","ref|NP_001156084.1|",130,32,122,4.0000000000000002E-9,51.6,{"$f":"VLOOKUP(K200,gi2taxid!G:H,2,FALSE)","v":"Metazoa"},{"$f":"VLOOKUP(D200,gi2taxid!A:E,4,FALSE)","v":"Acyrthosiphon pisum"}]
["Phaglob357289734","ubiquitin conjugating enzyme e2 z ","PREDICTED: ubiquitin-conjugating enzyme E2 Z-like [Amphimedon queenslandica]","ref|XP_003390484.1|",278,38,162,9.0000000000000008E-34,126,{"$f":"VLOOKUP(K201,gi2taxid!G:H,2,FALSE)","v":"Metazoa"},{"$f":"VLOOKUP(D201,gi2taxid!A:E,4,FALSE)","v":"Amphimedon queenslandica"}]
["Phaglob357289735","d5 ntpase involved dna replication ","mg305 gene product [Megavirus chiliensis]","ref|YP_004894356.1|",943,29,878,6.9999999999999997E-92,315,{"$f":"VLOOKUP(K202,gi2taxid!G:H,2,FALSE)","v":"Mimiviridae"},{"$f":"VLOOKUP(D202,gi2taxid!A:E,4,FALSE)","v":"Megavirus chiliensis"}]
["Phaglob357289736","para aminobenzoate synthase component i ","pyruvate phosphate dikinase [Syntrophomonas wolfei subsp. wolfei str. Goettingen]","ref|YP_754186.1|",880,30,60,6.0000000000000001E-3,38.5,{"$f":"VLOOKUP(K203,gi2taxid!G:H,2,FALSE)","v":"Clostridia"},{"$f":"VLOOKUP(D203,gi2taxid!A:E,4,FALSE)","v":"Syntrophomonas wolfei subsp. wolfei str. Goettingen"}]
["Phaglob357289737","type 2 ice structuring ","hypothetical protein BRAFLDRAFT_231717 [Branchiostoma floridae]","ref|XP_002587609.1|",209,37,111,3E-9,58.2,{"$f":"VLOOKUP(K204,gi2taxid!G:H,2,FALSE)","v":"Metazoa"},{"$f":"VLOOKUP(D204,gi2taxid!A:E,4,FALSE)","v":"Branchiostoma floridae"}]
["Phaglob357289738","sphingosine kinase sphk ","sphingosine kinase (SphK), putative [Neosartorya fischeri NRRL 181]","ref|XP_001264670.1|",486,36,53,1.2999999999999999E-2,33.5,{"$f":"VLOOKUP(K205,gi2taxid!G:H,2,FALSE)","v":"Fungi"},{"$f":"VLOOKUP(D205,gi2taxid!A:E,4,FALSE)","v":"Neosartorya fischeri NRRL 181"}]
["Phaglob357289739","krueppel factor 6 ","putative transcriptional regulator [Clostridium sp. BNL1100]","ref|YP_005149079.1|",273,28,89,8.0000000000000004E-4,41.2,{"$f":"VLOOKUP(K206,gi2taxid!G:H,2,FALSE)","v":"Clostridia"},{"$f":"VLOOKUP(D206,gi2taxid!A:E,4,FALSE)","v":"Clostridium sp. BNL1100"}]
["Phaglob357289740","cysteinyl trna synthetase ","methyl-accepting chemotaxis protein, sensory transducer [Arthrospira sp. PCC 8005]","ref|ZP_09779921.1|",468,34,83,3.0000000000000001E-3,37.700000000000003,{"$f":"VLOOKUP(K207,gi2taxid!G:H,2,FALSE)","v":"Oscillatoriales"},{"$f":"VLOOKUP(D207,gi2taxid!A:E,4,FALSE)","v":"Arthrospira sp. PCC 8005"}]
["Phaglob357289741","transposase orfb ","hypothetical protein HCH_06869 [Hahella chejuensis KCTC 2396]","ref|YP_437912.1|",180,28,136,2.0000000000000002E-5,45.1,{"$f":"VLOOKUP(K208,gi2taxid!G:H,2,FALSE)","v":"Gammaproteobacteria"},{"$f":"VLOOKUP(D208,gi2taxid!A:E,4,FALSE)","v":"Hahella chejuensis KCTC 2396"}]
["Phaglob357289742","rna polymerase rpb5 ","KLTH0G15598p [Lachancea thermotolerans]","ref|XP_002555711.1|",215,43,76,9.9999999999999994E-12,62,{"$f":"VLOOKUP(K209,gi2taxid!G:H,2,FALSE)","v":"Fungi"},{"$f":"VLOOKUP(D209,gi2taxid!A:E,4,FALSE)","v":"Lachancea thermotolerans CBS 6340"}]
["Phaglob357289743","dna directed rna polymerase ii subunit rpb2 ","DNA-directed RNA polymerase II subunit RPB2 [Gallus gallus]","ref|NP_001006448.1|",1174,37,1244,0,760,{"$f":"VLOOKUP(K210,gi2taxid!G:H,2,FALSE)","v":"Metazoa"},{"$f":"VLOOKUP(D210,gi2taxid!A:E,4,FALSE)","v":"Gallus gallus"}]
["Phaglob357289744","transport system permease ","hypothetical protein Bphyt_5642 [Burkholderia phytofirmans PsJN]","ref|YP_001889359.1|",361,34,89,2E-3,36.6,{"$f":"VLOOKUP(K211,gi2taxid!G:H,2,FALSE)","v":"Betaproteobacteria"},{"$f":"VLOOKUP(D211,gi2taxid!A:E,4,FALSE)","v":"Burkholderia phytofirmans PsJN"}]
["Phaglob357289745","ethanolamine utilization eutq ","Transcription regulator [Bacillus megaterium WSH-002]","ref|YP_005497394.1|",297,38,47,2E-3,36.200000000000003,{"$f":"VLOOKUP(K212,gi2taxid!G:H,2,FALSE)","v":"Bacilli"},{"$f":"VLOOKUP(D212,gi2taxid!A:E,4,FALSE)","v":"Bacillus megaterium WSH-002"}]
["Phaglob357289746","dna directed rna polymerases i ii iii subunit rpabc5 ","hypothetical protein SELMODRAFT_79899 [Selaginella moellendorffii]","ref|XP_002963904.1|",65,46,76,2.0000000000000001E-17,71.599999999999994,{"$f":"VLOOKUP(K213,gi2taxid!G:H,2,FALSE)","v":"Streptophyta"},{"$f":"VLOOKUP(D213,gi2taxid!A:E,4,FALSE)","v":"Selaginella moellendorffii"}]
["Phaglob357289747",0,"hypothetical protein HMPREF9473_00148 [Clostridium hathewayi WAL-18680]","ref|ZP_09148086.1|",74,29,59,1.4E-2,33.1,{"$f":"VLOOKUP(K214,gi2taxid!G:H,2,FALSE)","v":"Clostridia"},{"$f":"VLOOKUP(D214,gi2taxid!A:E,4,FALSE)","v":"Clostridium hathewayi WAL-18680"}]
["Phaglob357289748","abc superfamily atp binding ","Nucleoporin NUP188-like protein [Medicago truncatula]","ref|XP_003607275.1|",1967,30,89,6.0000000000000001E-3,35,{"$f":"VLOOKUP(K215,gi2taxid!G:H,2,FALSE)","v":"Streptophyta"},{"$f":"VLOOKUP(D215,gi2taxid!A:E,4,FALSE)","v":"Medicago truncatula"}]
["Phaglob357289749","transposase orfb ","predicted protein [Chlamydomonas reinhardtii]","ref|XP_001702963.1|",278,25,153,1E-4,44.7,{"$f":"VLOOKUP(K216,gi2taxid!G:H,2,FALSE)","v":"Chlorophyta"},{"$f":"VLOOKUP(D216,gi2taxid!A:E,4,FALSE)","v":"Chlamydomonas reinhardtii"}]
["Phaglob357289750","low quality zinc finger homeobox 4 ","PREDICTED: LOW QUALITY PROTEIN: zinc finger homeobox protein 4 [Canis lupus familiaris]","ref|XP_853266.2|",3624,26,131,9.9999999999999995E-7,47.4,{"$f":"VLOOKUP(K217,gi2taxid!G:H,2,FALSE)","v":"Metazoa"},{"$f":"VLOOKUP(D217,gi2taxid!A:E,4,FALSE)","v":"Canis lupus familiaris"}]
["Phaglob357289751","excinuclease abc c subunit ","nuclease [Fluoribacter dumoffii Tex-KL]","ref|ZP_10139645.1|",98,42,53,1.9999999999999999E-7,49.3,{"$f":"VLOOKUP(K218,gi2taxid!G:H,2,FALSE)","v":"Gammaproteobacteria"},{"$f":"VLOOKUP(D218,gi2taxid!A:E,4,FALSE)","v":"Fluoribacter dumoffii Tex-KL"}]
["Phaglob357289752","transposase ","ISSoc4, transposase orfAB [Synechococcus sp. JA-3-3Ab]","ref|YP_473549.1|",315,24,324,4E-14,72.8,{"$f":"VLOOKUP(K219,gi2taxid!G:H,2,FALSE)","v":"Chroococcales"},{"$f":"VLOOKUP(D219,gi2taxid!A:E,4,FALSE)","v":"Synechococcus sp. JA-3-3Ab"}]
["Phaglob357289753","th970_20502 ","PREDICTED: potassium voltage-gated channel subfamily D member 2-like [Oreochromis niloticus]","ref|XP_003443933.1|",622,34,41,0.02,32.299999999999997,{"$f":"VLOOKUP(K220,gi2taxid!G:H,2,FALSE)","v":"Metazoa"},{"$f":"VLOOKUP(D220,gi2taxid!A:E,4,FALSE)","v":"Oreochromis niloticus"}]
["Phaglob357289754","zinc binding cmp dcmp deaminase ","zinc-binding CMP/dCMP deaminase [Opitutus terrae PB90-1]","ref|YP_001820509.1|",150,49,139,9.9999999999999994E-50,159,{"$f":"VLOOKUP(K221,gi2taxid!G:H,2,FALSE)","v":"Verrucomicrobia"},{"$f":"VLOOKUP(D221,gi2taxid!A:E,4,FALSE)","v":"Opitutus terrae PB90-1"}]
["Phaglob357289755","zinc finger 420 ","hypothetical protein AaeL_AAEL015442 [Aedes aegypti]","ref|XP_001647733.1|",688,35,81,6.9999999999999999E-4,42,{"$f":"VLOOKUP(K222,gi2taxid!G:H,2,FALSE)","v":"Metazoa"},{"$f":"VLOOKUP(D222,gi2taxid!A:E,4,FALSE)","v":"Aedes aegypti"}]
["Phaglob357289756","dna gyrase subunit a ","DNA gyrase subunit A [Helicobacter suis HS1]","ref|ZP_08053947.1|",826,40,52,1.0000000000000001E-5,44.3,{"$f":"VLOOKUP(K223,gi2taxid!G:H,2,FALSE)","v":"delta-epsilon_subdivisions"},{"$f":"VLOOKUP(D223,gi2taxid!A:E,4,FALSE)","v":"Helicobacter suis HS1"}]
["Phaglob357289757","relaxase mobilization nuclease ","Methionyl-tRNA formyltransferase [Weissella confusa LBAE C39-2]","ref|ZP_10258512.1|",320,32,65,2.1999999999999999E-2,36.200000000000003,{"$f":"VLOOKUP(K224,gi2taxid!G:H,2,FALSE)","v":"Bacilli"},{"$f":"VLOOKUP(D224,gi2taxid!A:E,4,FALSE)","v":"Weissella confusa LBAE C39-2"}]
["Phaglob357289758","dna mismatch repair atpase ","DNA mismatch repair protein muts domain protein [Nitratifractor salsuginis DSM 16511]","ref|YP_004167604.1|",978,29,1026,2E-119,393,{"$f":"VLOOKUP(K225,gi2taxid!G:H,2,FALSE)","v":"delta-epsilon_subdivisions"},{"$f":"VLOOKUP(D225,gi2taxid!A:E,4,FALSE)","v":"Nitratifractor salsuginis DSM 16511"}]
["Phaglob357289759","fibronectin type iii ","variant erythrocyte surface antigen-1, alpha subunit [Babesia bovis]","ref|XP_001609533.1|",1162,33,66,2E-3,37.4,{"$f":"VLOOKUP(K226,gi2taxid!G:H,2,FALSE)","v":"Apicomplexa"},{"$f":"VLOOKUP(D226,gi2taxid!A:E,4,FALSE)","v":"Babesia bovis T2Bo"}]
["Phaglob357289760","hmpref9473_05060 ","hypothetical protein Nmar_1257 [Nitrosopumilus maritimus SCM1]","ref|YP_001582591.1|",297,80,61,5.0000000000000004E-19,82.8,{"$f":"VLOOKUP(K227,gi2taxid!G:H,2,FALSE)","v":"Nitrosopumilales"},{"$f":"VLOOKUP(D227,gi2taxid!A:E,4,FALSE)","v":"Nitrosopumilus maritimus SCM1"}]
["Phaglob357289761","histidine kinase ","histidine kinase [Clostridium thermocellum JW20]","ref|ZP_06247995.1|",712,29,97,2.5999999999999999E-2,34.700000000000003,{"$f":"VLOOKUP(K228,gi2taxid!G:H,2,FALSE)","v":"Clostridia"},{"$f":"VLOOKUP(D228,gi2taxid!A:E,4,FALSE)","v":"Clostridium thermocellum JW20"}]
["Phaglob357289762","hal1_18826 ","hypothetical protein KUC_2343 [Halomonas boliviensis LC1]","ref|ZP_09188735.1|",75,42,31,0.01,32,{"$f":"VLOOKUP(K229,gi2taxid!G:H,2,FALSE)","v":"Gammaproteobacteria"},{"$f":"VLOOKUP(D229,gi2taxid!A:E,4,FALSE)","v":"Halomonas boliviensis LC1"}]
["Phaglob357289763","dna directed rna polymerase ii subunit rpb2 ","DNA-directed RNA polymerase II subunit, putative [Ricinus communis]","ref|XP_002519060.1|",1194,41,1219,0,935,{"$f":"VLOOKUP(K230,gi2taxid!G:H,2,FALSE)","v":"Streptophyta"},{"$f":"VLOOKUP(D230,gi2taxid!A:E,4,FALSE)","v":"Ricinus communis"}]
["Phaglob357289764",0,"secreted RxLR effector peptide protein, putative [Phytophthora infestans T30-4]","ref|XP_002898721.1|",519,30,116,6.0000000000000001E-3,35.799999999999997,{"$f":"VLOOKUP(K231,gi2taxid!G:H,2,FALSE)","v":"Oomycetes"},{"$f":"VLOOKUP(D231,gi2taxid!A:E,4,FALSE)","v":"Phytophthora infestans T30-4"}]
["Phaglob357289765","cpa2 monovalent cation proton h+ antiporter 2 ","hypothetical protein OB2597_00870 [Oceanicola batsensis HTCC2597]","ref|ZP_01000851.1|",169,27,63,4.0000000000000001E-3,35.799999999999997,{"$f":"VLOOKUP(K232,gi2taxid!G:H,2,FALSE)","v":"Alphaproteobacteria"},{"$f":"VLOOKUP(D232,gi2taxid!A:E,4,FALSE)","v":"Oceanicola batsensis HTCC2597"}]
["Phaglob357289766",0,"translin [Methanosalsum zhilinae DSM 4017]","ref|YP_004615344.1|",217,30,90,8.0000000000000002E-3,37.4,{"$f":"VLOOKUP(K233,gi2taxid!G:H,2,FALSE)","v":"Methanomicrobia"},{"$f":"VLOOKUP(D233,gi2taxid!A:E,4,FALSE)","v":"Methanosalsum zhilinae DSM 4017"}]
["Phaglob357289767","c4 dicarboxylate anaerobic carrier ","C4-dicarboxylate anaerobic carrier [Cardiobacterium valvarum F0432]","ref|ZP_09446519.1|",408,42,67,3.0000000000000001E-3,35.4,{"$f":"VLOOKUP(K234,gi2taxid!G:H,2,FALSE)","v":"Gammaproteobacteria"},{"$f":"VLOOKUP(D234,gi2taxid!A:E,4,FALSE)","v":"Cardiobacterium valvarum F0432"}]
["Phaglob357289768","rhein_0636 ","glucosamine--fructose-6-phosphate aminotransferase, isomerizing [Methanosaeta thermophila PT]","ref|YP_844086.1|",605,25,162,6.0000000000000001E-3,38.5,{"$f":"VLOOKUP(K235,gi2taxid!G:H,2,FALSE)","v":"Methanomicrobia"},{"$f":"VLOOKUP(D235,gi2taxid!A:E,4,FALSE)","v":"Methanosaeta thermophila PT"}]
["Phaglob357289769","p20439_2580 ","hypothetical protein IscW_ISCW008466 [Ixodes scapularis]","ref|XP_002408790.1|",71,40,55,4.0000000000000001E-3,33.1,{"$f":"VLOOKUP(K236,gi2taxid!G:H,2,FALSE)","v":"Metazoa"},{"$f":"VLOOKUP(D236,gi2taxid!A:E,4,FALSE)","v":"Ixodes scapularis"}]
["Phaglob357289770","ftsj methyltransferase 1 ","ftsJ methyltransferase domain-containing protein 1 [Danio rerio]","ref|NP_998598.1|",743,28,336,7.0000000000000006E-30,124,{"$f":"VLOOKUP(K237,gi2taxid!G:H,2,FALSE)","v":"Metazoa"},{"$f":"VLOOKUP(D237,gi2taxid!A:E,4,FALSE)","v":"Danio rerio"}]
["Phaglob357289771","mrna capping enzyme ","probable mRNA-capping enzyme [Acanthamoeba polyphaga mimivirus]","ref|YP_003986887.1|",1170,27,918,1E-56,215,{"$f":"VLOOKUP(K238,gi2taxid!G:H,2,FALSE)","v":"Mimiviridae"},{"$f":"VLOOKUP(D238,gi2taxid!A:E,4,FALSE)","v":"Acanthamoeba polyphaga mimivirus"}]
["Phaglob357289772","cystathionine gamma synthase ","cystathionine gamma-synthase [Arcobacter butzleri RM4018]","ref|YP_001490641.1|",498,27,132,3.7999999999999999E-2,36.200000000000003,{"$f":"VLOOKUP(K239,gi2taxid!G:H,2,FALSE)","v":"delta-epsilon_subdivisions"},{"$f":"VLOOKUP(D239,gi2taxid!A:E,4,FALSE)","v":"Arcobacter butzleri RM4018"}]
["Phaglob357289773","bdi_1511 ","hypothetical protein [Acanthamoeba polyphaga mimivirus]","ref|YP_003986883.1|",195,45,33,8.9999999999999998E-4,37.700000000000003,{"$f":"VLOOKUP(K240,gi2taxid!G:H,2,FALSE)","v":"Mimiviridae"},{"$f":"VLOOKUP(D240,gi2taxid!A:E,4,FALSE)","v":"Acanthamoeba polyphaga mimivirus"}]
["Phaglob357289774","dna directed rna polymerase ii subunit rpb7 ","mg519 gene product [Megavirus chiliensis]","ref|YP_004894570.1|",199,26,101,2.9999999999999997E-4,40.799999999999997,{"$f":"VLOOKUP(K241,gi2taxid!G:H,2,FALSE)","v":"Mimiviridae"},{"$f":"VLOOKUP(D241,gi2taxid!A:E,4,FALSE)","v":"Megavirus chiliensis"}]
["Phaglob357289775","d6 d11 helicase ","putative superfamily II helicase/VV D6-like early transcription factor small subunit [Cafeteria roenbergensis virus BV-PW1]","ref|YP_003969741.1|",1131,27,1001,9.9999999999999995E-58,219,{"$f":"VLOOKUP(K242,gi2taxid!G:H,2,FALSE)","v":"unclassified_dsDNA_viruses (CroV)"},{"$f":"VLOOKUP(D242,gi2taxid!A:E,4,FALSE)","v":"Cafeteria roenbergensis virus BV-PW1"}]
["Phaglob357289776","nudix hydrolase ","mg520 gene product [Megavirus chiliensis]","ref|YP_004894571.1|",358,36,239,3E-37,137,{"$f":"VLOOKUP(K243,gi2taxid!G:H,2,FALSE)","v":"Mimiviridae"},{"$f":"VLOOKUP(D243,gi2taxid!A:E,4,FALSE)","v":"Megavirus chiliensis"}]
["Phaglob357289777","osv5_212r ","hypothetical protein MpV1_186c [Micromonas sp. RCC1109 virus MpV1]","ref|YP_004062069.1|",252,64,204,9.9999999999999999E-96,288,{"$f":"VLOOKUP(K244,gi2taxid!G:H,2,FALSE)","v":"Phycodnaviridae"},{"$f":"VLOOKUP(D244,gi2taxid!A:E,4,FALSE)","v":"Micromonas sp. RCC1109 virus MpV1"}]
["Phaglob357289778","fad dependent sulfhydryl oxidase erv2 ","EsV-1-161 [Ectocarpus siliculosus virus 1]","ref|NP_077646.1|",180,26,168,7.0000000000000001E-15,69.3,{"$f":"VLOOKUP(K245,gi2taxid!G:H,2,FALSE)","v":"Phycodnaviridae"},{"$f":"VLOOKUP(D245,gi2taxid!A:E,4,FALSE)","v":"Ectocarpus siliculosus virus 1"}]
["Phaglob357289779","hnh endonuclease ","HNH endonuclease [Microcoleus vaginatus FGP-2]","ref|ZP_08492457.1|",81,39,67,1.0000000000000001E-9,53.5,{"$f":"VLOOKUP(K246,gi2taxid!G:H,2,FALSE)","v":"Oscillatoriales"},{"$f":"VLOOKUP(D246,gi2taxid!A:E,4,FALSE)","v":"Microcoleus vaginatus FGP-2"}]
["Phaglob357289780","trans sialidase ","hypothetical protein EHR_01395 [Enterococcus hirae ATCC 9790]","ref|YP_006486160.1|",147,42,50,4.0000000000000002E-4,41.2,{"$f":"VLOOKUP(K247,gi2taxid!G:H,2,FALSE)","v":"Bacilli"},{"$f":"VLOOKUP(D247,gi2taxid!A:E,4,FALSE)","v":"Enterococcus hirae ATCC 9790"}]
["Phaglob357289781",0,"hypothetical protein, conserved in Apicomplexan species [Plasmodium knowlesi strain H]","ref|XP_002261151.1|",385,25,139,2.0000000000000001E-4,42.7,{"$f":"VLOOKUP(K248,gi2taxid!G:H,2,FALSE)","v":"Apicomplexa"},{"$f":"VLOOKUP(D248,gi2taxid!A:E,4,FALSE)","v":"Plasmodium knowlesi strain H"}]
["Phaglob357289782",0,"TonB-dependent heme/hemoglobin receptor family protein [Tistrella mobilis KA081020-065]","ref|YP_006374145.1|",841,25,226,2.0000000000000001E-4,43.5,{"$f":"VLOOKUP(K249,gi2taxid!G:H,2,FALSE)","v":"Alphaproteobacteria"},{"$f":"VLOOKUP(D249,gi2taxid!A:E,4,FALSE)","v":"Tistrella mobilis KA081020-065"}]
["Phaglob357289783",{"$error":"#N/A"},{"$nulls":7},{"$f":"VLOOKUP(K250,gi2taxid!G:H,2,FALSE)","v":{"$error":"#N/A"}},{"$f":"VLOOKUP(D250,gi2taxid!A:E,4,FALSE)","v":{"$error":"#N/A"}}]
["Phaglob357289784","dna polymerase b precursor ","putative DNA-dependent DNA polymerase family B [Cafeteria roenbergensis virus BV-PW1]","ref|YP_003970183.1|",1258,32,673,1.9999999999999999E-74,271,{"$f":"VLOOKUP(K251,gi2taxid!G:H,2,FALSE)","v":"unclassified_dsDNA_viruses (CroV)"},{"$f":"VLOOKUP(D251,gi2taxid!A:E,4,FALSE)","v":"Cafeteria roenbergensis virus BV-PW1"}]
["Phaglob357289785","aminopeptidase c ","aminopeptidase C [Listeria monocytogenes HCC23]","ref|YP_002349242.1|",441,39,442,3.9999999999999997E-102,315,{"$f":"VLOOKUP(K252,gi2taxid!G:H,2,FALSE)","v":"Bacilli"},{"$f":"VLOOKUP(D252,gi2taxid!A:E,4,FALSE)","v":"Listeria monocytogenes HCC23"}]
["Phaglob357289786",0,"RING finger protein [Medicago truncatula]","ref|XP_003631025.1|",125,34,65,8.0000000000000005E-9,53.1,{"$f":"VLOOKUP(K253,gi2taxid!G:H,2,FALSE)","v":"Streptophyta"},{"$f":"VLOOKUP(D253,gi2taxid!A:E,4,FALSE)","v":"Medicago truncatula"}]
["Phaglob357289787","ubiquitin carboxyl terminal hydrolase 8 ","predicted protein [Chlamydomonas reinhardtii]","ref|XP_001702430.1|",347,30,356,2E-45,161,{"$f":"VLOOKUP(K254,gi2taxid!G:H,2,FALSE)","v":"Chlorophyta"},{"$f":"VLOOKUP(D254,gi2taxid!A:E,4,FALSE)","v":"Chlamydomonas reinhardtii"}]
["Phaglob357289788","hyaluronan proteoglycan link 4 precursor ","PREDICTED: versican [Oryctolagus cuniculus]","ref|XP_002713921.1|",3372,30,134,4.9999999999999998E-7,51.6,{"$f":"VLOOKUP(K255,gi2taxid!G:H,2,FALSE)","v":"Metazoa"},{"$f":"VLOOKUP(D255,gi2taxid!A:E,4,FALSE)","v":"Oryctolagus cuniculus"}]
["Phaglob357289789","cell division ftsh ","ATP-dependent metalloprotease FtsH [Selenomonas sputigena ATCC 35185]","ref|YP_004413822.1|",663,45,495,1.9999999999999999E-126,391,{"$f":"VLOOKUP(K256,gi2taxid!G:H,2,FALSE)","v":"Negativicutes"},{"$f":"VLOOKUP(D256,gi2taxid!A:E,4,FALSE)","v":"Selenomonas sputigena ATCC 35185"}]
["Phaglob357289790",{"$error":"#N/A"},{"$nulls":7},{"$f":"VLOOKUP(K257,gi2taxid!G:H,2,FALSE)","v":{"$error":"#N/A"}},{"$f":"VLOOKUP(D257,gi2taxid!A:E,4,FALSE)","v":{"$error":"#N/A"}}]
["Phaglob357289791","kinase ","hypothetical protein crov226 [Cafeteria roenbergensis virus BV-PW1]","ref|YP_003969858.1|",142,30,105,5.0000000000000001E-4,37.700000000000003,{"$f":"VLOOKUP(K258,gi2taxid!G:H,2,FALSE)","v":"unclassified_dsDNA_viruses (CroV)"},{"$f":"VLOOKUP(D258,gi2taxid!A:E,4,FALSE)","v":"Cafeteria roenbergensis virus BV-PW1"}]
["Phaglob357289792",0,"predicted protein [Populus trichocarpa]","ref|XP_002325188.1|",1041,28,72,9.8000000000000004E-2,30.8,{"$f":"VLOOKUP(K259,gi2taxid!G:H,2,FALSE)","v":"Streptophyta"},{"$f":"VLOOKUP(D259,gi2taxid!A:E,4,FALSE)","v":"Populus trichocarpa"}]
["Phaglob357289793","magn03008541 ","hypothetical protein Magn03008541 [Magnetospirillum magnetotacticum MS-1]","ref|ZP_00053932.1|",605,29,41,3.1E-2,32.299999999999997,{"$f":"VLOOKUP(K260,gi2taxid!G:H,2,FALSE)","v":"Alphaproteobacteria"},{"$f":"VLOOKUP(D260,gi2taxid!A:E,4,FALSE)","v":"Magnetospirillum magnetotacticum MS-1"}]
["Phaglob357289794","histone lysine n methyltransferase mll3 ","hypothetical protein OlV1_128 [Ostreococcus lucimarinus virus OlV1]","ref|YP_004061761.1|",231,25,208,1.0000000000000001E-5,46.6,{"$f":"VLOOKUP(K261,gi2taxid!G:H,2,FALSE)","v":"Phycodnaviridae"},{"$f":"VLOOKUP(D261,gi2taxid!A:E,4,FALSE)","v":"Ostreococcus lucimarinus virus OlV1"}]
["Phaglob357289795",0,"hypothetical protein ATCV1_Z270R [Acanthocystis turfacea Chlorella virus 1]","ref|YP_001426751.1|",209,40,84,7.9999999999999995E-11,58.9,{"$f":"VLOOKUP(K262,gi2taxid!G:H,2,FALSE)","v":"Phycodnaviridae"},{"$f":"VLOOKUP(D262,gi2taxid!A:E,4,FALSE)","v":"Acanthocystis turfacea Chlorella virus 1"}]
["Phaglob357289796","metallopeptidase wlm ","putative metal-dependent hydrolase [Cafeteria roenbergensis virus BV-PW1]","ref|YP_003969923.1|",195,36,159,3E-23,94.4,{"$f":"VLOOKUP(K263,gi2taxid!G:H,2,FALSE)","v":"unclassified_dsDNA_viruses (CroV)"},{"$f":"VLOOKUP(D263,gi2taxid!A:E,4,FALSE)","v":"Cafeteria roenbergensis virus BV-PW1"}]
["Phaglob357289797","dihydrofolate reductase ","Dihydrofolate reductase [Lentisphaera araneosa HTCC2155]","ref|ZP_01873280.1|",161,37,172,8.0000000000000007E-30,110,{"$f":"VLOOKUP(K264,gi2taxid!G:H,2,FALSE)","v":"Lentisphaerae"},{"$f":"VLOOKUP(D264,gi2taxid!A:E,4,FALSE)","v":"Lentisphaera araneosa HTCC2155"}]
["Phaglob357289798",{"$error":"#N/A"},{"$nulls":7},{"$f":"VLOOKUP(K265,gi2taxid!G:H,2,FALSE)","v":{"$error":"#N/A"}},{"$f":"VLOOKUP(D265,gi2taxid!A:E,4,FALSE)","v":{"$error":"#N/A"}}]
["Phaglob357289799","dna directed rna polymerase ii subunit rpb1 isoform 1 ","RNA polymerase II largest subunit [Dictyostelium discoideum AX4]","ref|XP_641735.1|",1727,40,1495,0,1032,{"$f":"VLOOKUP(K266,gi2taxid!G:H,2,FALSE)","v":"Mycetozoa"},{"$f":"VLOOKUP(D266,gi2taxid!A:E,4,FALSE)","v":"Dictyostelium discoideum AX4"}]
["Phaglob357289800","lon protease la ","putative Lon protease [Cafeteria roenbergensis virus BV-PW1]","ref|YP_003969668.1|",811,39,376,3.9999999999999997E-77,264,{"$f":"VLOOKUP(K267,gi2taxid!G:H,2,FALSE)","v":"unclassified_dsDNA_viruses (CroV)"},{"$f":"VLOOKUP(D267,gi2taxid!A:E,4,FALSE)","v":"Cafeteria roenbergensis virus BV-PW1"}]
["Phaglob357289801","lepbi_i1342 ","PREDICTED: tectonin beta-propeller repeat-containing protein 2 [Monodelphis domestica]","ref|XP_001367229.2|",1415,25,109,6.0000000000000001E-3,38.5,{"$f":"VLOOKUP(K268,gi2taxid!G:H,2,FALSE)","v":"Metazoa"},{"$f":"VLOOKUP(D268,gi2taxid!A:E,4,FALSE)","v":"Monodelphis domestica"}]
["Phaglob357289802","myrod_2192 ","peptidase S41 [Kordia algicida OT-1]","ref|ZP_02162487.1|",497,26,126,2E-3,38.5,{"$f":"VLOOKUP(K269,gi2taxid!G:H,2,FALSE)","v":"Bacteroidetes"},{"$f":"VLOOKUP(D269,gi2taxid!A:E,4,FALSE)","v":"Kordia algicida OT-1"}]
["Phaglob357289803","efflux abc transporter permease ","hypothetical protein BACSTE_00531 [Bacteroides stercoris ATCC 43183]","ref|ZP_02434306.1|",426,31,96,8.9999999999999993E-3,37.700000000000003,{"$f":"VLOOKUP(K270,gi2taxid!G:H,2,FALSE)","v":"Bacteroidetes"},{"$f":"VLOOKUP(D270,gi2taxid!A:E,4,FALSE)","v":"Bacteroides stercoris ATCC 43183"}]
["Phaglob357289804","phosphoglucan water dikinase ","member of the protein disulfide-isomerase family, putative; thioredoxin, putative [Candida dubliniensis CD36]","ref|XP_002420694.1|",299,27,89,3.0000000000000001E-3,37.700000000000003,{"$f":"VLOOKUP(K271,gi2taxid!G:H,2,FALSE)","v":"Fungi"},{"$f":"VLOOKUP(D271,gi2taxid!A:E,4,FALSE)","v":"Candida dubliniensis CD36"}]
["Phaglob357289805","ga30112 isoform c ","beta-galactosidase Bga2B [Butyrivibrio proteoclasticus B316]","ref|YP_003832477.1|",820,30,77,1.0999999999999999E-2,35.799999999999997,{"$f":"VLOOKUP(K272,gi2taxid!G:H,2,FALSE)","v":"Clostridia"},{"$f":"VLOOKUP(D272,gi2taxid!A:E,4,FALSE)","v":"Butyrivibrio proteoclasticus B316"}]
["Phaglob357289806","rna polymerase sigma factor rpod ","HAD-superfamily hydrolase [Ethanoligenens harbinense YUAN-3]","ref|YP_004091364.1|",218,21,107,2E-3,38.1,{"$f":"VLOOKUP(K273,gi2taxid!G:H,2,FALSE)","v":"Clostridia"},{"$f":"VLOOKUP(D273,gi2taxid!A:E,4,FALSE)","v":"Ethanoligenens harbinense YUAN-3"}]
["Phaglob357289807","e3 ubiquitin ligase rin2 ","hypothetical protein DICPUDRAFT_76778 [Dictyostelium purpureum]","ref|XP_003285870.1|",503,38,76,1.0000000000000001E-9,57.4,{"$f":"VLOOKUP(K274,gi2taxid!G:H,2,FALSE)","v":"Mycetozoa"},{"$f":"VLOOKUP(D274,gi2taxid!A:E,4,FALSE)","v":"Dictyostelium purpureum"}]
["Phaglob357289808","sensory box histidine kinase response regulator ","hypothetical protein P20439_1845 [Pseudoalteromonas sp. BSi20439]","ref|ZP_09235518.1|",927,33,52,1E-3,37.700000000000003,{"$f":"VLOOKUP(K275,gi2taxid!G:H,2,FALSE)","v":"Gammaproteobacteria"},{"$f":"VLOOKUP(D275,gi2taxid!A:E,4,FALSE)","v":"Pseudoalteromonas sp. BSi20439"}]
["Phaglob357289809","zinc finger rna binding 2 ","DEHA2F13002p [Debaryomyces hansenii CBS767]","ref|XP_460929.2|",650,29,108,4.0000000000000001E-3,39.700000000000003,{"$f":"VLOOKUP(K276,gi2taxid!G:H,2,FALSE)","v":"Fungi"},{"$f":"VLOOKUP(D276,gi2taxid!A:E,4,FALSE)","v":"Debaryomyces hansenii CBS767"}]
["Phaglob357289810","zinc finger eos isoform 1 ","PREDICTED: zinc finger protein Eos [Callithrix jacchus]","ref|XP_002745659.2|",540,24,153,5.0000000000000004E-6,45.4,{"$f":"VLOOKUP(K277,gi2taxid!G:H,2,FALSE)","v":"Metazoa"},{"$f":"VLOOKUP(D277,gi2taxid!A:E,4,FALSE)","v":"Callithrix jacchus"}]
["Phaglob357289811",{"$error":"#N/A"},{"$nulls":7},{"$f":"VLOOKUP(K278,gi2taxid!G:H,2,FALSE)","v":{"$error":"#N/A"}},{"$f":"VLOOKUP(D278,gi2taxid!A:E,4,FALSE)","v":{"$error":"#N/A"}}]
["Phaglob357289812","dna topoisomerase i ","DNA topoisomerase I [Bacteroides salanitronis DSM 18170]","ref|YP_004260034.1|",776,35,790,7E-128,404,{"$f":"VLOOKUP(K279,gi2taxid!G:H,2,FALSE)","v":"Bacteroidetes"},{"$f":"VLOOKUP(D279,gi2taxid!A:E,4,FALSE)","v":"Bacteroides salanitronis DSM 18170"}]
["Phaglob357289813","thymidine kinase ","predicted protein [Chlamydomonas reinhardtii]","ref|XP_001693099.1|",195,32,186,3.0000000000000003E-29,109,{"$f":"VLOOKUP(K280,gi2taxid!G:H,2,FALSE)","v":"Chlorophyta"},{"$f":"VLOOKUP(D280,gi2taxid!A:E,4,FALSE)","v":"Chlamydomonas reinhardtii"}]
["Phaglob357289814","tpha_0a04700 ","predicted protein [Physcomitrella patens subsp. patens]","ref|XP_001786514.1|",1133,32,75,8.9999999999999993E-3,37.4,{"$f":"VLOOKUP(K281,gi2taxid!G:H,2,FALSE)","v":"Streptophyta"},{"$f":"VLOOKUP(D281,gi2taxid!A:E,4,FALSE)","v":"Physcomitrella patens subsp. patens"}]
["Phaglob357289815","solute carrier 15 1 ","predicted protein [Aspergillus terreus NIH2624]","ref|XP_001209271.1|",751,28,122,3.6999999999999998E-2,34.700000000000003,{"$f":"VLOOKUP(K282,gi2taxid!G:H,2,FALSE)","v":"Fungi"},{"$f":"VLOOKUP(D282,gi2taxid!A:E,4,FALSE)","v":"Aspergillus terreus NIH2624"}]
["Phaglob357289816","dna polymerase iii gamma tau subunit ","hypothetical protein [Trichomonas vaginalis G3]","ref|XP_001323411.1|",346,20,327,4.9999999999999998E-7,51.6,{"$f":"VLOOKUP(K283,gi2taxid!G:H,2,FALSE)","v":"Trichomonadida"},{"$f":"VLOOKUP(D283,gi2taxid!A:E,4,FALSE)","v":"Trichomonas vaginalis G3"}]
["Phaglob357289817","heat shock dnaj ","GJ11775 [Drosophila virilis]","ref|XP_002047706.1|",124,54,54,4.0000000000000002E-9,54.7,{"$f":"VLOOKUP(K284,gi2taxid!G:H,2,FALSE)","v":"Metazoa"},{"$f":"VLOOKUP(D284,gi2taxid!A:E,4,FALSE)","v":"Drosophila virilis"}]
["Phaglob357289818","mpv1_153c ","hypothetical protein OtV2_138 [Ostreococcus tauri virus 2]","ref|YP_004063571.1|",233,29,225,5.0000000000000004E-19,84.7,{"$f":"VLOOKUP(K285,gi2taxid!G:H,2,FALSE)","v":"Phycodnaviridae"},{"$f":"VLOOKUP(D285,gi2taxid!A:E,4,FALSE)","v":"Ostreococcus tauri virus 2"}]
["Phaglob357289819","upstream activation factor subunit spp27 isoform 1 ","hypothetical protein MpV1_133 [Micromonas sp. RCC1109 virus MpV1]","ref|YP_004062016.1|",135,40,128,5.0000000000000004E-19,81.599999999999994,{"$f":"VLOOKUP(K286,gi2taxid!G:H,2,FALSE)","v":"Phycodnaviridae"},{"$f":"VLOOKUP(D286,gi2taxid!A:E,4,FALSE)","v":"Micromonas sp. RCC1109 virus MpV1"}]
["Phaglob357289820",0,"hypothetical protein Pmar_PMAR001176 [Perkinsus marinus ATCC 50983]","ref|XP_002780582.1|",385,26,170,4.0000000000000003E-5,45.4,{"$f":"VLOOKUP(K287,gi2taxid!G:H,2,FALSE)","v":"Perkinsea"},{"$f":"VLOOKUP(D287,gi2taxid!A:E,4,FALSE)","v":"Perkinsus marinus ATCC 50983"}]
["Phaglob357289821","dna polymerase iii subunit beta ","hypothetical protein crov314 [Cafeteria roenbergensis virus BV-PW1]","ref|YP_003969947.1|",312,26,204,5.9999999999999995E-8,54.7,{"$f":"VLOOKUP(K288,gi2taxid!G:H,2,FALSE)","v":"unclassified_dsDNA_viruses (CroV)"},{"$f":"VLOOKUP(D288,gi2taxid!A:E,4,FALSE)","v":"Cafeteria roenbergensis virus BV-PW1"}]
["Phaglob357289822",0,"predicted protein [Populus trichocarpa]","ref|XP_002319552.1|",220,30,123,2E-3,40.799999999999997,{"$f":"VLOOKUP(K289,gi2taxid!G:H,2,FALSE)","v":"Streptophyta"},{"$f":"VLOOKUP(D289,gi2taxid!A:E,4,FALSE)","v":"Populus trichocarpa"}]
["Phaglob357289823","sporulation ","sporulation related domain protein [Asticcacaulis biprosthecum C19]","ref|ZP_08265262.1|",263,35,71,7.0999999999999994E-2,32.700000000000003,{"$f":"VLOOKUP(K290,gi2taxid!G:H,2,FALSE)","v":"Alphaproteobacteria"},{"$f":"VLOOKUP(D290,gi2taxid!A:E,4,FALSE)","v":"Asticcacaulis biprosthecum C19"}]
["Phaglob357289824","2 oxoglutarate dehydrogenase e2 subunit dihydrolipoamide succinyltransferase ","2-oxoglutarate dehydrogenase, E2 subunit, dihydrolipoamide succinyltransferase [Kangiella koreensis DSM 16069]","ref|YP_003146720.1|",416,28,159,1.2999999999999999E-2,38.9,{"$f":"VLOOKUP(K291,gi2taxid!G:H,2,FALSE)","v":"Gammaproteobacteria"},{"$f":"VLOOKUP(D291,gi2taxid!A:E,4,FALSE)","v":"Kangiella koreensis DSM 16069"}]
["Phaglob357289825",{"$error":"#N/A"},{"$nulls":7},{"$f":"VLOOKUP(K292,gi2taxid!G:H,2,FALSE)","v":{"$error":"#N/A"}},{"$f":"VLOOKUP(D292,gi2taxid!A:E,4,FALSE)","v":{"$error":"#N/A"}}]
["Phaglob357289826","muts ","hypothetical protein Aasi_0916 [Candidatus Amoebophilus asiaticus 5a2]","ref|YP_001958011.1|",685,30,205,2.9999999999999999E-22,101,{"$f":"VLOOKUP(K293,gi2taxid!G:H,2,FALSE)","v":"Bacteroidetes"},{"$f":"VLOOKUP(D293,gi2taxid!A:E,4,FALSE)","v":"Candidatus Amoebophilus asiaticus 5a2"}]
["Phaglob357289827","small multidrug resistance ","hypothetical protein BH0841 [Bacillus halodurans C-125]","ref|NP_241707.1|",110,32,57,6.9999999999999994E-5,40,{"$f":"VLOOKUP(K294,gi2taxid!G:H,2,FALSE)","v":"Bacilli"},{"$f":"VLOOKUP(D294,gi2taxid!A:E,4,FALSE)","v":"Bacillus halodurans C-125"}]
["Phaglob357289828",{"$error":"#N/A"},{"$nulls":7},{"$f":"VLOOKUP(K295,gi2taxid!G:H,2,FALSE)","v":{"$error":"#N/A"}},{"$f":"VLOOKUP(D295,gi2taxid!A:E,4,FALSE)","v":{"$error":"#N/A"}}]
["Phaglob357289829","l aspartate beta decarboxylase ","mg397 gene product [Megavirus chiliensis]","ref|YP_004894448.1|",164,35,81,4.0000000000000003E-5,41.6,{"$f":"VLOOKUP(K296,gi2taxid!G:H,2,FALSE)","v":"Mimiviridae"},{"$f":"VLOOKUP(D296,gi2taxid!A:E,4,FALSE)","v":"Megavirus chiliensis"}]
["Phaglob357289830","rna polymerase beta subunit ","RNA polymerase beta subunit [Trachelium caeruleum]","ref|YP_001718693.1|",1070,28,64,1.7999999999999999E-2,33.1,{"$f":"VLOOKUP(K297,gi2taxid!G:H,2,FALSE)","v":"Streptophyta"},{"$f":"VLOOKUP(D297,gi2taxid!A:E,4,FALSE)","v":"Trachelium caeruleum"}]
["Phaglob357289831",0,"putative Holliday junction resolvase [Cafeteria roenbergensis virus BV-PW1]","ref|YP_003969795.1|",285,29,308,9.9999999999999998E-17,78.2,{"$f":"VLOOKUP(K298,gi2taxid!G:H,2,FALSE)","v":"unclassified_dsDNA_viruses (CroV)"},{"$f":"VLOOKUP(D298,gi2taxid!A:E,4,FALSE)","v":"Cafeteria roenbergensis virus BV-PW1"}]
["Phaglob357289832",{"$error":"#N/A"},{"$nulls":7},{"$f":"VLOOKUP(K299,gi2taxid!G:H,2,FALSE)","v":{"$error":"#N/A"}},{"$f":"VLOOKUP(D299,gi2taxid!A:E,4,FALSE)","v":{"$error":"#N/A"}}]
["Phaglob357289833","cip1 interacting zinc finger isoform 6 ","hypothetical protein FG07075.1 [Gibberella zeae PH-1]","ref|XP_387251.1|",1552,41,39,4.0000000000000001E-3,35,{"$f":"VLOOKUP(K300,gi2taxid!G:H,2,FALSE)","v":"Fungi"},{"$f":"VLOOKUP(D300,gi2taxid!A:E,4,FALSE)","v":"Gibberella zeae PH-1"}]
["Phaglob357289834","zinc finger c2h2 type ","Zinc finger, C2H2 type family protein [Brugia malayi]","ref|XP_001893937.1|",141,30,80,4.0000000000000001E-3,37.700000000000003,{"$f":"VLOOKUP(K301,gi2taxid!G:H,2,FALSE)","v":"Metazoa"},{"$f":"VLOOKUP(D301,gi2taxid!A:E,4,FALSE)","v":"Brugia malayi"}]
["Phaglob357289835",0,"hypothetical protein VOLCADRAFT_99759 [Volvox carteri f. nagariensis]","ref|XP_002958510.1|",1101,52,162,6E-49,182,{"$f":"VLOOKUP(K302,gi2taxid!G:H,2,FALSE)","v":"Chlorophyta"},{"$f":"VLOOKUP(D302,gi2taxid!A:E,4,FALSE)","v":"Volvox carteri f. nagariensis"}]
["Phaglob357289836","glycosyl transferase 25 ","family 2 glycosyl transferase [Mesorhizobium amorphae CCNWGS0123]","ref|ZP_09092199.1|",281,27,175,1.9999999999999999E-6,48.9,{"$f":"VLOOKUP(K303,gi2taxid!G:H,2,FALSE)","v":"Alphaproteobacteria"},{"$f":"VLOOKUP(D303,gi2taxid!A:E,4,FALSE)","v":"Mesorhizobium amorphae CCNWGS0123"}]
["Phaglob357289837","amidase ","Hypothetical protein NAEGRDRAFT_53722 [Naegleria gruberi]","ref|XP_002670219.1|",636,30,96,0.01,37.4,{"$f":"VLOOKUP(K304,gi2taxid!G:H,2,FALSE)","v":"Schizopyrenida"},{"$f":"VLOOKUP(D304,gi2taxid!A:E,4,FALSE)","v":"Naegleria gruberi strain NEG-M"}]
["Phaglob357289838","2 octaprenylphenol hydroxylase ","2-polyprenylphenol 6-hydroxylase [Francisella philomiragia subsp. philomiragia ATCC 25015]","ref|ZP_05248423.1|",552,26,358,5.9999999999999998E-21,95.9,{"$f":"VLOOKUP(K305,gi2taxid!G:H,2,FALSE)","v":"Gammaproteobacteria"},{"$f":"VLOOKUP(D305,gi2taxid!A:E,4,FALSE)","v":"Francisella philomiragia subsp. philomiragia ATCC 25015"}]
["Phaglob357289839","glycosyl hydrolase bnr repeat ","Lectin C-type domain [SAR116 cluster alpha proteobacterium HIMB100]","ref|ZP_09201020.1|",1091,41,384,1E-56,211,{"$f":"VLOOKUP(K306,gi2taxid!G:H,2,FALSE)","v":"Alphaproteobacteria"},{"$f":"VLOOKUP(D306,gi2taxid!A:E,4,FALSE)","v":"SAR116 cluster alpha proteobacterium HIMB100"}]
["Phaglob357289840","dna polymerase i ","putative RNaseH [Cafeteria roenbergensis virus BV-PW1]","ref|YP_003969643.1|",287,26,297,5.0000000000000002E-14,70.900000000000006,{"$f":"VLOOKUP(K307,gi2taxid!G:H,2,FALSE)","v":"unclassified_dsDNA_viruses (CroV)"},{"$f":"VLOOKUP(D307,gi2taxid!A:E,4,FALSE)","v":"Cafeteria roenbergensis virus BV-PW1"}]
["Phaglob357289841",{"$error":"#N/A"},{"$nulls":7},{"$f":"VLOOKUP(K308,gi2taxid!G:H,2,FALSE)","v":{"$error":"#N/A"}},{"$f":"VLOOKUP(D308,gi2taxid!A:E,4,FALSE)","v":{"$error":"#N/A"}}]
["Phaglob357289842","anion transporter ","peptidase M23 [Roseburia hominis A2-183]","ref|YP_004838115.1|",348,31,89,1E-3,38.5,{"$f":"VLOOKUP(K309,gi2taxid!G:H,2,FALSE)","v":"Clostridia"},{"$f":"VLOOKUP(D309,gi2taxid!A:E,4,FALSE)","v":"Roseburia hominis A2-183"}]
["Phaglob357289843",{"$error":"#N/A"},{"$nulls":7},{"$f":"VLOOKUP(K310,gi2taxid!G:H,2,FALSE)","v":{"$error":"#N/A"}},{"$f":"VLOOKUP(D310,gi2taxid!A:E,4,FALSE)","v":{"$error":"#N/A"}}]
["Phaglob357289844","methylase involved ubiquinone menaquinone biosynthesis ","methylase involved in ubiquinone/menaquinone biosynthesis [Serinicoccus profundi MCCC 1A05965]","ref|ZP_09849798.1|",190,33,97,7.0000000000000005E-13,67,{"$f":"VLOOKUP(K311,gi2taxid!G:H,2,FALSE)","v":"Actinobacteria"},{"$f":"VLOOKUP(D311,gi2taxid!A:E,4,FALSE)","v":"Serinicoccus profundi MCCC 1A05965"}]
["Phaglob357289845","cphy_1726 ","putative site-specific recombinase, resolvase family [Clostridium perfringens B str. ATCC 3626]","ref|ZP_02634597.1|",564,32,120,2E-3,40.4,{"$f":"VLOOKUP(K312,gi2taxid!G:H,2,FALSE)","v":"Clostridia"},{"$f":"VLOOKUP(D312,gi2taxid!A:E,4,FALSE)","v":"Clostridium perfringens B str. ATCC 3626"}]
["Phaglob357289846","radical sam ","periplasmic solute binding protein [Paracoccus denitrificans PD1222]","ref|YP_915060.1|",301,46,35,1.7000000000000001E-2,32.700000000000003,{"$f":"VLOOKUP(K313,gi2taxid!G:H,2,FALSE)","v":"Alphaproteobacteria"},{"$f":"VLOOKUP(D313,gi2taxid!A:E,4,FALSE)","v":"Paracoccus denitrificans PD1222"}]
["Phaglob357289847","elongation factor 3 ","elongation factor [Neosartorya fischeri NRRL 181]","ref|XP_001261514.1|",1065,40,1043,0,704,{"$f":"VLOOKUP(K314,gi2taxid!G:H,2,FALSE)","v":"Fungi"},{"$f":"VLOOKUP(D314,gi2taxid!A:E,4,FALSE)","v":"Neosartorya fischeri NRRL 181"}]
["Phaglob357289848","dna polymerase iii subunit alpha ","DNA polymerase III subunit alpha [Oceanithermus profundus DSM 14977]","ref|YP_004058477.1|",1222,35,69,2E-3,40.799999999999997,{"$f":"VLOOKUP(K315,gi2taxid!G:H,2,FALSE)","v":"Deinococci"},{"$f":"VLOOKUP(D315,gi2taxid!A:E,4,FALSE)","v":"Oceanithermus profundus DSM 14977"}]
["Phaglob357289849","nemvedraft_v1g153445 ","conserved hypothetical protein [Verticillium albo-atrum VaMs.102]","ref|XP_003000634.1|",896,26,102,1E-3,40.799999999999997,{"$f":"VLOOKUP(K316,gi2taxid!G:H,2,FALSE)","v":"Fungi"},{"$f":"VLOOKUP(D316,gi2taxid!A:E,4,FALSE)","v":"Verticillium albo-atrum VaMs.102"}]
["Phaglob357289850","disulfide isomerase ","protein disulfide isomerase [Leishmania infantum JPCM5]","ref|XP_001469404.1|",477,42,48,1.0000000000000001E-5,43.1,{"$f":"VLOOKUP(K317,gi2taxid!G:H,2,FALSE)","v":"Kinetoplastida"},{"$f":"VLOOKUP(D317,gi2taxid!A:E,4,FALSE)","v":"Leishmania infantum JPCM5"}]
["Phaglob357289851","tonb dependent receptor plug ","regulatory protein RecX [Legionella longbeachae D-4968]","ref|ZP_06185792.1|",156,28,53,8.9999999999999993E-3,36.200000000000003,{"$f":"VLOOKUP(K318,gi2taxid!G:H,2,FALSE)","v":"Gammaproteobacteria"},{"$f":"VLOOKUP(D318,gi2taxid!A:E,4,FALSE)","v":"Legionella longbeachae D-4968"}]
["Phaglob357289852","dna polymerase delta large chain ","hypothetical protein EUBIFOR_01496 [Eubacterium biforme DSM 3989]","ref|ZP_03488910.1|",905,30,91,2.9999999999999997E-4,39.700000000000003,{"$f":"VLOOKUP(K319,gi2taxid!G:H,2,FALSE)","v":"Erysipelotrichi"},{"$f":"VLOOKUP(D319,gi2taxid!A:E,4,FALSE)","v":"Eubacterium biforme DSM 3989"}]
["Phaglob357289853","chemotaxis methyltransferase ","pili chemotaxis protein methyltransferase CheR-like PilK [Borrelia turicatae 91E135]","ref|YP_945412.1|",286,32,72,3.0000000000000001E-3,36.6,{"$f":"VLOOKUP(K320,gi2taxid!G:H,2,FALSE)","v":"Spirochaetia"},{"$f":"VLOOKUP(D320,gi2taxid!A:E,4,FALSE)","v":"Borrelia turicatae 91E135"}]
["Phaglob357289854","transposase orfb probable is150 ","anaerobic dimethyl sulfoxide reductase, A subunit, DmsA/YnfE [Acetonema longum DSM 6540]","ref|ZP_08624938.1|",791,36,76,6.9999999999999999E-4,39.299999999999997,{"$f":"VLOOKUP(K321,gi2taxid!G:H,2,FALSE)","v":"Negativicutes"},{"$f":"VLOOKUP(D321,gi2taxid!A:E,4,FALSE)","v":"Acetonema longum DSM 6540"}]
["Phaglob357289855","crossover junction endonuclease mus81 ","hypothetical protein DICPUDRAFT_78969 [Dictyostelium purpureum]","ref|XP_003288145.1|",702,31,252,9.9999999999999998E-17,80.099999999999994,{"$f":"VLOOKUP(K322,gi2taxid!G:H,2,FALSE)","v":"Mycetozoa"},{"$f":"VLOOKUP(D322,gi2taxid!A:E,4,FALSE)","v":"Dictyostelium purpureum"}]
["Phaglob357289856","rflaf_16952 ","hypothetical protein RflaF_16952 [Ruminococcus flavefaciens FD-1]","ref|ZP_06144897.1|",963,30,60,0.01,34.700000000000003,{"$f":"VLOOKUP(K323,gi2taxid!G:H,2,FALSE)","v":"Clostridia"},{"$f":"VLOOKUP(D323,gi2taxid!A:E,4,FALSE)","v":"Ruminococcus flavefaciens FD-1"}]
["Phaglob357289857","ribonuclease iii ","putative dsRNA-specific ribonuclease III [Cafeteria roenbergensis virus BV-PW1]","ref|YP_003969814.1|",362,29,331,4.0000000000000002E-27,111,{"$f":"VLOOKUP(K324,gi2taxid!G:H,2,FALSE)","v":"unclassified_dsDNA_viruses (CroV)"},{"$f":"VLOOKUP(D324,gi2taxid!A:E,4,FALSE)","v":"Cafeteria roenbergensis virus BV-PW1"}]
["Phaglob357289858","superfamily ii helicase vv d11 ","putative transcription termination factor [Acanthamoeba polyphaga mimivirus]","ref|YP_003986853.1|",817,26,590,1.0000000000000001E-37,152,{"$f":"VLOOKUP(K325,gi2taxid!G:H,2,FALSE)","v":"Mimiviridae"},{"$f":"VLOOKUP(D325,gi2taxid!A:E,4,FALSE)","v":"Acanthamoeba polyphaga mimivirus"}]
["Phaglob357289859","zinc finger homeobox 4 ","PREDICTED: LOW QUALITY PROTEIN: zinc finger homeobox protein 4 [Equus caballus]","ref|XP_001914953.2|",3619,42,33,1.6E-2,37.700000000000003,{"$f":"VLOOKUP(K326,gi2taxid!G:H,2,FALSE)","v":"Metazoa"},{"$f":"VLOOKUP(D326,gi2taxid!A:E,4,FALSE)","v":"Equus caballus"}]
["Phaglob357289860","cardiomyopathy 5 ","PREDICTED: cardiomyopathy-associated protein 5 [Otolemur garnettii]","ref|XP_003785993.1|",3951,25,114,1E-3,40,{"$f":"VLOOKUP(K327,gi2taxid!G:H,2,FALSE)","v":"Metazoa"},{"$f":"VLOOKUP(D327,gi2taxid!A:E,4,FALSE)","v":"Otolemur garnettii"}]
["Phaglob357289861","ncu00734 ","putative cysteine protease [Cafeteria roenbergensis virus BV-PW1]","ref|YP_003969816.1|",294,31,262,9.0000000000000003E-27,107,{"$f":"VLOOKUP(K328,gi2taxid!G:H,2,FALSE)","v":"unclassified_dsDNA_viruses (CroV)"},{"$f":"VLOOKUP(D328,gi2taxid!A:E,4,FALSE)","v":"Cafeteria roenbergensis virus BV-PW1"}]
["Phaglob357289862","methyltransferase ","hypothetical protein CRE_19752 [Caenorhabditis remanei]","ref|XP_003100512.1|",583,23,112,1E-3,39.299999999999997,{"$f":"VLOOKUP(K329,gi2taxid!G:H,2,FALSE)","v":"Metazoa"},{"$f":"VLOOKUP(D329,gi2taxid!A:E,4,FALSE)","v":"Caenorhabditis remanei"}]
["Phaglob357289863","ldbnd_0898 ","hypothetical protein LDBND_0898 [Lactobacillus delbrueckii subsp. bulgaricus ND02]","ref|YP_004033918.1|",164,30,73,3.7999999999999999E-2,33.9,{"$f":"VLOOKUP(K330,gi2taxid!G:H,2,FALSE)","v":"Bacilli"},{"$f":"VLOOKUP(D330,gi2taxid!A:E,4,FALSE)","v":"Lactobacillus delbrueckii subsp. bulgaricus ND02"}]
["Phaglob357289864","asparagine synthetase ","putative asparagine synthetase B [Cafeteria roenbergensis virus BV-PW1]","ref|YP_003969707.1|",556,42,585,2.0000000000000001E-133,404,{"$f":"VLOOKUP(K331,gi2taxid!G:H,2,FALSE)","v":"unclassified_dsDNA_viruses (CroV)"},{"$f":"VLOOKUP(D331,gi2taxid!A:E,4,FALSE)","v":"Cafeteria roenbergensis virus BV-PW1"}]
["Phaglob357289865","tdel_0a06390 ","3D-(3,5/4)-trihydroxycyclohexane-1,2-dione hydrolase [Providencia rettgeri DSM 1131]","ref|ZP_06574086.1|",548,28,72,8.9999999999999993E-3,36.200000000000003,{"$f":"VLOOKUP(K332,gi2taxid!G:H,2,FALSE)","v":"Gammaproteobacteria"},{"$f":"VLOOKUP(D332,gi2taxid!A:E,4,FALSE)","v":"Providencia rettgeri DSM 1131"}]
["Phaglob357289866","bacteriorhodopsin ","rhodopsin [Haliscomenobacter hydrossis DSM 1100]","ref|YP_004446506.1|",249,24,228,9.9999999999999995E-7,48.5,{"$f":"VLOOKUP(K333,gi2taxid!G:H,2,FALSE)","v":"Bacteroidetes"},{"$f":"VLOOKUP(D333,gi2taxid!A:E,4,FALSE)","v":"Haliscomenobacter hydrossis DSM 1100"}]
["Phaglob357289867","sialic acid specific acetylesterase ii ","predicted protein [Phaeodactylum tricornutum CCAP 1055/1]","ref|XP_002178010.1|",391,36,42,8.9999999999999993E-3,34.700000000000003,{"$f":"VLOOKUP(K334,gi2taxid!G:H,2,FALSE)","v":"Bacillariophyta"},{"$f":"VLOOKUP(D334,gi2taxid!A:E,4,FALSE)","v":"Phaeodactylum tricornutum CCAP 1055/1"}]
["Phaglob357289868","calcium activated potassium channel subunit alpha 1 ","conserved hypothetical protein [Microscilla marina ATCC 23134]","ref|ZP_01694941.1|",160,29,119,2E-3,38.5,{"$f":"VLOOKUP(K335,gi2taxid!G:H,2,FALSE)","v":"Bacteroidetes"},{"$f":"VLOOKUP(D335,gi2taxid!A:E,4,FALSE)","v":"Microscilla marina ATCC 23134"}]
["Phaglob357289869","maestro isoform 1 ","PREDICTED: protein maestro [Otolemur garnettii]","ref|XP_003784751.1|",245,38,45,1E-3,37.4,{"$f":"VLOOKUP(K336,gi2taxid!G:H,2,FALSE)","v":"Metazoa"},{"$f":"VLOOKUP(D336,gi2taxid!A:E,4,FALSE)","v":"Otolemur garnettii"}]
["Phaglob357289870","zinc finger scan 21 ","PREDICTED: gastrula zinc finger protein XlCGF57.1-like [Danio rerio]","ref|XP_001921934.2|",327,36,78,6.9999999999999994E-5,43.9,{"$f":"VLOOKUP(K337,gi2taxid!G:H,2,FALSE)","v":"Metazoa"},{"$f":"VLOOKUP(D337,gi2taxid!A:E,4,FALSE)","v":"Danio rerio"}]
["Phaglob357289871","cobw p47k ","hypothetical protein [Azorhizobium caulinodans ORS 571]","ref|YP_001523884.1|",320,43,35,2.1000000000000001E-2,32,{"$f":"VLOOKUP(K338,gi2taxid!G:H,2,FALSE)","v":"Alphaproteobacteria"},{"$f":"VLOOKUP(D338,gi2taxid!A:E,4,FALSE)","v":"Azorhizobium caulinodans ORS 571"}]
["Phaglob357289872","penicillin binding ","PREDICTED: transient receptor potential cation channel, subfamily C, member 5-like [Saccoglossus kowalevskii]","ref|XP_002740098.1|",921,27,175,8.9999999999999998E-4,42,{"$f":"VLOOKUP(K339,gi2taxid!G:H,2,FALSE)","v":"Metazoa"},{"$f":"VLOOKUP(D339,gi2taxid!A:E,4,FALSE)","v":"Saccoglossus kowalevskii"}]
["Phaglob357289873","bacitracin resistance baca ","hypothetical protein BlinB_05389 [Brevibacterium linens BL2]","ref|ZP_05913067.1|",93,38,56,1E-3,37.700000000000003,{"$f":"VLOOKUP(K340,gi2taxid!G:H,2,FALSE)","v":"Actinobacteria"},{"$f":"VLOOKUP(D340,gi2taxid!A:E,4,FALSE)","v":"Brevibacterium linens BL2"}]
["Phaglob357289874","thymidylate synthase ","ORF70 [Human herpesvirus 8]","ref|YP_001129361.1|",337,54,288,9.9999999999999999E-110,326,{"$f":"VLOOKUP(K341,gi2taxid!G:H,2,FALSE)","v":"Herpesvirales"},{"$f":"VLOOKUP(D341,gi2taxid!A:E,4,FALSE)","v":"Human herpesvirus 8"}]
["Phaglob357289875","likely vesicular transport factor uso1p ","likely vesicular transport factor Uso1p [Candida albicans SC5314]","ref|XP_710120.1|",1880,30,106,1.2999999999999999E-2,38.1,{"$f":"VLOOKUP(K342,gi2taxid!G:H,2,FALSE)","v":"Fungi"},{"$f":"VLOOKUP(D342,gi2taxid!A:E,4,FALSE)","v":"Candida albicans SC5314"}]
["Phaglob357289876","hspb1 1 ","PREDICTED: HSPB1-associated protein 1-like [Cricetulus griseus]","ref|XP_003495492.1|",490,24,137,4.9999999999999998E-7,51.2,{"$f":"VLOOKUP(K343,gi2taxid!G:H,2,FALSE)","v":"Metazoa"},{"$f":"VLOOKUP(D343,gi2taxid!A:E,4,FALSE)","v":"Cricetulus griseus"}]
["Phaglob357289877","atp binding cassette sub c 9 ","predicted protein [Phaeodactylum tricornutum CCAP 1055/1]","ref|XP_002179507.1|",327,26,72,1.7000000000000001E-2,36.6,{"$f":"VLOOKUP(K344,gi2taxid!G:H,2,FALSE)","v":"Bacillariophyta"},{"$f":"VLOOKUP(D344,gi2taxid!A:E,4,FALSE)","v":"Phaeodactylum tricornutum CCAP 1055/1"}]
["Phaglob357289878",0,"PREDICTED: casein kinase 1, alpha 1-like [Oryctolagus cuniculus]","ref|XP_002720575.1|",432,30,270,3E-28,112,{"$f":"VLOOKUP(K345,gi2taxid!G:H,2,FALSE)","v":"Metazoa"},{"$f":"VLOOKUP(D345,gi2taxid!A:E,4,FALSE)","v":"Oryctolagus cuniculus"}]
["Phaglob357289879","abc superfamily atp binding ","zinc finger protein [Trichinella spiralis]","ref|XP_003373585.1|",457,27,90,6.0000000000000001E-3,37.4,{"$f":"VLOOKUP(K346,gi2taxid!G:H,2,FALSE)","v":"Metazoa"},{"$f":"VLOOKUP(D346,gi2taxid!A:E,4,FALSE)","v":"Trichinella spiralis"}]
["Phaglob357289880","cold shock dna binding ","putative nucleic acid binding protein (ISS) [Ostreococcus tauri]","ref|XP_003079943.1|",125,36,106,4.0000000000000001E-13,62.8,{"$f":"VLOOKUP(K347,gi2taxid!G:H,2,FALSE)","v":"Chlorophyta"},{"$f":"VLOOKUP(D347,gi2taxid!A:E,4,FALSE)","v":"Ostreococcus tauri"}]
["Phaglob357289881","16s rrna processing ","16S rRNA processing protein [Pseudoalteromonas sp. SM9913]","ref|YP_004068112.1|",178,27,150,8.0000000000000002E-3,36.6,{"$f":"VLOOKUP(K348,gi2taxid!G:H,2,FALSE)","v":"Gammaproteobacteria"},{"$f":"VLOOKUP(D348,gi2taxid!A:E,4,FALSE)","v":"Pseudoalteromonas sp. SM9913"}]
["Phaglob357289882","antirepressor ","hypothetical protein NECHADRAFT_105943 [Nectria haematococca mpVI 77-13-4]","ref|XP_003041538.1|",97,36,36,0.01,32.700000000000003,{"$f":"VLOOKUP(K349,gi2taxid!G:H,2,FALSE)","v":"Fungi"},{"$f":"VLOOKUP(D349,gi2taxid!A:E,4,FALSE)","v":"Nectria haematococca mpVI 77-13-4"}]
["Phaglob357289883","adenosine monophosphate deaminase ","PREDICTED: RING finger protein 17-like [Acyrthosiphon pisum]","ref|XP_001951401.2|",1288,47,32,2.0000000000000001E-4,38.9,{"$f":"VLOOKUP(K350,gi2taxid!G:H,2,FALSE)","v":"Metazoa"},{"$f":"VLOOKUP(D350,gi2taxid!A:E,4,FALSE)","v":"Acyrthosiphon pisum"}]
["Phaglob357289884","gm23503 ","GM23503 [Drosophila sechellia]","ref|XP_002032467.1|",1126,29,85,1E-3,39.299999999999997,{"$f":"VLOOKUP(K351,gi2taxid!G:H,2,FALSE)","v":"Metazoa"},{"$f":"VLOOKUP(D351,gi2taxid!A:E,4,FALSE)","v":"Drosophila sechellia"}]
["Phaglob357289885","serine threonine kinase ","serine/threonine kinase with two-component sensor domain [Cyanothece sp. CCY0110]","ref|ZP_01732190.1|",817,33,107,4.9999999999999998E-8,55.8,{"$f":"VLOOKUP(K352,gi2taxid!G:H,2,FALSE)","v":"Chroococcales"},{"$f":"VLOOKUP(D352,gi2taxid!A:E,4,FALSE)","v":"Cyanothece sp. CCY0110"}]
["Phaglob357289886","cyclin dependent kinase e 1 ","hypothetical protein VOLCADRAFT_108154 [Volvox carteri f. nagariensis]","ref|XP_002958511.1|",598,24,256,5.0000000000000003E-10,61.6,{"$f":"VLOOKUP(K353,gi2taxid!G:H,2,FALSE)","v":"Chlorophyta"},{"$f":"VLOOKUP(D353,gi2taxid!A:E,4,FALSE)","v":"Volvox carteri f. nagariensis"}]
["Phaglob357289887","glycosyltransferase ","hypothetical protein FG00375.1 [Gibberella zeae PH-1]","ref|XP_380551.1|",517,31,102,2E-3,38.9,{"$f":"VLOOKUP(K354,gi2taxid!G:H,2,FALSE)","v":"Fungi"},{"$f":"VLOOKUP(D354,gi2taxid!A:E,4,FALSE)","v":"Gibberella zeae PH-1"}]
["Phaglob357289888","serine threonine kinase rio1 ","GK18111 [Drosophila willistoni]","ref|XP_002066408.1|",1209,25,104,3.0000000000000001E-3,38.1,{"$f":"VLOOKUP(K355,gi2taxid!G:H,2,FALSE)","v":"Metazoa"},{"$f":"VLOOKUP(D355,gi2taxid!A:E,4,FALSE)","v":"Drosophila willistoni"}]
["Phaglob357289889","ddb_g0271016 ","UvrD/REP helicase [Rhizobium leguminosarum bv. trifolii WSM1325]","ref|YP_002975400.1|",972,32,74,1E-3,38.1,{"$f":"VLOOKUP(K356,gi2taxid!G:H,2,FALSE)","v":"Alphaproteobacteria"},{"$f":"VLOOKUP(D356,gi2taxid!A:E,4,FALSE)","v":"Rhizobium leguminosarum bv. trifolii WSM1325"}]
["Phaglob357289890","b12 dependent methionine synthase ","predicted protein [Ostreococcus lucimarinus CCE9901]","ref|XP_001421807.1|",517,37,46,7.0000000000000001E-3,36.200000000000003,{"$f":"VLOOKUP(K357,gi2taxid!G:H,2,FALSE)","v":"Chlorophyta"},{"$f":"VLOOKUP(D357,gi2taxid!A:E,4,FALSE)","v":"Ostreococcus lucimarinus CCE9901"}]
["Phaglob357289891","octaprenyl diphosphate synthase ","hypothetical protein CJD_0685 [Clostridium perfringens D str. JGS1721]","ref|ZP_02954504.1|",260,35,72,7.0000000000000001E-3,37.4,{"$f":"VLOOKUP(K358,gi2taxid!G:H,2,FALSE)","v":"Clostridia"},{"$f":"VLOOKUP(D358,gi2taxid!A:E,4,FALSE)","v":"Clostridium perfringens D str. JGS1721"}]
["Phaglob357289892","ntpase helicase ","hypothetical protein OlV1_160 [Ostreococcus lucimarinus virus OlV1]","ref|YP_004061792.1|",426,30,475,5.9999999999999996E-63,214,{"$f":"VLOOKUP(K359,gi2taxid!G:H,2,FALSE)","v":"Phycodnaviridae"},{"$f":"VLOOKUP(D359,gi2taxid!A:E,4,FALSE)","v":"Ostreococcus lucimarinus virus OlV1"}]
["Phaglob357289893",0,"hypothetical protein, conserved [Leishmania donovani]","ref|XP_003864063.1|",455,32,59,8.0000000000000002E-3,35.4,{"$f":"VLOOKUP(K360,gi2taxid!G:H,2,FALSE)","v":"Kinetoplastida"},{"$f":"VLOOKUP(D360,gi2taxid!A:E,4,FALSE)","v":"Leishmania donovani"}]
["Phaglob357289894","pyruvate formate lyase ","fatty acid desaturase [Acidovorax sp. JS42]","ref|YP_987265.1|",371,28,61,6.0000000000000001E-3,36.200000000000003,{"$f":"VLOOKUP(K361,gi2taxid!G:H,2,FALSE)","v":"Betaproteobacteria"},{"$f":"VLOOKUP(D361,gi2taxid!A:E,4,FALSE)","v":"Acidovorax sp. JS42"}]
["Phaglob357289895",{"$error":"#N/A"},{"$nulls":7},{"$f":"VLOOKUP(K362,gi2taxid!G:H,2,FALSE)","v":{"$error":"#N/A"}},{"$f":"VLOOKUP(D362,gi2taxid!A:E,4,FALSE)","v":{"$error":"#N/A"}}]
["Phaglob357289896","probable 1 acyl sn glycerol 3 phosphate acyltransferase 5 ","conserved hypothetical protein [Phytophthora infestans T30-4]","ref|XP_002899177.1|",174,23,192,2E-8,52.4,{"$f":"VLOOKUP(K363,gi2taxid!G:H,2,FALSE)","v":"Oomycetes"},{"$f":"VLOOKUP(D363,gi2taxid!A:E,4,FALSE)","v":"Phytophthora infestans T30-4"}]
["Phaglob357289897",0,"hypothetical protein [Monosiga brevicollis MX1]","ref|XP_001745868.1|",778,28,137,5.0000000000000001E-4,40.4,{"$f":"VLOOKUP(K364,gi2taxid!G:H,2,FALSE)","v":"Choanoflagellida"},{"$f":"VLOOKUP(D364,gi2taxid!A:E,4,FALSE)","v":"Monosiga brevicollis MX1"}]
["Phaglob357289898","dephospho coa kinase ","allantoate amidohydrolase [Cupriavidus basilensis OR16]","ref|ZP_09623886.1|",413,32,66,5.0000000000000001E-3,37.4,{"$f":"VLOOKUP(K365,gi2taxid!G:H,2,FALSE)","v":"Betaproteobacteria"},{"$f":"VLOOKUP(D365,gi2taxid!A:E,4,FALSE)","v":"Cupriavidus basilensis OR16"}]
["Phaglob357289899","rna binding ","RNA-binding protein [Cytophaga hutchinsonii ATCC 33406]","ref|YP_679391.1|",520,33,86,4.9000000000000002E-2,35,{"$f":"VLOOKUP(K366,gi2taxid!G:H,2,FALSE)","v":"Bacteroidetes"},{"$f":"VLOOKUP(D366,gi2taxid!A:E,4,FALSE)","v":"Cytophaga hutchinsonii ATCC 33406"}]
["Phaglob357289900","glutamine rich 2 ","anaerobic dehydrogenase [Hyperthermus butylicus DSM 5456]","ref|YP_001013239.1|",1266,32,57,8.9999999999999993E-3,34.299999999999997,{"$f":"VLOOKUP(K367,gi2taxid!G:H,2,FALSE)","v":"Thermoprotei"},{"$f":"VLOOKUP(D367,gi2taxid!A:E,4,FALSE)","v":"Hyperthermus butylicus DSM 5456"}]
["Phaglob357289901","penicillin binding 2b ","sulfate/thiosulfate ABC superfamily ATP binding cassette transporter, ABC protein [Mycobacterium parascrofulaceum ATCC BAA-614]","ref|ZP_06850328.1|",336,35,52,2.5999999999999999E-2,32.700000000000003,{"$f":"VLOOKUP(K368,gi2taxid!G:H,2,FALSE)","v":"Actinobacteria"},{"$f":"VLOOKUP(D368,gi2taxid!A:E,4,FALSE)","v":"Mycobacterium parascrofulaceum ATCC BAA-614"}]
["Phaglob357289902",{"$error":"#N/A"},{"$nulls":7},{"$f":"VLOOKUP(K369,gi2taxid!G:H,2,FALSE)","v":{"$error":"#N/A"}},{"$f":"VLOOKUP(D369,gi2taxid!A:E,4,FALSE)","v":{"$error":"#N/A"}}]
["Phaglob357289903","frpr 8 ","GH20188 [Drosophila grimshawi]","ref|XP_001987039.1|",1066,32,59,8.0000000000000002E-3,33.9,{"$f":"VLOOKUP(K370,gi2taxid!G:H,2,FALSE)","v":"Metazoa"},{"$f":"VLOOKUP(D370,gi2taxid!A:E,4,FALSE)","v":"Drosophila grimshawi"}]
["Phaglob357289904","niasodraft_2854 ","hypothetical protein NiasoDRAFT_2854 [Niabella soli DSM 19437]","ref|ZP_09631698.1|",271,38,40,0.02,32.299999999999997,{"$f":"VLOOKUP(K371,gi2taxid!G:H,2,FALSE)","v":"Bacteroidetes"},{"$f":"VLOOKUP(D371,gi2taxid!A:E,4,FALSE)","v":"Niabella soli DSM 19437"}]
["Phaglob357289905",0,"conserved hypothetical protein [Uncinocarpus reesii 1704]","ref|XP_002544143.1|",772,29,118,4.9000000000000002E-2,36.200000000000003,{"$f":"VLOOKUP(K372,gi2taxid!G:H,2,FALSE)","v":"Fungi"},{"$f":"VLOOKUP(D372,gi2taxid!A:E,4,FALSE)","v":"Uncinocarpus reesii 1704"}]
["Phaglob357289906","prepilin ","hypothetical protein BC1G_12638 [Botryotinia fuckeliana B05.10]","ref|XP_001549219.1|",1565,38,50,1E-3,37,{"$f":"VLOOKUP(K373,gi2taxid!G:H,2,FALSE)","v":"Fungi"},{"$f":"VLOOKUP(D373,gi2taxid!A:E,4,FALSE)","v":"Botryotinia fuckeliana B05.10"}]
["Phaglob357289907","replication initiation ","possible replication asociated protein [Subterranean clover stunt virus]","ref|NP_620696.1|",280,32,280,1.9999999999999999E-36,133,{"$f":"VLOOKUP(K374,gi2taxid!G:H,2,FALSE)","v":"Nanovirus"},{"$f":"VLOOKUP(D374,gi2taxid!A:E,4,FALSE)","v":"Subterranean clover stunt virus"}]
["Phaglob357289908",{"$error":"#N/A"},{"$nulls":7},{"$f":"VLOOKUP(K375,gi2taxid!G:H,2,FALSE)","v":{"$error":"#N/A"}},{"$f":"VLOOKUP(D375,gi2taxid!A:E,4,FALSE)","v":{"$error":"#N/A"}}]
["Phaglob357289909","mpv1_186c ","hypothetical protein BpV1_160 [Bathycoccus sp. RCC1105 virus BpV1]","ref|YP_004061590.1|",239,30,195,2.9999999999999999E-21,90.1,{"$f":"VLOOKUP(K376,gi2taxid!G:H,2,FALSE)","v":"Phycodnaviridae"},{"$f":"VLOOKUP(D376,gi2taxid!A:E,4,FALSE)","v":"Bathycoccus sp. RCC1105 virus BpV1"}]
["Phaglob357289910","had superfamily hydrolase ","HAD-superfamily hydrolase [Bacillus megaterium QM B1551]","ref|YP_003563904.1|",257,32,78,1.2E-2,33.9,{"$f":"VLOOKUP(K377,gi2taxid!G:H,2,FALSE)","v":"Bacilli"},{"$f":"VLOOKUP(D377,gi2taxid!A:E,4,FALSE)","v":"Bacillus megaterium QM B1551"}]
["Phaglob357289911","udp glucose 6 dehydrogenase ","UDP-glucose 6-dehydrogenase [Trichodesmium erythraeum IMS101]","ref|YP_722159.1|",471,41,34,1E-3,36.200000000000003,{"$f":"VLOOKUP(K378,gi2taxid!G:H,2,FALSE)","v":"Oscillatoriales"},{"$f":"VLOOKUP(D378,gi2taxid!A:E,4,FALSE)","v":"Trichodesmium erythraeum IMS101"}]
["Phaglob357289912",0,"Os03g0149800 [Oryza sativa Japonica Group]","ref|NP_001048974.1|",300,28,148,8.0000000000000003E-10,57,{"$f":"VLOOKUP(K379,gi2taxid!G:H,2,FALSE)","v":"Streptophyta"},{"$f":"VLOOKUP(D379,gi2taxid!A:E,4,FALSE)","v":"Oryza sativa Japonica Group"}]
["Phaglob357289913","syn8016draft_2098 ","hypothetical protein MldDRAFT_4669 [delta proteobacterium MLMS-1]","ref|ZP_01288853.1|",194,50,168,2E-51,167,{"$f":"VLOOKUP(K380,gi2taxid!G:H,2,FALSE)","v":"delta-epsilon_subdivisions"},{"$f":"VLOOKUP(D380,gi2taxid!A:E,4,FALSE)","v":"delta proteobacterium MLMS-1"}]
["Phaglob357289914","rumhyd_01987 ","hypothetical protein ARALYDRAFT_493357 [Arabidopsis lyrata subsp. lyrata]","ref|XP_002868209.1|",757,32,53,7.0000000000000001E-3,35,{"$f":"VLOOKUP(K381,gi2taxid!G:H,2,FALSE)","v":"Streptophyta"},{"$f":"VLOOKUP(D381,gi2taxid!A:E,4,FALSE)","v":"Arabidopsis lyrata subsp. lyrata"}]
["Phaglob357289915","agmatinase ","hypothetical protein GCWU000342_01431 [Shuttleworthia satelles DSM 14600]","ref|ZP_04455413.1|",171,31,99,1.2E-2,35,{"$f":"VLOOKUP(K382,gi2taxid!G:H,2,FALSE)","v":"Clostridia"},{"$f":"VLOOKUP(D382,gi2taxid!A:E,4,FALSE)","v":"Shuttleworthia satelles DSM 14600"}]
["Phaglob357289916","kqs_09425 ","GI18234 [Drosophila mojavensis]","ref|XP_002004042.1|",1489,33,86,8.0000000000000004E-4,39.700000000000003,{"$f":"VLOOKUP(K383,gi2taxid!G:H,2,FALSE)","v":"Metazoa"},{"$f":"VLOOKUP(D383,gi2taxid!A:E,4,FALSE)","v":"Drosophila mojavensis"}]
["Phaglob357289917","atpb gene product ","hypothetical protein crov425 [Cafeteria roenbergensis virus BV-PW1]","ref|YP_003970058.1|",132,29,84,1E-4,38.1,{"$f":"VLOOKUP(K384,gi2taxid!G:H,2,FALSE)","v":"unclassified_dsDNA_viruses (CroV)"},{"$f":"VLOOKUP(D384,gi2taxid!A:E,4,FALSE)","v":"Cafeteria roenbergensis virus BV-PW1"}]
["Phaglob357289918","ferric enterobactin receptor ","Os03g0145775 [Oryza sativa Japonica Group]","ref|NP_001173265.1|",79,38,55,1.0999999999999999E-2,32.299999999999997,{"$f":"VLOOKUP(K385,gi2taxid!G:H,2,FALSE)","v":"Streptophyta"},{"$f":"VLOOKUP(D385,gi2taxid!A:E,4,FALSE)","v":"Oryza sativa Japonica Group"}]
["Phaglob357289919","glycosyl transferase ","hypothetical protein PMI10_01609 [Flavobacterium sp. CF136]","ref|ZP_10729783.1|",507,37,63,1.2E-2,38.9,{"$f":"VLOOKUP(K386,gi2taxid!G:H,2,FALSE)","v":"Bacteroidetes"},{"$f":"VLOOKUP(D386,gi2taxid!A:E,4,FALSE)","v":"Flavobacterium sp. CF136"}]
["Phaglob357289920","deoxyuridine 5' triphosphate nucleotidohydrolase ","deoxyuridine 5'-triphosphate nucleotidohydrolase [Babesia bovis T2Bo]","ref|XP_001610506.1|",159,44,143,1E-22,91.7,{"$f":"VLOOKUP(K387,gi2taxid!G:H,2,FALSE)","v":"Apicomplexa"},{"$f":"VLOOKUP(D387,gi2taxid!A:E,4,FALSE)","v":"Babesia bovis T2Bo"}]
["Phaglob357289921","cytidine deoxycytidylate deaminase zinc binding region ","putative nucleoside deaminase [Lausannevirus]","ref|YP_004347087.1|",81,34,73,2.9999999999999999E-7,45.1,{"$f":"VLOOKUP(K388,gi2taxid!G:H,2,FALSE)","v":"unclassified_dsDNA_viruses (Marseil)"},{"$f":"VLOOKUP(D388,gi2taxid!A:E,4,FALSE)","v":"Lausannevirus"}]
["Phaglob357289922","cytidine deoxycytidylate deaminase zinc binding ","cytidine/deoxycytidylate deaminase family protein [Mitsuokella multacida DSM 20544]","ref|ZP_05404314.1|",153,26,54,5.0000000000000001E-4,36.6,{"$f":"VLOOKUP(K389,gi2taxid!G:H,2,FALSE)","v":"Negativicutes"},{"$f":"VLOOKUP(D389,gi2taxid!A:E,4,FALSE)","v":"Mitsuokella multacida DSM 20544"}]
["Phaglob357289923","outer membrane probably involved nutrient binding ","TonB-dependent receptor plug domain protein [Prevotella melaninogenica ATCC 25845]","ref|YP_003815147.1|",1074,30,135,2.7E-2,36.200000000000003,{"$f":"VLOOKUP(K390,gi2taxid!G:H,2,FALSE)","v":"Bacteroidetes"},{"$f":"VLOOKUP(D390,gi2taxid!A:E,4,FALSE)","v":"Prevotella melaninogenica ATCC 25845"}]
["Phaglob357289924","response regulator chey receiver ggdef ","hypothetical protein, conserved in Plasmodium species [Plasmodium knowlesi strain H]","ref|XP_002257951.1|",2031,35,62,1E-3,39.299999999999997,{"$f":"VLOOKUP(K391,gi2taxid!G:H,2,FALSE)","v":"Apicomplexa"},{"$f":"VLOOKUP(D391,gi2taxid!A:E,4,FALSE)","v":"Plasmodium knowlesi strain H"}]
["Phaglob357289925",{"$error":"#N/A"},{"$nulls":7},{"$f":"VLOOKUP(K392,gi2taxid!G:H,2,FALSE)","v":{"$error":"#N/A"}},{"$f":"VLOOKUP(D392,gi2taxid!A:E,4,FALSE)","v":{"$error":"#N/A"}}]
["Phaglob357289926","kinase 1 ","protein kinase, putative [Phytophthora infestans T30-4]","ref|XP_002907944.1|",222,23,183,3.0000000000000001E-5,45.8,{"$f":"VLOOKUP(K393,gi2taxid!G:H,2,FALSE)","v":"Oomycetes"},{"$f":"VLOOKUP(D393,gi2taxid!A:E,4,FALSE)","v":"Phytophthora infestans T30-4"}]
["Phaglob357289927","6 phosphogluconate dehydrogenase ","hypothetical protein [Kluyveromyces lactis NRRL Y-1140]","ref|XP_453638.1|",1494,26,101,7.0000000000000001E-3,35.799999999999997,{"$f":"VLOOKUP(K394,gi2taxid!G:H,2,FALSE)","v":"Fungi"},{"$f":"VLOOKUP(D394,gi2taxid!A:E,4,FALSE)","v":"Kluyveromyces lactis NRRL Y-1140"}]
["Phaglob357289928","origin recognition complex subunit 6 ","hypothetical protein PM0821 [Pasteurella multocida subsp. multocida str. Pm70]","ref|NP_245758.1|",150,31,54,8.9999999999999993E-3,32.700000000000003,{"$f":"VLOOKUP(K395,gi2taxid!G:H,2,FALSE)","v":"Gammaproteobacteria"},{"$f":"VLOOKUP(D395,gi2taxid!A:E,4,FALSE)","v":"Pasteurella multocida subsp. multocida str. Pm70"}]
["Phaglob357289929","stage ii sporulation e spoiie ","hypothetical protein TERMP_00602 [Thermococcus barophilus MP]","ref|YP_004070802.1|",279,49,35,2E-3,36.200000000000003,{"$f":"VLOOKUP(K396,gi2taxid!G:H,2,FALSE)","v":"Thermococci"},{"$f":"VLOOKUP(D396,gi2taxid!A:E,4,FALSE)","v":"Thermococcus barophilus MP"}]
["Phaglob357289930","histidinol phosphatase ","carboxyl-terminal protease [Chlorobium phaeobacteroides BS1]","ref|YP_001958491.1|",563,33,78,1.4999999999999999E-2,37.4,{"$f":"VLOOKUP(K397,gi2taxid!G:H,2,FALSE)","v":"Chlorobi"},{"$f":"VLOOKUP(D397,gi2taxid!A:E,4,FALSE)","v":"Chlorobium phaeobacteroides BS1"}]
["Phaglob357289931","loc100119467 ","radical SAM domain protein [Clostridium sp. D5]","ref|ZP_08130721.1|",635,30,81,2E-3,36.6,{"$f":"VLOOKUP(K398,gi2taxid!G:H,2,FALSE)","v":"Clostridia"},{"$f":"VLOOKUP(D398,gi2taxid!A:E,4,FALSE)","v":"Clostridium sp. D5"}]
["Phaglob357289932","dna ligase ","mg604 gene product [Megavirus chiliensis]","ref|YP_004894655.1|",637,36,639,7E-114,370,{"$f":"VLOOKUP(K399,gi2taxid!G:H,2,FALSE)","v":"Mimiviridae"},{"$f":"VLOOKUP(D399,gi2taxid!A:E,4,FALSE)","v":"Megavirus chiliensis"}]
["Phaglob357289933","trap transporter solute receptor taxi ","DNA repair/transcription protein [Aspergillus fumigatus Af293]","ref|XP_747339.1|",1063,27,112,7.0000000000000001E-3,38.1,{"$f":"VLOOKUP(K400,gi2taxid!G:H,2,FALSE)","v":"Fungi"},{"$f":"VLOOKUP(D400,gi2taxid!A:E,4,FALSE)","v":"Aspergillus fumigatus Af293"}]
["Phaglob357289934",0,"hypothetical protein BRAFLDRAFT_137525 [Branchiostoma floridae]","ref|XP_002603472.1|",454,29,104,7.0000000000000001E-3,38.1,{"$f":"VLOOKUP(K401,gi2taxid!G:H,2,FALSE)","v":"Metazoa"},{"$f":"VLOOKUP(D401,gi2taxid!A:E,4,FALSE)","v":"Branchiostoma floridae"}]
["Phaglob357289935","lysyl trna synthetase ","lysine--tRNA ligase [Streptococcus agalactiae ATCC 13813]","ref|ZP_08650857.1|",533,25,157,8.0000000000000002E-3,37.4,{"$f":"VLOOKUP(K402,gi2taxid!G:H,2,FALSE)","v":"Bacilli"},{"$f":"VLOOKUP(D402,gi2taxid!A:E,4,FALSE)","v":"Streptococcus agalactiae ATCC 13813"}]
["Phaglob357289936",{"$error":"#N/A"},{"$nulls":7},{"$f":"VLOOKUP(K403,gi2taxid!G:H,2,FALSE)","v":{"$error":"#N/A"}},{"$f":"VLOOKUP(D403,gi2taxid!A:E,4,FALSE)","v":{"$error":"#N/A"}}]
["Phaglob357289937",0,"hypothetical protein CLOSPO_02664 [Clostridium sporogenes ATCC 15579]","ref|ZP_02995542.1|",89,44,89,2E-16,70.900000000000006,{"$f":"VLOOKUP(K404,gi2taxid!G:H,2,FALSE)","v":"Clostridia"},{"$f":"VLOOKUP(D404,gi2taxid!A:E,4,FALSE)","v":"Clostridium sporogenes ATCC 15579"}]
["Phaglob357289938","histone acetyltransferase ","histone acethyltransferase-like protein [Trypanosoma cruzi strain CL Brener]","ref|XP_805799.1|",678,42,549,1.0000000000000001E-133,411,{"$f":"VLOOKUP(K405,gi2taxid!G:H,2,FALSE)","v":"Kinetoplastida"},{"$f":"VLOOKUP(D405,gi2taxid!A:E,4,FALSE)","v":"Trypanosoma cruzi strain CL Brener"}]
["Phaglob357289939","glycosyl transferase ","acyl-CoA synthetase [Clostridium clariflavum DSM 19732]","ref|YP_005047155.1|",849,27,172,4.0000000000000001E-3,40,{"$f":"VLOOKUP(K406,gi2taxid!G:H,2,FALSE)","v":"Clostridia"},{"$f":"VLOOKUP(D406,gi2taxid!A:E,4,FALSE)","v":"Clostridium clariflavum DSM 19732"}]
["Phaglob357289940","mitochondrial carrier repeats ","UDP-N-acetylmuramate--L-alanine ligase [gamma proteobacterium HIMB30]","ref|ZP_09993243.1|",467,29,142,2.9999999999999997E-4,41.6,{"$f":"VLOOKUP(K407,gi2taxid!G:H,2,FALSE)","v":"Gammaproteobacteria"},{"$f":"VLOOKUP(D407,gi2taxid!A:E,4,FALSE)","v":"gamma proteobacterium HIMB30"}]
["Phaglob357289941","nitrogenase molybdenum iron subunit alpha ","NAD(P)H-nitrite reductase [Desulfomonile tiedjei DSM 6799]","ref|YP_006448668.1|",338,32,72,2E-3,38.1,{"$f":"VLOOKUP(K408,gi2taxid!G:H,2,FALSE)","v":"delta-epsilon_subdivisions"},{"$f":"VLOOKUP(D408,gi2taxid!A:E,4,FALSE)","v":"Desulfomonile tiedjei DSM 6799"}]
["Phaglob357289942","atcv1_z249l ","hypothetical protein EhV398 [Emiliania huxleyi virus 86]","ref|YP_294156.1|",311,31,113,5.0000000000000004E-6,45.8,{"$f":"VLOOKUP(K409,gi2taxid!G:H,2,FALSE)","v":"Phycodnaviridae"},{"$f":"VLOOKUP(D409,gi2taxid!A:E,4,FALSE)","v":"Emiliania huxleyi virus 86"}]
["Phaglob357289943",0,"hypothetical protein HP9810_2g36 [Helicobacter pylori 98-10]","ref|ZP_03439675.1|",432,31,238,2.0000000000000001E-17,85.1,{"$f":"VLOOKUP(K410,gi2taxid!G:H,2,FALSE)","v":"delta-epsilon_subdivisions"},{"$f":"VLOOKUP(D410,gi2taxid!A:E,4,FALSE)","v":"Helicobacter pylori 98-10"}]
["Phaglob357289944","gag pol polyprotein ","hypothetical protein NDAI_0B02000 [Naumovozyma dairenensis CBS 421]","ref|XP_003668478.1|",433,26,80,8.9999999999999993E-3,34.299999999999997,{"$f":"VLOOKUP(K411,gi2taxid!G:H,2,FALSE)","v":"Fungi"},{"$f":"VLOOKUP(D411,gi2taxid!A:E,4,FALSE)","v":"Naumovozyma dairenensis CBS 421"}]
["Phaglob357289945","rcas_0170 ","hypothetical protein DICPUDRAFT_83271 [Dictyostelium purpureum]","ref|XP_003292672.1|",658,28,270,2E-19,92,{"$f":"VLOOKUP(K412,gi2taxid!G:H,2,FALSE)","v":"Mycetozoa"},{"$f":"VLOOKUP(D412,gi2taxid!A:E,4,FALSE)","v":"Dictyostelium purpureum"}]
["Phaglob357289946","outer membrane ","GJ11505 [Drosophila virilis]","ref|XP_002048141.1|",445,28,96,3.0000000000000001E-3,38.1,{"$f":"VLOOKUP(K413,gi2taxid!G:H,2,FALSE)","v":"Metazoa"},{"$f":"VLOOKUP(D413,gi2taxid!A:E,4,FALSE)","v":"Drosophila virilis"}]
["Phaglob357289947",0,"branched chain amino acid ABC transporter substrate-binding protein [Frankia sp. EAN1pec]","ref|YP_001510244.1|",506,28,112,2E-3,37.700000000000003,{"$f":"VLOOKUP(K414,gi2taxid!G:H,2,FALSE)","v":"Actinobacteria"},{"$f":"VLOOKUP(D414,gi2taxid!A:E,4,FALSE)","v":"Frankia sp. EAN1pec"}]
["Phaglob357289948","ttherm_00838990 ","hypothetical protein TTHERM_00838990 [Tetrahymena thermophila]","ref|XP_001025274.1|",357,33,115,1.7999999999999999E-2,37.700000000000003,{"$f":"VLOOKUP(K415,gi2taxid!G:H,2,FALSE)","v":"Ciliophora"},{"$f":"VLOOKUP(D415,gi2taxid!A:E,4,FALSE)","v":"Tetrahymena thermophila"}]
["Phaglob357289949","methyltransferase ","putative methyltransferase [Cafeteria roenbergensis virus BV-PW1]","ref|YP_003969719.1|",207,36,177,9.9999999999999993E-35,125,{"$f":"VLOOKUP(K416,gi2taxid!G:H,2,FALSE)","v":"unclassified_dsDNA_viruses (CroV)"},{"$f":"VLOOKUP(D416,gi2taxid!A:E,4,FALSE)","v":"Cafeteria roenbergensis virus BV-PW1"}]
["Phaglob357289950","u box ","U-box domain-containing protein [Arthroderma gypseum CBS 118893]","ref|XP_003175607.1|",740,24,517,3.0000000000000001E-26,115,{"$f":"VLOOKUP(K417,gi2taxid!G:H,2,FALSE)","v":"Fungi"},{"$f":"VLOOKUP(D417,gi2taxid!A:E,4,FALSE)","v":"Arthroderma gypseum CBS 118893"}]
["Phaglob357289951","penicillin binding 1a ","penicillin-binding protein 1a [Serratia sp. M24T3]","ref|ZP_09969255.1|",851,31,51,1E-3,36.6,{"$f":"VLOOKUP(K418,gi2taxid!G:H,2,FALSE)","v":"Gammaproteobacteria"},{"$f":"VLOOKUP(D418,gi2taxid!A:E,4,FALSE)","v":"Serratia sp. M24T3"}]
["Phaglob357289952",{"$error":"#N/A"},{"$nulls":7},{"$f":"VLOOKUP(K419,gi2taxid!G:H,2,FALSE)","v":{"$error":"#N/A"}},{"$f":"VLOOKUP(D419,gi2taxid!A:E,4,FALSE)","v":{"$error":"#N/A"}}]
["Phaglob357289953",{"$error":"#N/A"},{"$nulls":7},{"$f":"VLOOKUP(K420,gi2taxid!G:H,2,FALSE)","v":{"$error":"#N/A"}},{"$f":"VLOOKUP(D420,gi2taxid!A:E,4,FALSE)","v":{"$error":"#N/A"}}]
["Phaglob357289954","permease ","Putative permease [Ignavibacterium album JCM 16511]","ref|YP_005845944.1|",120,40,109,7.0000000000000003E-16,70.5,{"$f":"VLOOKUP(K421,gi2taxid!G:H,2,FALSE)","v":"Ignavibacteria"},{"$f":"VLOOKUP(D421,gi2taxid!A:E,4,FALSE)","v":"Ignavibacterium album JCM 16511"}]
["Phaglob357289955","methyltransferase type 11 ","predicted protein [Phaeodactylum tricornutum CCAP 1055/1]","ref|XP_002185688.1|",335,34,266,6.9999999999999999E-41,145,{"$f":"VLOOKUP(K422,gi2taxid!G:H,2,FALSE)","v":"Bacillariophyta"},{"$f":"VLOOKUP(D422,gi2taxid!A:E,4,FALSE)","v":"Phaeodactylum tricornutum CCAP 1055/1"}]
["Phaglob357289956","2og fe ii oxygenase ","2OG-Fe(II) oxygenase family protein [Ostreococcus tauri virus 2]","ref|YP_004063631.1|",204,25,212,1.9999999999999999E-11,60.8,{"$f":"VLOOKUP(K423,gi2taxid!G:H,2,FALSE)","v":"Phycodnaviridae"},{"$f":"VLOOKUP(D423,gi2taxid!A:E,4,FALSE)","v":"Ostreococcus tauri virus 2"}]
["Phaglob357289957","prolyl 4 hydroxylase subunit alpha ","hypothetical protein SSSM7_132 [Synechococcus phage S-SSM7]","ref|YP_004324185.1|",204,32,203,5.9999999999999999E-19,82.4,{"$f":"VLOOKUP(K424,gi2taxid!G:H,2,FALSE)","v":"Caudovirales"},{"$f":"VLOOKUP(D424,gi2taxid!A:E,4,FALSE)","v":"Synechococcus phage S-SSM7"}]
["Phaglob357289958","trna ile lysidine synthetase ","predicted protein [Ostreococcus lucimarinus CCE9901]","ref|XP_001416626.1|",714,38,293,9.9999999999999992E-66,223,{"$f":"VLOOKUP(K425,gi2taxid!G:H,2,FALSE)","v":"Chlorophyta"},{"$f":"VLOOKUP(D425,gi2taxid!A:E,4,FALSE)","v":"Ostreococcus lucimarinus CCE9901"}]
["Phaglob357289959","dnaj subfamily b 8 ","PREDICTED: dnaJ homolog subfamily B member 2-like [Metaseiulus occidentalis]","ref|XP_003740296.1|",301,59,68,8.9999999999999997E-22,90.5,{"$f":"VLOOKUP(K426,gi2taxid!G:H,2,FALSE)","v":"Metazoa"},{"$f":"VLOOKUP(D426,gi2taxid!A:E,4,FALSE)","v":"Metaseiulus occidentalis"}]
["Phaglob357289960","had superfamily hydrolase ","hypothetical protein FR483_N014L [Paramecium bursaria Chlorella virus FR483]","ref|YP_001425646.1|",119,23,79,4.0000000000000003E-5,39.299999999999997,{"$f":"VLOOKUP(K427,gi2taxid!G:H,2,FALSE)","v":"Phycodnaviridae"},{"$f":"VLOOKUP(D427,gi2taxid!A:E,4,FALSE)","v":"Paramecium bursaria Chlorella virus FR483"}]
["Phaglob357289961","giy yig catalytic ","hypothetical protein SORBIDRAFT_08g001060 [Sorghum bicolor]","ref|XP_002441709.1|",163,41,81,5.9999999999999997E-14,65.900000000000006,{"$f":"VLOOKUP(K428,gi2taxid!G:H,2,FALSE)","v":"Streptophyta"},{"$f":"VLOOKUP(D428,gi2taxid!A:E,4,FALSE)","v":"Sorghum bicolor"}]
["Phaglob357289962",{"$error":"#N/A"},{"$nulls":7},{"$f":"VLOOKUP(K429,gi2taxid!G:H,2,FALSE)","v":{"$error":"#N/A"}},{"$f":"VLOOKUP(D429,gi2taxid!A:E,4,FALSE)","v":{"$error":"#N/A"}}]
["Phaglob357289963","clug_01212 ","hypothetical protein CLUG_01212 [Clavispora lusitaniae ATCC 42720]","ref|XP_002617753.1|",251,25,120,4.0000000000000001E-3,37.700000000000003,{"$f":"VLOOKUP(K430,gi2taxid!G:H,2,FALSE)","v":"Fungi"},{"$f":"VLOOKUP(D430,gi2taxid!A:E,4,FALSE)","v":"Clavispora lusitaniae ATCC 42720"}]
["Phaglob357289964","volcadraft_106491 ","hypothetical protein SGR_231 [Streptomyces griseus subsp. griseus NBRC 13350]","ref|YP_001821743.1|",2431,30,104,2E-3,38.5,{"$f":"VLOOKUP(K431,gi2taxid!G:H,2,FALSE)","v":"Actinobacteria"},{"$f":"VLOOKUP(D431,gi2taxid!A:E,4,FALSE)","v":"Streptomyces griseus subsp. griseus NBRC 13350"}]
["Phaglob357289965",0,"hypothetical protein [Bacteriovorax marinus SJ]","ref|YP_005035551.1|",1459,26,152,1.4E-2,37.4,{"$f":"VLOOKUP(K432,gi2taxid!G:H,2,FALSE)","v":"delta-epsilon_subdivisions"},{"$f":"VLOOKUP(D432,gi2taxid!A:E,4,FALSE)","v":"Bacteriovorax marinus SJ"}]
["Phaglob357289966","apg7 ubiquitin activating enzyme e1 ","hypothetical protein [Cryptosporidium hominis TU502]","ref|XP_666984.1|",569,38,34,4.4999999999999998E-2,31.2,{"$f":"VLOOKUP(K433,gi2taxid!G:H,2,FALSE)","v":"Apicomplexa"},{"$f":"VLOOKUP(D433,gi2taxid!A:E,4,FALSE)","v":"Cryptosporidium hominis TU502"}]
["Phaglob357289967",0,"predicted protein [Nectria haematococca mpVI 77-13-4]","ref|XP_003051222.1|",651,31,54,8.0000000000000002E-3,36.6,{"$f":"VLOOKUP(K434,gi2taxid!G:H,2,FALSE)","v":"Fungi"},{"$f":"VLOOKUP(D434,gi2taxid!A:E,4,FALSE)","v":"Nectria haematococca mpVI 77-13-4"}]
["Phaglob357289968","atp dependent dna helicase pif1 ","PREDICTED: ATP-dependent DNA helicase PIF1-like [Metaseiulus occidentalis]","ref|XP_003739954.1|",606,36,448,7.0000000000000003E-69,233,{"$f":"VLOOKUP(K435,gi2taxid!G:H,2,FALSE)","v":"Metazoa"},{"$f":"VLOOKUP(D435,gi2taxid!A:E,4,FALSE)","v":"Metaseiulus occidentalis"}]
["Phaglob357289969","adenine specific dna methyltransferase type ii ","DNA methylase [Spiroplasma melliferum KC3]","ref|ZP_09195774.1|",249,48,275,6.9999999999999997E-75,233,{"$f":"VLOOKUP(K436,gi2taxid!G:H,2,FALSE)","v":"Mollicutes"},{"$f":"VLOOKUP(D436,gi2taxid!A:E,4,FALSE)","v":"Spiroplasma melliferum KC3"}]
["Phaglob357289970","o antigen polymerase ","predicted protein [Naegleria gruberi]","ref|XP_002672593.1|",130,29,119,5.0000000000000001E-9,51.6,{"$f":"VLOOKUP(K437,gi2taxid!G:H,2,FALSE)","v":"Schizopyrenida"},{"$f":"VLOOKUP(D437,gi2taxid!A:E,4,FALSE)","v":"Naegleria gruberi strain NEG-M"}]
["Phaglob357289971",0,"conserved hypothetical protein [Citreicella sp. SE45]","ref|ZP_05782185.1|",315,29,85,2.3E-2,34.700000000000003,{"$f":"VLOOKUP(K438,gi2taxid!G:H,2,FALSE)","v":"Alphaproteobacteria"},{"$f":"VLOOKUP(D438,gi2taxid!A:E,4,FALSE)","v":"Citreicella sp. SE45"}]
["Phaglob357289972","slit 1 ","PREDICTED: slit homolog 1 protein-like, partial [Strongylocentrotus purpuratus]","ref|XP_791547.2|",768,30,40,0.01,33.5,{"$f":"VLOOKUP(K439,gi2taxid!G:H,2,FALSE)","v":"Metazoa"},{"$f":"VLOOKUP(D439,gi2taxid!A:E,4,FALSE)","v":"Strongylocentrotus purpuratus"}]
["Phaglob357289973","ttherm_00161160 ","zinc finger imprinted 3 [Culex quinquefasciatus]","ref|XP_001862549.1|",630,41,44,2E-3,40.799999999999997,{"$f":"VLOOKUP(K440,gi2taxid!G:H,2,FALSE)","v":"Metazoa"},{"$f":"VLOOKUP(D440,gi2taxid!A:E,4,FALSE)","v":"Culex quinquefasciatus"}]

{"sheet":"OLPV1","index":1,"n_rows":402,"n_cols":11,"rows_kept":402,"cut":false,"hidden":false,"merged":[]}
["query","consensus annotation by first10 refseq hits","best refseq hit ann","gi","hit_len","%id","aln_len","e_val","bit_score"]
["OLPV1_322510472","exonuclease","putative ATP-dependent nuclease [Feldmannia species virus]","ref|YP_002154742.1|",251,38,227,2.0000000000000002E-43,150,{"$f":"VLOOKUP(K2,gi2taxid!G:H,2,FALSE)","v":"Phycodnaviridae"},{"$f":"VLOOKUP(D2,gi2taxid!A:E,4,FALSE)","v":"Feldmannia species virus"}]
["OLPV1_322510473","ssph1","leucine-rich repeat protein [Salmonella enterica subsp. enterica serovar Javiana str. GA_MM04042433]","ref|ZP_03221768.1|",516,42,139,1.9999999999999998E-21,93.2,{"$f":"VLOOKUP(K3,gi2taxid!G:H,2,FALSE)","v":"Gammaproteobacteria"},{"$f":"VLOOKUP(D3,gi2taxid!A:E,4,FALSE)","v":"Salmonella enterica subsp. enterica serovar Javiana str. GA_MM04042433"}]
["OLPV1_322510474",0,"hypothetical protein Shal_0856 [Shewanella halifaxensis HAW-EB4]","ref|YP_001673090.1|",196,33,92,8.0000000000000005E-9,53.5,{"$f":"VLOOKUP(K4,gi2taxid!G:H,2,FALSE)","v":"Gammaproteobacteria"},{"$f":"VLOOKUP(D4,gi2taxid!A:E,4,FALSE)","v":"Shewanella halifaxensis HAW-EB4"}]
["OLPV1_322510475","sulfotransferase cytosolic 1c 1","sulfotransferase [Chromohalobacter salexigens DSM 3043]","ref|YP_574037.1|",1415,23,222,1.9999999999999999E-7,51.2,{"$f":"VLOOKUP(K5,gi2taxid!G:H,2,FALSE)","v":"Gammaproteobacteria"},{"$f":"VLOOKUP(D5,gi2taxid!A:E,4,FALSE)","v":"Chromohalobacter salexigens DSM 3043"}]
["OLPV1_322510476","ribosomal alanine acetyltransferase","transcriptional regulator [Hirschia baltica ATCC 49814]","ref|YP_003060599.1|",233,31,70,2E-3,37,{"$f":"VLOOKUP(K6,gi2taxid!G:H,2,FALSE)","v":"Alphaproteobacteria"},{"$f":"VLOOKUP(D6,gi2taxid!A:E,4,FALSE)","v":"Hirschia baltica ATCC 49814"}]
["OLPV1_322510477","agap008698 pa","hypothetical protein M301_2438 [Methylotenera versatilis 301]","ref|YP_003675377.1|",105,38,50,2.9999999999999997E-4,36.200000000000003,{"$f":"VLOOKUP(K7,gi2taxid!G:H,2,FALSE)","v":"Betaproteobacteria"},{"$f":"VLOOKUP(D7,gi2taxid!A:E,4,FALSE)","v":"Methylotenera versatilis 301"}]
["OLPV1_322510478",0,"kinesin heavy chain, putative [Perkinsus marinus ATCC 50983]","ref|XP_002768828.1|",963,39,67,1.2E-2,37,{"$f":"VLOOKUP(K8,gi2taxid!G:H,2,FALSE)","v":"Perkinsea"},{"$f":"VLOOKUP(D8,gi2taxid!A:E,4,FALSE)","v":"Perkinsus marinus ATCC 50983"}]
["OLPV1_322510479","translation initiation inhibitor","conserved domain protein [gamma proteobacterium NOR5-3]","ref|ZP_05126124.1|",947,36,64,6.0000000000000001E-3,34.700000000000003,{"$f":"VLOOKUP(K9,gi2taxid!G:H,2,FALSE)","v":"Gammaproteobacteria"},{"$f":"VLOOKUP(D9,gi2taxid!A:E,4,FALSE)","v":"gamma proteobacterium NOR5-3"}]
["OLPV1_322510480","fad dependent thymidylate synthase","FAD-dependent thymidylate synthase [Gluconacetobacter europaeus LMG 18494]","ref|ZP_08902175.1|",210,60,191,9.0000000000000006E-80,241,{"$f":"VLOOKUP(K10,gi2taxid!G:H,2,FALSE)","v":"Alphaproteobacteria"},{"$f":"VLOOKUP(D10,gi2taxid!A:E,4,FALSE)","v":"Gluconacetobacter europaeus LMG 18494"}]
["OLPV1_322510481","cytochrome b subunit bc complex","cytochrome b subunit of the bc complex [Leptothrix ochracea L12]","ref|ZP_10184974.1|",212,31,118,5.0000000000000001E-3,36.6,{"$f":"VLOOKUP(K11,gi2taxid!G:H,2,FALSE)","v":"Betaproteobacteria"},{"$f":"VLOOKUP(D11,gi2taxid!A:E,4,FALSE)","v":"Leptothrix ochracea L12"}]
["OLPV1_322510482","cell surface glycoprotein","outer membrane autotransporter barrel domain-containing protein [Rhodobacter capsulatus SB 1003]","ref|YP_003577476.1|",1565,32,466,1E-25,115,{"$f":"VLOOKUP(K12,gi2taxid!G:H,2,FALSE)","v":"Alphaproteobacteria"},{"$f":"VLOOKUP(D12,gi2taxid!A:E,4,FALSE)","v":"Rhodobacter capsulatus SB 1003"}]
["OLPV1_322510483","aasi_1101","hypothetical protein Mcup_1542 [Metallosphaera cuprina Ar-4]","ref|YP_004410129.1|",269,38,120,5E-15,76.3,{"$f":"VLOOKUP(K13,gi2taxid!G:H,2,FALSE)","v":"Thermoprotei"},{"$f":"VLOOKUP(D13,gi2taxid!A:E,4,FALSE)","v":"Metallosphaera cuprina Ar-4"}]
["OLPV1_322510484","heat shock 70 kda","heat shock 70 kDa protein [Phytophthora infestans T30-4]","ref|XP_002902008.1|",653,68,648,0,884,{"$f":"VLOOKUP(K14,gi2taxid!G:H,2,FALSE)","v":"Oomycetes"},{"$f":"VLOOKUP(D14,gi2taxid!A:E,4,FALSE)","v":"Phytophthora infestans T30-4"}]
["OLPV1_322510485","type 11 methyltransferase","hypothetical protein SOD_a03190 [Serratia odorifera 4Rx13]","ref|ZP_06189367.1|",1152,31,205,3.9999999999999998E-20,96.3,{"$f":"VLOOKUP(K15,gi2taxid!G:H,2,FALSE)","v":"Gammaproteobacteria"},{"$f":"VLOOKUP(D15,gi2taxid!A:E,4,FALSE)","v":"Serratia odorifera 4Rx13"}]
["OLPV1_322510486","dead deah box helicase","DEAD/DEAH box helicase domain protein [Candidatus Nitrosoarchaeum koreensis MY1]","ref|ZP_08668492.1|",836,24,115,2.8000000000000001E-2,36.6,{"$f":"VLOOKUP(K16,gi2taxid!G:H,2,FALSE)","v":"Nitrosopumilales"},{"$f":"VLOOKUP(D16,gi2taxid!A:E,4,FALSE)","v":"Candidatus Nitrosoarchaeum koreensis MY1"}]
["OLPV1_322510487","filamentous hemagglutinin outer membrane","hypothetical protein FB2170_16626 [Maribacter sp. HTCC2170]","ref|YP_003860762.1|",1431,45,93,3E-10,63.9,{"$f":"VLOOKUP(K17,gi2taxid!G:H,2,FALSE)","v":"Bacteroidetes"},{"$f":"VLOOKUP(D17,gi2taxid!A:E,4,FALSE)","v":"Maribacter sp. HTCC2170"}]
["OLPV1_322510488",0,"PREDICTED: vascular endothelial zinc finger 1-like [Anolis carolinensis]","ref|XP_003230463.1|",192,28,60,6.9999999999999994E-5,39.700000000000003,{"$f":"VLOOKUP(K18,gi2taxid!G:H,2,FALSE)","v":"Metazoa"},{"$f":"VLOOKUP(D18,gi2taxid!A:E,4,FALSE)","v":"Anolis carolinensis"}]
["OLPV1_322510489",0,"hypothetical protein [Streptosporangium roseum DSM 43021]","ref|YP_003342547.1|",829,23,342,2.0000000000000001E-27,115,{"$f":"VLOOKUP(K19,gi2taxid!G:H,2,FALSE)","v":"Actinobacteria"},{"$f":"VLOOKUP(D19,gi2taxid!A:E,4,FALSE)","v":"Streptosporangium roseum DSM 43021"}]
["OLPV1_322510490","aspartyl glutamyl trna amidotransferase subunit a","universal stress protein, UspA-like [Burkholderia xenovorans LB400]","ref|YP_559127.1|",317,36,45,7.0000000000000001E-3,36.6,{"$f":"VLOOKUP(K20,gi2taxid!G:H,2,FALSE)","v":"Betaproteobacteria"},{"$f":"VLOOKUP(D20,gi2taxid!A:E,4,FALSE)","v":"Burkholderia xenovorans LB400"}]
["OLPV1_322510491","outer membrane efflux","hypothetical protein EUBIFOR_01805 [Eubacterium biforme DSM 3989]","ref|ZP_03489219.1|",453,24,83,8.0000000000000002E-3,35.4,{"$f":"VLOOKUP(K21,gi2taxid!G:H,2,FALSE)","v":"Erysipelotrichi"},{"$f":"VLOOKUP(D21,gi2taxid!A:E,4,FALSE)","v":"Eubacterium biforme DSM 3989"}]
["OLPV1_322510492","glycosyl transferase 11","fucosyl transferase [Bacteroides fragilis NCTC 9343]","ref|YP_210702.1|",287,33,270,1.0000000000000001E-30,117,{"$f":"VLOOKUP(K22,gi2taxid!G:H,2,FALSE)","v":"Bacteroidetes"},{"$f":"VLOOKUP(D22,gi2taxid!A:E,4,FALSE)","v":"Bacteroides fragilis NCTC 9343"}]
["OLPV1_322510493","exocyst complex component 7 isoform 1","Hypothetical protein CBG10582 [Caenorhabditis briggsae]","ref|XP_002646007.1|",305,32,74,1E-3,39.700000000000003,{"$f":"VLOOKUP(K23,gi2taxid!G:H,2,FALSE)","v":"Metazoa"},{"$f":"VLOOKUP(D23,gi2taxid!A:E,4,FALSE)","v":"Caenorhabditis briggsae"}]
["OLPV1_322510494","glycosyl transferase 25","glycosyl transferase family protein [Methylotenera mobilis JLW8]","ref|YP_003049154.1|",250,30,221,5.9999999999999997E-18,80.5,{"$f":"VLOOKUP(K24,gi2taxid!G:H,2,FALSE)","v":"Betaproteobacteria"},{"$f":"VLOOKUP(D24,gi2taxid!A:E,4,FALSE)","v":"Methylotenera mobilis JLW8"}]
["OLPV1_322510495","beta 1 3 galactosyltransferase 6","PREDICTED: hypothetical protein [Taeniopygia guttata]","ref|XP_002190308.1|",326,21,179,5.9999999999999995E-8,52.4,{"$f":"VLOOKUP(K25,gi2taxid!G:H,2,FALSE)","v":"Metazoa"},{"$f":"VLOOKUP(D25,gi2taxid!A:E,4,FALSE)","v":"Taeniopygia guttata"}]
["OLPV1_322510496","glycosyl transferase group 2","glycosyltransferase involved in LPS biosynthesis [Pantoea sp. YR343]","ref|ZP_10555071.1|",608,30,200,1.0000000000000001E-17,82,{"$f":"VLOOKUP(K26,gi2taxid!G:H,2,FALSE)","v":"Gammaproteobacteria"},{"$f":"VLOOKUP(D26,gi2taxid!A:E,4,FALSE)","v":"Pantoea sp. YR343"}]
["OLPV1_322510497","sod1p","hypothetical protein FR483_N091R [Paramecium bursaria Chlorella virus FR483]","ref|YP_001425723.1|",169,65,154,3.9999999999999998E-67,205,{"$f":"VLOOKUP(K27,gi2taxid!G:H,2,FALSE)","v":"Phycodnaviridae"},{"$f":"VLOOKUP(D27,gi2taxid!A:E,4,FALSE)","v":"Paramecium bursaria Chlorella virus FR483"}]
["OLPV1_322510498","tetratricopeptide tpr_2 repeat","hypothetical protein [Synechococcus elongatus PCC 6301]","ref|YP_172643.1|",218,45,127,9.9999999999999992E-25,102,{"$f":"VLOOKUP(K28,gi2taxid!G:H,2,FALSE)","v":"Chroococcales"},{"$f":"VLOOKUP(D28,gi2taxid!A:E,4,FALSE)","v":"Synechococcus elongatus PCC 6301"}]
["OLPV1_322510499","transposase","conserved hypothetical protein [Leishmania braziliensis MHOM/BR/75/M2904]","ref|XP_001561666.2|",2230,25,135,2.8000000000000001E-2,35,{"$f":"VLOOKUP(K29,gi2taxid!G:H,2,FALSE)","v":"Kinetoplastida"},{"$f":"VLOOKUP(D29,gi2taxid!A:E,4,FALSE)","v":"Leishmania braziliensis MHOM/BR/75/M2904"}]
["OLPV1_322510500","preprotein translocase subunit seca","cell division protein FtsI/penicillin-binding protein 2 [Saccharomonospora glauca K62]","ref|ZP_10013746.1|",637,30,67,6.0000000000000001E-3,37.4,{"$f":"VLOOKUP(K30,gi2taxid!G:H,2,FALSE)","v":"Actinobacteria"},{"$f":"VLOOKUP(D30,gi2taxid!A:E,4,FALSE)","v":"Saccharomonospora glauca K62"}]
["OLPV1_322510501","ribonucleoside diphosphate reductase small chain","predicted protein [Populus trichocarpa]","ref|XP_002298630.1|",329,63,303,1.9999999999999999E-147,422,{"$f":"VLOOKUP(K31,gi2taxid!G:H,2,FALSE)","v":"Streptophyta"},{"$f":"VLOOKUP(D31,gi2taxid!A:E,4,FALSE)","v":"Populus trichocarpa"}]
["OLPV1_322510502","hmpref9536_03286","hypothetical protein KPN2242_01550 [Klebsiella pneumoniae KCTC 2242]","ref|YP_005952799.1|",385,31,61,1.4999999999999999E-2,32.700000000000003,{"$f":"VLOOKUP(K32,gi2taxid!G:H,2,FALSE)","v":"Gammaproteobacteria"},{"$f":"VLOOKUP(D32,gi2taxid!A:E,4,FALSE)","v":"Klebsiella pneumoniae KCTC 2242"}]
["OLPV1_322510503","dna polymerase iii polc type","DNA polymerase III polC-type [Brevibacillus laterosporus LMG 15441]","ref|ZP_08641991.1|",1438,38,40,7.0000000000000001E-3,35.4,{"$f":"VLOOKUP(K33,gi2taxid!G:H,2,FALSE)","v":"Bacilli"},{"$f":"VLOOKUP(D33,gi2taxid!A:E,4,FALSE)","v":"Brevibacillus laterosporus LMG 15441"}]
["OLPV1_322510504","1 acyl sn glycerol 3 phosphate acyltransferase theta","1-acyl-sn-glycerol-3-phosphate acyltransferase theta [Trichinella spiralis]","ref|XP_003376128.1|",645,32,82,1.7000000000000001E-2,35,{"$f":"VLOOKUP(K34,gi2taxid!G:H,2,FALSE)","v":"Metazoa"},{"$f":"VLOOKUP(D34,gi2taxid!A:E,4,FALSE)","v":"Trichinella spiralis"}]
["OLPV1_322510505","agap001220 pa","AGAP001220-PB [Anopheles gambiae str. PEST]","ref|XP_003435779.1|",676,31,59,4.7E-2,31.6,{"$f":"VLOOKUP(K35,gi2taxid!G:H,2,FALSE)","v":"Metazoa"},{"$f":"VLOOKUP(D35,gi2taxid!A:E,4,FALSE)","v":"Anopheles gambiae str. PEST"}]
["OLPV1_322510506","vv a18 helicase","putative VV A18-like helicase [Cafeteria roenbergensis virus BV-PW1]","ref|YP_003969949.1|",477,37,440,4.9999999999999998E-82,265,{"$f":"VLOOKUP(K36,gi2taxid!G:H,2,FALSE)","v":"unclassified_dsDNA_viruses (CroV)"},{"$f":"VLOOKUP(D36,gi2taxid!A:E,4,FALSE)","v":"Cafeteria roenbergensis virus BV-PW1"}]
["OLPV1_322510507","yibe f","conserved hypothetical protein [Eubacterium yurii subsp. margaretiae ATCC 43715]","ref|ZP_07453766.1|",446,36,74,2E-3,37.700000000000003,{"$f":"VLOOKUP(K37,gi2taxid!G:H,2,FALSE)","v":"Clostridia"},{"$f":"VLOOKUP(D37,gi2taxid!A:E,4,FALSE)","v":"Eubacterium yurii subsp. margaretiae ATCC 43715"}]
["OLPV1_322510508","dna repair radc","hypothetical protein HMPREF9454_01064 [Megamonas funiformis YIT 11815]","ref|ZP_09732453.1|",225,34,71,6.9999999999999999E-4,40.799999999999997,{"$f":"VLOOKUP(K38,gi2taxid!G:H,2,FALSE)","v":"Negativicutes"},{"$f":"VLOOKUP(D38,gi2taxid!A:E,4,FALSE)","v":"Megamonas funiformis YIT 11815"}]
["OLPV1_322510509","magnesium transporter","mgtE2 gene product [Desulfobacterium autotrophicum HRM2]","ref|YP_002604070.1|",454,35,51,1E-3,36.6,{"$f":"VLOOKUP(K39,gi2taxid!G:H,2,FALSE)","v":"delta-epsilon_subdivisions"},{"$f":"VLOOKUP(D39,gi2taxid!A:E,4,FALSE)","v":"Desulfobacterium autotrophicum HRM2"}]
["OLPV1_322510510","udp glucose 6 dehydrogenase","UDP-glucose 6-dehydrogenase [Clostridium botulinum E3 str. Alaska E43]","ref|YP_001922493.1|",438,29,130,8.0000000000000002E-3,38.9,{"$f":"VLOOKUP(K40,gi2taxid!G:H,2,FALSE)","v":"Clostridia"},{"$f":"VLOOKUP(D40,gi2taxid!A:E,4,FALSE)","v":"Clostridium botulinum E3 str. Alaska E43"}]
["OLPV1_322510511","uncharacterized k02a2.6","hypothetical protein crov400 [Cafeteria roenbergensis virus BV-PW1]","ref|YP_003970033.1|",359,31,61,4.0000000000000001E-3,39.700000000000003,{"$f":"VLOOKUP(K41,gi2taxid!G:H,2,FALSE)","v":"unclassified_dsDNA_viruses (CroV)"},{"$f":"VLOOKUP(D41,gi2taxid!A:E,4,FALSE)","v":"Cafeteria roenbergensis virus BV-PW1"}]
["OLPV1_322510512",0,"hypothetical protein [Paramecium tetraurelia strain d4-2]","ref|XP_001446018.1|",325,32,204,2.0000000000000001E-18,82.4,{"$f":"VLOOKUP(K42,gi2taxid!G:H,2,FALSE)","v":"Ciliophora"},{"$f":"VLOOKUP(D42,gi2taxid!A:E,4,FALSE)","v":"Paramecium tetraurelia strain d4-2"}]
["OLPV1_322510513",0,"hypothetical protein BC1G_09303 [Botryotinia fuckeliana B05.10]","ref|XP_001552139.1|",805,30,124,8.0000000000000007E-5,42.7,{"$f":"VLOOKUP(K43,gi2taxid!G:H,2,FALSE)","v":"Fungi"},{"$f":"VLOOKUP(D43,gi2taxid!A:E,4,FALSE)","v":"Botryotinia fuckeliana B05.10"}]
["OLPV1_322510514","surface lpxtg motif cell wall anchor","Receptor protein kinase-like protein [Medicago truncatula]","ref|XP_003596117.1|",953,26,226,1.9999999999999999E-6,50.1,{"$f":"VLOOKUP(K44,gi2taxid!G:H,2,FALSE)","v":"Streptophyta"},{"$f":"VLOOKUP(D44,gi2taxid!A:E,4,FALSE)","v":"Medicago truncatula"}]
["OLPV1_322510515","dead deah box helicase","putative superfamily II RNA helicase [Cafeteria roenbergensis virus BV-PW1]","ref|YP_003970015.1|",772,32,791,1.9999999999999999E-102,336,{"$f":"VLOOKUP(K45,gi2taxid!G:H,2,FALSE)","v":"unclassified_dsDNA_viruses (CroV)"},{"$f":"VLOOKUP(D45,gi2taxid!A:E,4,FALSE)","v":"Cafeteria roenbergensis virus BV-PW1"}]
["OLPV1_322510516","ribonuclease r","hypothetical protein COLSTE_00706 [Collinsella stercoris DSM 13279]","ref|ZP_03296821.1|",732,23,299,2.0000000000000001E-10,63.2,{"$f":"VLOOKUP(K46,gi2taxid!G:H,2,FALSE)","v":"Actinobacteria"},{"$f":"VLOOKUP(D46,gi2taxid!A:E,4,FALSE)","v":"Collinsella stercoris DSM 13279"}]
["OLPV1_322510517","provalcal_00242","hypothetical protein Lepil_3595 [Leptonema illini DSM 21528]","ref|ZP_09660489.1|",312,23,111,2.3E-2,35,{"$f":"VLOOKUP(K47,gi2taxid!G:H,2,FALSE)","v":"Spirochaetia"},{"$f":"VLOOKUP(D47,gi2taxid!A:E,4,FALSE)","v":"Leptonema illini DSM 21528"}]
["OLPV1_322510518","2 reductase","2-dehydropantoate 2-reductase [Salmonella enterica subsp. enterica serovar Typhi str. J185]","ref|ZP_03379456.1|",267,25,91,4.0000000000000003E-5,42,{"$f":"VLOOKUP(K48,gi2taxid!G:H,2,FALSE)","v":"Gammaproteobacteria"},{"$f":"VLOOKUP(D48,gi2taxid!A:E,4,FALSE)","v":"Salmonella enterica subsp. enterica serovar Typhi str. J185"}]
["OLPV1_322510519","firmicute fructose 1 6 bisphosphatase","glycosyl transferase family protein [Bacteroides vulgatus ATCC 8482]","ref|YP_001301243.1|",371,31,78,1E-3,37.700000000000003,{"$f":"VLOOKUP(K49,gi2taxid!G:H,2,FALSE)","v":"Bacteroidetes"},{"$f":"VLOOKUP(D49,gi2taxid!A:E,4,FALSE)","v":"Bacteroides vulgatus ATCC 8482"}]
["OLPV1_322510520","gf24467","GF24467 [Drosophila ananassae]","ref|XP_001956670.1|",1744,22,179,4.0000000000000001E-3,38.9,{"$f":"VLOOKUP(K50,gi2taxid!G:H,2,FALSE)","v":"Metazoa"},{"$f":"VLOOKUP(D50,gi2taxid!A:E,4,FALSE)","v":"Drosophila ananassae"}]
["OLPV1_322510521",0,"hypothetical protein [Shewanella violacea DSS12]","ref|YP_003557121.1|",380,48,25,3.0000000000000001E-3,35,{"$f":"VLOOKUP(K51,gi2taxid!G:H,2,FALSE)","v":"Gammaproteobacteria"},{"$f":"VLOOKUP(D51,gi2taxid!A:E,4,FALSE)","v":"Shewanella violacea DSS12"}]
["OLPV1_322510522","lipoate ligase a","mg597 gene product [Megavirus chiliensis]","ref|YP_004894648.1|",172,36,56,9.9999999999999995E-7,43.9,{"$f":"VLOOKUP(K52,gi2taxid!G:H,2,FALSE)","v":"Mimiviridae"},{"$f":"VLOOKUP(D52,gi2taxid!A:E,4,FALSE)","v":"Megavirus chiliensis"}]
["OLPV1_322510523","triaddraft_58090","PREDICTED: hypothetical protein LOC100118913 [Nasonia vitripennis]","ref|XP_001602778.2|",725,27,88,3.0000000000000001E-3,36.6,{"$f":"VLOOKUP(K53,gi2taxid!G:H,2,FALSE)","v":"Metazoa"},{"$f":"VLOOKUP(D53,gi2taxid!A:E,4,FALSE)","v":"Nasonia vitripennis"}]
["OLPV1_322510524","os11g0172133","membrane protein [Streptococcus uberis 0140J]","ref|YP_002562308.1|",64,44,43,1.2E-2,31.6,{"$f":"VLOOKUP(K54,gi2taxid!G:H,2,FALSE)","v":"Bacilli"},{"$f":"VLOOKUP(D54,gi2taxid!A:E,4,FALSE)","v":"Streptococcus uberis 0140J"}]
["OLPV1_322510525","abc multidrug transporter atp binding","metallophosphoesterase domain-containing protein [Dictyostelium discoideum AX4]","ref|XP_640317.1|",446,23,115,8.0000000000000002E-3,36.200000000000003,{"$f":"VLOOKUP(K55,gi2taxid!G:H,2,FALSE)","v":"Mycetozoa"},{"$f":"VLOOKUP(D55,gi2taxid!A:E,4,FALSE)","v":"Dictyostelium discoideum AX4"}]
["OLPV1_322510526","zinc finger lsd1 subclass","efflux ABC transporter, permease protein [Anaerococcus hydrogenalis ACS-025-V-Sch4]","ref|ZP_08169455.1|",363,29,65,1.7999999999999999E-2,33.1,{"$f":"VLOOKUP(K56,gi2taxid!G:H,2,FALSE)","v":"Clostridia"},{"$f":"VLOOKUP(D56,gi2taxid!A:E,4,FALSE)","v":"Anaerococcus hydrogenalis ACS-025-V-Sch4"}]
["OLPV1_322510527",{"$error":"#N/A"},{"$nulls":7},{"$f":"VLOOKUP(K57,gi2taxid!G:H,2,FALSE)","v":{"$error":"#N/A"}},{"$f":"VLOOKUP(D57,gi2taxid!A:E,4,FALSE)","v":{"$error":"#N/A"}}]
["OLPV1_322510528","transposase","hypothetical protein N9414_16901 [Nodularia spumigena CCY9414]","ref|ZP_01630236.1|",605,28,116,4.0000000000000002E-4,42.7,{"$f":"VLOOKUP(K58,gi2taxid!G:H,2,FALSE)","v":"Nostocales"},{"$f":"VLOOKUP(D58,gi2taxid!A:E,4,FALSE)","v":"Nodularia spumigena CCY9414"}]
["OLPV1_322510529","dna directed rna polymerase ii subunit d","DNA-directed RNA polymerase II subunit [Entamoeba histolytica HM-1:IMSS]","ref|XP_651491.1|",283,25,203,3.9999999999999998E-11,63.5,{"$f":"VLOOKUP(K59,gi2taxid!G:H,2,FALSE)","v":"Archamoebae"},{"$f":"VLOOKUP(D59,gi2taxid!A:E,4,FALSE)","v":"Entamoeba histolytica HM-1:IMSS"}]
["OLPV1_322510530","accm5_28428","hypothetical protein [Paramecium tetraurelia strain d4-2]","ref|XP_001433374.1|",480,29,98,3.0000000000000001E-3,38.1,{"$f":"VLOOKUP(K60,gi2taxid!G:H,2,FALSE)","v":"Ciliophora"},{"$f":"VLOOKUP(D60,gi2taxid!A:E,4,FALSE)","v":"Paramecium tetraurelia strain d4-2"}]
["OLPV1_322510531","atp dependent clp protease ","ATP-dependent Clp protease, ATP-binding subunit ClpX [Actinomyces odontolyticus F0309]","ref|ZP_06608371.1|",419,34,41,3.0000000000000001E-3,36.200000000000003,{"$f":"VLOOKUP(K61,gi2taxid!G:H,2,FALSE)","v":"Actinobacteria"},{"$f":"VLOOKUP(D61,gi2taxid!A:E,4,FALSE)","v":"Actinomyces odontolyticus F0309"}]
["OLPV1_322510532",{"$error":"#N/A"},{"$nulls":7},{"$f":"VLOOKUP(K62,gi2taxid!G:H,2,FALSE)","v":{"$error":"#N/A"}},{"$f":"VLOOKUP(D62,gi2taxid!A:E,4,FALSE)","v":{"$error":"#N/A"}}]
["OLPV1_322510533","ny2a_b559l","hypothetical protein OtV2_093 [Ostreococcus tauri virus 2]","ref|YP_004063526.1|",221,25,210,8.9999999999999995E-15,70.900000000000006,{"$f":"VLOOKUP(K63,gi2taxid!G:H,2,FALSE)","v":"Phycodnaviridae"},{"$f":"VLOOKUP(D63,gi2taxid!A:E,4,FALSE)","v":"Ostreococcus tauri virus 2"}]
["OLPV1_322510534","pyridine nucleotide disulfide oxidoreductase 2","hypothetical protein Aeh1p175 [Aeromonas phage Aeh1]","ref|NP_944053.1|",125,33,98,2E-3,37.4,{"$f":"VLOOKUP(K64,gi2taxid!G:H,2,FALSE)","v":"Caudovirales"},{"$f":"VLOOKUP(D64,gi2taxid!A:E,4,FALSE)","v":"Aeromonas phage Aeh1"}]
["OLPV1_322510535","glyoxalase bleomycin resistance dioxygenase","glyoxalase/bleomycin resistance protein/dioxygenase [Streptomyces chartreusis NRRL 12338]","ref|ZP_09957217.1|",123,31,62,3.0000000000000001E-3,36.200000000000003,{"$f":"VLOOKUP(K65,gi2taxid!G:H,2,FALSE)","v":"Actinobacteria"},{"$f":"VLOOKUP(D65,gi2taxid!A:E,4,FALSE)","v":"Streptomyces chartreusis NRRL 12338"}]
["OLPV1_322510536",0,"hypothetical protein crov185 [Cafeteria roenbergensis virus BV-PW1]","ref|YP_003969817.1|",869,28,204,6.0000000000000002E-6,49.7,{"$f":"VLOOKUP(K66,gi2taxid!G:H,2,FALSE)","v":"unclassified_dsDNA_viruses (CroV)"},{"$f":"VLOOKUP(D66,gi2taxid!A:E,4,FALSE)","v":"Cafeteria roenbergensis virus BV-PW1"}]
["OLPV1_322510537","replication factor c small subunit","replication factor C small subunit [Ignicoccus hospitalis KIN4/I]","ref|YP_001435882.1|",329,36,154,9.0000000000000003E-20,86.3,{"$f":"VLOOKUP(K67,gi2taxid!G:H,2,FALSE)","v":"Thermoprotei"},{"$f":"VLOOKUP(D67,gi2taxid!A:E,4,FALSE)","v":"Ignicoccus hospitalis KIN4/I"}]
["OLPV1_322510538",0,"hypothetical protein BpV1_091c [Bathycoccus sp. RCC1105 virus BpV1]","ref|YP_004061521.1|",296,26,309,7.0000000000000004E-25,103,{"$f":"VLOOKUP(K68,gi2taxid!G:H,2,FALSE)","v":"Phycodnaviridae"},{"$f":"VLOOKUP(D68,gi2taxid!A:E,4,FALSE)","v":"Bathycoccus sp. RCC1105 virus BpV1"}]
["OLPV1_322510539","protoheme ix farnesyltransferase","hypothetical protein SE2234 [Staphylococcus epidermidis ATCC 12228]","ref|NP_765789.1|",58,38,29,8.0000000000000002E-3,32,{"$f":"VLOOKUP(K69,gi2taxid!G:H,2,FALSE)","v":"Bacilli"},{"$f":"VLOOKUP(D69,gi2taxid!A:E,4,FALSE)","v":"Staphylococcus epidermidis ATCC 12228"}]
["OLPV1_322510540","serine threonine kinase haspin c23c4.03","phosphotransferase [Singapore grouper iridovirus]","ref|YP_164245.1|",508,31,109,4.9999999999999998E-8,53.9,{"$f":"VLOOKUP(K70,gi2taxid!G:H,2,FALSE)","v":"Iridoviridae"},{"$f":"VLOOKUP(D70,gi2taxid!A:E,4,FALSE)","v":"Singapore grouper iridovirus"}]
["OLPV1_322510541","glycosyl transferase cpoa","ribonucleotide reductase of class Ib (aerobic) subunit alpha [Streptococcus macedonicus ACA-DC 198]","ref|YP_005094193.1|",718,42,48,8.9999999999999993E-3,38.1,{"$f":"VLOOKUP(K71,gi2taxid!G:H,2,FALSE)","v":"Bacilli"},{"$f":"VLOOKUP(D71,gi2taxid!A:E,4,FALSE)","v":"Streptococcus macedonicus ACA-DC 198"}]
["OLPV1_322510542","vv a32 packaging atpase","hypothetical protein MpV1_092c [Micromonas sp. RCC1109 virus MpV1]","ref|YP_004061975.1|",275,43,277,8.9999999999999999E-83,254,{"$f":"VLOOKUP(K72,gi2taxid!G:H,2,FALSE)","v":"Phycodnaviridae"},{"$f":"VLOOKUP(D72,gi2taxid!A:E,4,FALSE)","v":"Micromonas sp. RCC1109 virus MpV1"}]
["OLPV1_322510543","abc transporter atp binding","multidrug resistance protein MsbA [Helicobacter cinaedi CCUG 18818]","ref|ZP_07805503.1|",463,36,214,6.0000000000000003E-36,140,{"$f":"VLOOKUP(K73,gi2taxid!G:H,2,FALSE)","v":"delta-epsilon_subdivisions"},{"$f":"VLOOKUP(D73,gi2taxid!A:E,4,FALSE)","v":"Helicobacter cinaedi CCUG 18818"}]
["OLPV1_322510544","serine threonine kinase nek6","PREDICTED: hypothetical protein LOC497165 [Danio rerio]","ref|XP_003200870.1|",2265,22,152,3.0000000000000001E-3,41.2,{"$f":"VLOOKUP(K74,gi2taxid!G:H,2,FALSE)","v":"Metazoa"},{"$f":"VLOOKUP(D74,gi2taxid!A:E,4,FALSE)","v":"Danio rerio"}]
["OLPV1_322510545","thite_2107066","predicted protein [Phaeodactylum tricornutum CCAP 1055/1]","ref|XP_002181515.1|",193,28,123,5.0000000000000001E-9,53.9,{"$f":"VLOOKUP(K75,gi2taxid!G:H,2,FALSE)","v":"Bacillariophyta"},{"$f":"VLOOKUP(D75,gi2taxid!A:E,4,FALSE)","v":"Phaeodactylum tricornutum CCAP 1055/1"}]
["OLPV1_322510546",0,"potential cell surface flocculin [Candida albicans SC5314]","ref|XP_722538.1|",1409,29,85,1.7000000000000001E-2,35,{"$f":"VLOOKUP(K76,gi2taxid!G:H,2,FALSE)","v":"Fungi"},{"$f":"VLOOKUP(D76,gi2taxid!A:E,4,FALSE)","v":"Candida albicans SC5314"}]
["OLPV1_322510547","ercc4","ERCC4-type nuclease [Belliella baltica DSM 15883]","ref|YP_006407354.1|",247,28,206,2E-16,76.599999999999994,{"$f":"VLOOKUP(K77,gi2taxid!G:H,2,FALSE)","v":"Bacteroidetes"},{"$f":"VLOOKUP(D77,gi2taxid!A:E,4,FALSE)","v":"Belliella baltica DSM 15883"}]
["OLPV1_322510548","ribonuclease iii","mg559 gene product [Megavirus chiliensis]","ref|YP_004894610.1|",542,30,283,3.0000000000000001E-27,111,{"$f":"VLOOKUP(K78,gi2taxid!G:H,2,FALSE)","v":"Mimiviridae"},{"$f":"VLOOKUP(D78,gi2taxid!A:E,4,FALSE)","v":"Megavirus chiliensis"}]
["OLPV1_322510549","d6 d11 helicase","putative superfamily II helicase/VV D11-like transcription factor [Cafeteria roenbergensis virus BV-PW1]","ref|YP_003969763.1|",570,26,659,7.9999999999999998E-47,175,{"$f":"VLOOKUP(K79,gi2taxid!G:H,2,FALSE)","v":"unclassified_dsDNA_viruses (CroV)"},{"$f":"VLOOKUP(D79,gi2taxid!A:E,4,FALSE)","v":"Cafeteria roenbergensis virus BV-PW1"}]
["OLPV1_322510550","joomadraft_0184","PREDICTED: similar to predicted protein [Hydra magnipapillata]","ref|XP_002155132.1|",735,25,193,1.4E-2,37.700000000000003,{"$f":"VLOOKUP(K80,gi2taxid!G:H,2,FALSE)","v":"Metazoa"},{"$f":"VLOOKUP(D80,gi2taxid!A:E,4,FALSE)","v":"Hydra magnipapillata"}]
["OLPV1_322510551","multidrug transmembrane resistance signal peptide","putative multidrug transmembrane resistance signal peptide protein [Vibrio sp. AND4]","ref|ZP_02196064.1|",127,39,44,2E-3,33.9,{"$f":"VLOOKUP(K81,gi2taxid!G:H,2,FALSE)","v":"Gammaproteobacteria"},{"$f":"VLOOKUP(D81,gi2taxid!A:E,4,FALSE)","v":"Vibrio sp. AND4"}]
["OLPV1_322510552","dna directed rna polymerase ii","mg519 gene product [Megavirus chiliensis]","ref|YP_004894570.1|",199,26,95,8.9999999999999999E-8,49.7,{"$f":"VLOOKUP(K82,gi2taxid!G:H,2,FALSE)","v":"Mimiviridae"},{"$f":"VLOOKUP(D82,gi2taxid!A:E,4,FALSE)","v":"Megavirus chiliensis"}]
["OLPV1_322510553","rna binding","hypothetical protein [Acanthamoeba polyphaga mimivirus]","ref|YP_003986883.1|",195,31,59,2.0000000000000001E-4,38.1,{"$f":"VLOOKUP(K83,gi2taxid!G:H,2,FALSE)","v":"Mimiviridae"},{"$f":"VLOOKUP(D83,gi2taxid!A:E,4,FALSE)","v":"Acanthamoeba polyphaga mimivirus"}]
["OLPV1_322510554","arac transcriptional regulator","hypothetical protein [Tuber melanosporum Mel28]","ref|XP_002835366.1|",632,32,68,4.0000000000000001E-3,38.1,{"$f":"VLOOKUP(K84,gi2taxid!G:H,2,FALSE)","v":"Fungi"},{"$f":"VLOOKUP(D84,gi2taxid!A:E,4,FALSE)","v":"Tuber melanosporum Mel28"}]
["OLPV1_322510555","nechadraft_68506","probable mRNA-capping enzyme [Acanthamoeba polyphaga mimivirus]","ref|YP_003986887.1|",1170,26,757,5.0000000000000003E-38,154,{"$f":"VLOOKUP(K85,gi2taxid!G:H,2,FALSE)","v":"Mimiviridae"},{"$f":"VLOOKUP(D85,gi2taxid!A:E,4,FALSE)","v":"Acanthamoeba polyphaga mimivirus"}]
["OLPV1_322510556",0,"hypothetical protein BT0126 [Borrelia turicatae 91E135]","ref|YP_945138.1|",202,40,35,1.0999999999999999E-2,33.5,{"$f":"VLOOKUP(K86,gi2taxid!G:H,2,FALSE)","v":"Spirochaetia"},{"$f":"VLOOKUP(D86,gi2taxid!A:E,4,FALSE)","v":"Borrelia turicatae 91E135"}]
["OLPV1_322510557","ftsj methyltransferase 1","predicted protein [Naegleria gruberi]","ref|XP_002680908.1|",575,34,248,2.0000000000000001E-32,128,{"$f":"VLOOKUP(K87,gi2taxid!G:H,2,FALSE)","v":"Schizopyrenida"},{"$f":"VLOOKUP(D87,gi2taxid!A:E,4,FALSE)","v":"Naegleria gruberi strain NEG-M"}]
["OLPV1_322510558","polyketide type polyunsaturated fatty acid synthase pfaa","polyketide-type polyunsaturated fatty acid synthase PfaA [Fischerella sp. JSC-11]","ref|ZP_08987757.1|",2376,30,132,5.0000000000000001E-4,40.799999999999997,{"$f":"VLOOKUP(K88,gi2taxid!G:H,2,FALSE)","v":"Stigonematales"},{"$f":"VLOOKUP(D88,gi2taxid!A:E,4,FALSE)","v":"Fischerella sp. JSC-11"}]
["OLPV1_322510559","rbam_031760","hypothetical protein CPS_1856 [Colwellia psychrerythraea 34H]","ref|YP_268586.1|",161,33,45,1.2999999999999999E-2,32,{"$f":"VLOOKUP(K89,gi2taxid!G:H,2,FALSE)","v":"Gammaproteobacteria"},{"$f":"VLOOKUP(D89,gi2taxid!A:E,4,FALSE)","v":"Colwellia psychrerythraea 34H"}]
["OLPV1_322510560","alpha 1 2 mannosidase","alpha-1,2-mannosidase [Zunongwangia profunda SM-A87]","ref|YP_003586683.1|",752,30,73,8.0000000000000002E-3,35,{"$f":"VLOOKUP(K90,gi2taxid!G:H,2,FALSE)","v":"Bacteroidetes"},{"$f":"VLOOKUP(D90,gi2taxid!A:E,4,FALSE)","v":"Zunongwangia profunda SM-A87"}]
["OLPV1_322510561","phytase","hypothetical protein PROPEN_02306 [Proteus penneri ATCC 35198]","ref|ZP_03803930.1|",144,31,52,1.2E-2,35,{"$f":"VLOOKUP(K91,gi2taxid!G:H,2,FALSE)","v":"Gammaproteobacteria"},{"$f":"VLOOKUP(D91,gi2taxid!A:E,4,FALSE)","v":"Proteus penneri ATCC 35198"}]
["OLPV1_322510562","atp dependent protease la type ii","hypothetical protein Thicy_1092 [Thioalkalimicrobium cyclicum ALM1]","ref|YP_004537338.1|",499,36,44,0.03,32,{"$f":"VLOOKUP(K92,gi2taxid!G:H,2,FALSE)","v":"Gammaproteobacteria"},{"$f":"VLOOKUP(D92,gi2taxid!A:E,4,FALSE)","v":"Thioalkalimicrobium cyclicum ALM1"}]
["OLPV1_322510563","ferrichrome iron receptor","Pc16g09450 [Penicillium chrysogenum Wisconsin 54-1255]","ref|XP_002561261.1|",1328,35,77,3.0000000000000001E-3,37.700000000000003,{"$f":"VLOOKUP(K93,gi2taxid!G:H,2,FALSE)","v":"Fungi"},{"$f":"VLOOKUP(D93,gi2taxid!A:E,4,FALSE)","v":"Penicillium chrysogenum Wisconsin 54-1255"}]
["OLPV1_322510564","dna directed rna polymerase ii subunit rpb2","hypothetical protein SELMODRAFT_172903 [Selaginella moellendorffii]","ref|XP_002972363.1|",1178,42,1200,0,950,{"$f":"VLOOKUP(K94,gi2taxid!G:H,2,FALSE)","v":"Streptophyta"},{"$f":"VLOOKUP(D94,gi2taxid!A:E,4,FALSE)","v":"Selaginella moellendorffii"}]
["OLPV1_322510565",{"$error":"#N/A"},{"$nulls":7},{"$f":"VLOOKUP(K95,gi2taxid!G:H,2,FALSE)","v":{"$error":"#N/A"}},{"$f":"VLOOKUP(D95,gi2taxid!A:E,4,FALSE)","v":{"$error":"#N/A"}}]
["OLPV1_322510566","ser thr phosphatase","putative homoserine kinase type II (protein kinase fold) [Brevibacillus sp. BC25]","ref|ZP_10574463.1|",254,35,83,3.0000000000000001E-3,37.4,{"$f":"VLOOKUP(K96,gi2taxid!G:H,2,FALSE)","v":"Bacilli"},{"$f":"VLOOKUP(D96,gi2taxid!A:E,4,FALSE)","v":"Brevibacillus sp. BC25"}]
["OLPV1_322510567","rna helicase","pC475L [African swine fever virus]","ref|NP_042761.1|",475,31,187,2E-14,75.5,{"$f":"VLOOKUP(K97,gi2taxid!G:H,2,FALSE)","v":"Asfarviridae"},{"$f":"VLOOKUP(D97,gi2taxid!A:E,4,FALSE)","v":"African swine fever virus"}]
["OLPV1_322510568","phosphoglycerol transferase","Phosphoglycerol transferase [Pseudoalteromonas tunicata D2]","ref|ZP_01133129.1|",650,26,96,4.8000000000000001E-2,35.799999999999997,{"$f":"VLOOKUP(K98,gi2taxid!G:H,2,FALSE)","v":"Gammaproteobacteria"},{"$f":"VLOOKUP(D98,gi2taxid!A:E,4,FALSE)","v":"Pseudoalteromonas tunicata D2"}]
["OLPV1_322510569","atcv1_z280l","mg464 gene product [Megavirus chiliensis]","ref|YP_004894515.1|",589,28,354,1.0000000000000001E-32,132,{"$f":"VLOOKUP(K99,gi2taxid!G:H,2,FALSE)","v":"Mimiviridae"},{"$f":"VLOOKUP(D99,gi2taxid!A:E,4,FALSE)","v":"Megavirus chiliensis"}]
["OLPV1_322510570","vitamin k epoxide reductase","zinc finger domain, LSD1 subclass family protein [Tetrahymena thermophila]","ref|XP_001013519.1|",2739,31,127,1.0000000000000001E-5,47.8,{"$f":"VLOOKUP(K100,gi2taxid!G:H,2,FALSE)","v":"Ciliophora"},{"$f":"VLOOKUP(D100,gi2taxid!A:E,4,FALSE)","v":"Tetrahymena thermophila"}]
["OLPV1_322510571","glycosyl transferase group 2","glycosyltransferase, group 2 family protein [Hafnia alvei ATCC 51873]","ref|ZP_09379780.1|",483,40,212,7.9999999999999998E-47,166,{"$f":"VLOOKUP(K101,gi2taxid!G:H,2,FALSE)","v":"Gammaproteobacteria"},{"$f":"VLOOKUP(D101,gi2taxid!A:E,4,FALSE)","v":"Hafnia alvei ATCC 51873"}]
["OLPV1_322510572",0,"ATPase [Cyanothece sp. PCC 7424]","ref|YP_002380642.1|",504,27,171,2.0000000000000002E-5,46.2,{"$f":"VLOOKUP(K102,gi2taxid!G:H,2,FALSE)","v":"Chroococcales"},{"$f":"VLOOKUP(D102,gi2taxid!A:E,4,FALSE)","v":"Cyanothece sp. PCC 7424"}]
["OLPV1_322510573","p9515_15981","hypothetical protein FMG_1321 [Finegoldia magna ATCC 29328]","ref|YP_001692629.1|",114,24,74,2.9000000000000001E-2,32.299999999999997,{"$f":"VLOOKUP(K103,gi2taxid!G:H,2,FALSE)","v":"Clostridia"},{"$f":"VLOOKUP(D103,gi2taxid!A:E,4,FALSE)","v":"Finegoldia magna ATCC 29328"}]
["OLPV1_322510574","otv1_135","hypothetical protein [Acanthamoeba polyphaga mimivirus]","ref|YP_003986913.1|",185,25,129,2E-12,62.8,{"$f":"VLOOKUP(K104,gi2taxid!G:H,2,FALSE)","v":"Mimiviridae"},{"$f":"VLOOKUP(D104,gi2taxid!A:E,4,FALSE)","v":"Acanthamoeba polyphaga mimivirus"}]
["OLPV1_322510575","dna topoisomerase ii","DNA topoisomerase II [Encephalitozoon intestinalis ATCC 50506]","ref|XP_003072680.1|",1141,46,1083,0,906,{"$f":"VLOOKUP(K105,gi2taxid!G:H,2,FALSE)","v":"Fungi"},{"$f":"VLOOKUP(D105,gi2taxid!A:E,4,FALSE)","v":"Encephalitozoon intestinalis ATCC 50506"}]
["OLPV1_322510576",0,"predicted protein [Micromonas pusilla CCMP1545]","ref|XP_003060638.1|",2418,30,187,3.9999999999999999E-12,66.2,{"$f":"VLOOKUP(K106,gi2taxid!G:H,2,FALSE)","v":"Chlorophyta"},{"$f":"VLOOKUP(D106,gi2taxid!A:E,4,FALSE)","v":"Micromonas pusilla CCMP1545"}]
["OLPV1_322510577","prolipoprotein","unnamed protein product [Ostreococcus tauri]","ref|XP_003075201.1|",2704,34,96,2.9999999999999997E-8,52,{"$f":"VLOOKUP(K107,gi2taxid!G:H,2,FALSE)","v":"Chlorophyta"},{"$f":"VLOOKUP(D107,gi2taxid!A:E,4,FALSE)","v":"Ostreococcus tauri"}]
["OLPV1_322510578","methyltransferase","PREDICTED: ubiquitin-conjugating enzyme E2 22-like [Brachypodium distachyon]","ref|XP_003560402.1|",285,41,46,2.8000000000000001E-2,32.299999999999997,{"$f":"VLOOKUP(K108,gi2taxid!G:H,2,FALSE)","v":"Streptophyta"},{"$f":"VLOOKUP(D108,gi2taxid!A:E,4,FALSE)","v":"Brachypodium distachyon"}]
["OLPV1_322510579","unnamed product","unnamed protein product [Ostreococcus tauri]","ref|XP_003083784.1|",1931,40,857,0,603,{"$f":"VLOOKUP(K109,gi2taxid!G:H,2,FALSE)","v":"Chlorophyta"},{"$f":"VLOOKUP(D109,gi2taxid!A:E,4,FALSE)","v":"Ostreococcus tauri"}]
["OLPV1_322510580",0,"surface protein 26-residue repeat-containing protein [Spirochaeta africana DSM 8902]","ref|YP_005475147.1|",376,66,41,6E-11,56.6,{"$f":"VLOOKUP(K110,gi2taxid!G:H,2,FALSE)","v":"Spirochaetia"},{"$f":"VLOOKUP(D110,gi2taxid!A:E,4,FALSE)","v":"Spirochaeta africana DSM 8902"}]
["OLPV1_322510581","unnamed product","unnamed protein product [Ostreococcus tauri]","ref|XP_003083784.1|",1931,34,1201,0,616,{"$f":"VLOOKUP(K111,gi2taxid!G:H,2,FALSE)","v":"Chlorophyta"},{"$f":"VLOOKUP(D111,gi2taxid!A:E,4,FALSE)","v":"Ostreococcus tauri"}]
["OLPV1_322510582","peptidase m24","hypothetical protein CRE_16773 [Caenorhabditis remanei]","ref|XP_003106620.1|",620,28,80,2.3E-2,34.700000000000003,{"$f":"VLOOKUP(K112,gi2taxid!G:H,2,FALSE)","v":"Metazoa"},{"$f":"VLOOKUP(D112,gi2taxid!A:E,4,FALSE)","v":"Caenorhabditis remanei"}]
["OLPV1_322510583","gilli_0487","transcriptional regulator, MerR family protein [Burkholderia oklahomensis EO147]","ref|ZP_02355430.1|",161,29,70,6.9999999999999999E-4,37,{"$f":"VLOOKUP(K113,gi2taxid!G:H,2,FALSE)","v":"Betaproteobacteria"},{"$f":"VLOOKUP(D113,gi2taxid!A:E,4,FALSE)","v":"Burkholderia oklahomensis EO147"}]
["OLPV1_322510584","loc100633993","hypothetical protein [Trypanosoma brucei brucei strain 927/4 GUTat10.1]","ref|XP_846083.1|",943,32,53,1.2E-2,34.299999999999997,{"$f":"VLOOKUP(K114,gi2taxid!G:H,2,FALSE)","v":"Kinetoplastida"},{"$f":"VLOOKUP(D114,gi2taxid!A:E,4,FALSE)","v":"Trypanosoma brucei brucei strain 927/4 GUTat10.1"}]
["OLPV1_322510585",{"$error":"#N/A"},{"$nulls":7},{"$f":"VLOOKUP(K115,gi2taxid!G:H,2,FALSE)","v":{"$error":"#N/A"}},{"$f":"VLOOKUP(D115,gi2taxid!A:E,4,FALSE)","v":{"$error":"#N/A"}}]
["OLPV1_322510586","response regulator viea","response regulator VieA [Vibrio cholerae RC385]","ref|ZP_06941159.1|",584,24,84,3.0000000000000001E-3,38.9,{"$f":"VLOOKUP(K116,gi2taxid!G:H,2,FALSE)","v":"Gammaproteobacteria"},{"$f":"VLOOKUP(D116,gi2taxid!A:E,4,FALSE)","v":"Vibrio cholerae RC385"}]
["OLPV1_322510587","competence","competence protein; transcription factor [Cytophaga hutchinsonii ATCC 33406]","ref|YP_676670.1|",316,34,134,4.0000000000000001E-8,54.3,{"$f":"VLOOKUP(K117,gi2taxid!G:H,2,FALSE)","v":"Bacteroidetes"},{"$f":"VLOOKUP(D117,gi2taxid!A:E,4,FALSE)","v":"Cytophaga hutchinsonii ATCC 33406"}]
["OLPV1_322510588","otv2_120","hypothetical protein BpV1_127 [Bathycoccus sp. RCC1105 virus BpV1]","ref|YP_004061557.1|",86,68,37,3.0000000000000001E-12,58.5,{"$f":"VLOOKUP(K118,gi2taxid!G:H,2,FALSE)","v":"Phycodnaviridae"},{"$f":"VLOOKUP(D118,gi2taxid!A:E,4,FALSE)","v":"Bathycoccus sp. RCC1105 virus BpV1"}]
["OLPV1_322510589","dna gyrase subunit b","inositol/phosphatidylinositol phosphatase [Cryptococcus neoformans var. neoformans JEC21]","ref|XP_568319.1|",722,37,46,3.0000000000000001E-3,35.4,{"$f":"VLOOKUP(K119,gi2taxid!G:H,2,FALSE)","v":"Fungi"},{"$f":"VLOOKUP(D119,gi2taxid!A:E,4,FALSE)","v":"Cryptococcus neoformans var. neoformans JEC21"}]
["OLPV1_322510590","udp glucose 4 epimerase","UDP-glucose 4-epimerase [Lactobacillus coryniformis subsp. torquens KCTC 3535]","ref|ZP_08574460.1|",331,23,134,6.9999999999999999E-6,46.2,{"$f":"VLOOKUP(K120,gi2taxid!G:H,2,FALSE)","v":"Bacilli"},{"$f":"VLOOKUP(D120,gi2taxid!A:E,4,FALSE)","v":"Lactobacillus coryniformis subsp. torquens KCTC 3535"}]
["OLPV1_322510591","ga23778","PREDICTED: similar to 28S ribosomal protein S17, mitochondrial [Hydra magnipapillata]","ref|XP_002157919.1|",97,34,53,1.4999999999999999E-2,30.8,{"$f":"VLOOKUP(K121,gi2taxid!G:H,2,FALSE)","v":"Metazoa"},{"$f":"VLOOKUP(D121,gi2taxid!A:E,4,FALSE)","v":"Hydra magnipapillata"}]
["OLPV1_322510592","smc","hypothetical protein ANHYDRO_01838 [Anaerococcus hydrogenalis DSM 7454]","ref|ZP_03305398.1|",121,27,93,1.7000000000000001E-2,34.299999999999997,{"$f":"VLOOKUP(K122,gi2taxid!G:H,2,FALSE)","v":"Clostridia"},{"$f":"VLOOKUP(D122,gi2taxid!A:E,4,FALSE)","v":"Anaerococcus hydrogenalis DSM 7454"}]
["OLPV1_322510593","dna topoisomerase","DNA topoisomerase TopA [Prevotella bergensis DSM 17361]","ref|ZP_06005414.1|",776,35,722,2E-107,347,{"$f":"VLOOKUP(K123,gi2taxid!G:H,2,FALSE)","v":"Bacteroidetes"},{"$f":"VLOOKUP(D123,gi2taxid!A:E,4,FALSE)","v":"Prevotella bergensis DSM 17361"}]
["OLPV1_322510594","gluconate permease","Gluconate permease [Bacillus thuringiensis serovar huazhongensis BGSC 4BD1]","ref|ZP_04084320.1|",452,33,58,1.2999999999999999E-2,35.799999999999997,{"$f":"VLOOKUP(K124,gi2taxid!G:H,2,FALSE)","v":"Bacilli"},{"$f":"VLOOKUP(D124,gi2taxid!A:E,4,FALSE)","v":"Bacillus thuringiensis serovar huazhongensis BGSC 4BD1"}]
["OLPV1_322510595","beta 2 microglobulin","preprotein translocase subunit SecA [Bacillus halodurans C-125]","ref|NP_244473.1|",838,31,75,6.0000000000000001E-3,36.200000000000003,{"$f":"VLOOKUP(K125,gi2taxid!G:H,2,FALSE)","v":"Bacilli"},{"$f":"VLOOKUP(D125,gi2taxid!A:E,4,FALSE)","v":"Bacillus halodurans C-125"}]
["OLPV1_322510596","mj_0305","hypothetical protein NMC0367 [Neisseria meningitidis FAM18]","ref|YP_974478.1|",86,37,41,2E-3,37.4,{"$f":"VLOOKUP(K126,gi2taxid!G:H,2,FALSE)","v":"Betaproteobacteria"},{"$f":"VLOOKUP(D126,gi2taxid!A:E,4,FALSE)","v":"Neisseria meningitidis FAM18"}]
["OLPV1_322510597","dnaj","heat shock protein DnaJ domain-containing protein [Alishewanella aestuarii B11]","ref|ZP_10495082.1|",204,39,57,1.9999999999999999E-7,50.1,{"$f":"VLOOKUP(K127,gi2taxid!G:H,2,FALSE)","v":"Gammaproteobacteria"},{"$f":"VLOOKUP(D127,gi2taxid!A:E,4,FALSE)","v":"Alishewanella aestuarii B11"}]
["OLPV1_322510598","mpv1_153c","hypothetical protein OsV5_171r [Ostreococcus virus OsV5]","ref|YP_001648248.1|",230,29,207,2.9999999999999999E-16,76.3,{"$f":"VLOOKUP(K128,gi2taxid!G:H,2,FALSE)","v":"Phycodnaviridae"},{"$f":"VLOOKUP(D128,gi2taxid!A:E,4,FALSE)","v":"Ostreococcus virus OsV5"}]
["OLPV1_322510599","aspartate transaminase","hypothetical protein [Acanthamoeba polyphaga mimivirus]","ref|YP_003987016.1|",406,30,149,3.9999999999999998E-6,48.5,{"$f":"VLOOKUP(K129,gi2taxid!G:H,2,FALSE)","v":"Mimiviridae"},{"$f":"VLOOKUP(D129,gi2taxid!A:E,4,FALSE)","v":"Acanthamoeba polyphaga mimivirus"}]
["OLPV1_322510600","upstream activation factor subunit spp27 isoform 1","hypothetical protein MpV1_133 [Micromonas sp. RCC1109 virus MpV1]","ref|YP_004062016.1|",135,36,127,8.0000000000000006E-17,75.099999999999994,{"$f":"VLOOKUP(K130,gi2taxid!G:H,2,FALSE)","v":"Phycodnaviridae"},{"$f":"VLOOKUP(D130,gi2taxid!A:E,4,FALSE)","v":"Micromonas sp. RCC1109 virus MpV1"}]
["OLPV1_322510601","plasmodium function","hypothetical protein [Helicobacter pylori SNT49]","ref|YP_005787223.1|",292,33,76,2.0000000000000002E-5,46.2,{"$f":"VLOOKUP(K131,gi2taxid!G:H,2,FALSE)","v":"delta-epsilon_subdivisions"},{"$f":"VLOOKUP(D131,gi2taxid!A:E,4,FALSE)","v":"Helicobacter pylori SNT49"}]
["OLPV1_322510602","phum_phum105330","regulatory protein for cyclic-di-GMP, EAL domain [Oxalobacteraceae bacterium IMCC9480]","ref|ZP_08273649.1|",331,22,184,4.0000000000000002E-4,42.4,{"$f":"VLOOKUP(K132,gi2taxid!G:H,2,FALSE)","v":"Betaproteobacteria"},{"$f":"VLOOKUP(D132,gi2taxid!A:E,4,FALSE)","v":"Oxalobacteraceae bacterium IMCC9480"}]
["OLPV1_322510603","ccr4 not transcription complex subunit not1","hypothetical protein SCB49_02524 [unidentified eubacterium SCB49]","ref|ZP_01889763.1|",837,32,121,9.0000000000000006E-5,44.3,{"$f":"VLOOKUP(K133,gi2taxid!G:H,2,FALSE)","v":"Bacteroidetes"},{"$f":"VLOOKUP(D133,gi2taxid!A:E,4,FALSE)","v":"unidentified eubacterium SCB49"}]
["OLPV1_322510604","dna mismatch repair muts 1","hypothetical protein SS7213T_10439 [Staphylococcus simiae CCM 7213]","ref|ZP_09147359.1|",540,29,191,7.0000000000000007E-21,96.7,{"$f":"VLOOKUP(K134,gi2taxid!G:H,2,FALSE)","v":"Bacilli"},{"$f":"VLOOKUP(D134,gi2taxid!A:E,4,FALSE)","v":"Staphylococcus simiae CCM 7213"}]
["OLPV1_322510605","hpg27_319","GD25955 [Drosophila simulans]","ref|XP_002080954.1|",927,27,126,7.0000000000000001E-3,37,{"$f":"VLOOKUP(K135,gi2taxid!G:H,2,FALSE)","v":"Metazoa"},{"$f":"VLOOKUP(D135,gi2taxid!A:E,4,FALSE)","v":"Drosophila simulans"}]
["OLPV1_322510606",0,"hypothetical protein [Trichomonas vaginalis G3]","ref|XP_001328088.1|",1054,32,79,2.5999999999999999E-2,32.299999999999997,{"$f":"VLOOKUP(K136,gi2taxid!G:H,2,FALSE)","v":"Trichomonadida"},{"$f":"VLOOKUP(D136,gi2taxid!A:E,4,FALSE)","v":"Trichomonas vaginalis G3"}]
["OLPV1_322510607","olv1_060","hypothetical protein BpV1_043 [Bathycoccus sp. RCC1105 virus BpV1]","ref|YP_004061473.1|",233,30,161,5.0000000000000002E-14,67.8,{"$f":"VLOOKUP(K137,gi2taxid!G:H,2,FALSE)","v":"Phycodnaviridae"},{"$f":"VLOOKUP(D137,gi2taxid!A:E,4,FALSE)","v":"Bathycoccus sp. RCC1105 virus BpV1"}]
["OLPV1_322510608",0,"hypothetical protein MpV1_067c [Micromonas sp. RCC1109 virus MpV1]","ref|YP_004061950.1|",369,41,211,4.9999999999999997E-50,174,{"$f":"VLOOKUP(K138,gi2taxid!G:H,2,FALSE)","v":"Phycodnaviridae"},{"$f":"VLOOKUP(D138,gi2taxid!A:E,4,FALSE)","v":"Micromonas sp. RCC1109 virus MpV1"}]
["OLPV1_322510609","cbg23806","hypothetical protein Minf_0864 [Methylacidiphilum infernorum V4]","ref|YP_001939517.1|",279,21,77,1E-3,36.6,{"$f":"VLOOKUP(K139,gi2taxid!G:H,2,FALSE)","v":"Verrucomicrobia"},{"$f":"VLOOKUP(D139,gi2taxid!A:E,4,FALSE)","v":"Methylacidiphilum infernorum V4"}]
["OLPV1_322510610","e1a binding p400 isoform 1","hypothetical protein Pext1s1_28770 [Pseudomonas extremaustralis 14-3 substr. 14-3b]","ref|ZP_10440475.1|",722,39,46,8.0000000000000002E-3,34.700000000000003,{"$f":"VLOOKUP(K140,gi2taxid!G:H,2,FALSE)","v":"Gammaproteobacteria"},{"$f":"VLOOKUP(D140,gi2taxid!A:E,4,FALSE)","v":"Pseudomonas extremaustralis 14-3 substr. 14-3b"}]
["OLPV1_322510611","kinase cmgc group sky1p s t ","protein kinase domain [Cryptosporidium hominis TU502]","ref|XP_668015.1|",751,29,62,5.0000000000000001E-3,34.700000000000003,{"$f":"VLOOKUP(K141,gi2taxid!G:H,2,FALSE)","v":"Apicomplexa"},{"$f":"VLOOKUP(D141,gi2taxid!A:E,4,FALSE)","v":"Cryptosporidium hominis TU502"}]
["OLPV1_322510612","lethal with checkpoint kinase cg4943 pa isoform 1","exonuclease RexB [Granulicatella adiacens ATCC 49175]","ref|ZP_05737147.1|",1190,28,130,2E-3,41.2,{"$f":"VLOOKUP(K142,gi2taxid!G:H,2,FALSE)","v":"Bacilli"},{"$f":"VLOOKUP(D142,gi2taxid!A:E,4,FALSE)","v":"Granulicatella adiacens ATCC 49175"}]
["OLPV1_322510613","deubiquitinating enzyme 2a","ubiquitin carboxyl-terminal hydrolase DUB-1 [Mus musculus]","ref|NP_031913.1|",526,33,66,4.0000000000000002E-4,38.9,{"$f":"VLOOKUP(K143,gi2taxid!G:H,2,FALSE)","v":"Metazoa"},{"$f":"VLOOKUP(D143,gi2taxid!A:E,4,FALSE)","v":"Mus musculus"}]
["OLPV1_322510614","methyl accepting chemotaxis","UPF0176 protein [Pseudoalteromonas sp. BSi20652]","ref|ZP_09225310.1|",151,29,97,0.01,35,{"$f":"VLOOKUP(K144,gi2taxid!G:H,2,FALSE)","v":"Gammaproteobacteria"},{"$f":"VLOOKUP(D144,gi2taxid!A:E,4,FALSE)","v":"Pseudoalteromonas sp. BSi20652"}]
["OLPV1_322510615","ubiquinone menaquinone biosynthesis methyltransferase","ubiquinone/menaquinone biosynthesis methyltransferase [Campylobacter jejuni RM1221]","ref|YP_178388.1|",235,25,191,4.9999999999999998E-7,50.1,{"$f":"VLOOKUP(K145,gi2taxid!G:H,2,FALSE)","v":"delta-epsilon_subdivisions"},{"$f":"VLOOKUP(D145,gi2taxid!A:E,4,FALSE)","v":"Campylobacter jejuni RM1221"}]
["OLPV1_322510616","alanyl trna synthetase","hypothetical protein BRAFLDRAFT_216625 [Branchiostoma floridae]","ref|XP_002602257.1|",167,37,54,1.2E-2,36.6,{"$f":"VLOOKUP(K146,gi2taxid!G:H,2,FALSE)","v":"Metazoa"},{"$f":"VLOOKUP(D146,gi2taxid!A:E,4,FALSE)","v":"Branchiostoma floridae"}]
["OLPV1_322510617","deoxyuridine 5' triphosphate nucleotidohydrolase","Deoxyuridine 5'-triphosphate nucleotidohydrolase [Plasmodium knowlesi strain H]","ref|XP_002259276.1|",183,43,118,3.0000000000000003E-20,85.5,{"$f":"VLOOKUP(K147,gi2taxid!G:H,2,FALSE)","v":"Apicomplexa"},{"$f":"VLOOKUP(D147,gi2taxid!A:E,4,FALSE)","v":"Plasmodium knowlesi strain H"}]
["OLPV1_322510618",{"$error":"#N/A"},{"$nulls":7},{"$f":"VLOOKUP(K148,gi2taxid!G:H,2,FALSE)","v":{"$error":"#N/A"}},{"$f":"VLOOKUP(D148,gi2taxid!A:E,4,FALSE)","v":{"$error":"#N/A"}}]
["OLPV1_322510619","marr transcriptional regulator","MarR family transcriptional regulator [Methanocaldococcus vulcanius M7]","ref|YP_003247146.1|",452,25,85,1.4999999999999999E-2,35.799999999999997,{"$f":"VLOOKUP(K149,gi2taxid!G:H,2,FALSE)","v":"Methanococci"},{"$f":"VLOOKUP(D149,gi2taxid!A:E,4,FALSE)","v":"Methanocaldococcus vulcanius M7"}]
["OLPV1_322510620",0,"hypothetical protein BZARG_3070 [Bizionia argentinensis JUB59]","ref|ZP_08820125.1|",624,38,63,8.0000000000000002E-3,36.200000000000003,{"$f":"VLOOKUP(K150,gi2taxid!G:H,2,FALSE)","v":"Bacteroidetes"},{"$f":"VLOOKUP(D150,gi2taxid!A:E,4,FALSE)","v":"Bizionia argentinensis JUB59"}]
["OLPV1_322510621","otv2_075","hypothetical protein crov339 [Cafeteria roenbergensis virus BV-PW1]","ref|YP_003969972.1|",211,42,101,4.9999999999999999E-17,78.2,{"$f":"VLOOKUP(K151,gi2taxid!G:H,2,FALSE)","v":"unclassified_dsDNA_viruses (CroV)"},{"$f":"VLOOKUP(D151,gi2taxid!A:E,4,FALSE)","v":"Cafeteria roenbergensis virus BV-PW1"}]
["OLPV1_322510622",0,"hypothetical protein [Acanthamoeba polyphaga mimivirus]","ref|YP_003986938.1|",159,49,77,2.9999999999999998E-18,75.900000000000006,{"$f":"VLOOKUP(K152,gi2taxid!G:H,2,FALSE)","v":"Mimiviridae"},{"$f":"VLOOKUP(D152,gi2taxid!A:E,4,FALSE)","v":"Acanthamoeba polyphaga mimivirus"}]
["OLPV1_322510623","bpv1_097","hypothetical protein OlV1_113 [Ostreococcus lucimarinus virus OlV1]","ref|YP_004061746.1|",314,46,217,2.0000000000000001E-56,189,{"$f":"VLOOKUP(K153,gi2taxid!G:H,2,FALSE)","v":"Phycodnaviridae"},{"$f":"VLOOKUP(D153,gi2taxid!A:E,4,FALSE)","v":"Ostreococcus lucimarinus virus OlV1"}]
["OLPV1_322510624","olv1_167","major capsid protein [Cafeteria roenbergensis virus BV-PW1]","ref|YP_003969975.1|",506,44,560,4.0000000000000002E-141,421,{"$f":"VLOOKUP(K154,gi2taxid!G:H,2,FALSE)","v":"unclassified_dsDNA_viruses (CroV)"},{"$f":"VLOOKUP(D154,gi2taxid!A:E,4,FALSE)","v":"Cafeteria roenbergensis virus BV-PW1"}]
["OLPV1_322510625","growth hormone inducible transmembrane","Hypothetical protein COLAER_00314 [Collinsella aerofaciens ATCC 25986]","ref|ZP_01771335.1|",231,26,217,2.0000000000000001E-9,56.6,{"$f":"VLOOKUP(K155,gi2taxid!G:H,2,FALSE)","v":"Actinobacteria"},{"$f":"VLOOKUP(D155,gi2taxid!A:E,4,FALSE)","v":"Collinsella aerofaciens ATCC 25986"}]
["OLPV1_322510626","mitochondrial chaperone bcs1","hypothetical protein [Paramecium bursaria Chlorella virus 1]","ref|NP_048392.1|",599,34,350,3.9999999999999999E-60,209,{"$f":"VLOOKUP(K156,gi2taxid!G:H,2,FALSE)","v":"Phycodnaviridae"},{"$f":"VLOOKUP(D156,gi2taxid!A:E,4,FALSE)","v":"Paramecium bursaria Chlorella virus 1"}]
["OLPV1_322510627","gh10061","putative glutamine synthetase [Acanthamoeba polyphaga mimivirus]","ref|YP_003987080.1|",353,20,208,1.9999999999999999E-6,48.1,{"$f":"VLOOKUP(K157,gi2taxid!G:H,2,FALSE)","v":"Mimiviridae"},{"$f":"VLOOKUP(D157,gi2taxid!A:E,4,FALSE)","v":"Acanthamoeba polyphaga mimivirus"}]
["OLPV1_322510628","phytanoyl coa dioxygenase","phytanoyl-coa dioxygenase [Phaeodactylum tricornutum CCAP 1055/1]","ref|XP_002177807.1|",409,24,210,1.9999999999999999E-6,49.3,{"$f":"VLOOKUP(K158,gi2taxid!G:H,2,FALSE)","v":"Bacillariophyta"},{"$f":"VLOOKUP(D158,gi2taxid!A:E,4,FALSE)","v":"Phaeodactylum tricornutum CCAP 1055/1"}]
["OLPV1_322510629","nuclease","nuclease [Bdellovibrio bacteriovorus HD100]","ref|NP_968327.1|",166,47,109,9.9999999999999991E-22,87,{"$f":"VLOOKUP(K159,gi2taxid!G:H,2,FALSE)","v":"delta-epsilon_subdivisions"},{"$f":"VLOOKUP(D159,gi2taxid!A:E,4,FALSE)","v":"Bdellovibrio bacteriovorus HD100"}]
["OLPV1_322510630","ornithine decarboxylase","hypothetical protein TDEL_0E00880 [Torulaspora delbrueckii]","ref|XP_003681542.1|",444,28,369,1.9999999999999999E-36,139,{"$f":"VLOOKUP(K160,gi2taxid!G:H,2,FALSE)","v":"Fungi"},{"$f":"VLOOKUP(D160,gi2taxid!A:E,4,FALSE)","v":"Torulaspora delbrueckii"}]
["OLPV1_322510631","fr483_n741r","hypothetical protein [Paramecium bursaria Chlorella virus 1]","ref|NP_048980.1|",121,36,113,2.0000000000000001E-18,77,{"$f":"VLOOKUP(K161,gi2taxid!G:H,2,FALSE)","v":"Phycodnaviridae"},{"$f":"VLOOKUP(D161,gi2taxid!A:E,4,FALSE)","v":"Paramecium bursaria Chlorella virus 1"}]
["OLPV1_322510632",0,"predicted protein [Nematostella vectensis]","ref|XP_001641303.1|",836,49,53,3.9999999999999998E-7,53.1,{"$f":"VLOOKUP(K162,gi2taxid!G:H,2,FALSE)","v":"Metazoa"},{"$f":"VLOOKUP(D162,gi2taxid!A:E,4,FALSE)","v":"Nematostella vectensis"}]
["OLPV1_322510633","udp glucuronosyltransferase 2b18","hypothetical protein CLOSPO_03028 [Clostridium sporogenes ATCC 15579]","ref|ZP_02995905.1|",203,30,76,8.9999999999999993E-3,33.9,{"$f":"VLOOKUP(K163,gi2taxid!G:H,2,FALSE)","v":"Clostridia"},{"$f":"VLOOKUP(D163,gi2taxid!A:E,4,FALSE)","v":"Clostridium sporogenes ATCC 15579"}]
["OLPV1_322510634","type iv a pilus assembly atpase pilb","predicted protein [Naegleria gruberi]","ref|XP_002672948.1|",773,25,179,8.0000000000000007E-5,46.2,{"$f":"VLOOKUP(K164,gi2taxid!G:H,2,FALSE)","v":"Schizopyrenida"},{"$f":"VLOOKUP(D164,gi2taxid!A:E,4,FALSE)","v":"Naegleria gruberi strain NEG-M"}]
["OLPV1_322510635","rhodanese sulfurtransferase","hypothetical protein Daes_0886 [Desulfovibrio aespoeensis Aspo-2]","ref|YP_004120649.1|",317,29,83,2.0000000000000002E-5,42.7,{"$f":"VLOOKUP(K165,gi2taxid!G:H,2,FALSE)","v":"delta-epsilon_subdivisions"},{"$f":"VLOOKUP(D165,gi2taxid!A:E,4,FALSE)","v":"Desulfovibrio aespoeensis Aspo-2"}]
["OLPV1_322510636","osv5_242f","hypothetical protein NY2A_B638R [Paramecium bursaria Chlorella virus NY2A]","ref|YP_001497834.1|",173,42,177,1E-35,126,{"$f":"VLOOKUP(K166,gi2taxid!G:H,2,FALSE)","v":"Phycodnaviridae"},{"$f":"VLOOKUP(D166,gi2taxid!A:E,4,FALSE)","v":"Paramecium bursaria Chlorella virus NY2A"}]
["OLPV1_322510637","cytochrome p450 6a2","Hypothetical protein CBG10425 [Caenorhabditis briggsae]","ref|XP_002635770.1|",908,28,95,3.9999999999999998E-6,45.8,{"$f":"VLOOKUP(K167,gi2taxid!G:H,2,FALSE)","v":"Metazoa"},{"$f":"VLOOKUP(D167,gi2taxid!A:E,4,FALSE)","v":"Caenorhabditis briggsae"}]
["OLPV1_322510638","transcriptional repressor ular","ulaR gene product [Citrobacter rodentium ICC168]","ref|YP_003366729.1|",251,37,59,7.0000000000000001E-3,36.200000000000003,{"$f":"VLOOKUP(K168,gi2taxid!G:H,2,FALSE)","v":"Gammaproteobacteria"},{"$f":"VLOOKUP(D168,gi2taxid!A:E,4,FALSE)","v":"Citrobacter rodentium ICC168"}]
["OLPV1_322510639","lambda type exonuclease","putative phage-type endonuclease [Acanthamoeba polyphaga mimivirus]","ref|YP_003986857.1|",549,28,312,6.0000000000000002E-26,109,{"$f":"VLOOKUP(K169,gi2taxid!G:H,2,FALSE)","v":"Mimiviridae"},{"$f":"VLOOKUP(D169,gi2taxid!A:E,4,FALSE)","v":"Acanthamoeba polyphaga mimivirus"}]
["OLPV1_322510640","thit_1106","hypothetical protein Teth514_1553 [Thermoanaerobacter sp. X514]","ref|YP_001663176.1|",390,25,157,3.0000000000000001E-3,38.9,{"$f":"VLOOKUP(K170,gi2taxid!G:H,2,FALSE)","v":"Clostridia"},{"$f":"VLOOKUP(D170,gi2taxid!A:E,4,FALSE)","v":"Thermoanaerobacter sp. X514"}]
["OLPV1_322510641","membrane","hypothetical protein; putative membrane protein [Candidatus Cloacamonas acidaminovorans]","ref|YP_001741631.1|",1094,30,116,1.4999999999999999E-2,37.4,{"$f":"VLOOKUP(K171,gi2taxid!G:H,2,FALSE)","v":"candidate_division_WWE1"},{"$f":"VLOOKUP(D171,gi2taxid!A:E,4,FALSE)","v":"Candidatus Cloacamonas acidaminovorans"}]
["OLPV1_322510642","glucosamine fructose 6 phosphate aminotransferase","hypothetical protein DICPUDRAFT_149253 [Dictyostelium purpureum]","ref|XP_003285395.1|",647,40,616,2.0000000000000001E-146,442,{"$f":"VLOOKUP(K172,gi2taxid!G:H,2,FALSE)","v":"Mycetozoa"},{"$f":"VLOOKUP(D172,gi2taxid!A:E,4,FALSE)","v":"Dictyostelium purpureum"}]
["OLPV1_322510643","small conductance mechanosenstive ion channel","cytOchrome o ubiquinol oxidase, subunit II [Rhodobacteraceae bacterium KLH11]","ref|ZP_05124955.1|",352,23,123,4.0000000000000001E-3,38.1,{"$f":"VLOOKUP(K173,gi2taxid!G:H,2,FALSE)","v":"Alphaproteobacteria"},{"$f":"VLOOKUP(D173,gi2taxid!A:E,4,FALSE)","v":"Rhodobacteraceae bacterium KLH11"}]
["OLPV1_322510644","glutamate receptor 1 isoform ","putative polysaccharide polymerase [Streptococcus parasanguinis FW213]","ref|YP_006310765.1|",421,40,47,2E-3,37.4,{"$f":"VLOOKUP(K174,gi2taxid!G:H,2,FALSE)","v":"Bacilli"},{"$f":"VLOOKUP(D174,gi2taxid!A:E,4,FALSE)","v":"Streptococcus parasanguinis FW213"}]
["OLPV1_322510645","carboxylesterase bioh","AraC family transcriptional regulator [Paenibacillus mucilaginosus KNP414]","ref|YP_004646178.1|",770,27,93,5.0000000000000001E-3,35,{"$f":"VLOOKUP(K175,gi2taxid!G:H,2,FALSE)","v":"Bacilli"},{"$f":"VLOOKUP(D175,gi2taxid!A:E,4,FALSE)","v":"Paenibacillus mucilaginosus KNP414"}]
["OLPV1_322510646",0,"hypothetical protein [Plasmodium vivax Sal-1]","ref|XP_001613548.1|",2099,24,169,4.0000000000000001E-3,38.9,{"$f":"VLOOKUP(K176,gi2taxid!G:H,2,FALSE)","v":"Apicomplexa"},{"$f":"VLOOKUP(D176,gi2taxid!A:E,4,FALSE)","v":"Plasmodium vivax Sal-1"}]
["OLPV1_322510647","asparagine synthetase","PREDICTED: asparagine synthetase [glutamine-hydrolyzing]","ref|XP_001377920.2|",194,40,131,5.0000000000000002E-26,99.8,{"$f":"VLOOKUP(K177,gi2taxid!G:H,2,FALSE)","v":"Metazoa"},{"$f":"VLOOKUP(D177,gi2taxid!A:E,4,FALSE)","v":"Monodelphis domestica"}]
["OLPV1_322510648","asparagine synthase glutamine hydrolyzing","asparagine synthetase B [Psychroflexus torquis ATCC 700755]","ref|ZP_01253256.1|",524,41,408,6.0000000000000003E-96,300,{"$f":"VLOOKUP(K178,gi2taxid!G:H,2,FALSE)","v":"Bacteroidetes"},{"$f":"VLOOKUP(D178,gi2taxid!A:E,4,FALSE)","v":"Psychroflexus torquis ATCC 700755"}]
["OLPV1_322510649","had superfamily hydrolase subfamily ia variant 3","peptidase M19, renal dipeptidase [Sphingomonas wittichii RW1]","ref|YP_001264066.1|",431,29,70,8.9999999999999993E-3,35.4,{"$f":"VLOOKUP(K179,gi2taxid!G:H,2,FALSE)","v":"Alphaproteobacteria"},{"$f":"VLOOKUP(D179,gi2taxid!A:E,4,FALSE)","v":"Sphingomonas wittichii RW1"}]
["OLPV1_322510650","dna rna helicase","hypothetical protein [Acanthamoeba polyphaga mimivirus]","ref|YP_003987109.1|",390,41,63,2.0000000000000001E-4,42.4,{"$f":"VLOOKUP(K180,gi2taxid!G:H,2,FALSE)","v":"Mimiviridae"},{"$f":"VLOOKUP(D180,gi2taxid!A:E,4,FALSE)","v":"Acanthamoeba polyphaga mimivirus"}]
["OLPV1_322510651",0,"helicase IV [Fusobacterium periodonticum ATCC 33693]","ref|ZP_06027598.1|",1017,29,121,2E-3,40,{"$f":"VLOOKUP(K181,gi2taxid!G:H,2,FALSE)","v":"Fusobacteriia"},{"$f":"VLOOKUP(D181,gi2taxid!A:E,4,FALSE)","v":"Fusobacterium periodonticum ATCC 33693"}]
["OLPV1_322510652","pmi08_01796","AGAP004143-PA [Anopheles gambiae str. PEST]","ref|XP_313024.5|",2244,29,65,8.0000000000000002E-3,35,{"$f":"VLOOKUP(K182,gi2taxid!G:H,2,FALSE)","v":"Metazoa"},{"$f":"VLOOKUP(D182,gi2taxid!A:E,4,FALSE)","v":"Anopheles gambiae str. PEST"}]
["OLPV1_322510653","ps273r","putative cysteine protease [Cafeteria roenbergensis virus BV-PW1]","ref|YP_003969816.1|",294,29,305,5.0000000000000002E-26,105,{"$f":"VLOOKUP(K183,gi2taxid!G:H,2,FALSE)","v":"unclassified_dsDNA_viruses (CroV)"},{"$f":"VLOOKUP(D183,gi2taxid!A:E,4,FALSE)","v":"Cafeteria roenbergensis virus BV-PW1"}]
["OLPV1_322510654","serine threonine kinase ark1","hypothetical protein LOAG_08800 [Loa loa]","ref|XP_003144378.1|",427,24,144,2.0000000000000001E-4,41.2,{"$f":"VLOOKUP(K184,gi2taxid!G:H,2,FALSE)","v":"Metazoa"},{"$f":"VLOOKUP(D184,gi2taxid!A:E,4,FALSE)","v":"Loa loa"}]
["OLPV1_322510655",0,"GTPase-activator protein [Trichomonas vaginalis G3]","ref|XP_001322811.1|",2181,32,136,3.0000000000000001E-3,40.799999999999997,{"$f":"VLOOKUP(K185,gi2taxid!G:H,2,FALSE)","v":"Trichomonadida"},{"$f":"VLOOKUP(D185,gi2taxid!A:E,4,FALSE)","v":"Trichomonas vaginalis G3"}]
["OLPV1_322510656",0,"hypothetical protein BRAFLDRAFT_67462 [Branchiostoma floridae]","ref|XP_002613972.1|",788,31,128,6.9999999999999999E-4,42.7,{"$f":"VLOOKUP(K186,gi2taxid!G:H,2,FALSE)","v":"Metazoa"},{"$f":"VLOOKUP(D186,gi2taxid!A:E,4,FALSE)","v":"Branchiostoma floridae"}]
["OLPV1_322510657","permease mdr type","GF12010 [Drosophila ananassae]","ref|XP_001959521.1|",351,31,59,1.4E-2,35.4,{"$f":"VLOOKUP(K187,gi2taxid!G:H,2,FALSE)","v":"Metazoa"},{"$f":"VLOOKUP(D187,gi2taxid!A:E,4,FALSE)","v":"Drosophila ananassae"}]
["OLPV1_322510658","superfamily ii helicase vv d11 ","mg552 gene product [Megavirus chiliensis]","ref|YP_004894603.1|",791,29,500,9.9999999999999994E-37,149,{"$f":"VLOOKUP(K188,gi2taxid!G:H,2,FALSE)","v":"Mimiviridae"},{"$f":"VLOOKUP(D188,gi2taxid!A:E,4,FALSE)","v":"Megavirus chiliensis"}]
["OLPV1_322510659","nudix hydrolase","putative NUDIX-like hydrolase [Cafeteria roenbergensis virus BV-PW1]","ref|YP_003970079.1|",298,35,235,1.0000000000000001E-32,123,{"$f":"VLOOKUP(K189,gi2taxid!G:H,2,FALSE)","v":"unclassified_dsDNA_viruses (CroV)"},{"$f":"VLOOKUP(D189,gi2taxid!A:E,4,FALSE)","v":"Cafeteria roenbergensis virus BV-PW1"}]
["OLPV1_322510660","sugar fermentation stimulation a","LOW QUALITY PROTEIN: sugar fermentation stimulation protein A [Aggregatibacter actinomycetemcomitans ANH9381]","ref|YP_004949241.1|",240,27,88,1.2999999999999999E-2,35,{"$f":"VLOOKUP(K190,gi2taxid!G:H,2,FALSE)","v":"Gammaproteobacteria"},{"$f":"VLOOKUP(D190,gi2taxid!A:E,4,FALSE)","v":"Aggregatibacter actinomycetemcomitans ANH9381"}]
["OLPV1_322510661","hnh endonuclease","hypothetical protein L8106_14915 [Lyngbya sp. PCC 8106]","ref|ZP_01619256.1|",82,42,59,3E-9,52,{"$f":"VLOOKUP(K191,gi2taxid!G:H,2,FALSE)","v":"Oscillatoriales"},{"$f":"VLOOKUP(D191,gi2taxid!A:E,4,FALSE)","v":"Lyngbya sp. PCC 8106"}]
["OLPV1_322510662","stu1486","hypothetical protein Y1U_C1379 [Streptococcus thermophilus MN-ZLW-002]","ref|YP_006340493.1|",471,25,185,4.8000000000000001E-2,36.6,{"$f":"VLOOKUP(K192,gi2taxid!G:H,2,FALSE)","v":"Bacilli"},{"$f":"VLOOKUP(D192,gi2taxid!A:E,4,FALSE)","v":"Streptococcus thermophilus MN-ZLW-002"}]
["OLPV1_322510663","pyruvate dehydrogenase e2 component 1 ","pyruvate dehydrogenase E2 component (dihydrolipoamide acetyltransferase) [Novosphingobium sp. Rr 2-17]","ref|ZP_10360439.1|",435,32,90,2E-3,40,{"$f":"VLOOKUP(K193,gi2taxid!G:H,2,FALSE)","v":"Alphaproteobacteria"},{"$f":"VLOOKUP(D193,gi2taxid!A:E,4,FALSE)","v":"Novosphingobium sp. Rr 2-17"}]
["OLPV1_322510664","transposase","transposase [Sinorhizobium meliloti AK83]","ref|YP_004551971.1|",314,26,155,3E-9,56.2,{"$f":"VLOOKUP(K194,gi2taxid!G:H,2,FALSE)","v":"Alphaproteobacteria"},{"$f":"VLOOKUP(D194,gi2taxid!A:E,4,FALSE)","v":"Sinorhizobium meliloti AK83"}]
["OLPV1_322510665","ankyrin repeat 12 isoform 1","conserved hypothetical protein [Ricinus communis]","ref|XP_002518075.1|",356,26,102,3.5000000000000003E-2,35.799999999999997,{"$f":"VLOOKUP(K195,gi2taxid!G:H,2,FALSE)","v":"Streptophyta"},{"$f":"VLOOKUP(D195,gi2taxid!A:E,4,FALSE)","v":"Ricinus communis"}]
["OLPV1_322510666","type ii dna modification enzyme methyltransferase","putative type II DNA modification enzyme (methyltransferase) [Campylobacter upsaliensis RM3195]","ref|ZP_00372070.1|",377,50,251,3.0000000000000001E-83,258,{"$f":"VLOOKUP(K196,gi2taxid!G:H,2,FALSE)","v":"delta-epsilon_subdivisions"},{"$f":"VLOOKUP(D196,gi2taxid!A:E,4,FALSE)","v":"Campylobacter upsaliensis RM3195"}]
["OLPV1_322510667","zinc finger 467","PREDICTED: zinc finger protein 235-like [Cricetulus griseus]","ref|XP_003508418.1|",648,54,24,2.0000000000000001E-4,39.700000000000003,{"$f":"VLOOKUP(K197,gi2taxid!G:H,2,FALSE)","v":"Metazoa"},{"$f":"VLOOKUP(D197,gi2taxid!A:E,4,FALSE)","v":"Cricetulus griseus"}]
["OLPV1_322510668","transcriptional regulator lysr","transcriptional regulator, LysR family [Burkholderia pseudomallei 1655]","ref|ZP_04891401.1|",400,30,54,4.0000000000000001E-10,57.4,{"$f":"VLOOKUP(K198,gi2taxid!G:H,2,FALSE)","v":"Betaproteobacteria"},{"$f":"VLOOKUP(D198,gi2taxid!A:E,4,FALSE)","v":"Burkholderia pseudomallei 1655"}]
["OLPV1_322510669","sugar fermentation stimulation a","sugar fermentation stimulation protein [Cyanothece sp. PCC 8802]","ref|YP_003137459.1|",242,36,77,3.9999999999999998E-7,47,{"$f":"VLOOKUP(K199,gi2taxid!G:H,2,FALSE)","v":"Chroococcales"},{"$f":"VLOOKUP(D199,gi2taxid!A:E,4,FALSE)","v":"Cyanothece sp. PCC 8802"}]
["OLPV1_322510670","sugar fermentation stimulation a","sugar fermentation stimulation protein A [Agrobacterium radiobacter K84]","ref|YP_002544338.1|",249,38,94,8.0000000000000002E-13,62.8,{"$f":"VLOOKUP(K200,gi2taxid!G:H,2,FALSE)","v":"Alphaproteobacteria"},{"$f":"VLOOKUP(D200,gi2taxid!A:E,4,FALSE)","v":"Agrobacterium radiobacter K84"}]
["OLPV1_322510671","rudimentary isoform a","GM13455 [Drosophila sechellia]","ref|XP_002042277.1|",1847,46,24,2.8000000000000001E-2,32.299999999999997,{"$f":"VLOOKUP(K201,gi2taxid!G:H,2,FALSE)","v":"Metazoa"},{"$f":"VLOOKUP(D201,gi2taxid!A:E,4,FALSE)","v":"Drosophila sechellia"}]
["OLPV1_322510672","ribonuclease h1","ribonuclease H, putative [Candida dubliniensis CD36]","ref|XP_002421057.1|",233,35,222,3.0000000000000002E-33,122,{"$f":"VLOOKUP(K202,gi2taxid!G:H,2,FALSE)","v":"Fungi"},{"$f":"VLOOKUP(D202,gi2taxid!A:E,4,FALSE)","v":"Candida dubliniensis CD36"}]
["OLPV1_322510673","mucin","hypothetical protein FG05776.1 [Gibberella zeae PH-1]","ref|XP_385952.1|",412,41,95,6E-10,56.6,{"$f":"VLOOKUP(K203,gi2taxid!G:H,2,FALSE)","v":"Fungi"},{"$f":"VLOOKUP(D203,gi2taxid!A:E,4,FALSE)","v":"Gibberella zeae PH-1"}]
["OLPV1_322510674","closci_02749","hypothetical protein Htur_3744 [Haloterrigena turkmenica DSM 5511]","ref|YP_003405279.1|",185,36,74,2.9999999999999997E-4,40.4,{"$f":"VLOOKUP(K204,gi2taxid!G:H,2,FALSE)","v":"Halobacteria"},{"$f":"VLOOKUP(D204,gi2taxid!A:E,4,FALSE)","v":"Haloterrigena turkmenica DSM 5511"}]
["OLPV1_322510675","g patch","PREDICTED: kelch-like protein 34-like [Xenopus (Silurana) tropicalis]","ref|XP_002936091.1|",596,47,32,0.02,32.299999999999997,{"$f":"VLOOKUP(K205,gi2taxid!G:H,2,FALSE)","v":"Metazoa"},{"$f":"VLOOKUP(D205,gi2taxid!A:E,4,FALSE)","v":"Xenopus (Silurana) tropicalis"}]
["OLPV1_322510676","heat shock 70 hsp70","rIIA protector from prophage-induced early lysis [Aeromonas phage 44RR2.8t]","ref|NP_932356.1|",705,34,44,6.0000000000000001E-3,34.299999999999997,{"$f":"VLOOKUP(K206,gi2taxid!G:H,2,FALSE)","v":"Caudovirales"},{"$f":"VLOOKUP(D206,gi2taxid!A:E,4,FALSE)","v":"Aeromonas phage 44RR2.8t"}]
["OLPV1_322510677",0,"hypothetical protein [Cyanothece sp. PCC 7425]","ref|YP_002482781.1|",482,46,357,1.9999999999999999E-75,254,{"$f":"VLOOKUP(K207,gi2taxid!G:H,2,FALSE)","v":"Chroococcales"},{"$f":"VLOOKUP(D207,gi2taxid!A:E,4,FALSE)","v":"Cyanothece sp. PCC 7425"}]
["OLPV1_322510678","cytochrome c","hypothetical protein TTHERM_01111070 [Tetrahymena thermophila]","ref|XP_001025939.2|",859,26,117,1E-3,40,{"$f":"VLOOKUP(K208,gi2taxid!G:H,2,FALSE)","v":"Ciliophora"},{"$f":"VLOOKUP(D208,gi2taxid!A:E,4,FALSE)","v":"Tetrahymena thermophila"}]
["OLPV1_322510679","cell division ftsz","cell division protein FtsZ [Roseobacter sp. AzwK-3b]","ref|ZP_01903065.1|",544,34,68,2E-3,36.200000000000003,{"$f":"VLOOKUP(K209,gi2taxid!G:H,2,FALSE)","v":"Alphaproteobacteria"},{"$f":"VLOOKUP(D209,gi2taxid!A:E,4,FALSE)","v":"Roseobacter sp. AzwK-3b"}]
["OLPV1_322510680","lipoprotein","hypothetical protein LA_2447 [Leptospira interrogans serovar Lai str. 56601]","ref|NP_712628.1|",498,47,98,8.9999999999999994E-21,87,{"$f":"VLOOKUP(K210,gi2taxid!G:H,2,FALSE)","v":"Spirochaetia"},{"$f":"VLOOKUP(D210,gi2taxid!A:E,4,FALSE)","v":"Leptospira interrogans serovar Lai str. 56601"}]
["OLPV1_322510681","leucine rich repeat","leucine Rich repeat-containing domain protein [Cardiobacterium valvarum F0432]","ref|ZP_09446706.1|",429,59,41,1.0000000000000001E-9,53.5,{"$f":"VLOOKUP(K211,gi2taxid!G:H,2,FALSE)","v":"Gammaproteobacteria"},{"$f":"VLOOKUP(D211,gi2taxid!A:E,4,FALSE)","v":"Cardiobacterium valvarum F0432"}]
["OLPV1_322510682","competence","ECF subfamily RNA polymerase sigma-24 subunit [Hirschia baltica ATCC 49814]","ref|YP_003059487.1|",418,50,28,1.7999999999999999E-2,32,{"$f":"VLOOKUP(K212,gi2taxid!G:H,2,FALSE)","v":"Alphaproteobacteria"},{"$f":"VLOOKUP(D212,gi2taxid!A:E,4,FALSE)","v":"Hirschia baltica ATCC 49814"}]
["OLPV1_322510683","radial spoke head 10 b","PREDICTED: hypothetical protein LOC100743411 [Bombus impatiens]","ref|XP_003485413.1|",425,44,75,9.9999999999999994E-12,61.6,{"$f":"VLOOKUP(K213,gi2taxid!G:H,2,FALSE)","v":"Metazoa"},{"$f":"VLOOKUP(D213,gi2taxid!A:E,4,FALSE)","v":"Bombus impatiens"}]
["OLPV1_322510684","atp dependent dna helicase pif1 5' 3' ","PREDICTED: PIF1 5'-to-3' DNA helicase homolog (S. cerevisiae), partial [Taeniopygia guttata]","ref|XP_002188590.1|",454,36,424,5E-74,242,{"$f":"VLOOKUP(K214,gi2taxid!G:H,2,FALSE)","v":"Metazoa"},{"$f":"VLOOKUP(D214,gi2taxid!A:E,4,FALSE)","v":"Taeniopygia guttata"}]
["OLPV1_322510685","glucose 1 phosphate adenylyltransferase subunit","hypothetical protein AaeL_AAEL013335 [Aedes aegypti]","ref|XP_001663484.1|",807,24,100,5.0000000000000001E-3,35,{"$f":"VLOOKUP(K215,gi2taxid!G:H,2,FALSE)","v":"Metazoa"},{"$f":"VLOOKUP(D215,gi2taxid!A:E,4,FALSE)","v":"Aedes aegypti"}]
["OLPV1_322510686","tata box binding","hypothetical protein OlV1_136c [Ostreococcus lucimarinus virus OlV1]","ref|YP_004061769.1|",285,26,179,4.0000000000000002E-9,57.4,{"$f":"VLOOKUP(K216,gi2taxid!G:H,2,FALSE)","v":"Phycodnaviridae"},{"$f":"VLOOKUP(D216,gi2taxid!A:E,4,FALSE)","v":"Ostreococcus lucimarinus virus OlV1"}]
["OLPV1_322510687","replication factor c subunit 2","PREDICTED: replication factor C subunit 5 [Vitis vinifera]","ref|XP_002285868.1|",360,40,218,1.9999999999999999E-47,165,{"$f":"VLOOKUP(K217,gi2taxid!G:H,2,FALSE)","v":"Streptophyta"},{"$f":"VLOOKUP(D217,gi2taxid!A:E,4,FALSE)","v":"Vitis vinifera"}]
["OLPV1_322510688","zinc finger dna binding","mg438 gene product [Megavirus chiliensis]","ref|YP_004894489.1|",346,25,300,6E-9,56.6,{"$f":"VLOOKUP(K218,gi2taxid!G:H,2,FALSE)","v":"Mimiviridae"},{"$f":"VLOOKUP(D218,gi2taxid!A:E,4,FALSE)","v":"Megavirus chiliensis"}]
["OLPV1_322510689",0,"predicted protein [Populus trichocarpa]","ref|XP_002310786.1|",439,57,21,9.2999999999999999E-2,30,{"$f":"VLOOKUP(K219,gi2taxid!G:H,2,FALSE)","v":"Streptophyta"},{"$f":"VLOOKUP(D219,gi2taxid!A:E,4,FALSE)","v":"Populus trichocarpa"}]
["OLPV1_322510690","rumgna_01696","NADH dehydrogenase subunit L [Roseovarius sp. TM1035]","ref|ZP_01879625.1|",694,40,48,4.2999999999999997E-2,31.6,{"$f":"VLOOKUP(K220,gi2taxid!G:H,2,FALSE)","v":"Alphaproteobacteria"},{"$f":"VLOOKUP(D220,gi2taxid!A:E,4,FALSE)","v":"Roseovarius sp. TM1035"}]
["OLPV1_322510691","rna recognition motif","fructokinase-2 [Staphylococcus warneri L37603]","ref|ZP_04678737.1|",318,27,127,2E-3,39.299999999999997,{"$f":"VLOOKUP(K221,gi2taxid!G:H,2,FALSE)","v":"Bacilli"},{"$f":"VLOOKUP(D221,gi2taxid!A:E,4,FALSE)","v":"Staphylococcus warneri L37603"}]
["OLPV1_322510692","sensor histidine kinase","sensor histidine kinase [Clostridium botulinum B1 str. Okra]","ref|YP_001779970.1|",326,30,46,2.5999999999999999E-2,32,{"$f":"VLOOKUP(K222,gi2taxid!G:H,2,FALSE)","v":"Clostridia"},{"$f":"VLOOKUP(D222,gi2taxid!A:E,4,FALSE)","v":"Clostridium botulinum B1 str. Okra"}]
["OLPV1_322510693","glycogen synthase","predicted protein [Thalassiosira pseudonana CCMP1335]","ref|XP_002293651.1|",1429,30,89,0.05,33.5,{"$f":"VLOOKUP(K223,gi2taxid!G:H,2,FALSE)","v":"Bacillariophyta"},{"$f":"VLOOKUP(D223,gi2taxid!A:E,4,FALSE)","v":"Thalassiosira pseudonana CCMP1335"}]
["OLPV1_322510694","26s proteasome non atpase regulatory subunit","polyprenyl synthetase [Elizabethkingia anophelis Ag1]","ref|ZP_09416047.1|",325,32,106,2E-3,37.4,{"$f":"VLOOKUP(K224,gi2taxid!G:H,2,FALSE)","v":"Bacteroidetes"},{"$f":"VLOOKUP(D224,gi2taxid!A:E,4,FALSE)","v":"Elizabethkingia anophelis Ag1"}]
["OLPV1_322510695","patatin phospholipase 4","Patatin like protein [Phytophthora infestans T30-4]","ref|XP_002902128.1|",265,26,238,4.0000000000000001E-8,53.1,{"$f":"VLOOKUP(K225,gi2taxid!G:H,2,FALSE)","v":"Oomycetes"},{"$f":"VLOOKUP(D225,gi2taxid!A:E,4,FALSE)","v":"Phytophthora infestans T30-4"}]
["OLPV1_322510696","olv1_030c","hypothetical protein OlV1_030c [Ostreococcus lucimarinus virus OlV1]","ref|YP_004061663.1|",178,39,148,5.9999999999999995E-25,97.4,{"$f":"VLOOKUP(K226,gi2taxid!G:H,2,FALSE)","v":"Phycodnaviridae"},{"$f":"VLOOKUP(D226,gi2taxid!A:E,4,FALSE)","v":"Ostreococcus lucimarinus virus OlV1"}]
["OLPV1_322510697","dna directed rna polymerase subunit 6","DNA-directed RNA polymerase subunit K [Encephalitozoon intestinalis ATCC 50506]","ref|XP_003073320.1|",116,38,84,7.0000000000000005E-8,48.9,{"$f":"VLOOKUP(K227,gi2taxid!G:H,2,FALSE)","v":"Fungi"},{"$f":"VLOOKUP(D227,gi2taxid!A:E,4,FALSE)","v":"Encephalitozoon intestinalis ATCC 50506"}]
["OLPV1_322510698","dna directed rna polymerase ii subunit rpb9","RNA polymerase II core subunit [Dictyostelium purpureum]","ref|XP_003291110.1|",109,26,113,9.9999999999999995E-7,43.9,{"$f":"VLOOKUP(K228,gi2taxid!G:H,2,FALSE)","v":"Mycetozoa"},{"$f":"VLOOKUP(D228,gi2taxid!A:E,4,FALSE)","v":"Dictyostelium purpureum"}]
["OLPV1_322510699","ubiquitin conjugating enzyme e2 z","putative ubiquitin-conjugating enzyme E2 [Cafeteria roenbergensis virus BV-PW1]","ref|YP_003970126.1|",236,51,152,2E-41,144,{"$f":"VLOOKUP(K229,gi2taxid!G:H,2,FALSE)","v":"unclassified_dsDNA_viruses (CroV)"},{"$f":"VLOOKUP(D229,gi2taxid!A:E,4,FALSE)","v":"Cafeteria roenbergensis virus BV-PW1"}]
["OLPV1_322510700","d5 ntpase involved dna replication","mg305 gene product [Megavirus chiliensis]","ref|YP_004894356.1|",943,29,907,3.9999999999999997E-88,304,{"$f":"VLOOKUP(K230,gi2taxid!G:H,2,FALSE)","v":"Mimiviridae"},{"$f":"VLOOKUP(D230,gi2taxid!A:E,4,FALSE)","v":"Megavirus chiliensis"}]
["OLPV1_322510701","transposase","Glycosyl hydrolase family 20, catalytic domain containing protein [Brugia malayi]","ref|XP_001898837.1|",508,24,147,5.9999999999999995E-4,41.2,{"$f":"VLOOKUP(K231,gi2taxid!G:H,2,FALSE)","v":"Metazoa"},{"$f":"VLOOKUP(D231,gi2taxid!A:E,4,FALSE)","v":"Brugia malayi"}]
["OLPV1_322510702","lipase chaperone","calcium-transporting ATPase [Fluoribacter dumoffii Tex-KL]","ref|ZP_10137631.1|",1144,32,57,8.0000000000000002E-3,34.700000000000003,{"$f":"VLOOKUP(K232,gi2taxid!G:H,2,FALSE)","v":"Gammaproteobacteria"},{"$f":"VLOOKUP(D232,gi2taxid!A:E,4,FALSE)","v":"Fluoribacter dumoffii Tex-KL"}]
["OLPV1_322510703","dna directed rna polymerases ii 24 kda polypeptide","KLTH0G15598p [Lachancea thermotolerans]","ref|XP_002555711.1|",215,51,77,5.0000000000000004E-16,73.900000000000006,{"$f":"VLOOKUP(K233,gi2taxid!G:H,2,FALSE)","v":"Fungi"},{"$f":"VLOOKUP(D233,gi2taxid!A:E,4,FALSE)","v":"Lachancea thermotolerans CBS 6340"}]
["OLPV1_322510704","trna pseudouridine synthase","hypothetical protein BRAFLDRAFT_89774 [Branchiostoma floridae]","ref|XP_002588796.1|",462,34,68,4.0000000000000002E-9,56.6,{"$f":"VLOOKUP(K234,gi2taxid!G:H,2,FALSE)","v":"Metazoa"},{"$f":"VLOOKUP(D234,gi2taxid!A:E,4,FALSE)","v":"Branchiostoma floridae"}]
["OLPV1_322510705","dna directed rna polymerase ii subunit b' rpob1","predicted protein [Micromonas pusilla CCMP1545]","ref|XP_003056094.1|",1172,48,71,4.0000000000000003E-17,77,{"$f":"VLOOKUP(K235,gi2taxid!G:H,2,FALSE)","v":"Chlorophyta"},{"$f":"VLOOKUP(D235,gi2taxid!A:E,4,FALSE)","v":"Micromonas pusilla CCMP1545"}]
["OLPV1_322510706","dna directed rna polymerase ii subunit rpb2","PREDICTED: DNA-directed RNA polymerase II subunit RPB2-like [Loxodonta africana]","ref|XP_003415980.1|",1010,58,64,2.0000000000000001E-18,80.099999999999994,{"$f":"VLOOKUP(K236,gi2taxid!G:H,2,FALSE)","v":"Metazoa"},{"$f":"VLOOKUP(D236,gi2taxid!A:E,4,FALSE)","v":"Loxodonta africana"}]
["OLPV1_322510707","dna directed rna polymerase ii subunit rpb2","DNA-directed RNA polymerase subunit beta [Encephalitozoon intestinalis ATCC 50506]","ref|XP_003073707.1|",1140,33,1029,3.9999999999999999E-171,535,{"$f":"VLOOKUP(K237,gi2taxid!G:H,2,FALSE)","v":"Fungi"},{"$f":"VLOOKUP(D237,gi2taxid!A:E,4,FALSE)","v":"Encephalitozoon intestinalis ATCC 50506"}]
["OLPV1_322510708","major facilitator superfamily","major facilitator superfamily transporter, partial [Verminephrobacter aporrectodeae subsp. tuberculatae At4]","ref|ZP_08871588.1|",254,33,51,1.4999999999999999E-2,33.9,{"$f":"VLOOKUP(K238,gi2taxid!G:H,2,FALSE)","v":"Betaproteobacteria"},{"$f":"VLOOKUP(D238,gi2taxid!A:E,4,FALSE)","v":"Verminephrobacter aporrectodeae subsp. tuberculatae At4"}]
["OLPV1_322510709","dna directed rna polymerase ii iii subunit rpabc5","DNA-directed RNA polymerase RPB10 [Giardia lamblia ATCC 50803]","ref|XP_001708426.1|",122,49,74,2.0000000000000001E-18,75.099999999999994,{"$f":"VLOOKUP(K239,gi2taxid!G:H,2,FALSE)","v":"Diplomonadida"},{"$f":"VLOOKUP(D239,gi2taxid!A:E,4,FALSE)","v":"Giardia lamblia ATCC 50803"}]
["OLPV1_322510710","mismatch repair atpase","MutS-related protein [Nautilia profundicola AmH]","ref|YP_002607133.1|",917,32,958,8.0000000000000002E-117,384,{"$f":"VLOOKUP(K240,gi2taxid!G:H,2,FALSE)","v":"delta-epsilon_subdivisions"},{"$f":"VLOOKUP(D240,gi2taxid!A:E,4,FALSE)","v":"Nautilia profundicola AmH"}]
["OLPV1_322510711","ras ef hand isoform 1","PREDICTED: ras and EF-hand domain-containing protein homolog isoform 3 [Strongylocentrotus purpuratus]","ref|XP_785593.3|",750,31,58,6.0000000000000001E-3,36.6,{"$f":"VLOOKUP(K241,gi2taxid!G:H,2,FALSE)","v":"Metazoa"},{"$f":"VLOOKUP(D241,gi2taxid!A:E,4,FALSE)","v":"Strongylocentrotus purpuratus"}]
["OLPV1_322510712","dystonin isoform 1","PREDICTED: hypothetical protein LOC100117456 [Nasonia vitripennis]","ref|XP_001601689.2|",1704,27,131,6.9999999999999999E-4,40.799999999999997,{"$f":"VLOOKUP(K242,gi2taxid!G:H,2,FALSE)","v":"Metazoa"},{"$f":"VLOOKUP(D242,gi2taxid!A:E,4,FALSE)","v":"Nasonia vitripennis"}]
["OLPV1_322510713","odd oz","tRNA(Ile)-lysidine synthetase [Atopobium vaginae DSM 15829]","ref|ZP_07664381.1|",509,40,55,3.0000000000000001E-3,36.200000000000003,{"$f":"VLOOKUP(K243,gi2taxid!G:H,2,FALSE)","v":"Actinobacteria"},{"$f":"VLOOKUP(D243,gi2taxid!A:E,4,FALSE)","v":"Atopobium vaginae DSM 15829"}]
["OLPV1_322510714","lon protease","putative Lon protease [Cafeteria roenbergensis virus BV-PW1]","ref|YP_003969668.1|",811,39,388,9.0000000000000006E-75,255,{"$f":"VLOOKUP(K244,gi2taxid!G:H,2,FALSE)","v":"unclassified_dsDNA_viruses (CroV)"},{"$f":"VLOOKUP(D244,gi2taxid!A:E,4,FALSE)","v":"Cafeteria roenbergensis virus BV-PW1"}]
["OLPV1_322510715","dna directed rna polymerase ii subunit rpb1","hypothetical protein DICPUDRAFT_149604 [Dictyostelium purpureum]","ref|XP_003285719.1|",1755,39,1483,0,998,{"$f":"VLOOKUP(K245,gi2taxid!G:H,2,FALSE)","v":"Mycetozoa"},{"$f":"VLOOKUP(D245,gi2taxid!A:E,4,FALSE)","v":"Dictyostelium purpureum"}]
["OLPV1_322510716","ttherm_00031700","putative helicase [Acanthamoeba polyphaga mimivirus]","ref|YP_003986482.1|",1035,29,85,1.4E-2,38.5,{"$f":"VLOOKUP(K246,gi2taxid!G:H,2,FALSE)","v":"Mimiviridae"},{"$f":"VLOOKUP(D246,gi2taxid!A:E,4,FALSE)","v":"Acanthamoeba polyphaga mimivirus"}]
["OLPV1_322510717",0,"hypothetical protein [Clostridium botulinum A str. ATCC 3502]","ref|YP_001252723.1|",549,36,77,7.0000000000000001E-3,39.700000000000003,{"$f":"VLOOKUP(K247,gi2taxid!G:H,2,FALSE)","v":"Clostridia"},{"$f":"VLOOKUP(D247,gi2taxid!A:E,4,FALSE)","v":"Clostridium botulinum A str. ATCC 3502"}]
["OLPV1_322510718",{"$error":"#N/A"},{"$nulls":7},{"$f":"VLOOKUP(K248,gi2taxid!G:H,2,FALSE)","v":{"$error":"#N/A"}},{"$f":"VLOOKUP(D248,gi2taxid!A:E,4,FALSE)","v":{"$error":"#N/A"}}]
["OLPV1_322510719",{"$error":"#N/A"},{"$nulls":7},{"$f":"VLOOKUP(K249,gi2taxid!G:H,2,FALSE)","v":{"$error":"#N/A"}},{"$f":"VLOOKUP(D249,gi2taxid!A:E,4,FALSE)","v":{"$error":"#N/A"}}]
["OLPV1_322510720","maoc","putative dehydratase [Pseudomonas fluorescens SBW25]","ref|YP_002873089.1|",296,22,119,6.9999999999999997E-7,47,{"$f":"VLOOKUP(K250,gi2taxid!G:H,2,FALSE)","v":"Gammaproteobacteria"},{"$f":"VLOOKUP(D250,gi2taxid!A:E,4,FALSE)","v":"Pseudomonas fluorescens SBW25"}]
["OLPV1_322510721","rna polymerase subunit beta","replication protein [Fusobacterium nucleatum subsp. polymorphum ATCC 10953]","ref|YP_001259980.1|",561,31,89,4.0000000000000001E-3,39.700000000000003,{"$f":"VLOOKUP(K251,gi2taxid!G:H,2,FALSE)","v":"Fusobacteriia"},{"$f":"VLOOKUP(D251,gi2taxid!A:E,4,FALSE)","v":"Fusobacterium nucleatum subsp. polymorphum ATCC 10953"}]
["OLPV1_322510722","metallopeptidase wlm","putative metal-dependent hydrolase [Cafeteria roenbergensis virus BV-PW1]","ref|YP_003969923.1|",195,35,187,9.9999999999999992E-25,97.8,{"$f":"VLOOKUP(K252,gi2taxid!G:H,2,FALSE)","v":"unclassified_dsDNA_viruses (CroV)"},{"$f":"VLOOKUP(D252,gi2taxid!A:E,4,FALSE)","v":"Cafeteria roenbergensis virus BV-PW1"}]
["OLPV1_322510723",0,"hypothetical protein AR158_C444L [Paramecium bursaria Chlorella virus AR158]","ref|YP_001498525.1|",207,36,109,2.0000000000000002E-15,72,{"$f":"VLOOKUP(K253,gi2taxid!G:H,2,FALSE)","v":"Phycodnaviridae"},{"$f":"VLOOKUP(D253,gi2taxid!A:E,4,FALSE)","v":"Paramecium bursaria Chlorella virus AR158"}]
["OLPV1_322510724",0,"predicted protein [Naegleria gruberi]","ref|XP_002669781.1|",361,40,52,2E-3,35.799999999999997,{"$f":"VLOOKUP(K254,gi2taxid!G:H,2,FALSE)","v":"Schizopyrenida"},{"$f":"VLOOKUP(D254,gi2taxid!A:E,4,FALSE)","v":"Naegleria gruberi strain NEG-M"}]
["OLPV1_322510725","had superfamily","JmjC domain containing protein [Plasmodium falciparum 3D7]","ref|XP_001349427.1|",1259,52,62,6.9999999999999996E-10,61.2,{"$f":"VLOOKUP(K255,gi2taxid!G:H,2,FALSE)","v":"Apicomplexa"},{"$f":"VLOOKUP(D255,gi2taxid!A:E,4,FALSE)","v":"Plasmodium falciparum 3D7"}]
["OLPV1_322510726","glutamine n5 methyltransferase release factor specific","30S ribosomal protein S15 [Krokinobacter sp. 4H-3-7-5]","ref|YP_004429764.1|",89,42,36,1.4999999999999999E-2,30.4,{"$f":"VLOOKUP(K256,gi2taxid!G:H,2,FALSE)","v":"Bacteroidetes"},{"$f":"VLOOKUP(D256,gi2taxid!A:E,4,FALSE)","v":"Krokinobacter sp. 4H-3-7-5"}]
["OLPV1_322510727","dead deah box helicase","PREDICTED: hypothetical protein LOC100553043 [Anolis carolinensis]","ref|XP_003216374.1|",2082,39,57,1.4999999999999999E-2,33.1,{"$f":"VLOOKUP(K257,gi2taxid!G:H,2,FALSE)","v":"Metazoa"},{"$f":"VLOOKUP(D257,gi2taxid!A:E,4,FALSE)","v":"Anolis carolinensis"}]
["OLPV1_322510728","versican core isoform 3 precursor","PREDICTED: versican [Oryctolagus cuniculus]","ref|XP_002713921.1|",3372,29,143,6E-10,60.5,{"$f":"VLOOKUP(K258,gi2taxid!G:H,2,FALSE)","v":"Metazoa"},{"$f":"VLOOKUP(D258,gi2taxid!A:E,4,FALSE)","v":"Oryctolagus cuniculus"}]
["OLPV1_322510729","ubiquitin carboxyl terminal hydrolase 2 isoform c","ubiquitin carboxyl-terminal hydrolase 2 [Gallus gallus]","ref|NP_990257.1|",403,30,341,6.0000000000000003E-36,135,{"$f":"VLOOKUP(K259,gi2taxid!G:H,2,FALSE)","v":"Metazoa"},{"$f":"VLOOKUP(D259,gi2taxid!A:E,4,FALSE)","v":"Gallus gallus"}]
["OLPV1_322510730","deoxyribodipyrimidine photo lyase type i","deoxyribodipyrimidine photo-lyase [Methanosalsum zhilinae DSM 4017]","ref|YP_004616121.1|",457,41,464,1E-108,333,{"$f":"VLOOKUP(K260,gi2taxid!G:H,2,FALSE)","v":"Methanomicrobia"},{"$f":"VLOOKUP(D260,gi2taxid!A:E,4,FALSE)","v":"Methanosalsum zhilinae DSM 4017"}]
["OLPV1_322510731","transcription factor","transcription factor (predicted) [Schizosaccharomyces pombe 972h-]","ref|XP_001713074.1|",594,39,38,6.0999999999999999E-2,31.2,{"$f":"VLOOKUP(K261,gi2taxid!G:H,2,FALSE)","v":"Fungi"},{"$f":"VLOOKUP(D261,gi2taxid!A:E,4,FALSE)","v":"Schizosaccharomyces pombe 972h-"}]
["OLPV1_322510732",0,"hypothetical protein BSG1_13111 [Bacillus sp. SG-1]","ref|ZP_01861796.1|",156,38,123,2.0000000000000002E-15,70.5,{"$f":"VLOOKUP(K262,gi2taxid!G:H,2,FALSE)","v":"Bacilli"},{"$f":"VLOOKUP(D262,gi2taxid!A:E,4,FALSE)","v":"Bacillus sp. SG-1"}]
["OLPV1_322510733","r2apbs1draft_1341","hypothetical protein [Frateuria aurantia DSM 6220]","ref|YP_005377477.1|",130,37,127,6.0000000000000001E-23,89.4,{"$f":"VLOOKUP(K263,gi2taxid!G:H,2,FALSE)","v":"Gammaproteobacteria"},{"$f":"VLOOKUP(D263,gi2taxid!A:E,4,FALSE)","v":"Frateuria aurantia DSM 6220"}]
["OLPV1_322510734","tpr repeat","hypothetical protein WQE_24442 [Burkholderia terrae BS001]","ref|ZP_10251803.1|",520,28,266,6.0000000000000002E-27,113,{"$f":"VLOOKUP(K264,gi2taxid!G:H,2,FALSE)","v":"Betaproteobacteria"},{"$f":"VLOOKUP(D264,gi2taxid!A:E,4,FALSE)","v":"Burkholderia terrae BS001"}]
["OLPV1_322510735",0,"hypothetical protein, conserved [Toxoplasma gondii ME49]","ref|XP_002370635.1|",376,26,111,9.9999999999999995E-8,53.5,{"$f":"VLOOKUP(K265,gi2taxid!G:H,2,FALSE)","v":"Apicomplexa"},{"$f":"VLOOKUP(D265,gi2taxid!A:E,4,FALSE)","v":"Toxoplasma gondii ME49"}]
["OLPV1_322510736","pyruvate dehydrogenase e2 component 1 ","pyruvate dehydrogenase E2 component (dihydrolipoamide acetyltransferase) [Novosphingobium sp. Rr 2-17]","ref|ZP_10360439.1|",435,32,90,2E-3,40,{"$f":"VLOOKUP(K266,gi2taxid!G:H,2,FALSE)","v":"Alphaproteobacteria"},{"$f":"VLOOKUP(D266,gi2taxid!A:E,4,FALSE)","v":"Novosphingobium sp. Rr 2-17"}]
["OLPV1_322510737","stu1486","hypothetical protein Y1U_C1379 [Streptococcus thermophilus MN-ZLW-002]","ref|YP_006340493.1|",471,25,185,4.8000000000000001E-2,36.6,{"$f":"VLOOKUP(K267,gi2taxid!G:H,2,FALSE)","v":"Bacilli"},{"$f":"VLOOKUP(D267,gi2taxid!A:E,4,FALSE)","v":"Streptococcus thermophilus MN-ZLW-002"}]
["OLPV1_322510738","hnh endonuclease","hypothetical protein L8106_14915 [Lyngbya sp. PCC 8106]","ref|ZP_01619256.1|",82,42,59,2.0000000000000001E-9,52,{"$f":"VLOOKUP(K268,gi2taxid!G:H,2,FALSE)","v":"Oscillatoriales"},{"$f":"VLOOKUP(D268,gi2taxid!A:E,4,FALSE)","v":"Lyngbya sp. PCC 8106"}]
["OLPV1_322510739","sugar fermentation stimulation a","LOW QUALITY PROTEIN: sugar fermentation stimulation protein A [Aggregatibacter actinomycetemcomitans ANH9381]","ref|YP_004949241.1|",240,27,88,1.4E-2,35,{"$f":"VLOOKUP(K269,gi2taxid!G:H,2,FALSE)","v":"Gammaproteobacteria"},{"$f":"VLOOKUP(D269,gi2taxid!A:E,4,FALSE)","v":"Aggregatibacter actinomycetemcomitans ANH9381"}]
["OLPV1_322510740","nudix hydrolase","putative NUDIX-like hydrolase [Cafeteria roenbergensis virus BV-PW1]","ref|YP_003970079.1|",298,35,235,1.0000000000000001E-32,123,{"$f":"VLOOKUP(K270,gi2taxid!G:H,2,FALSE)","v":"unclassified_dsDNA_viruses (CroV)"},{"$f":"VLOOKUP(D270,gi2taxid!A:E,4,FALSE)","v":"Cafeteria roenbergensis virus BV-PW1"}]
["OLPV1_322510741","superfamily ii helicase vv d11 ","putative ATP-dependent RNA helicase [Acanthamoeba polyphaga mimivirus]","ref|YP_003987078.1|",573,38,121,7.0000000000000003E-16,78.2,{"$f":"VLOOKUP(K271,gi2taxid!G:H,2,FALSE)","v":"Mimiviridae"},{"$f":"VLOOKUP(D271,gi2taxid!A:E,4,FALSE)","v":"Acanthamoeba polyphaga mimivirus"}]
["OLPV1_322510742","dna directed ","hypothetical protein BRAFLDRAFT_67462 [Branchiostoma floridae]","ref|XP_002613972.1|",788,31,128,8.9999999999999998E-4,43.1,{"$f":"VLOOKUP(K272,gi2taxid!G:H,2,FALSE)","v":"Metazoa"},{"$f":"VLOOKUP(D272,gi2taxid!A:E,4,FALSE)","v":"Branchiostoma floridae"}]
["OLPV1_322510743",0,"GTPase-activator protein [Trichomonas vaginalis G3]","ref|XP_001322811.1|",2181,32,136,3.0000000000000001E-3,40.799999999999997,{"$f":"VLOOKUP(K273,gi2taxid!G:H,2,FALSE)","v":"Trichomonadida"},{"$f":"VLOOKUP(D273,gi2taxid!A:E,4,FALSE)","v":"Trichomonas vaginalis G3"}]
["OLPV1_322510744","serine threonine kinase ark1","hypothetical protein LOAG_08800 [Loa loa]","ref|XP_003144378.1|",427,24,144,2.0000000000000001E-4,41.2,{"$f":"VLOOKUP(K274,gi2taxid!G:H,2,FALSE)","v":"Metazoa"},{"$f":"VLOOKUP(D274,gi2taxid!A:E,4,FALSE)","v":"Loa loa"}]
["OLPV1_322510745","ps273r","putative cysteine protease [Cafeteria roenbergensis virus BV-PW1]","ref|YP_003969816.1|",294,29,305,5.0000000000000002E-26,105,{"$f":"VLOOKUP(K275,gi2taxid!G:H,2,FALSE)","v":"unclassified_dsDNA_viruses (CroV)"},{"$f":"VLOOKUP(D275,gi2taxid!A:E,4,FALSE)","v":"Cafeteria roenbergensis virus BV-PW1"}]
["OLPV1_322510746","mitogen activated kinase ","PREDICTED: protein amnionless-like [Megachile rotundata]","ref|XP_003703705.1|",470,30,53,4.0000000000000002E-4,38.5,{"$f":"VLOOKUP(K276,gi2taxid!G:H,2,FALSE)","v":"Metazoa"},{"$f":"VLOOKUP(D276,gi2taxid!A:E,4,FALSE)","v":"Megachile rotundata"}]
["OLPV1_322510747","dna ligase","hypothetical protein SCHCODRAFT_102239 [Schizophyllum commune H4-8]","ref|XP_003036370.1|",398,41,223,4.0000000000000003E-43,154,{"$f":"VLOOKUP(K277,gi2taxid!G:H,2,FALSE)","v":"Fungi"},{"$f":"VLOOKUP(D277,gi2taxid!A:E,4,FALSE)","v":"Schizophyllum commune H4-8"}]
["OLPV1_322510748",{"$error":"#N/A"},{"$nulls":7},{"$f":"VLOOKUP(K278,gi2taxid!G:H,2,FALSE)","v":{"$error":"#N/A"}},{"$f":"VLOOKUP(D278,gi2taxid!A:E,4,FALSE)","v":{"$error":"#N/A"}}]
["OLPV1_322510749","ribonucleoside diphosphate reductase large chain 1 ribonucleotide ","ADL057Wp [Ashbya gossypii ATCC 10895]","ref|NP_984039.2|",890,52,820,0,880,{"$f":"VLOOKUP(K279,gi2taxid!G:H,2,FALSE)","v":"Fungi"},{"$f":"VLOOKUP(D279,gi2taxid!A:E,4,FALSE)","v":"Ashbya gossypii ATCC 10895"}]
["OLPV1_322510750",0,"conserved hypothetical protein [Mollicutes bacterium D7]","ref|ZP_04566018.1|",497,26,130,2E-3,38.9,{"$f":"VLOOKUP(K280,gi2taxid!G:H,2,FALSE)","v":"Erysipelotrichi"},{"$f":"VLOOKUP(D280,gi2taxid!A:E,4,FALSE)","v":"Coprobacillus sp. D7"}]
["OLPV1_322510751","disulfide oxidoreductase","putative Erv-family thiol oxidoreductase [Cafeteria roenbergensis virus BV-PW1]","ref|YP_003969775.1|",181,54,169,3.0000000000000001E-58,184,{"$f":"VLOOKUP(K281,gi2taxid!G:H,2,FALSE)","v":"unclassified_dsDNA_viruses (CroV)"},{"$f":"VLOOKUP(D281,gi2taxid!A:E,4,FALSE)","v":"Cafeteria roenbergensis virus BV-PW1"}]
["OLPV1_322510752","trna ile lysidine synthetase","tRNA(Ile)-lysidine synthetase [Candidatus Ruthia magnifica str. Cm (Calyptogena magnifica)]","ref|YP_903388.1|",390,35,52,9.7000000000000003E-2,30,{"$f":"VLOOKUP(K282,gi2taxid!G:H,2,FALSE)","v":"Gammaproteobacteria"},{"$f":"VLOOKUP(D282,gi2taxid!A:E,4,FALSE)","v":"Candidatus Ruthia magnifica str. Cm (Calyptogena magnifica)"}]
["OLPV1_322510753","thioredoxin","conserved hypothetical protein [Bacteroides sp. 2_1_33B]","ref|ZP_06075234.1|",107,37,87,1.0000000000000001E-9,52.8,{"$f":"VLOOKUP(K283,gi2taxid!G:H,2,FALSE)","v":"Bacteroidetes"},{"$f":"VLOOKUP(D283,gi2taxid!A:E,4,FALSE)","v":"Bacteroides sp. 2_1_33B"}]
["OLPV1_322510754","mpv1_104c","mg441 gene product [Megavirus chiliensis]","ref|YP_004894492.1|",127,35,107,2.9999999999999997E-8,49.7,{"$f":"VLOOKUP(K284,gi2taxid!G:H,2,FALSE)","v":"Mimiviridae"},{"$f":"VLOOKUP(D284,gi2taxid!A:E,4,FALSE)","v":"Megavirus chiliensis"}]
["OLPV1_322510755","dna translocase ftsk","zinc metalloprotease ZmpB [Gemella haemolysans ATCC 10379]","ref|ZP_04776628.1|",2100,29,195,4.0000000000000001E-8,57.4,{"$f":"VLOOKUP(K285,gi2taxid!G:H,2,FALSE)","v":"Bacilli"},{"$f":"VLOOKUP(D285,gi2taxid!A:E,4,FALSE)","v":"Gemella haemolysans ATCC 10379"}]
["OLPV1_322510756","transcription initiation factor iib general ","putative transcription initiation factor IIb-like protein [Acanthamoeba polyphaga mimivirus]","ref|YP_003986746.1|",461,33,299,3.0000000000000003E-42,154,{"$f":"VLOOKUP(K286,gi2taxid!G:H,2,FALSE)","v":"Mimiviridae"},{"$f":"VLOOKUP(D286,gi2taxid!A:E,4,FALSE)","v":"Acanthamoeba polyphaga mimivirus"}]
["OLPV1_322510757","beta 1 4 galactosyltransferase 7","putative KH domain protein [Trichinella spiralis]","ref|XP_003369271.1|",640,31,181,3.0000000000000001E-17,81.3,{"$f":"VLOOKUP(K287,gi2taxid!G:H,2,FALSE)","v":"Metazoa"},{"$f":"VLOOKUP(D287,gi2taxid!A:E,4,FALSE)","v":"Trichinella spiralis"}]
["OLPV1_322510758","orf1ab polyprotein","PAS/PAC sensor signal transduction histidine kinase [Desulfotomaculum acetoxidans DSM 771]","ref|YP_003189636.1|",871,35,63,1.6E-2,33.5,{"$f":"VLOOKUP(K288,gi2taxid!G:H,2,FALSE)","v":"Clostridia"},{"$f":"VLOOKUP(D288,gi2taxid!A:E,4,FALSE)","v":"Desulfotomaculum acetoxidans DSM 771"}]
["OLPV1_322510759","n acetylmuramoyl l alanine amidase","hypothetical protein B40-8044 [Bacteroides phage B40-8]","ref|YP_002221582.1|",437,36,47,8.0000000000000004E-4,37.700000000000003,{"$f":"VLOOKUP(K289,gi2taxid!G:H,2,FALSE)","v":"Caudovirales"},{"$f":"VLOOKUP(D289,gi2taxid!A:E,4,FALSE)","v":"Bacteroides phage B40-8"}]
["OLPV1_322510760","eukaryotic translation initiation factor 4e type 3","putative eIF-4E [Cafeteria roenbergensis virus BV-PW1]","ref|YP_003969852.1|",163,38,128,5.0000000000000004E-18,78.2,{"$f":"VLOOKUP(K290,gi2taxid!G:H,2,FALSE)","v":"unclassified_dsDNA_viruses (CroV)"},{"$f":"VLOOKUP(D290,gi2taxid!A:E,4,FALSE)","v":"Cafeteria roenbergensis virus BV-PW1"}]
["OLPV1_322510761","brafldraft_117129","U2 snRNP auxiliary factor, small subunit, putative [Plasmodium falciparum 3D7]","ref|XP_001347871.1|",294,31,52,1.0999999999999999E-2,33.9,{"$f":"VLOOKUP(K291,gi2taxid!G:H,2,FALSE)","v":"Apicomplexa"},{"$f":"VLOOKUP(D291,gi2taxid!A:E,4,FALSE)","v":"Plasmodium falciparum 3D7"}]
["OLPV1_322510762","proliferating cell nuclear antigen","hypothetical protein OlV1_111 [Ostreococcus lucimarinus virus OlV1]","ref|YP_004061744.1|",248,34,250,7.9999999999999999E-45,154,{"$f":"VLOOKUP(K292,gi2taxid!G:H,2,FALSE)","v":"Phycodnaviridae"},{"$f":"VLOOKUP(D292,gi2taxid!A:E,4,FALSE)","v":"Ostreococcus lucimarinus virus OlV1"}]
["OLPV1_322510763","l lactate permease","hypothetical protein HIMB114_0045 [alpha proteobacterium HIMB114]","ref|ZP_06054445.1|",81,36,69,1.0000000000000001E-5,41.2,{"$f":"VLOOKUP(K293,gi2taxid!G:H,2,FALSE)","v":"Alphaproteobacteria"},{"$f":"VLOOKUP(D293,gi2taxid!A:E,4,FALSE)","v":"alpha proteobacterium HIMB114"}]
["OLPV1_322510764","rnfabcdge type electron transport complex subunit e","gamma-glutamyltranspeptidase 1 [Sus scrofa]","ref|NP_999195.1|",568,40,68,7.0000000000000001E-3,34.700000000000003,{"$f":"VLOOKUP(K294,gi2taxid!G:H,2,FALSE)","v":"Metazoa"},{"$f":"VLOOKUP(D294,gi2taxid!A:E,4,FALSE)","v":"Sus scrofa"}]
["OLPV1_322510765","cv_3102","predicted protein [Naegleria gruberi]","ref|XP_002670459.1|",485,23,450,2E-16,81.599999999999994,{"$f":"VLOOKUP(K295,gi2taxid!G:H,2,FALSE)","v":"Schizopyrenida"},{"$f":"VLOOKUP(D295,gi2taxid!A:E,4,FALSE)","v":"Naegleria gruberi strain NEG-M"}]
["OLPV1_322510766","sugar fermentation stimulation a","sugar fermentation stimulation protein A [Agrobacterium radiobacter K84]","ref|YP_002544338.1|",249,38,94,8.0000000000000002E-13,62.8,{"$f":"VLOOKUP(K296,gi2taxid!G:H,2,FALSE)","v":"Alphaproteobacteria"},{"$f":"VLOOKUP(D296,gi2taxid!A:E,4,FALSE)","v":"Agrobacterium radiobacter K84"}]
["OLPV1_322510767","transcriptional regulator lysr","putative glycosyl transferase [Neisseria gonorrhoeae FA6140]","ref|ZP_04722494.1|",357,37,68,5.0000000000000002E-5,44.7,{"$f":"VLOOKUP(K297,gi2taxid!G:H,2,FALSE)","v":"Betaproteobacteria"},{"$f":"VLOOKUP(D297,gi2taxid!A:E,4,FALSE)","v":"Neisseria gonorrhoeae FA6140"}]
["OLPV1_322510768","ribonuclease h1","ribonuclease H, putative [Candida dubliniensis CD36]","ref|XP_002421057.1|",233,35,222,5.0000000000000003E-33,121,{"$f":"VLOOKUP(K298,gi2taxid!G:H,2,FALSE)","v":"Fungi"},{"$f":"VLOOKUP(D298,gi2taxid!A:E,4,FALSE)","v":"Candida dubliniensis CD36"}]
["OLPV1_322510769","pt repeat","PREDICTED: hypothetical protein LOC100746493 [Bombus impatiens]","ref|XP_003488634.1|",391,33,150,2.0000000000000001E-18,81.3,{"$f":"VLOOKUP(K299,gi2taxid!G:H,2,FALSE)","v":"Metazoa"},{"$f":"VLOOKUP(D299,gi2taxid!A:E,4,FALSE)","v":"Bombus impatiens"}]
["OLPV1_322510770","gp210","hypothetical protein Krac_6819 [Ktedonobacter racemifer DSM 44963]","ref|ZP_06968054.1|",159,31,103,5.0000000000000001E-4,40.4,{"$f":"VLOOKUP(K300,gi2taxid!G:H,2,FALSE)","v":"Ktedonobacteria"},{"$f":"VLOOKUP(D300,gi2taxid!A:E,4,FALSE)","v":"Ktedonobacter racemifer DSM 44963"}]
["OLPV1_322510771","heat shock 70 hsp70","rIIA protector from prophage-induced early lysis [Aeromonas phage 44RR2.8t]","ref|NP_932356.1|",705,45,31,6.0000000000000001E-3,34.299999999999997,{"$f":"VLOOKUP(K301,gi2taxid!G:H,2,FALSE)","v":"Caudovirales"},{"$f":"VLOOKUP(D301,gi2taxid!A:E,4,FALSE)","v":"Aeromonas phage 44RR2.8t"}]
["OLPV1_322510772","phage major capsid e","Youth, involved in determining longevity [Scheffersomyces stipitis CBS 6054]","ref|XP_001386852.1|",290,37,46,2E-3,37,{"$f":"VLOOKUP(K302,gi2taxid!G:H,2,FALSE)","v":"Fungi"},{"$f":"VLOOKUP(D302,gi2taxid!A:E,4,FALSE)","v":"Scheffersomyces stipitis CBS 6054"}]
["OLPV1_322510773","leucine rich repeat","putative lipoprotein [Psychroflexus torquis ATCC 700755]","ref|ZP_01253158.1|",495,49,142,3.0000000000000003E-29,112,{"$f":"VLOOKUP(K303,gi2taxid!G:H,2,FALSE)","v":"Bacteroidetes"},{"$f":"VLOOKUP(D303,gi2taxid!A:E,4,FALSE)","v":"Psychroflexus torquis ATCC 700755"}]
["OLPV1_322510774","ttherm_00442800","hypothetical protein Aflv_0333 [Anoxybacillus flavithermus WK1]","ref|YP_002314702.1|",1059,30,71,2.3E-2,32.700000000000003,{"$f":"VLOOKUP(K304,gi2taxid!G:H,2,FALSE)","v":"Bacilli"},{"$f":"VLOOKUP(D304,gi2taxid!A:E,4,FALSE)","v":"Anoxybacillus flavithermus WK1"}]
["OLPV1_322510775","small gtp binding","hypothetical protein [Cyanothece sp. PCC 7425]","ref|YP_002482781.1|",482,46,348,7.9999999999999998E-85,276,{"$f":"VLOOKUP(K305,gi2taxid!G:H,2,FALSE)","v":"Chroococcales"},{"$f":"VLOOKUP(D305,gi2taxid!A:E,4,FALSE)","v":"Cyanothece sp. PCC 7425"}]
["OLPV1_322510776","radial spoke head 10 b","PREDICTED: hypothetical protein LOC100743411 [Bombus impatiens]","ref|XP_003485413.1|",425,44,75,9.9999999999999994E-12,61.6,{"$f":"VLOOKUP(K306,gi2taxid!G:H,2,FALSE)","v":"Metazoa"},{"$f":"VLOOKUP(D306,gi2taxid!A:E,4,FALSE)","v":"Bombus impatiens"}]
["OLPV1_322510777","thioredoxin","conserved hypothetical protein [Bacteroides sp. 2_1_33B]","ref|ZP_06075234.1|",107,37,87,1.0000000000000001E-9,52.8,{"$f":"VLOOKUP(K307,gi2taxid!G:H,2,FALSE)","v":"Bacteroidetes"},{"$f":"VLOOKUP(D307,gi2taxid!A:E,4,FALSE)","v":"Bacteroides sp. 2_1_33B"}]
["OLPV1_322510778","trna ile lysidine synthetase","tRNA(Ile)-lysidine synthetase [Candidatus Ruthia magnifica str. Cm (Calyptogena magnifica)]","ref|YP_903388.1|",390,35,52,9.7000000000000003E-2,30,{"$f":"VLOOKUP(K308,gi2taxid!G:H,2,FALSE)","v":"Gammaproteobacteria"},{"$f":"VLOOKUP(D308,gi2taxid!A:E,4,FALSE)","v":"Candidatus Ruthia magnifica str. Cm (Calyptogena magnifica)"}]
["OLPV1_322510779","disulfide oxidoreductase","putative Erv-family thiol oxidoreductase [Cafeteria roenbergensis virus BV-PW1]","ref|YP_003969775.1|",181,54,169,3.0000000000000001E-58,184,{"$f":"VLOOKUP(K309,gi2taxid!G:H,2,FALSE)","v":"unclassified_dsDNA_viruses (CroV)"},{"$f":"VLOOKUP(D309,gi2taxid!A:E,4,FALSE)","v":"Cafeteria roenbergensis virus BV-PW1"}]
["OLPV1_322510780",0,"conserved hypothetical protein [Mollicutes bacterium D7]","ref|ZP_04566018.1|",497,26,130,2E-3,38.9,{"$f":"VLOOKUP(K310,gi2taxid!G:H,2,FALSE)","v":"Erysipelotrichi"},{"$f":"VLOOKUP(D310,gi2taxid!A:E,4,FALSE)","v":"Coprobacillus sp. D7"}]
["OLPV1_322510781","ribonucleoside diphosphate reductase large chain","ribonucleoside-diphosphate reductase subunit alpha [Lacinutrix sp. 5H-3-7-4]","ref|YP_004579025.1|",827,45,94,3.9999999999999999E-19,83.2,{"$f":"VLOOKUP(K311,gi2taxid!G:H,2,FALSE)","v":"Bacteroidetes"},{"$f":"VLOOKUP(D311,gi2taxid!A:E,4,FALSE)","v":"Lacinutrix sp. 5H-3-7-4"}]
["OLPV1_322510782",0,"hypothetical protein SELMODRAFT_236668 [Selaginella moellendorffii]","ref|XP_002993082.1|",293,26,61,4.0000000000000001E-3,34.700000000000003,{"$f":"VLOOKUP(K312,gi2taxid!G:H,2,FALSE)","v":"Streptophyta"},{"$f":"VLOOKUP(D312,gi2taxid!A:E,4,FALSE)","v":"Selaginella moellendorffii"}]
["OLPV1_322510783","dna ligase","hypothetical protein SCHCODRAFT_102239 [Schizophyllum commune H4-8]","ref|XP_003036370.1|",398,40,266,2E-52,181,{"$f":"VLOOKUP(K313,gi2taxid!G:H,2,FALSE)","v":"Fungi"},{"$f":"VLOOKUP(D313,gi2taxid!A:E,4,FALSE)","v":"Schizophyllum commune H4-8"}]
["OLPV1_322510784","mitogen activated kinase ","PREDICTED: protein amnionless-like [Megachile rotundata]","ref|XP_003703705.1|",470,30,53,5.0000000000000001E-4,38.1,{"$f":"VLOOKUP(K314,gi2taxid!G:H,2,FALSE)","v":"Metazoa"},{"$f":"VLOOKUP(D314,gi2taxid!A:E,4,FALSE)","v":"Megachile rotundata"}]
["OLPV1_322510785",0,"DMT superfamily drug/metabolite transporter [Lactobacillus hilgardii ATCC 8290]","ref|ZP_03952933.1|",58,38,45,1E-3,33.5,{"$f":"VLOOKUP(K315,gi2taxid!G:H,2,FALSE)","v":"Bacilli"},{"$f":"VLOOKUP(D315,gi2taxid!A:E,4,FALSE)","v":"Lactobacillus hilgardii ATCC 8290"}]
["OLPV1_322510786","cell division atp binding ftse","annexin A6 [Xenopus laevis]","ref|NP_001085847.1|",673,36,50,1.9E-2,32.700000000000003,{"$f":"VLOOKUP(K316,gi2taxid!G:H,2,FALSE)","v":"Metazoa"},{"$f":"VLOOKUP(D316,gi2taxid!A:E,4,FALSE)","v":"Xenopus laevis"}]
["OLPV1_322510787","flim gene product","PREDICTED: galactosamine (N-acetyl)-6-sulfate sulfatase-like [Saccoglossus kowalevskii]","ref|XP_002736216.1|",784,43,30,2.7E-2,32.299999999999997,{"$f":"VLOOKUP(K317,gi2taxid!G:H,2,FALSE)","v":"Metazoa"},{"$f":"VLOOKUP(D317,gi2taxid!A:E,4,FALSE)","v":"Saccoglossus kowalevskii"}]
["OLPV1_322510788","type i restriction modification system dna specificity","restriction modification system DNA specificity domain-containing protein [Shewanella baltica OS117]","ref|YP_006039744.1|",402,34,319,3.0000000000000001E-27,110,{"$f":"VLOOKUP(K318,gi2taxid!G:H,2,FALSE)","v":"Gammaproteobacteria"},{"$f":"VLOOKUP(D318,gi2taxid!A:E,4,FALSE)","v":"Shewanella baltica OS117"}]
["OLPV1_322510789","type i restriction modification system dna specificity","restriction modification system DNA specificity domain-containing protein [Shewanella baltica OS117]","ref|YP_006039744.1|",402,53,38,6.9999999999999999E-4,37.4,{"$f":"VLOOKUP(K319,gi2taxid!G:H,2,FALSE)","v":"Gammaproteobacteria"},{"$f":"VLOOKUP(D319,gi2taxid!A:E,4,FALSE)","v":"Shewanella baltica OS117"}]
["OLPV1_322510790","type i restriction modification system m","HsdM [Campylobacter coli RM2228]","ref|ZP_00367749.1|",495,33,184,7.0000000000000007E-21,90.5,{"$f":"VLOOKUP(K320,gi2taxid!G:H,2,FALSE)","v":"delta-epsilon_subdivisions"},{"$f":"VLOOKUP(D320,gi2taxid!A:E,4,FALSE)","v":"Campylobacter coli RM2228"}]
["OLPV1_322510791","type i restriction modification system m subunit","N-6 DNA methylase [Shewanella sp. MR-7]","ref|YP_738904.1|",500,25,187,1.0000000000000001E-9,57.4,{"$f":"VLOOKUP(K321,gi2taxid!G:H,2,FALSE)","v":"Gammaproteobacteria"},{"$f":"VLOOKUP(D321,gi2taxid!A:E,4,FALSE)","v":"Shewanella sp. MR-7"}]
["OLPV1_322510792","helicase","putative superfamily II helicase/restriction enzyme [Cafeteria roenbergensis virus BV-PW1]","ref|YP_003970159.1|",722,31,698,2.0000000000000001E-59,216,{"$f":"VLOOKUP(K322,gi2taxid!G:H,2,FALSE)","v":"unclassified_dsDNA_viruses (CroV)"},{"$f":"VLOOKUP(D322,gi2taxid!A:E,4,FALSE)","v":"Cafeteria roenbergensis virus BV-PW1"}]
["OLPV1_322510793","radial spoke head 10 b","PREDICTED: hypothetical protein LOC100743411 [Bombus impatiens]","ref|XP_003485413.1|",425,39,72,5.0000000000000003E-10,55.8,{"$f":"VLOOKUP(K323,gi2taxid!G:H,2,FALSE)","v":"Metazoa"},{"$f":"VLOOKUP(D323,gi2taxid!A:E,4,FALSE)","v":"Bombus impatiens"}]
["OLPV1_322510794","morn repeat","RspH10B [Paenibacillus elgii B69]","ref|ZP_09074526.1|",1027,41,81,3.0000000000000001E-12,63.5,{"$f":"VLOOKUP(K324,gi2taxid!G:H,2,FALSE)","v":"Bacilli"},{"$f":"VLOOKUP(D324,gi2taxid!A:E,4,FALSE)","v":"Paenibacillus elgii B69"}]
["OLPV1_322510795","morn repeat","predicted protein [Micromonas sp. RCC299]","ref|XP_002500621.1|",330,43,89,7.0000000000000001E-12,60.8,{"$f":"VLOOKUP(K325,gi2taxid!G:H,2,FALSE)","v":"Chlorophyta"},{"$f":"VLOOKUP(D325,gi2taxid!A:E,4,FALSE)","v":"Micromonas sp. RCC299"}]
["OLPV1_322510796","xacm_3157","hypothetical protein [Shewanella baltica OS195]","ref|YP_001554412.1|",266,33,148,2E-16,74.7,{"$f":"VLOOKUP(K326,gi2taxid!G:H,2,FALSE)","v":"Gammaproteobacteria"},{"$f":"VLOOKUP(D326,gi2taxid!A:E,4,FALSE)","v":"Shewanella baltica OS195"}]
["OLPV1_322510797",0,"hypothetical protein HPPC_03450 [Helicobacter pylori PeCan4]","ref|YP_003926970.1|",1606,28,125,7.9999999999999996E-7,51.6,{"$f":"VLOOKUP(K327,gi2taxid!G:H,2,FALSE)","v":"delta-epsilon_subdivisions"},{"$f":"VLOOKUP(D327,gi2taxid!A:E,4,FALSE)","v":"Helicobacter pylori PeCan4"}]
["OLPV1_322510798","probable atp dependent rna helicase ddx58 isoform 1","hypothetical protein SCHCODRAFT_31237 [Schizophyllum commune H4-8]","ref|XP_003036236.1|",1342,29,161,1.9999999999999999E-6,47.4,{"$f":"VLOOKUP(K328,gi2taxid!G:H,2,FALSE)","v":"Fungi"},{"$f":"VLOOKUP(D328,gi2taxid!A:E,4,FALSE)","v":"Schizophyllum commune H4-8"}]
["OLPV1_322510799","elongation factor g","putative phage integrase [planctomycete KSU-1]","ref|ZP_10100249.1|",303,33,95,4.0000000000000002E-4,39.299999999999997,{"$f":"VLOOKUP(K329,gi2taxid!G:H,2,FALSE)","v":"Planctomycetia"},{"$f":"VLOOKUP(D329,gi2taxid!A:E,4,FALSE)","v":"planctomycete KSU-1"}]
["OLPV1_322510800",0,"hypothetical protein HMPREF9474_03859 [Clostridium symbiosum WAL-14163]","ref|ZP_08092108.1|",679,33,225,3.0000000000000001E-27,110,{"$f":"VLOOKUP(K330,gi2taxid!G:H,2,FALSE)","v":"Clostridia"},{"$f":"VLOOKUP(D330,gi2taxid!A:E,4,FALSE)","v":"Clostridium symbiosum WAL-14163"}]
["OLPV1_322510801","lipoprotein","lipoprotein [Fibrobacter succinogenes subsp. succinogenes S85]","ref|YP_003250589.1|",829,42,795,0,543,{"$f":"VLOOKUP(K331,gi2taxid!G:H,2,FALSE)","v":"Fibrobacteres"},{"$f":"VLOOKUP(D331,gi2taxid!A:E,4,FALSE)","v":"Fibrobacter succinogenes subsp. succinogenes S85"}]
["OLPV1_322510802","aminopeptidase p","phosphate transport regulator [Caulobacter segnis ATCC 21756]","ref|YP_003593986.1|",214,36,53,6.0000000000000001E-3,34.700000000000003,{"$f":"VLOOKUP(K332,gi2taxid!G:H,2,FALSE)","v":"Alphaproteobacteria"},{"$f":"VLOOKUP(D332,gi2taxid!A:E,4,FALSE)","v":"Caulobacter segnis ATCC 21756"}]
["OLPV1_322510803","bt_3650","hypothetical protein PVOR_15369 [Paenibacillus vortex V453]","ref|ZP_07899886.1|",147,33,76,2.1999999999999999E-2,34.299999999999997,{"$f":"VLOOKUP(K333,gi2taxid!G:H,2,FALSE)","v":"Bacilli"},{"$f":"VLOOKUP(D333,gi2taxid!A:E,4,FALSE)","v":"Paenibacillus vortex V453"}]
["OLPV1_322510804","dnaj subfamily b 13","chaperone protein DnaJ [Thermodesulfovibrio yellowstonii DSM 11347]","ref|YP_002249720.1|",355,28,338,6.9999999999999999E-28,111,{"$f":"VLOOKUP(K334,gi2taxid!G:H,2,FALSE)","v":"Nitrospira"},{"$f":"VLOOKUP(D334,gi2taxid!A:E,4,FALSE)","v":"Thermodesulfovibrio yellowstonii DSM 11347"}]
["OLPV1_322510805","replication factor c subunit 5","PREDICTED: replication factor C subunit 5-like [Strongylocentrotus purpuratus]","ref|XP_003726529.1|",342,24,286,5.9999999999999995E-8,53.9,{"$f":"VLOOKUP(K335,gi2taxid!G:H,2,FALSE)","v":"Metazoa"},{"$f":"VLOOKUP(D335,gi2taxid!A:E,4,FALSE)","v":"Strongylocentrotus purpuratus"}]
["OLPV1_322510806","biotin synthesis bioc","LOW QUALITY PROTEIN: oligopeptide transporter, OPT family [Campylobacter jejuni subsp. jejuni 414]","ref|ZP_06372863.1|",663,32,62,1.0999999999999999E-2,34.299999999999997,{"$f":"VLOOKUP(K336,gi2taxid!G:H,2,FALSE)","v":"delta-epsilon_subdivisions"},{"$f":"VLOOKUP(D336,gi2taxid!A:E,4,FALSE)","v":"Campylobacter jejuni subsp. jejuni 414"}]
["OLPV1_322510807",0,"hypothetical protein A1E_05570 [Rickettsia canadensis str. McKiel]","ref|YP_001492810.1|",228,35,79,6.0000000000000001E-3,34.299999999999997,{"$f":"VLOOKUP(K337,gi2taxid!G:H,2,FALSE)","v":"Alphaproteobacteria"},{"$f":"VLOOKUP(D337,gi2taxid!A:E,4,FALSE)","v":"Rickettsia canadensis str. McKiel"}]
["OLPV1_322510808","utp glucose 1 phosphate uridylyltransferase","CCR4-NOT transcription complex subunit, putative [Phytophthora infestans T30-4]","ref|XP_002901762.1|",706,29,100,2.1000000000000001E-2,37,{"$f":"VLOOKUP(K338,gi2taxid!G:H,2,FALSE)","v":"Oomycetes"},{"$f":"VLOOKUP(D338,gi2taxid!A:E,4,FALSE)","v":"Phytophthora infestans T30-4"}]
["OLPV1_322510809",0,"DEHA2A07546p [Debaryomyces hansenii CBS767]","ref|XP_456655.2|",234,38,65,5.0000000000000001E-3,37.700000000000003,{"$f":"VLOOKUP(K339,gi2taxid!G:H,2,FALSE)","v":"Fungi"},{"$f":"VLOOKUP(D339,gi2taxid!A:E,4,FALSE)","v":"Debaryomyces hansenii CBS767"}]
["OLPV1_322510810","hmpref9457_03708","hypothetical protein crov348 [Cafeteria roenbergensis virus BV-PW1]","ref|YP_003969981.1|",111,75,105,4.0000000000000001E-46,151,{"$f":"VLOOKUP(K340,gi2taxid!G:H,2,FALSE)","v":"unclassified_dsDNA_viruses (CroV)"},{"$f":"VLOOKUP(D340,gi2taxid!A:E,4,FALSE)","v":"Cafeteria roenbergensis virus BV-PW1"}]
["OLPV1_322510811","dna methylase dpniia","Dam-like adenine-specific DNA methylase [Marseillevirus]","ref|YP_003406772.1|",295,48,298,9.9999999999999996E-83,256,{"$f":"VLOOKUP(K341,gi2taxid!G:H,2,FALSE)","v":"unclassified_dsDNA_viruses (Marseil)"},{"$f":"VLOOKUP(D341,gi2taxid!A:E,4,FALSE)","v":"Marseillevirus"}]
["OLPV1_322510812","pmi14_06461","5-methyltetrahydropteroyltriglutamate--homocysteine S-methyltransferase [Acetivibrio cellulolyticus CD2]","ref|ZP_09465079.1|",761,37,51,2.7E-2,32.299999999999997,{"$f":"VLOOKUP(K342,gi2taxid!G:H,2,FALSE)","v":"Clostridia"},{"$f":"VLOOKUP(D342,gi2taxid!A:E,4,FALSE)","v":"Acetivibrio cellulolyticus CD2"}]
["OLPV1_322510813","formate tetrahydrofolate ligase","UvrD/REP helicase family protein [Tetrahymena thermophila]","ref|XP_001016343.1|",1536,37,62,1.2E-2,33.5,{"$f":"VLOOKUP(K343,gi2taxid!G:H,2,FALSE)","v":"Ciliophora"},{"$f":"VLOOKUP(D343,gi2taxid!A:E,4,FALSE)","v":"Tetrahymena thermophila"}]
["OLPV1_322510814","5' 3' exonuclease","putative 5'-3' exonuclease [Cafeteria roenbergensis virus BV-PW1]","ref|YP_003969937.1|",562,28,538,1E-41,157,{"$f":"VLOOKUP(K344,gi2taxid!G:H,2,FALSE)","v":"unclassified_dsDNA_viruses (CroV)"},{"$f":"VLOOKUP(D344,gi2taxid!A:E,4,FALSE)","v":"Cafeteria roenbergensis virus BV-PW1"}]
["OLPV1_322510815","gf12541","two component system histidine kinase/response regulator hybrid protein [Butyrivibrio proteoclasticus B316]","ref|YP_003830178.1|",1022,26,115,2E-3,38.9,{"$f":"VLOOKUP(K345,gi2taxid!G:H,2,FALSE)","v":"Clostridia"},{"$f":"VLOOKUP(D345,gi2taxid!A:E,4,FALSE)","v":"Butyrivibrio proteoclasticus B316"}]
["OLPV1_322510816","fad linked sulfhydryl oxidase alr","pB119L [African swine fever virus]","ref|NP_042767.1|",119,30,82,3.0000000000000001E-6,43.5,{"$f":"VLOOKUP(K346,gi2taxid!G:H,2,FALSE)","v":"Asfarviridae"},{"$f":"VLOOKUP(D346,gi2taxid!A:E,4,FALSE)","v":"African swine fever virus"}]
["OLPV1_322510817",0,"conserved hypothetical protein [Ajellomyces capsulatus NAm1]","ref|XP_001536002.1|",884,35,52,1E-3,38.5,{"$f":"VLOOKUP(K347,gi2taxid!G:H,2,FALSE)","v":"Fungi"},{"$f":"VLOOKUP(D347,gi2taxid!A:E,4,FALSE)","v":"Ajellomyces capsulatus NAm1"}]
["OLPV1_322510818","rhodanese","rhodanese-like domain protein [Bacillus cereus 03BB108]","ref|ZP_03113927.1|",119,34,50,1E-3,36.6,{"$f":"VLOOKUP(K348,gi2taxid!G:H,2,FALSE)","v":"Bacilli"},{"$f":"VLOOKUP(D348,gi2taxid!A:E,4,FALSE)","v":"Bacillus cereus 03BB108"}]
["OLPV1_322510819","ser thr phosphatase","hypothetical protein MB2181_03590 [Methylophilales bacterium HTCC2181]","ref|ZP_01552067.1|",337,34,62,1.7000000000000001E-2,33.1,{"$f":"VLOOKUP(K349,gi2taxid!G:H,2,FALSE)","v":"Betaproteobacteria"},{"$f":"VLOOKUP(D349,gi2taxid!A:E,4,FALSE)","v":"Methylophilales bacterium HTCC2181"}]
["OLPV1_322510820","endoribonuclease l psp","endoribonuclease L-PSP [Herpetosiphon aurantiacus DSM 785]","ref|YP_001542924.1|",126,39,36,1.4999999999999999E-2,31.6,{"$f":"VLOOKUP(K350,gi2taxid!G:H,2,FALSE)","v":"Chloroflexi"},{"$f":"VLOOKUP(D350,gi2taxid!A:E,4,FALSE)","v":"Herpetosiphon aurantiacus DSM 785"}]
["OLPV1_322510821","gaba a receptor interacting factor 1 59","hypothetical protein BpV1_116c [Bathycoccus sp. RCC1105 virus BpV1]","ref|YP_004061546.1|",125,24,107,1.0000000000000001E-5,42,{"$f":"VLOOKUP(K351,gi2taxid!G:H,2,FALSE)","v":"Phycodnaviridae"},{"$f":"VLOOKUP(D351,gi2taxid!A:E,4,FALSE)","v":"Bathycoccus sp. RCC1105 virus BpV1"}]
["OLPV1_322510822","bvald_16287","hypothetical protein MY9_1953 [Bacillus sp. JS]","ref|YP_006231744.1|",77,50,32,3.0000000000000001E-3,33.5,{"$f":"VLOOKUP(K352,gi2taxid!G:H,2,FALSE)","v":"Bacilli"},{"$f":"VLOOKUP(D352,gi2taxid!A:E,4,FALSE)","v":"Bacillus sp. JS"}]
["OLPV1_322510823",{"$error":"#N/A"},{"$nulls":7},{"$f":"VLOOKUP(K353,gi2taxid!G:H,2,FALSE)","v":{"$error":"#N/A"}},{"$f":"VLOOKUP(D353,gi2taxid!A:E,4,FALSE)","v":{"$error":"#N/A"}}]
["OLPV1_322510824","t01c3.9","hypothetical protein HAPS_0790 [Haemophilus parasuis SH0165]","ref|YP_002475374.1|",247,36,64,1.0000000000000001E-5,43.1,{"$f":"VLOOKUP(K354,gi2taxid!G:H,2,FALSE)","v":"Gammaproteobacteria"},{"$f":"VLOOKUP(D354,gi2taxid!A:E,4,FALSE)","v":"Haemophilus parasuis SH0165"}]
["OLPV1_322510825","dna cytosine 5 methyltransferase","hypothetical protein RUMLAC_01538 [Ruminococcus lactaris ATCC 29176]","ref|ZP_03167861.1|",333,38,317,1E-59,199,{"$f":"VLOOKUP(K355,gi2taxid!G:H,2,FALSE)","v":"Clostridia"},{"$f":"VLOOKUP(D355,gi2taxid!A:E,4,FALSE)","v":"Ruminococcus lactaris ATCC 29176"}]
["OLPV1_322510826","hlyd secretion","hypothetical protein BpV1_116c [Bathycoccus sp. RCC1105 virus BpV1]","ref|YP_004061546.1|",125,24,107,1.0000000000000001E-5,41.6,{"$f":"VLOOKUP(K356,gi2taxid!G:H,2,FALSE)","v":"Phycodnaviridae"},{"$f":"VLOOKUP(D356,gi2taxid!A:E,4,FALSE)","v":"Bathycoccus sp. RCC1105 virus BpV1"}]
["OLPV1_322510827","bacau_1727","coiled-coil domain containing 47 precursor [Acyrthosiphon pisum]","ref|NP_001162147.1|",449,28,74,1.0999999999999999E-2,36.200000000000003,{"$f":"VLOOKUP(K357,gi2taxid!G:H,2,FALSE)","v":"Metazoa"},{"$f":"VLOOKUP(D357,gi2taxid!A:E,4,FALSE)","v":"Acyrthosiphon pisum"}]
["OLPV1_322510828","abc transporter transmembrane region","hypothetical protein [Chitinophaga pinensis DSM 2588]","ref|YP_003121264.1|",357,26,94,8.9999999999999993E-3,35.4,{"$f":"VLOOKUP(K358,gi2taxid!G:H,2,FALSE)","v":"Bacteroidetes"},{"$f":"VLOOKUP(D358,gi2taxid!A:E,4,FALSE)","v":"Chitinophaga pinensis DSM 2588"}]
["OLPV1_322510829","dna polymerase delta catalytic subunit","putative DNA-dependent DNA polymerase family B [Cafeteria roenbergensis virus BV-PW1]","ref|YP_003970183.1|",1258,32,679,8.0000000000000003E-83,296,{"$f":"VLOOKUP(K359,gi2taxid!G:H,2,FALSE)","v":"unclassified_dsDNA_viruses (CroV)"},{"$f":"VLOOKUP(D359,gi2taxid!A:E,4,FALSE)","v":"Cafeteria roenbergensis virus BV-PW1"}]
["OLPV1_322510830","transposase","Transposase [Acidiphilium sp. PM]","ref|ZP_08631202.1|",95,36,64,5.9999999999999995E-4,36.200000000000003,{"$f":"VLOOKUP(K360,gi2taxid!G:H,2,FALSE)","v":"Alphaproteobacteria"},{"$f":"VLOOKUP(D360,gi2taxid!A:E,4,FALSE)","v":"Acidiphilium sp. PM"}]
["OLPV1_322510831","issoc4 transposase orfa","ISSoc4, transposase orfAB [Arthrospira maxima CS-328]","ref|ZP_03271783.1|",67,38,55,2.0000000000000001E-4,36.200000000000003,{"$f":"VLOOKUP(K361,gi2taxid!G:H,2,FALSE)","v":"Oscillatoriales"},{"$f":"VLOOKUP(D361,gi2taxid!A:E,4,FALSE)","v":"Arthrospira maxima CS-328"}]
["OLPV1_322510832","uvrabc system a","SAM-dependent methyltransferase [Clostridium hathewayi DSM 13479]","ref|ZP_06115823.1|",263,38,26,0.03,31.2,{"$f":"VLOOKUP(K362,gi2taxid!G:H,2,FALSE)","v":"Clostridia"},{"$f":"VLOOKUP(D362,gi2taxid!A:E,4,FALSE)","v":"Clostridium hathewayi DSM 13479"}]
["OLPV1_322510833","aldose 1 epimerase","conserved hypothetical protein [Lodderomyces elongisporus NRRL YB-4239]","ref|XP_001528086.1|",566,30,111,8.0000000000000002E-3,37,{"$f":"VLOOKUP(K363,gi2taxid!G:H,2,FALSE)","v":"Fungi"},{"$f":"VLOOKUP(D363,gi2taxid!A:E,4,FALSE)","v":"Lodderomyces elongisporus NRRL YB-4239"}]
["OLPV1_322510834","dna cytosine methyltransferase","cytosine-specific methyltransferase [Candidatus Arthromitus sp. SFB-mouse-Japan]","ref|YP_004771317.1|",297,43,282,3.0000000000000001E-71,227,{"$f":"VLOOKUP(K364,gi2taxid!G:H,2,FALSE)","v":"Clostridia"},{"$f":"VLOOKUP(D364,gi2taxid!A:E,4,FALSE)","v":"Candidatus Arthromitus sp. SFB-mouse-Japan"}]
["OLPV1_322510835","bacple_03129","transcriptional repressor NrdR [Prevotella dentalis DSM 3688]","ref|ZP_08669066.1|",49,33,48,7.0000000000000001E-3,31.6,{"$f":"VLOOKUP(K365,gi2taxid!G:H,2,FALSE)","v":"Bacteroidetes"},{"$f":"VLOOKUP(D365,gi2taxid!A:E,4,FALSE)","v":"Prevotella dentalis DSM 3688"}]
["OLPV1_322510836","amiloride sensitive sodium channel subunit alpha isoform 1","linear gramicidin synthase subunit C [Mycobacterium massiliense str. GO 06]","ref|YP_006522315.1|",1664,32,78,1E-3,38.1,{"$f":"VLOOKUP(K366,gi2taxid!G:H,2,FALSE)","v":"Actinobacteria"},{"$f":"VLOOKUP(D366,gi2taxid!A:E,4,FALSE)","v":"Mycobacterium massiliense str. GO 06"}]
["OLPV1_322510837","myosin iiia","PREDICTED: myosin-IIIa [Gallus gallus]","ref|XP_418597.3|",1640,50,26,0.03,32.299999999999997,{"$f":"VLOOKUP(K367,gi2taxid!G:H,2,FALSE)","v":"Metazoa"},{"$f":"VLOOKUP(D367,gi2taxid!A:E,4,FALSE)","v":"Gallus gallus"}]
["OLPV1_322510838","nadh dehydrogenase subunit 2","xylanase/chitin deacetylase [Hahella chejuensis KCTC 2396]","ref|YP_433930.1|",285,27,84,4.0000000000000002E-4,38.9,{"$f":"VLOOKUP(K368,gi2taxid!G:H,2,FALSE)","v":"Gammaproteobacteria"},{"$f":"VLOOKUP(D368,gi2taxid!A:E,4,FALSE)","v":"Hahella chejuensis KCTC 2396"}]
["OLPV1_322510839","tryptophan repeat gene","Tryptophan repeat gene family protein [Flavobacterium indicum GPTSA100-9]","ref|YP_005357768.1|",464,37,75,4.0000000000000003E-5,42.4,{"$f":"VLOOKUP(K369,gi2taxid!G:H,2,FALSE)","v":"Bacteroidetes"},{"$f":"VLOOKUP(D369,gi2taxid!A:E,4,FALSE)","v":"Flavobacterium indicum GPTSA100-9"}]
["OLPV1_322510840","tryptophan repeat","hypothetical protein UMN179_00989 [Gallibacterium anatis UMN179]","ref|YP_004419914.1|",418,32,239,5.0000000000000004E-19,86.7,{"$f":"VLOOKUP(K370,gi2taxid!G:H,2,FALSE)","v":"Gammaproteobacteria"},{"$f":"VLOOKUP(D370,gi2taxid!A:E,4,FALSE)","v":"Gallibacterium anatis UMN179"}]
["OLPV1_322510841","tryptophan repeat gene","tryptophan repeat gene family protein [Acinetobacter radioresistens SK82]","ref|ZP_05360135.1|",502,33,199,2E-19,87.4,{"$f":"VLOOKUP(K371,gi2taxid!G:H,2,FALSE)","v":"Gammaproteobacteria"},{"$f":"VLOOKUP(D371,gi2taxid!A:E,4,FALSE)","v":"Acinetobacter radioresistens SK82"}]
["OLPV1_322510842","tryptophan repeat gene","hypothetical protein ED21_31869 [Erythrobacter sp. SD-21]","ref|ZP_01864889.1|",720,32,284,9.9999999999999998E-20,90.9,{"$f":"VLOOKUP(K372,gi2taxid!G:H,2,FALSE)","v":"Alphaproteobacteria"},{"$f":"VLOOKUP(D372,gi2taxid!A:E,4,FALSE)","v":"Erythrobacter sp. SD-21"}]
["OLPV1_322510843","tryptophan repeat gene","tryptophan repeat gene family protein [Acinetobacter radioresistens SK82]","ref|ZP_05360135.1|",502,32,275,9.9999999999999997E-29,115,{"$f":"VLOOKUP(K373,gi2taxid!G:H,2,FALSE)","v":"Gammaproteobacteria"},{"$f":"VLOOKUP(D373,gi2taxid!A:E,4,FALSE)","v":"Acinetobacter radioresistens SK82"}]
["OLPV1_322510844",0,"hypothetical protein [Bradyrhizobium japonicum USDA 6]","ref|YP_005605488.1|",279,41,34,1.0999999999999999E-2,33.1,{"$f":"VLOOKUP(K374,gi2taxid!G:H,2,FALSE)","v":"Alphaproteobacteria"},{"$f":"VLOOKUP(D374,gi2taxid!A:E,4,FALSE)","v":"Bradyrhizobium japonicum USDA 6"}]
["OLPV1_322510845","phophatidylinositol 4 phosphate 5 kinase","hypothetical protein PMI05_02353 [Brevibacillus sp. BC25]","ref|ZP_10573927.1|",557,34,160,9.9999999999999995E-21,89.7,{"$f":"VLOOKUP(K375,gi2taxid!G:H,2,FALSE)","v":"Bacilli"},{"$f":"VLOOKUP(D375,gi2taxid!A:E,4,FALSE)","v":"Brevibacillus sp. BC25"}]
["OLPV1_322510846","probable rna binding 19","PREDICTED: probable RNA-binding protein 19-like [Amphimedon queenslandica]","ref|XP_003389993.1|",866,32,63,2.4E-2,33.5,{"$f":"VLOOKUP(K376,gi2taxid!G:H,2,FALSE)","v":"Metazoa"},{"$f":"VLOOKUP(D376,gi2taxid!A:E,4,FALSE)","v":"Amphimedon queenslandica"}]
["OLPV1_322510847","non ltr retrotransposon zorro 3 orf1","non-LTR retrotransposon Zorro 3 orf1-related protein [Candida albicans SC5314]","ref|XP_710329.1|",608,41,58,2E-8,51.6,{"$f":"VLOOKUP(K377,gi2taxid!G:H,2,FALSE)","v":"Fungi"},{"$f":"VLOOKUP(D377,gi2taxid!A:E,4,FALSE)","v":"Candida albicans SC5314"}]
["OLPV1_322510848","dole_2340","ribosome small subunit-dependent GTPase A [Spirochaeta africana DSM 8902]","ref|YP_005475416.1|",311,31,97,1E-3,39.299999999999997,{"$f":"VLOOKUP(K378,gi2taxid!G:H,2,FALSE)","v":"Spirochaetia"},{"$f":"VLOOKUP(D378,gi2taxid!A:E,4,FALSE)","v":"Spirochaeta africana DSM 8902"}]
["OLPV1_322510849","tgme49_033960","hypothetical protein TGME49_033960 [Toxoplasma gondii ME49]","ref|XP_002368243.1|",3149,29,121,5.0000000000000001E-3,37,{"$f":"VLOOKUP(K379,gi2taxid!G:H,2,FALSE)","v":"Apicomplexa"},{"$f":"VLOOKUP(D379,gi2taxid!A:E,4,FALSE)","v":"Toxoplasma gondii ME49"}]
["OLPV1_322510850","anti feci sigma factor fecr","hypothetical protein CIMG_00327 [Coccidioides immitis RS]","ref|XP_001246556.1|",406,31,65,3.0000000000000001E-3,35.4,{"$f":"VLOOKUP(K380,gi2taxid!G:H,2,FALSE)","v":"Fungi"},{"$f":"VLOOKUP(D380,gi2taxid!A:E,4,FALSE)","v":"Coccidioides immitis RS"}]
["OLPV1_322510851","abc transporter","3'-5' exonuclease [Propionibacterium acnes J139]","ref|ZP_06263324.1|",412,44,32,1.0999999999999999E-2,33.5,{"$f":"VLOOKUP(K381,gi2taxid!G:H,2,FALSE)","v":"Actinobacteria"},{"$f":"VLOOKUP(D381,gi2taxid!A:E,4,FALSE)","v":"Propionibacterium acnes J139"}]
["OLPV1_322510852","patatin phospholipase 4","hypothetical protein BRAFLDRAFT_97187 [Branchiostoma floridae]","ref|XP_002595239.1|",273,36,67,3.0000000000000001E-5,42.7,{"$f":"VLOOKUP(K382,gi2taxid!G:H,2,FALSE)","v":"Metazoa"},{"$f":"VLOOKUP(D382,gi2taxid!A:E,4,FALSE)","v":"Branchiostoma floridae"}]
["OLPV1_322510853","6 deoxyerythronolide b synthase","putative cytoplasmic protein [Providencia rettgeri DSM 1131]","ref|ZP_06125964.1|",252,29,72,9.0000000000000006E-5,40,{"$f":"VLOOKUP(K383,gi2taxid!G:H,2,FALSE)","v":"Gammaproteobacteria"},{"$f":"VLOOKUP(D383,gi2taxid!A:E,4,FALSE)","v":"Providencia rettgeri DSM 1131"}]
["OLPV1_322510854",0,"hypothetical protein Npun_R2634 [Nostoc punctiforme PCC 73102]","ref|YP_001866131.1|",294,40,40,2.1000000000000001E-2,32,{"$f":"VLOOKUP(K384,gi2taxid!G:H,2,FALSE)","v":"Nostocales"},{"$f":"VLOOKUP(D384,gi2taxid!A:E,4,FALSE)","v":"Nostoc punctiforme PCC 73102"}]
["OLPV1_322510855","probable rna binding 19","hypothetical protein HMPREF0045_01777 [Actinomyces graevenitzii C83]","ref|ZP_09368141.1|",470,39,54,1.6E-2,33.9,{"$f":"VLOOKUP(K385,gi2taxid!G:H,2,FALSE)","v":"Actinobacteria"},{"$f":"VLOOKUP(D385,gi2taxid!A:E,4,FALSE)","v":"Actinomyces graevenitzii C83"}]
["OLPV1_322510856","paraquat inducible b","Exonuclease VII large subunit [Fluviicola taffensis DSM 16823]","ref|YP_004344352.1|",476,39,38,1.0999999999999999E-2,34.299999999999997,{"$f":"VLOOKUP(K386,gi2taxid!G:H,2,FALSE)","v":"Bacteroidetes"},{"$f":"VLOOKUP(D386,gi2taxid!A:E,4,FALSE)","v":"Fluviicola taffensis DSM 16823"}]
["OLPV1_322510857","signal transduction response regulator","signal transduction response regulator [Nitratiruptor sp. SB155-2]","ref|YP_001356155.1|",458,29,56,0.08,30.8,{"$f":"VLOOKUP(K387,gi2taxid!G:H,2,FALSE)","v":"delta-epsilon_subdivisions"},{"$f":"VLOOKUP(D387,gi2taxid!A:E,4,FALSE)","v":"Nitratiruptor sp. SB155-2"}]
["OLPV1_322510858","dna cytosine specific methyltransferase","hypothetical protein OTV1_055 [Ostreococcus tauri virus 1]","ref|YP_003494895.1|",351,41,273,6.9999999999999995E-60,199,{"$f":"VLOOKUP(K388,gi2taxid!G:H,2,FALSE)","v":"Phycodnaviridae"},{"$f":"VLOOKUP(D388,gi2taxid!A:E,4,FALSE)","v":"Ostreococcus tauri virus 1"}]
["OLPV1_322510859","eio_1240","hypothetical protein OTV1_074 [Ostreococcus tauri virus 1]","ref|YP_003494913.1|",133,43,79,9.9999999999999994E-12,58.5,{"$f":"VLOOKUP(K389,gi2taxid!G:H,2,FALSE)","v":"Phycodnaviridae"},{"$f":"VLOOKUP(D389,gi2taxid!A:E,4,FALSE)","v":"Ostreococcus tauri virus 1"}]
["OLPV1_322510860","glycosyl hydrolase","conserved hypothetical protein [Ixodes scapularis]","ref|XP_002415101.1|",157,32,63,2E-3,34.700000000000003,{"$f":"VLOOKUP(K390,gi2taxid!G:H,2,FALSE)","v":"Metazoa"},{"$f":"VLOOKUP(D390,gi2taxid!A:E,4,FALSE)","v":"Ixodes scapularis"}]
["OLPV1_322510861","peptidase s15","peptidase S15 [Methylovorus glucosetrophus SIP3-4]","ref|YP_003052410.1|",256,30,126,1E-4,41.2,{"$f":"VLOOKUP(K391,gi2taxid!G:H,2,FALSE)","v":"Betaproteobacteria"},{"$f":"VLOOKUP(D391,gi2taxid!A:E,4,FALSE)","v":"Methylovorus glucosetrophus SIP3-4"}]
["OLPV1_322510862","yada structural","YadA domain-containing structural protein [Synechococcus phage Syn19]","ref|YP_004323928.1|",2162,36,156,2.0000000000000001E-9,60.8,{"$f":"VLOOKUP(K392,gi2taxid!G:H,2,FALSE)","v":"Caudovirales"},{"$f":"VLOOKUP(D392,gi2taxid!A:E,4,FALSE)","v":"Synechococcus phage Syn19"}]
["OLPV1_322510863","cytochrome p450","hypothetical protein RUMGNA_02365 [Ruminococcus gnavus ATCC 29149]","ref|ZP_02041593.1|",260,24,62,3.1E-2,32,{"$f":"VLOOKUP(K393,gi2taxid!G:H,2,FALSE)","v":"Clostridia"},{"$f":"VLOOKUP(D393,gi2taxid!A:E,4,FALSE)","v":"Ruminococcus gnavus ATCC 29149"}]
["OLPV1_322510864",0,"PREDICTED: LOW QUALITY PROTEIN: myotubularin-related protein 8 [Equus caballus]","ref|XP_001915044.1|",722,38,64,8.0000000000000007E-5,40.4,{"$f":"VLOOKUP(K394,gi2taxid!G:H,2,FALSE)","v":"Metazoa"},{"$f":"VLOOKUP(D394,gi2taxid!A:E,4,FALSE)","v":"Equus caballus"}]
["OLPV1_322510865","gp37 large distal tail fiber subunit","putative L-shaped tail fiber protein [Salmonella enterica subsp. enterica serovar Virchow str. SL491]","ref|ZP_03216658.1|",837,29,122,2.0000000000000001E-10,60.1,{"$f":"VLOOKUP(K395,gi2taxid!G:H,2,FALSE)","v":"Gammaproteobacteria"},{"$f":"VLOOKUP(D395,gi2taxid!A:E,4,FALSE)","v":"Salmonella enterica subsp. enterica serovar Virchow str. SL491"}]
["OLPV1_322510866","melted isoform c","putative Galanin [Campylobacter gracilis RM3268]","ref|ZP_05626160.1|",324,27,84,2E-3,37.700000000000003,{"$f":"VLOOKUP(K396,gi2taxid!G:H,2,FALSE)","v":"delta-epsilon_subdivisions"},{"$f":"VLOOKUP(D396,gi2taxid!A:E,4,FALSE)","v":"Campylobacter gracilis RM3268"}]
["OLPV1_322510867","high affinity camp specific ibmx insensitive 3' 5' cyclic phosphodiesterase 8b","hexon protein [Duck adenovirus A]","ref|NP_044710.1|",910,34,38,7.0000000000000001E-3,34.299999999999997,{"$f":"VLOOKUP(K397,gi2taxid!G:H,2,FALSE)","v":"Adenoviridae"},{"$f":"VLOOKUP(D397,gi2taxid!A:E,4,FALSE)","v":"Duck adenovirus A"}]
["OLPV1_322510868","transposase","transposase [Microcystis aeruginosa NIES-843]","ref|YP_001655450.1|",183,28,149,5.0000000000000002E-14,68.2,{"$f":"VLOOKUP(K398,gi2taxid!G:H,2,FALSE)","v":"Chroococcales"},{"$f":"VLOOKUP(D398,gi2taxid!A:E,4,FALSE)","v":"Microcystis aeruginosa NIES-843"}]
["OLPV1_322510869","type ii site specific deoxyribonuclease","type II restriction enzyme (Eco47II Sau96I) [Vibrio mimicus MB-451]","ref|ZP_06039179.1|",236,28,89,1E-4,42,{"$f":"VLOOKUP(K399,gi2taxid!G:H,2,FALSE)","v":"Gammaproteobacteria"},{"$f":"VLOOKUP(D399,gi2taxid!A:E,4,FALSE)","v":"Vibrio mimicus MB451"}]
["OLPV1_322510870","dna methyltransferase dcm","hypothetical protein HMPREF9431_01819 [Prevotella oulorum F0390]","ref|ZP_08833155.1|",438,46,331,9.0000000000000002E-109,333,{"$f":"VLOOKUP(K400,gi2taxid!G:H,2,FALSE)","v":"Bacteroidetes"},{"$f":"VLOOKUP(D400,gi2taxid!A:E,4,FALSE)","v":"Prevotella oulorum F0390"}]
["OLPV1_322510871","glycoside hydrolase","hypothetical protein RUMHYD_01438 [Blautia hydrogenotrophica DSM 10507]","ref|ZP_03782002.1|",341,29,62,5.0000000000000001E-3,36.6,{"$f":"VLOOKUP(K401,gi2taxid!G:H,2,FALSE)","v":"Clostridia"},{"$f":"VLOOKUP(D401,gi2taxid!A:E,4,FALSE)","v":"Blautia hydrogenotrophica DSM 10507"}]
["OLPV1_322510872","methyltransferase fkbm ","hypothetical protein [Rickettsia bellii OSU 85-389]","ref|YP_001496729.1|",240,36,86,2E-8,50.4,{"$f":"VLOOKUP(K402,gi2taxid!G:H,2,FALSE)","v":"Alphaproteobacteria"},{"$f":"VLOOKUP(D402,gi2taxid!A:E,4,FALSE)","v":"Rickettsia bellii OSU 85-389"}]

{"sheet":"OLPV2","index":2,"n_rows":327,"n_cols":11,"rows_kept":327,"cut":false,"hidden":false,"merged":[]}
["query","consensus annotation by first 10 refseq hits","best refseq hit ann","gi","hit_len","%id","aln_len","e_val","bit_score"]
["OLPV2_322510874","pmi10_00760 ","hypothetical protein PMI10_00760 [Flavobacterium sp. CF136]","ref|ZP_10728945.1|",140,32,37,0.02,31.2,{"$f":"VLOOKUP(K2,gi2taxid!G:H,2,FALSE)","v":"Bacteroidetes"},{"$f":"VLOOKUP(D2,gi2taxid!A:E,4,FALSE)","v":"Flavobacterium sp. CF136"}]
["OLPV2_322510875","lic 1 operon ","hypothetical protein VSWAT3_18988 [Vibrionales bacterium SWAT-3]","ref|ZP_01813050.1|",506,29,106,4.0000000000000001E-3,36.200000000000003,{"$f":"VLOOKUP(K3,gi2taxid!G:H,2,FALSE)","v":"Gammaproteobacteria"},{"$f":"VLOOKUP(D3,gi2taxid!A:E,4,FALSE)","v":"Vibrionales bacterium SWAT-3"}]
["OLPV2_322510876","ribonucleoside diphosphate reductase small chain ","predicted protein [Micromonas sp. RCC299]","ref|XP_002503379.1|",335,66,310,7.0000000000000002E-152,434,{"$f":"VLOOKUP(K4,gi2taxid!G:H,2,FALSE)","v":"Chlorophyta"},{"$f":"VLOOKUP(D4,gi2taxid!A:E,4,FALSE)","v":"Micromonas sp. RCC299"}]
["OLPV2_322510877","mif4g ma3 ","PREDICTED: hypothetical protein [Saccoglossus kowalevskii]","ref|XP_002741030.1|",517,30,64,3.0000000000000001E-3,35,{"$f":"VLOOKUP(K5,gi2taxid!G:H,2,FALSE)","v":"Metazoa"},{"$f":"VLOOKUP(D5,gi2taxid!A:E,4,FALSE)","v":"Saccoglossus kowalevskii"}]
["OLPV2_322510878","mpv1_064 ","putative VV A18-like helicase [Cafeteria roenbergensis virus BV-PW1]","ref|YP_003969949.1|",477,28,119,1.0000000000000001E-9,55.8,{"$f":"VLOOKUP(K6,gi2taxid!G:H,2,FALSE)","v":"unclassified_dsDNA_viruses (CroV)"},{"$f":"VLOOKUP(D6,gi2taxid!A:E,4,FALSE)","v":"Cafeteria roenbergensis virus BV-PW1"}]
["OLPV2_322510879","mfs transporter dha1 bicyclomycin chloramphenicol resistance ","conserved hypothetical protein [Leishmania major strain Friedlin]","ref|XP_001685109.1|",1293,33,52,2E-3,37.4,{"$f":"VLOOKUP(K7,gi2taxid!G:H,2,FALSE)","v":"Kinetoplastida"},{"$f":"VLOOKUP(D7,gi2taxid!A:E,4,FALSE)","v":"Leishmania major strain Friedlin"}]
["OLPV2_322510880",0,"hypothetical protein [Plasmodium chabaudi chabaudi]","ref|XP_735468.1|",169,42,50,3.0000000000000001E-3,38.1,{"$f":"VLOOKUP(K8,gi2taxid!G:H,2,FALSE)","v":"Apicomplexa"},{"$f":"VLOOKUP(D8,gi2taxid!A:E,4,FALSE)","v":"Plasmodium chabaudi chabaudi"}]
["OLPV2_322510881","metev_0974 ","hypothetical protein Metev_0974 [Methanohalobium evestigatum Z-7303]","ref|YP_003726661.1|",324,36,56,5.0000000000000001E-4,38.5,{"$f":"VLOOKUP(K9,gi2taxid!G:H,2,FALSE)","v":"Methanomicrobia"},{"$f":"VLOOKUP(D9,gi2taxid!A:E,4,FALSE)","v":"Methanohalobium evestigatum Z-7303"}]
["OLPV2_322510882",0,"hypothetical protein SSIL_1306 [Solibacillus silvestris StLB046]","ref|YP_006461875.1|",172,33,111,6.0000000000000001E-3,38.1,{"$f":"VLOOKUP(K10,gi2taxid!G:H,2,FALSE)","v":"Bacilli"},{"$f":"VLOOKUP(D10,gi2taxid!A:E,4,FALSE)","v":"Solibacillus silvestris StLB046"}]
["OLPV2_322510883","fr483_n516r ","hypothetical protein crov400 [Cafeteria roenbergensis virus BV-PW1]","ref|YP_003970033.1|",359,22,365,4.0000000000000002E-4,42.7,{"$f":"VLOOKUP(K11,gi2taxid!G:H,2,FALSE)","v":"unclassified_dsDNA_viruses (CroV)"},{"$f":"VLOOKUP(D11,gi2taxid!A:E,4,FALSE)","v":"Cafeteria roenbergensis virus BV-PW1"}]
["OLPV2_322510884",0,"hypothetical protein [Paramecium tetraurelia strain d4-2]","ref|XP_001448817.1|",503,33,206,9.9999999999999991E-22,93.6,{"$f":"VLOOKUP(K12,gi2taxid!G:H,2,FALSE)","v":"Ciliophora"},{"$f":"VLOOKUP(D12,gi2taxid!A:E,4,FALSE)","v":"Paramecium tetraurelia strain d4-2"}]
["OLPV2_322510885",0,"predicted protein [Nematostella vectensis]","ref|XP_001634551.1|",601,26,217,4.0000000000000001E-10,62.4,{"$f":"VLOOKUP(K13,gi2taxid!G:H,2,FALSE)","v":"Metazoa"},{"$f":"VLOOKUP(D13,gi2taxid!A:E,4,FALSE)","v":"Nematostella vectensis"}]
["OLPV2_322510886","cation channel ","cyclic nucleotide-binding domain containing protein [Tetrahymena thermophila]","ref|XP_001013186.1|",4362,50,46,2.0000000000000001E-9,56.6,{"$f":"VLOOKUP(K14,gi2taxid!G:H,2,FALSE)","v":"Ciliophora"},{"$f":"VLOOKUP(D14,gi2taxid!A:E,4,FALSE)","v":"Tetrahymena thermophila"}]
["OLPV2_322510887","cytochrome c ","hypothetical protein [Sphaerochaeta globus str. Buddy]","ref|YP_004246348.1|",68,44,36,0.01,31.2,{"$f":"VLOOKUP(K15,gi2taxid!G:H,2,FALSE)","v":"Spirochaetia"},{"$f":"VLOOKUP(D15,gi2taxid!A:E,4,FALSE)","v":"Sphaerochaeta globus str. Buddy"}]
["OLPV2_322510888","eco57i restriction endonuclease ","putative methyltransferase [Cafeteria roenbergensis virus BV-PW1]","ref|YP_003970105.1|",1334,29,1359,9.9999999999999997E-106,368,{"$f":"VLOOKUP(K16,gi2taxid!G:H,2,FALSE)","v":"unclassified_dsDNA_viruses (CroV)"},{"$f":"VLOOKUP(D16,gi2taxid!A:E,4,FALSE)","v":"Cafeteria roenbergensis virus BV-PW1"}]
["OLPV2_322510889","cdp diacylglycerol glycerol 3 phosphate ","conserved hypothetical protein [Campylobacterales bacterium GD 1]","ref|ZP_05072003.1|",586,44,27,5.0000000000000001E-3,33.9,{"$f":"VLOOKUP(K17,gi2taxid!G:H,2,FALSE)","v":"delta-epsilon_subdivisions"},{"$f":"VLOOKUP(D17,gi2taxid!A:E,4,FALSE)","v":"Campylobacterales bacterium GD 1"}]
["OLPV2_322510890","dna adenine methylase ","putative DNA N6-adenine methyltransferase [Cafeteria roenbergensis virus BV-PW1]","ref|YP_003969980.1|",158,84,160,2E-90,273,{"$f":"VLOOKUP(K18,gi2taxid!G:H,2,FALSE)","v":"unclassified_dsDNA_viruses (CroV)"},{"$f":"VLOOKUP(D18,gi2taxid!A:E,4,FALSE)","v":"Cafeteria roenbergensis virus BV-PW1"}]
["OLPV2_322510891","hmpref9457_03708 ","hypothetical protein crov348 [Cafeteria roenbergensis virus BV-PW1]","ref|YP_003969981.1|",111,78,108,4E-52,167,{"$f":"VLOOKUP(K19,gi2taxid!G:H,2,FALSE)","v":"unclassified_dsDNA_viruses (CroV)"},{"$f":"VLOOKUP(D19,gi2taxid!A:E,4,FALSE)","v":"Cafeteria roenbergensis virus BV-PW1"}]
["OLPV2_322510892",{"$error":"#N/A"},{"$nulls":7},{"$f":"VLOOKUP(K20,gi2taxid!G:H,2,FALSE)","v":{"$error":"#N/A"}},{"$f":"VLOOKUP(D20,gi2taxid!A:E,4,FALSE)","v":{"$error":"#N/A"}}]
["OLPV2_322510893","glycosyltransferase group 2 glycan biosynthesis ","TonB-dependent receptor, plug [gamma proteobacterium NOR51-B]","ref|ZP_04957903.1|",728,39,46,4.0000000000000001E-3,35.4,{"$f":"VLOOKUP(K21,gi2taxid!G:H,2,FALSE)","v":"Gammaproteobacteria"},{"$f":"VLOOKUP(D21,gi2taxid!A:E,4,FALSE)","v":"gamma proteobacterium NOR51-B"}]
["OLPV2_322510894","tryptophan repeat gene ","hypothetical protein ED21_31869 [Erythrobacter sp. SD-21]","ref|ZP_01864889.1|",720,27,323,2.0000000000000002E-15,77.8,{"$f":"VLOOKUP(K22,gi2taxid!G:H,2,FALSE)","v":"Alphaproteobacteria"},{"$f":"VLOOKUP(D22,gi2taxid!A:E,4,FALSE)","v":"Erythrobacter sp. SD-21"}]
["OLPV2_322510895","tryptophan repeat gene ","hypothetical protein ZZ6_0501 [Zymomonas mobilis subsp. mobilis ATCC 29191]","ref|YP_006517922.1|",215,36,86,1.9999999999999999E-7,48.5,{"$f":"VLOOKUP(K23,gi2taxid!G:H,2,FALSE)","v":"Alphaproteobacteria"},{"$f":"VLOOKUP(D23,gi2taxid!A:E,4,FALSE)","v":"Zymomonas mobilis subsp. mobilis ATCC 29191"}]
["OLPV2_322510896","histidine kinase ","putative histidine kinase protein [Streptococcus dysgalactiae subsp. equisimilis ATCC 12394]","ref|YP_006013230.1|",436,50,32,3.3000000000000002E-2,32,{"$f":"VLOOKUP(K24,gi2taxid!G:H,2,FALSE)","v":"Bacilli"},{"$f":"VLOOKUP(D24,gi2taxid!A:E,4,FALSE)","v":"Streptococcus dysgalactiae subsp. equisimilis ATCC 12394"}]
["OLPV2_322510897","dna polymerase v umuc ","hypothetical protein SSP1310 [Staphylococcus saprophyticus subsp. saprophyticus ATCC 15305]","ref|YP_301400.1|",372,41,54,2.9999999999999997E-4,40.799999999999997,{"$f":"VLOOKUP(K25,gi2taxid!G:H,2,FALSE)","v":"Bacilli"},{"$f":"VLOOKUP(D25,gi2taxid!A:E,4,FALSE)","v":"Staphylococcus saprophyticus subsp. saprophyticus ATCC 15305"}]
["OLPV2_322510898","mg15 gene product ","mg15 gene product [Megavirus chiliensis]","ref|YP_004894066.1|",285,27,126,3.9999999999999998E-7,49.7,{"$f":"VLOOKUP(K26,gi2taxid!G:H,2,FALSE)","v":"Mimiviridae"},{"$f":"VLOOKUP(D26,gi2taxid!A:E,4,FALSE)","v":"Megavirus chiliensis"}]
["OLPV2_322510899","ferric uptake regulator fur ","hypothetical protein MpV1_190 [Micromonas sp. RCC1109 virus MpV1]","ref|YP_004062073.1|",157,37,81,9.9999999999999994E-12,60.5,{"$f":"VLOOKUP(K27,gi2taxid!G:H,2,FALSE)","v":"Phycodnaviridae"},{"$f":"VLOOKUP(D27,gi2taxid!A:E,4,FALSE)","v":"Micromonas sp. RCC1109 virus MpV1"}]
["OLPV2_322510900","phosphoheptose isomerase ","phosphoheptose isomerase [Synechococcus phage S-SSM7]","ref|YP_004324183.1|",111,42,106,5.9999999999999998E-21,83.2,{"$f":"VLOOKUP(K28,gi2taxid!G:H,2,FALSE)","v":"Caudovirales"},{"$f":"VLOOKUP(D28,gi2taxid!A:E,4,FALSE)","v":"Synechococcus phage S-SSM7"}]
["OLPV2_322510901","glycine amidinotransferase mitochondrial isoform 1 ","PREDICTED: glycine amidinotransferase, mitochondrial [Callithrix jacchus]","ref|XP_002753466.1|",423,34,64,5.0000000000000001E-4,41.6,{"$f":"VLOOKUP(K29,gi2taxid!G:H,2,FALSE)","v":"Metazoa"},{"$f":"VLOOKUP(D29,gi2taxid!A:E,4,FALSE)","v":"Callithrix jacchus"}]
["OLPV2_322510902","dna polymerase iii polc ","DNA polymerase III PolC [Mycoplasma bovis Hubei-1]","ref|YP_004683115.1|",1458,35,54,0.06,31.6,{"$f":"VLOOKUP(K30,gi2taxid!G:H,2,FALSE)","v":"Mollicutes"},{"$f":"VLOOKUP(D30,gi2taxid!A:E,4,FALSE)","v":"Mycoplasma bovis Hubei-1"}]
["OLPV2_322510903","deoxyuridine 5' triphosphate nucleotidohydrolase ","deoxyuridine 5'-triphosphate nucleotidohydrolase, putative [Toxoplasma gondii ME49]","ref|XP_002368173.1|",170,37,153,7.0000000000000001E-20,83.6,{"$f":"VLOOKUP(K31,gi2taxid!G:H,2,FALSE)","v":"Apicomplexa"},{"$f":"VLOOKUP(D31,gi2taxid!A:E,4,FALSE)","v":"Toxoplasma gondii ME49"}]
["OLPV2_322510904","fg04342.1 ","hypothetical protein FG04342.1 [Gibberella zeae PH-1]","ref|XP_384518.1|",390,42,48,0.02,32.299999999999997,{"$f":"VLOOKUP(K32,gi2taxid!G:H,2,FALSE)","v":"Fungi"},{"$f":"VLOOKUP(D32,gi2taxid!A:E,4,FALSE)","v":"Gibberella zeae PH-1"}]
["OLPV2_322510905","deoxynucleoside kinase ","putative deoxynucleoside kinase [Bombyx mori]","ref|NP_001037019.1|",248,35,200,2.9999999999999998E-31,117,{"$f":"VLOOKUP(K33,gi2taxid!G:H,2,FALSE)","v":"Metazoa"},{"$f":"VLOOKUP(D33,gi2taxid!A:E,4,FALSE)","v":"Bombyx mori"}]
["OLPV2_322510906","bacteriorhodopsin ","Adenylate and Guanylate cyclase catalytic domain containing protein [Plasmodium vivax Sal-1]","ref|XP_001615499.1|",3979,25,205,6.0000000000000002E-6,46.6,{"$f":"VLOOKUP(K34,gi2taxid!G:H,2,FALSE)","v":"Apicomplexa"},{"$f":"VLOOKUP(D34,gi2taxid!A:E,4,FALSE)","v":"Plasmodium vivax Sal-1"}]
["OLPV2_322510907","msba gene product ","multi-drug resistance protein [Helicobacter cetorum MIT 00-7128]","ref|YP_006222581.1|",549,31,106,1E-3,39.700000000000003,{"$f":"VLOOKUP(K35,gi2taxid!G:H,2,FALSE)","v":"delta-epsilon_subdivisions"},{"$f":"VLOOKUP(D35,gi2taxid!A:E,4,FALSE)","v":"Helicobacter cetorum MIT 00-7128"}]
["OLPV2_322510908","gd23558 ","conserved hypothetical protein [Aspergillus terreus NIH2624]","ref|XP_001216631.1|",1965,56,36,4.0000000000000002E-4,37.700000000000003,{"$f":"VLOOKUP(K36,gi2taxid!G:H,2,FALSE)","v":"Fungi"},{"$f":"VLOOKUP(D36,gi2taxid!A:E,4,FALSE)","v":"Aspergillus terreus NIH2624"}]
["OLPV2_322510909","cold shock dna binding ","cold-shock protein [Granulicella tundricola MP5ACTX9]","ref|YP_004218723.1|",70,39,61,1.9999999999999999E-11,56.6,{"$f":"VLOOKUP(K37,gi2taxid!G:H,2,FALSE)","v":"Acidobacteria"},{"$f":"VLOOKUP(D37,gi2taxid!A:E,4,FALSE)","v":"Granulicella tundricola MP5ACTX9"}]
["OLPV2_322510910","cation channel ","potassium channel protein [Flavobacteria bacterium BAL38]","ref|ZP_01735243.1|",234,50,46,3E-10,55.8,{"$f":"VLOOKUP(K38,gi2taxid!G:H,2,FALSE)","v":"Bacteroidetes"},{"$f":"VLOOKUP(D38,gi2taxid!A:E,4,FALSE)","v":"Flavobacteria bacterium BAL38"}]
["OLPV2_322510911","atp binding cassette sub c 8 isoform 1 ","hypothetical protein CKS_4518 [Pantoea stewartii subsp. stewartii DC283]","ref|ZP_09831190.1|",78,26,58,8.9999999999999998E-4,34.299999999999997,{"$f":"VLOOKUP(K39,gi2taxid!G:H,2,FALSE)","v":"Gammaproteobacteria"},{"$f":"VLOOKUP(D39,gi2taxid!A:E,4,FALSE)","v":"Pantoea stewartii subsp. stewartii DC283"}]
["OLPV2_322510912","rhodanese ","rhodanese-like protein [Mycobacterium sp. MCS]","ref|YP_642470.1|",221,33,58,9.9999999999999995E-7,46.2,{"$f":"VLOOKUP(K40,gi2taxid!G:H,2,FALSE)","v":"Actinobacteria"},{"$f":"VLOOKUP(D40,gi2taxid!A:E,4,FALSE)","v":"Mycobacterium sp. MCS"}]
["OLPV2_322510913","dna damage inducible f ","hypothetical protein DDB_G0293912 [Dictyostelium discoideum AX4]","ref|XP_628867.1|",3097,42,43,1.4999999999999999E-2,33.1,{"$f":"VLOOKUP(K41,gi2taxid!G:H,2,FALSE)","v":"Mycetozoa"},{"$f":"VLOOKUP(D41,gi2taxid!A:E,4,FALSE)","v":"Dictyostelium discoideum AX4"}]
["OLPV2_322510914","exonuclease ","putative ATP-dependent nuclease [Feldmannia species virus]","ref|YP_002154742.1|",251,38,229,1.9999999999999999E-44,153,{"$f":"VLOOKUP(K42,gi2taxid!G:H,2,FALSE)","v":"Phycodnaviridae"},{"$f":"VLOOKUP(D42,gi2taxid!A:E,4,FALSE)","v":"Feldmannia species virus"}]
["OLPV2_322510915","fr483_n014l ","sphingosine kinase [Acholeplasma laidlawii PG-8A]","ref|YP_001621277.1|",302,40,40,4.0000000000000001E-3,35.4,{"$f":"VLOOKUP(K43,gi2taxid!G:H,2,FALSE)","v":"Mollicutes"},{"$f":"VLOOKUP(D43,gi2taxid!A:E,4,FALSE)","v":"Acholeplasma laidlawii PG-8A"}]
["OLPV2_322510916","dna directed rna polymerase mitochondrial precursor ","4-hydroxybenzoyl-CoA thioesterase [Weeksella virosa DSM 16922]","ref|YP_004238839.1|",147,31,67,4.0000000000000002E-4,39.299999999999997,{"$f":"VLOOKUP(K44,gi2taxid!G:H,2,FALSE)","v":"Bacteroidetes"},{"$f":"VLOOKUP(D44,gi2taxid!A:E,4,FALSE)","v":"Weeksella virosa DSM 16922"}]
["OLPV2_322510917","mitochondrial chaperone bcs1 ","mg96 gene product [Megavirus chiliensis]","ref|YP_004894147.1|",305,50,115,2E-35,126,{"$f":"VLOOKUP(K45,gi2taxid!G:H,2,FALSE)","v":"Mimiviridae"},{"$f":"VLOOKUP(D45,gi2taxid!A:E,4,FALSE)","v":"Megavirus chiliensis"}]
["OLPV2_322510918","histone lysine n methyltransferase h3 ","PREDICTED: hypothetical protein LOC100633323 [Amphimedon queenslandica]","ref|XP_003391455.1|",757,26,80,3.0000000000000001E-3,38.9,{"$f":"VLOOKUP(K46,gi2taxid!G:H,2,FALSE)","v":"Metazoa"},{"$f":"VLOOKUP(D46,gi2taxid!A:E,4,FALSE)","v":"Amphimedon queenslandica"}]
["OLPV2_322510919","map kinase ","PREDICTED: olfactory receptor 8A1-like [Loxodonta africana]","ref|XP_003417539.1|",309,35,75,7.0000000000000001E-3,36.200000000000003,{"$f":"VLOOKUP(K47,gi2taxid!G:H,2,FALSE)","v":"Metazoa"},{"$f":"VLOOKUP(D47,gi2taxid!A:E,4,FALSE)","v":"Loxodonta africana"}]
["OLPV2_322510920",0,"glycosyl hydrolase, BNR repeat [Synechococcus sp. WH 8109]","ref|ZP_05790015.1|",1782,45,320,2E-73,265,{"$f":"VLOOKUP(K48,gi2taxid!G:H,2,FALSE)","v":"Chroococcales"},{"$f":"VLOOKUP(D48,gi2taxid!A:E,4,FALSE)","v":"Synechococcus sp. WH 8109"}]
["OLPV2_322510921","eio_1240 ","hypothetical protein OTV1_074 [Ostreococcus tauri virus 1]","ref|YP_003494913.1|",133,34,103,1E-10,55.5,{"$f":"VLOOKUP(K49,gi2taxid!G:H,2,FALSE)","v":"Phycodnaviridae"},{"$f":"VLOOKUP(D49,gi2taxid!A:E,4,FALSE)","v":"Ostreococcus tauri virus 1"}]
["OLPV2_322510922","mucin 4 isoform precursor ","hypothetical protein NEMVEDRAFT_v1g221027 [Nematostella vectensis]","ref|XP_001622215.1|",276,35,249,1E-25,110,{"$f":"VLOOKUP(K50,gi2taxid!G:H,2,FALSE)","v":"Metazoa"},{"$f":"VLOOKUP(D50,gi2taxid!A:E,4,FALSE)","v":"Nematostella vectensis"}]
["OLPV2_322510923","eio_1240 ","hypothetical protein OTV1_074 [Ostreococcus tauri virus 1]","ref|YP_003494913.1|",133,36,103,7.9999999999999995E-11,56.2,{"$f":"VLOOKUP(K51,gi2taxid!G:H,2,FALSE)","v":"Phycodnaviridae"},{"$f":"VLOOKUP(D51,gi2taxid!A:E,4,FALSE)","v":"Ostreococcus tauri virus 1"}]
["OLPV2_322510924","mucin 4 isoform precursor ","hypothetical protein NEMVEDRAFT_v1g221027 [Nematostella vectensis]","ref|XP_001622215.1|",276,35,259,5.9999999999999995E-25,108,{"$f":"VLOOKUP(K52,gi2taxid!G:H,2,FALSE)","v":"Metazoa"},{"$f":"VLOOKUP(D52,gi2taxid!A:E,4,FALSE)","v":"Nematostella vectensis"}]
["OLPV2_322510925","teneurin 1 ","predicted protein [Populus trichocarpa]","ref|XP_002327802.1|",1008,31,48,4.4999999999999998E-2,35.799999999999997,{"$f":"VLOOKUP(K53,gi2taxid!G:H,2,FALSE)","v":"Streptophyta"},{"$f":"VLOOKUP(D53,gi2taxid!A:E,4,FALSE)","v":"Populus trichocarpa"}]
["OLPV2_322510926","c ","LacI family transcriptional regulator [Pseudoalteromonas sp. BSi20495]","ref|ZP_09242176.1|",334,29,65,1.2999999999999999E-2,32.700000000000003,{"$f":"VLOOKUP(K54,gi2taxid!G:H,2,FALSE)","v":"Gammaproteobacteria"},{"$f":"VLOOKUP(D54,gi2taxid!A:E,4,FALSE)","v":"Pseudoalteromonas sp. BSi20495"}]
["OLPV2_322510927",0,"hypothetical protein amb1472 [Magnetospirillum magneticum AMB-1]","ref|YP_420835.1|",317,41,90,3E-10,55.8,{"$f":"VLOOKUP(K55,gi2taxid!G:H,2,FALSE)","v":"Alphaproteobacteria"},{"$f":"VLOOKUP(D55,gi2taxid!A:E,4,FALSE)","v":"Magnetospirillum magneticum AMB-1"}]
["OLPV2_322510928","carboxy terminal protease ","alpha-1,3-glucan synthase Ags2 [Talaromyces stipitatus ATCC 10500]","ref|XP_002481084.1|",2413,29,72,2E-3,37,{"$f":"VLOOKUP(K56,gi2taxid!G:H,2,FALSE)","v":"Fungi"},{"$f":"VLOOKUP(D56,gi2taxid!A:E,4,FALSE)","v":"Talaromyces stipitatus ATCC 10500"}]
["OLPV2_322510929","selenocysteine specific translation elongation factor ","polysaccharide pyruvyl transferase [Butyrivibrio proteoclasticus B316]","ref|YP_003831833.1|",388,24,90,0.01,33.9,{"$f":"VLOOKUP(K57,gi2taxid!G:H,2,FALSE)","v":"Clostridia"},{"$f":"VLOOKUP(D57,gi2taxid!A:E,4,FALSE)","v":"Butyrivibrio proteoclasticus B316"}]
["OLPV2_322510930","tetr transcriptional regulator ","TetR family transcriptional regulator [Bacillus atrophaeus 1942]","ref|YP_003974887.1|",194,47,38,1.0999999999999999E-2,33.5,{"$f":"VLOOKUP(K58,gi2taxid!G:H,2,FALSE)","v":"Bacilli"},{"$f":"VLOOKUP(D58,gi2taxid!A:E,4,FALSE)","v":"Bacillus atrophaeus 1942"}]
["OLPV2_322510931","heat shock 70 kda ","heat shock 70 kDa protein [Phytophthora infestans T30-4]","ref|XP_002902008.1|",653,69,627,0,888,{"$f":"VLOOKUP(K59,gi2taxid!G:H,2,FALSE)","v":"Oomycetes"},{"$f":"VLOOKUP(D59,gi2taxid!A:E,4,FALSE)","v":"Phytophthora infestans T30-4"}]
["OLPV2_322510932","filamentous hemagglutinin ","putative filamentous hemagglutinin [Mannheimia haemolytica serotype A2 str. BOVINE]","ref|ZP_05990410.1|",198,23,190,2.9999999999999997E-4,42,{"$f":"VLOOKUP(K60,gi2taxid!G:H,2,FALSE)","v":"Gammaproteobacteria"},{"$f":"VLOOKUP(D60,gi2taxid!A:E,4,FALSE)","v":"Mannheimia haemolytica serotype A2 str. BOVINE"}]
["OLPV2_322510933","eio_1240 ","hypothetical protein OTV1_074 [Ostreococcus tauri virus 1]","ref|YP_003494913.1|",133,42,89,2E-12,61.2,{"$f":"VLOOKUP(K61,gi2taxid!G:H,2,FALSE)","v":"Phycodnaviridae"},{"$f":"VLOOKUP(D61,gi2taxid!A:E,4,FALSE)","v":"Ostreococcus tauri virus 1"}]
["OLPV2_322510934",0,"hemagglutinin domain-containing protein [Chlorobaculum parvum NCIB 8327]","ref|YP_001997940.1|",900,27,371,1E-8,58.9,{"$f":"VLOOKUP(K62,gi2taxid!G:H,2,FALSE)","v":"Chlorobi"},{"$f":"VLOOKUP(D62,gi2taxid!A:E,4,FALSE)","v":"Chlorobaculum parvum NCIB 8327"}]
["OLPV2_322510935","glycosyl transferase 11 ","glycosyl transferase family 11 [Gillisia limnaea DSM 15749]","ref|ZP_09668113.1|",301,35,209,1E-26,106,{"$f":"VLOOKUP(K63,gi2taxid!G:H,2,FALSE)","v":"Bacteroidetes"},{"$f":"VLOOKUP(D63,gi2taxid!A:E,4,FALSE)","v":"Gillisia limnaea DSM 15749"}]
["OLPV2_322510936","replication factor c ","ABC transporter, substrate-binding sporulation protein YtlA [Bacillus subtilis subsp. subtilis str. RO-NN-1]","ref|YP_005558031.1|",342,29,51,1.4999999999999999E-2,32.299999999999997,{"$f":"VLOOKUP(K64,gi2taxid!G:H,2,FALSE)","v":"Bacilli"},{"$f":"VLOOKUP(D64,gi2taxid!A:E,4,FALSE)","v":"Bacillus subtilis subsp. subtilis str. RO-NN-1"}]
["OLPV2_322510937","mfs peptide transporter ptr2 ","hypothetical protein Caci_5190 [Catenulispora acidiphila DSM 44928]","ref|YP_003115890.1|",229,57,35,1E-3,37.4,{"$f":"VLOOKUP(K65,gi2taxid!G:H,2,FALSE)","v":"Actinobacteria"},{"$f":"VLOOKUP(D65,gi2taxid!A:E,4,FALSE)","v":"Catenulispora acidiphila DSM 44928"}]
["OLPV2_322510938","abc transporter atpase ","ABC transporter ATPase [Pontibacter sp. BAB1700]","ref|ZP_10400122.1|",227,38,47,8.4000000000000005E-2,30.4,{"$f":"VLOOKUP(K66,gi2taxid!G:H,2,FALSE)","v":"Bacteroidetes"},{"$f":"VLOOKUP(D66,gi2taxid!A:E,4,FALSE)","v":"Pontibacter sp. BAB1700"}]
["OLPV2_322510939","glycosyl transferase 11 ","glycosyl transferase family protein [Prochlorococcus marinus str. AS9601]","ref|YP_001008784.1|",277,24,194,2.9999999999999999E-7,51.6,{"$f":"VLOOKUP(K67,gi2taxid!G:H,2,FALSE)","v":"Prochlorales"},{"$f":"VLOOKUP(D67,gi2taxid!A:E,4,FALSE)","v":"Prochlorococcus marinus str. AS9601"}]
["OLPV2_322510940",0,"hypothetical protein pah_c188o016 [Parachlamydia acanthamoebae str. Hall's coccus]","ref|ZP_06300136.1|",286,38,258,5.0000000000000004E-44,153,{"$f":"VLOOKUP(K68,gi2taxid!G:H,2,FALSE)","v":"Chlamydiae"},{"$f":"VLOOKUP(D68,gi2taxid!A:E,4,FALSE)","v":"Parachlamydia acanthamoebae str. Hall's coccus"}]
["OLPV2_322510941","methyltransferase fkbm ","FkbM family methyltransferase [Trichodesmium erythraeum IMS101]","ref|YP_723279.1|",569,40,172,1.9999999999999999E-29,115,{"$f":"VLOOKUP(K69,gi2taxid!G:H,2,FALSE)","v":"Oscillatoriales"},{"$f":"VLOOKUP(D69,gi2taxid!A:E,4,FALSE)","v":"Trichodesmium erythraeum IMS101"}]
["OLPV2_322510942","dna polymerase iii alpha subunit ","putative hydrolase [Tetragenococcus halophilus NBRC 12172]","ref|YP_004886034.1|",407,32,63,0.01,34.700000000000003,{"$f":"VLOOKUP(K70,gi2taxid!G:H,2,FALSE)","v":"Bacilli"},{"$f":"VLOOKUP(D70,gi2taxid!A:E,4,FALSE)","v":"Tetragenococcus halophilus NBRC 12172"}]
["OLPV2_322510943","amaca2_11400 ","hypothetical protein ATCV1_Z830R [Acanthocystis turfacea Chlorella virus 1]","ref|YP_001427311.1|",284,32,164,7.0000000000000001E-22,90.5,{"$f":"VLOOKUP(K71,gi2taxid!G:H,2,FALSE)","v":"Phycodnaviridae"},{"$f":"VLOOKUP(D71,gi2taxid!A:E,4,FALSE)","v":"Acanthocystis turfacea Chlorella virus 1"}]
["OLPV2_322510944","chromosome segregation smc ","GI22383 [Drosophila mojavensis]","ref|XP_002000698.1|",706,31,100,7.2999999999999995E-2,33.1,{"$f":"VLOOKUP(K72,gi2taxid!G:H,2,FALSE)","v":"Metazoa"},{"$f":"VLOOKUP(D72,gi2taxid!A:E,4,FALSE)","v":"Drosophila mojavensis"}]
["OLPV2_322510945",0,"hypothetical protein Slin_4466 [Spirosoma linguale DSM 74]","ref|YP_003389245.1|",122,28,96,2E-3,35.799999999999997,{"$f":"VLOOKUP(K73,gi2taxid!G:H,2,FALSE)","v":"Bacteroidetes"},{"$f":"VLOOKUP(D73,gi2taxid!A:E,4,FALSE)","v":"Spirosoma linguale DSM 74"}]
["OLPV2_322510946","gh21298 ","sigma-54 factor interaction domain-containing protein [Pelosinus fermentans DSM 17108]","ref|ZP_10327913.1|",891,25,119,3.0000000000000001E-3,37,{"$f":"VLOOKUP(K74,gi2taxid!G:H,2,FALSE)","v":"Negativicutes"},{"$f":"VLOOKUP(D74,gi2taxid!A:E,4,FALSE)","v":"Pelosinus fermentans DSM 17108"}]
["OLPV2_322510947","primase ","primase-like protein [Actinobacillus minor 202]","ref|ZP_05629258.1|",290,40,40,1.7000000000000001E-2,36.200000000000003,{"$f":"VLOOKUP(K75,gi2taxid!G:H,2,FALSE)","v":"Gammaproteobacteria"},{"$f":"VLOOKUP(D75,gi2taxid!A:E,4,FALSE)","v":"Actinobacillus minor 202"}]
["OLPV2_322510948","adenosine deaminase ","adenosine deaminase [Rattus norvegicus]","ref|NP_569083.1|",352,47,32,7.0000000000000007E-2,30.4,{"$f":"VLOOKUP(K76,gi2taxid!G:H,2,FALSE)","v":"Metazoa"},{"$f":"VLOOKUP(D76,gi2taxid!A:E,4,FALSE)","v":"Rattus norvegicus"}]
["OLPV2_322510949","bacpec_01872 ","hypothetical protein Cvib_0618 [Chlorobium phaeovibrioides DSM 265]","ref|YP_001130142.1|",244,28,205,3E-11,62.4,{"$f":"VLOOKUP(K77,gi2taxid!G:H,2,FALSE)","v":"Chlorobi"},{"$f":"VLOOKUP(D77,gi2taxid!A:E,4,FALSE)","v":"Chlorobium phaeovibrioides DSM 265"}]
["OLPV2_322510950","mannosyltransferase och1 enzymes ","mannosyltransferase OCH1-like enzyme [Novosphingobium sp. AP12]","ref|ZP_10748492.1|",438,42,204,5.9999999999999997E-46,167,{"$f":"VLOOKUP(K78,gi2taxid!G:H,2,FALSE)","v":"Alphaproteobacteria"},{"$f":"VLOOKUP(D78,gi2taxid!A:E,4,FALSE)","v":"Novosphingobium sp. AP12"}]
["OLPV2_322510951","ptt_02690 ","hypothetical protein PTT_02690 [Pyrenophora teres f. teres 0-1]","ref|XP_003295759.1|",820,28,61,7.9000000000000001E-2,31.2,{"$f":"VLOOKUP(K79,gi2taxid!G:H,2,FALSE)","v":"Fungi"},{"$f":"VLOOKUP(D79,gi2taxid!A:E,4,FALSE)","v":"Pyrenophora teres f. teres 0-1"}]
["OLPV2_322510952","glucosamine fructose 6 phosphate aminotransferase ","glucosamine--fructose-6-phosphate aminotransferase [Entamoeba dispar SAW760]","ref|XP_001740382.1|",621,42,614,1.9999999999999999E-144,436,{"$f":"VLOOKUP(K80,gi2taxid!G:H,2,FALSE)","v":"Archamoebae"},{"$f":"VLOOKUP(D80,gi2taxid!A:E,4,FALSE)","v":"Entamoeba dispar SAW760"}]
["OLPV2_322510953","ring finger 141 ","PREDICTED: peroxisome biogenesis factor 10-like [Nasonia vitripennis]","ref|XP_001603940.1|",284,33,60,4.0000000000000001E-8,55.5,{"$f":"VLOOKUP(K81,gi2taxid!G:H,2,FALSE)","v":"Metazoa"},{"$f":"VLOOKUP(D81,gi2taxid!A:E,4,FALSE)","v":"Nasonia vitripennis"}]
["OLPV2_322510954","deoxyribodipyrimidine photo lyase type i ","deoxyribodipyrimidine photo-lyase [Methanosalsum zhilinae DSM 4017]","ref|YP_004616121.1|",457,40,466,2.0000000000000001E-110,337,{"$f":"VLOOKUP(K82,gi2taxid!G:H,2,FALSE)","v":"Methanomicrobia"},{"$f":"VLOOKUP(D82,gi2taxid!A:E,4,FALSE)","v":"Methanosalsum zhilinae DSM 4017"}]
["OLPV2_322510955","marhy0645 ","hypothetical protein UU7_02752 [Rhodanobacter spathiphylli B39]","ref|ZP_10192810.1|",132,48,31,1.0000000000000001E-5,39.700000000000003,{"$f":"VLOOKUP(K83,gi2taxid!G:H,2,FALSE)","v":"Gammaproteobacteria"},{"$f":"VLOOKUP(D83,gi2taxid!A:E,4,FALSE)","v":"Rhodanobacter spathiphylli B39"}]
["OLPV2_322510956","tpr ","hypothetical protein [Burkholderia phymatum STM815]","ref|YP_001860804.1|",520,30,262,5.0000000000000003E-34,134,{"$f":"VLOOKUP(K84,gi2taxid!G:H,2,FALSE)","v":"Betaproteobacteria"},{"$f":"VLOOKUP(D84,gi2taxid!A:E,4,FALSE)","v":"Burkholderia phymatum STM815"}]
["OLPV2_322510957","tre oncogene isoform c ","arabinose efflux permease family protein [Pseudomonas sp. GM78]","ref|ZP_10624422.1|",394,32,71,1.2E-2,34.299999999999997,{"$f":"VLOOKUP(K85,gi2taxid!G:H,2,FALSE)","v":"Gammaproteobacteria"},{"$f":"VLOOKUP(D85,gi2taxid!A:E,4,FALSE)","v":"Pseudomonas sp. GM78"}]
["OLPV2_322510958","abc transporter ","lipid A ABC exporter, fused ATPase and inner membrane subunits MsbA [Ralstonia pickettii 12J]","ref|YP_001899963.1|",574,35,229,6E-37,142,{"$f":"VLOOKUP(K86,gi2taxid!G:H,2,FALSE)","v":"Betaproteobacteria"},{"$f":"VLOOKUP(D86,gi2taxid!A:E,4,FALSE)","v":"Ralstonia pickettii 12J"}]
["OLPV2_322510959","abc transporter ","ABC-type multidrug transport system, ATPase and permease component [Methylacidiphilum fumariolicum SolV]","ref|ZP_10015599.1|",617,32,394,3.9999999999999999E-45,169,{"$f":"VLOOKUP(K87,gi2taxid!G:H,2,FALSE)","v":"Verrucomicrobia"},{"$f":"VLOOKUP(D87,gi2taxid!A:E,4,FALSE)","v":"Methylacidiphilum fumariolicum SolV"}]
["OLPV2_322510960","vv a32 packaging atpase ","hypothetical protein MpV1_092c [Micromonas sp. RCC1109 virus MpV1]","ref|YP_004061975.1|",275,45,283,1E-83,256,{"$f":"VLOOKUP(K88,gi2taxid!G:H,2,FALSE)","v":"Phycodnaviridae"},{"$f":"VLOOKUP(D88,gi2taxid!A:E,4,FALSE)","v":"Micromonas sp. RCC1109 virus MpV1"}]
["OLPV2_322510961","serine threonine kinase haspin ","phosphotransferase [Singapore grouper iridovirus]","ref|YP_164245.1|",508,33,109,2E-8,57.4,{"$f":"VLOOKUP(K89,gi2taxid!G:H,2,FALSE)","v":"Iridoviridae"},{"$f":"VLOOKUP(D89,gi2taxid!A:E,4,FALSE)","v":"Singapore grouper iridovirus"}]
["OLPV2_322510962",0,"phage portal protein, HK97 family [Acinetobacter baumannii 6013150]","ref|ZP_08436007.1|",425,41,41,1.0999999999999999E-2,33.5,{"$f":"VLOOKUP(K90,gi2taxid!G:H,2,FALSE)","v":"Gammaproteobacteria"},{"$f":"VLOOKUP(D90,gi2taxid!A:E,4,FALSE)","v":"Acinetobacter baumannii 6013150"}]
["OLPV2_322510963","fr483_n624l ","hypothetical protein OtV2_096 [Ostreococcus tauri virus 2]","ref|YP_004063529.1|",287,29,188,3.9999999999999998E-23,97.4,{"$f":"VLOOKUP(K91,gi2taxid!G:H,2,FALSE)","v":"Phycodnaviridae"},{"$f":"VLOOKUP(D91,gi2taxid!A:E,4,FALSE)","v":"Ostreococcus tauri virus 2"}]
["OLPV2_322510964","replication factor c small subunit ","Replication factor C [Pyrolobus fumarii 1A]","ref|YP_004781855.1|",327,35,116,4.0000000000000003E-17,78.599999999999994,{"$f":"VLOOKUP(K92,gi2taxid!G:H,2,FALSE)","v":"Thermoprotei"},{"$f":"VLOOKUP(D92,gi2taxid!A:E,4,FALSE)","v":"Pyrolobus fumarii 1A"}]
["OLPV2_322510965","cdifqc_03213 ","ligase III, DNA, ATP-dependent [Xenopus laevis]","ref|NP_001082183.1|",988,23,166,4.2000000000000003E-2,35.799999999999997,{"$f":"VLOOKUP(K93,gi2taxid!G:H,2,FALSE)","v":"Metazoa"},{"$f":"VLOOKUP(D93,gi2taxid!A:E,4,FALSE)","v":"Xenopus laevis"}]
["OLPV2_322510966","mitochondrial dna polymerase i d ","hypothetical protein crov186 [Cafeteria roenbergensis virus BV-PW1]","ref|YP_003969818.1|",194,27,164,3.0000000000000001E-5,43.1,{"$f":"VLOOKUP(K94,gi2taxid!G:H,2,FALSE)","v":"unclassified_dsDNA_viruses (CroV)"},{"$f":"VLOOKUP(D94,gi2taxid!A:E,4,FALSE)","v":"Cafeteria roenbergensis virus BV-PW1"}]
["OLPV2_322510967",0,"hypothetical protein [Acanthamoeba polyphaga mimivirus]","ref|YP_003986964.1|",189,32,60,8.0000000000000004E-4,37.700000000000003,{"$f":"VLOOKUP(K95,gi2taxid!G:H,2,FALSE)","v":"Mimiviridae"},{"$f":"VLOOKUP(D95,gi2taxid!A:E,4,FALSE)","v":"Acanthamoeba polyphaga mimivirus"}]
["OLPV2_322510968","rna methyltransferase spou ","PREDICTED: zinc finger protein 337-like [Strongylocentrotus purpuratus]","ref|XP_003728365.1|",210,31,106,3.0000000000000001E-3,37.4,{"$f":"VLOOKUP(K96,gi2taxid!G:H,2,FALSE)","v":"Metazoa"},{"$f":"VLOOKUP(D96,gi2taxid!A:E,4,FALSE)","v":"Strongylocentrotus purpuratus"}]
["OLPV2_322510969","abc 2 type transporter ","ABC transporter [Thermotoga naphthophila RKU-10]","ref|YP_003347150.1|",366,26,102,5.9999999999999995E-4,39.299999999999997,{"$f":"VLOOKUP(K97,gi2taxid!G:H,2,FALSE)","v":"Thermotogae"},{"$f":"VLOOKUP(D97,gi2taxid!A:E,4,FALSE)","v":"Thermotoga naphthophila RKU-10"}]
["OLPV2_322510970",0,"hypothetical protein OTV1_100 [Ostreococcus tauri virus 1]","ref|YP_003494939.1|",225,39,49,3.0000000000000001E-6,43.1,{"$f":"VLOOKUP(K98,gi2taxid!G:H,2,FALSE)","v":"Phycodnaviridae"},{"$f":"VLOOKUP(D98,gi2taxid!A:E,4,FALSE)","v":"Ostreococcus tauri virus 1"}]
["OLPV2_322510971",0,"hypothetical protein [Plasmodium yoelii yoelii 17XNL]","ref|XP_729399.1|",1647,35,81,4.9999999999999998E-7,52,{"$f":"VLOOKUP(K99,gi2taxid!G:H,2,FALSE)","v":"Apicomplexa"},{"$f":"VLOOKUP(D99,gi2taxid!A:E,4,FALSE)","v":"Plasmodium yoelii yoelii 17XNL"}]
["OLPV2_322510972","2 oxoglutarate dehydrogenase e1 component ","PREDICTED: LOW QUALITY PROTEIN: polygalacturonase-like [Glycine max]","ref|XP_003518299.1|",387,38,47,1.2999999999999999E-2,33.1,{"$f":"VLOOKUP(K100,gi2taxid!G:H,2,FALSE)","v":"Streptophyta"},{"$f":"VLOOKUP(D100,gi2taxid!A:E,4,FALSE)","v":"Glycine max"}]
["OLPV2_322510973","amidohydrolase ","hypothetical protein OsV5_114f [Ostreococcus virus OsV5]","ref|YP_001648191.1|",140,36,84,5.0000000000000001E-4,39.299999999999997,{"$f":"VLOOKUP(K101,gi2taxid!G:H,2,FALSE)","v":"Phycodnaviridae"},{"$f":"VLOOKUP(D101,gi2taxid!A:E,4,FALSE)","v":"Ostreococcus virus OsV5"}]
["OLPV2_322510974","dna directed rna polymerase ii subunit 3 ","hypothetical protein NCER_100268 [Nosema ceranae BRL01]","ref|XP_002996608.1|",293,34,134,7.9999999999999998E-12,65.900000000000006,{"$f":"VLOOKUP(K102,gi2taxid!G:H,2,FALSE)","v":"Fungi"},{"$f":"VLOOKUP(D102,gi2taxid!A:E,4,FALSE)","v":"Nosema ceranae BRL01"}]
["OLPV2_322510975","function duf214 ","protein of unknown function DUF214 [Clostridium papyrosolvens DSM 2782]","ref|ZP_08193621.1|",762,48,25,6.0999999999999999E-2,31.6,{"$f":"VLOOKUP(K103,gi2taxid!G:H,2,FALSE)","v":"Clostridia"},{"$f":"VLOOKUP(D103,gi2taxid!A:E,4,FALSE)","v":"Clostridium papyrosolvens DSM 2782"}]
["OLPV2_322510976",{"$error":"#N/A"},{"$nulls":7},{"$f":"VLOOKUP(K104,gi2taxid!G:H,2,FALSE)","v":{"$error":"#N/A"}},{"$f":"VLOOKUP(D104,gi2taxid!A:E,4,FALSE)","v":{"$error":"#N/A"}}]
["OLPV2_322510977","nitho_3510019 ","hypothetical protein NITHO_3510019 [Nitrolancetus hollandicus Lb]","ref|ZP_10245194.1|",882,35,60,0.01,37,{"$f":"VLOOKUP(K105,gi2taxid!G:H,2,FALSE)","v":"Thermomicrobia"},{"$f":"VLOOKUP(D105,gi2taxid!A:E,4,FALSE)","v":"Nitrolancetus hollandicus Lb"}]
["OLPV2_322510978",0,"PREDICTED: hypothetical protein [Saccoglossus kowalevskii]","ref|XP_002740679.1|",446,28,102,4.0000000000000002E-4,39.299999999999997,{"$f":"VLOOKUP(K106,gi2taxid!G:H,2,FALSE)","v":"Metazoa"},{"$f":"VLOOKUP(D106,gi2taxid!A:E,4,FALSE)","v":"Saccoglossus kowalevskii"}]
["OLPV2_322510979","lysozyme inhibitor ","hypothetical protein [Acanthamoeba polyphaga mimivirus]","ref|YP_003986812.1|",95,38,60,4.0000000000000001E-8,47.4,{"$f":"VLOOKUP(K107,gi2taxid!G:H,2,FALSE)","v":"Mimiviridae"},{"$f":"VLOOKUP(D107,gi2taxid!A:E,4,FALSE)","v":"Acanthamoeba polyphaga mimivirus"}]
["OLPV2_322510980","phosphoglycerol transferase alkaline phosphatase superfamily ","PREDICTED: uncharacterized protein LOC100879188 [Megachile rotundata]","ref|XP_003704433.1|",289,43,54,3.2000000000000001E-2,32,{"$f":"VLOOKUP(K108,gi2taxid!G:H,2,FALSE)","v":"Metazoa"},{"$f":"VLOOKUP(D108,gi2taxid!A:E,4,FALSE)","v":"Megachile rotundata"}]
["OLPV2_322510981","deha2e16412p ","hypothetical protein [Plasmodium yoelii yoelii 17XNL]","ref|XP_731090.1|",788,30,69,1.4999999999999999E-2,33.1,{"$f":"VLOOKUP(K109,gi2taxid!G:H,2,FALSE)","v":"Apicomplexa"},{"$f":"VLOOKUP(D109,gi2taxid!A:E,4,FALSE)","v":"Plasmodium yoelii yoelii 17XNL"}]
["OLPV2_322510982","homocysteine responsive endoplasmic reticulum resident ubiquitin 2 ","dynactin subunit 4, putative [Toxoplasma gondii ME49]","ref|XP_002364791.1|",689,37,41,7.0000000000000001E-3,33.5,{"$f":"VLOOKUP(K110,gi2taxid!G:H,2,FALSE)","v":"Apicomplexa"},{"$f":"VLOOKUP(D110,gi2taxid!A:E,4,FALSE)","v":"Toxoplasma gondii ME49"}]
["OLPV2_322510983","pyruvate formate lyase ","hypothetical protein CNBF1460 [Cryptococcus neoformans var. neoformans B-3501A]","ref|XP_774982.1|",1448,36,50,0.02,34.700000000000003,{"$f":"VLOOKUP(K111,gi2taxid!G:H,2,FALSE)","v":"Fungi"},{"$f":"VLOOKUP(D111,gi2taxid!A:E,4,FALSE)","v":"Cryptococcus neoformans var. neoformans B-3501A"}]
["OLPV2_322510984","zinc binding cmp dcmp deaminase ","hypothetical protein MpV1_204 [Micromonas sp. RCC1109 virus MpV1]","ref|YP_004062087.1|",145,60,124,4E-51,163,{"$f":"VLOOKUP(K112,gi2taxid!G:H,2,FALSE)","v":"Phycodnaviridae"},{"$f":"VLOOKUP(D112,gi2taxid!A:E,4,FALSE)","v":"Micromonas sp. RCC1109 virus MpV1"}]
["OLPV2_322510985","poly a polymerase catalytic subunit ","mg561 gene product [Megavirus chiliensis]","ref|YP_004894612.1|",531,32,164,5.0000000000000004E-18,86.3,{"$f":"VLOOKUP(K113,gi2taxid!G:H,2,FALSE)","v":"Mimiviridae"},{"$f":"VLOOKUP(D113,gi2taxid!A:E,4,FALSE)","v":"Megavirus chiliensis"}]
["OLPV2_322510986","hamp ","HAMP domain protein [Treponema phagedenis F0421]","ref|ZP_08037183.1|",507,27,92,4.4999999999999998E-2,35.799999999999997,{"$f":"VLOOKUP(K114,gi2taxid!G:H,2,FALSE)","v":"Spirochaetia"},{"$f":"VLOOKUP(D114,gi2taxid!A:E,4,FALSE)","v":"Treponema phagedenis F0421"}]
["OLPV2_322510987","major capsid 4 ","mg464 gene product [Megavirus chiliensis]","ref|YP_004894515.1|",589,28,351,2.0000000000000001E-32,130,{"$f":"VLOOKUP(K115,gi2taxid!G:H,2,FALSE)","v":"Mimiviridae"},{"$f":"VLOOKUP(D115,gi2taxid!A:E,4,FALSE)","v":"Megavirus chiliensis"}]
["OLPV2_322510988",{"$error":"#N/A"},{"$nulls":7},{"$f":"VLOOKUP(K116,gi2taxid!G:H,2,FALSE)","v":{"$error":"#N/A"}},{"$f":"VLOOKUP(D116,gi2taxid!A:E,4,FALSE)","v":{"$error":"#N/A"}}]
["OLPV2_322510989","glycosyl transferase group 2 ","glycosyltransferase, group 2 family protein [Hafnia alvei ATCC 51873]","ref|ZP_09379780.1|",483,41,212,6.9999999999999998E-48,169,{"$f":"VLOOKUP(K117,gi2taxid!G:H,2,FALSE)","v":"Gammaproteobacteria"},{"$f":"VLOOKUP(D117,gi2taxid!A:E,4,FALSE)","v":"Hafnia alvei ATCC 51873"}]
["OLPV2_322510990","pentachlorophenol 4 monooxygenase ","ABC-1 domain-containing protein [Ethanoligenens harbinense YUAN-3]","ref|YP_004091579.1|",524,39,44,1.2E-2,36.200000000000003,{"$f":"VLOOKUP(K118,gi2taxid!G:H,2,FALSE)","v":"Clostridia"},{"$f":"VLOOKUP(D118,gi2taxid!A:E,4,FALSE)","v":"Ethanoligenens harbinense YUAN-3"}]
["OLPV2_322510991","dna replication ","putative DNA sulfur modification protein DndE [Prevotella amnii CRIS 21A-A]","ref|ZP_07628461.1|",528,31,67,2.9999999999999997E-4,38.1,{"$f":"VLOOKUP(K119,gi2taxid!G:H,2,FALSE)","v":"Bacteroidetes"},{"$f":"VLOOKUP(D119,gi2taxid!A:E,4,FALSE)","v":"Prevotella amnii CRIS 21A-A"}]
["OLPV2_322510992","dacet_2224 ","regulatory protein NosR [Colwellia psychrerythraea 34H]","ref|YP_268614.1|",715,32,56,6.0000000000000001E-3,35.4,{"$f":"VLOOKUP(K120,gi2taxid!G:H,2,FALSE)","v":"Gammaproteobacteria"},{"$f":"VLOOKUP(D120,gi2taxid!A:E,4,FALSE)","v":"Colwellia psychrerythraea 34H"}]
["OLPV2_322510993","rho gtpase activating 21 ","PREDICTED: rho GTPase-activating protein 21 [Otolemur garnettii]","ref|XP_003786799.1|",1960,52,29,1.0999999999999999E-2,33.9,{"$f":"VLOOKUP(K121,gi2taxid!G:H,2,FALSE)","v":"Metazoa"},{"$f":"VLOOKUP(D121,gi2taxid!A:E,4,FALSE)","v":"Otolemur garnettii"}]
["OLPV2_322510994","otv2_125 ","mg484 gene product [Megavirus chiliensis]","ref|YP_004894535.1|",167,36,87,2.0000000000000001E-10,55.1,{"$f":"VLOOKUP(K122,gi2taxid!G:H,2,FALSE)","v":"Mimiviridae"},{"$f":"VLOOKUP(D122,gi2taxid!A:E,4,FALSE)","v":"Megavirus chiliensis"}]
["OLPV2_322510995","dna topoisomerase ii ","DNA TOPOISOMERASE II [Encephalitozoon cuniculi GB-M1]","ref|NP_584718.1|",1144,45,603,3.0000000000000001E-177,537,{"$f":"VLOOKUP(K123,gi2taxid!G:H,2,FALSE)","v":"Fungi"},{"$f":"VLOOKUP(D123,gi2taxid!A:E,4,FALSE)","v":"Encephalitozoon cuniculi GB-M1"}]
["OLPV2_322510996","dna topoisomerase ii ","predicted protein [Physcomitrella patens subsp. patens]","ref|XP_001758663.1|",1238,45,494,1.9999999999999999E-129,409,{"$f":"VLOOKUP(K124,gi2taxid!G:H,2,FALSE)","v":"Streptophyta"},{"$f":"VLOOKUP(D124,gi2taxid!A:E,4,FALSE)","v":"Physcomitrella patens subsp. patens"}]
["OLPV2_322510997","unnamed product ","hypothetical protein [Aliivibrio fischeri]","ref|YP_005230968.1|",768,39,498,2.0000000000000001E-101,330,{"$f":"VLOOKUP(K125,gi2taxid!G:H,2,FALSE)","v":"Gammaproteobacteria"},{"$f":"VLOOKUP(D125,gi2taxid!A:E,4,FALSE)","v":"Aliivibrio fischeri"}]
["OLPV2_322510998","penicillin binding 1a ","hypothetical protein TTHERM_00383550 [Tetrahymena thermophila]","ref|XP_001015540.1|",294,46,112,1.9999999999999999E-6,48.1,{"$f":"VLOOKUP(K126,gi2taxid!G:H,2,FALSE)","v":"Ciliophora"},{"$f":"VLOOKUP(D126,gi2taxid!A:E,4,FALSE)","v":"Tetrahymena thermophila"}]
["OLPV2_322510999","transmembrane 1 tmem1b ","hypothetical protein crov314 [Cafeteria roenbergensis virus BV-PW1]","ref|YP_003969947.1|",312,36,100,5.9999999999999995E-8,53.9,{"$f":"VLOOKUP(K127,gi2taxid!G:H,2,FALSE)","v":"unclassified_dsDNA_viruses (CroV)"},{"$f":"VLOOKUP(D127,gi2taxid!A:E,4,FALSE)","v":"Cafeteria roenbergensis virus BV-PW1"}]
["OLPV2_322511000","upstream activation factor subunit spp27 isoform 1 ","PREDICTED: upstream activation factor subunit spp27-like isoform 2 [Brachypodium distachyon]","ref|XP_003558998.1|",328,49,63,8.0000000000000002E-13,62.4,{"$f":"VLOOKUP(K128,gi2taxid!G:H,2,FALSE)","v":"Streptophyta"},{"$f":"VLOOKUP(D128,gi2taxid!A:E,4,FALSE)","v":"Brachypodium distachyon"}]
["OLPV2_322511001","trans sialidase ","trans-sialidase [Trypanosoma cruzi strain CL Brener]","ref|XP_820186.1|",1133,48,48,2.9999999999999997E-4,39.700000000000003,{"$f":"VLOOKUP(K129,gi2taxid!G:H,2,FALSE)","v":"Kinetoplastida"},{"$f":"VLOOKUP(D129,gi2taxid!A:E,4,FALSE)","v":"Trypanosoma cruzi strain CL Brener"}]
["OLPV2_322511002","ecdysone receptor isoform a ","hypothetical protein Pmar_PMAR001176 [Perkinsus marinus ATCC 50983]","ref|XP_002780582.1|",385,20,166,8.0000000000000004E-4,40.4,{"$f":"VLOOKUP(K130,gi2taxid!G:H,2,FALSE)","v":"Perkinsea"},{"$f":"VLOOKUP(D130,gi2taxid!A:E,4,FALSE)","v":"Perkinsus marinus ATCC 50983"}]
["OLPV2_322511003","mpv1_153c ","hypothetical protein OsV5_171r [Ostreococcus virus OsV5]","ref|YP_001648248.1|",230,29,225,9.9999999999999998E-20,86.3,{"$f":"VLOOKUP(K131,gi2taxid!G:H,2,FALSE)","v":"Phycodnaviridae"},{"$f":"VLOOKUP(D131,gi2taxid!A:E,4,FALSE)","v":"Ostreococcus virus OsV5"}]
["OLPV2_322511004","dnaj ","DnaJ-like protein [Chlamydomonas reinhardtii]","ref|XP_001692463.1|",482,39,64,7.9999999999999996E-7,48.1,{"$f":"VLOOKUP(K132,gi2taxid!G:H,2,FALSE)","v":"Chlorophyta"},{"$f":"VLOOKUP(D132,gi2taxid!A:E,4,FALSE)","v":"Chlamydomonas reinhardtii"}]
["OLPV2_322511005","anti sigma factor antagonist ","early protein [Human papillomavirus type 26]","ref|NP_041784.1|",638,33,67,5.8999999999999997E-2,33.9,{"$f":"VLOOKUP(K133,gi2taxid!G:H,2,FALSE)","v":"Papillomaviridae"},{"$f":"VLOOKUP(D133,gi2taxid!A:E,4,FALSE)","v":"Human papillomavirus type 26"}]
["OLPV2_322511006","transcriptional regulatory tyrr ","PREDICTED: tMDC I-like [Oryctolagus cuniculus]","ref|XP_002720847.1|",787,25,124,5.0000000000000001E-3,36.6,{"$f":"VLOOKUP(K134,gi2taxid!G:H,2,FALSE)","v":"Metazoa"},{"$f":"VLOOKUP(D134,gi2taxid!A:E,4,FALSE)","v":"Oryctolagus cuniculus"}]
["OLPV2_322511007",0,"dolichyl-phosphate-mannose-protein mannosyltransferase family protein [Brevundimonas diminuta ATCC 11568]","ref|ZP_08267095.1|",563,26,74,3.0000000000000001E-3,38.1,{"$f":"VLOOKUP(K135,gi2taxid!G:H,2,FALSE)","v":"Alphaproteobacteria"},{"$f":"VLOOKUP(D135,gi2taxid!A:E,4,FALSE)","v":"Brevundimonas diminuta ATCC 11568"}]
["OLPV2_322511008","dna topoisomerase topa ","DNA topoisomerase TopA [Prevotella dentalis DSM 3688]","ref|ZP_08670416.1|",779,34,698,1E-100,329,{"$f":"VLOOKUP(K136,gi2taxid!G:H,2,FALSE)","v":"Bacteroidetes"},{"$f":"VLOOKUP(D136,gi2taxid!A:E,4,FALSE)","v":"Prevotella dentalis DSM 3688"}]
["OLPV2_322511009","endoplasmic oxidoreductin 2 ","hypothetical protein ARALYDRAFT_321591 [Arabidopsis lyrata subsp. lyrata]","ref|XP_002879776.1|",514,35,82,8.0000000000000002E-3,36.200000000000003,{"$f":"VLOOKUP(K137,gi2taxid!G:H,2,FALSE)","v":"Streptophyta"},{"$f":"VLOOKUP(D137,gi2taxid!A:E,4,FALSE)","v":"Arabidopsis lyrata subsp. lyrata"}]
["OLPV2_322511010","cc1g_03609 ","PREDICTED: adenylate cyclase type 4-like [Xenopus (Silurana) tropicalis]","ref|XP_002934331.1|",1075,29,45,3.5000000000000003E-2,31.6,{"$f":"VLOOKUP(K138,gi2taxid!G:H,2,FALSE)","v":"Metazoa"},{"$f":"VLOOKUP(D138,gi2taxid!A:E,4,FALSE)","v":"Xenopus (Silurana) tropicalis"}]
["OLPV2_322511011","nucleoside diphosphate sugar epimerase dehydratase ","dTDP-glucose 4,6-dehydratase [Clostridium thermocellum ATCC 27405]","ref|YP_001037511.1|",328,29,150,6.9999999999999997E-7,48.9,{"$f":"VLOOKUP(K139,gi2taxid!G:H,2,FALSE)","v":"Clostridia"},{"$f":"VLOOKUP(D139,gi2taxid!A:E,4,FALSE)","v":"Clostridium thermocellum ATCC 27405"}]
["OLPV2_322511012","hmpref9474_00986 ","phenylalanyl-tRNA synthetase subunit beta [Sulfolobus tokodaii str. 7]","ref|NP_377373.1|",540,30,77,1.2E-2,33.5,{"$f":"VLOOKUP(K140,gi2taxid!G:H,2,FALSE)","v":"Thermoprotei"},{"$f":"VLOOKUP(D140,gi2taxid!A:E,4,FALSE)","v":"Sulfolobus tokodaii str. 7"}]
["OLPV2_322511013",0,"hypothetical protein BpV1_127 [Bathycoccus sp. RCC1105 virus BpV1]","ref|YP_004061557.1|",86,73,37,2.9999999999999998E-13,61.6,{"$f":"VLOOKUP(K141,gi2taxid!G:H,2,FALSE)","v":"Phycodnaviridae"},{"$f":"VLOOKUP(D141,gi2taxid!A:E,4,FALSE)","v":"Bathycoccus sp. RCC1105 virus BpV1"}]
["OLPV2_322511014",0,"AMP-binding enzyme [Streptococcus downei F0415]","ref|ZP_07726026.1|",5230,29,90,2.1999999999999999E-2,34.700000000000003,{"$f":"VLOOKUP(K142,gi2taxid!G:H,2,FALSE)","v":"Bacilli"},{"$f":"VLOOKUP(D142,gi2taxid!A:E,4,FALSE)","v":"Streptococcus downei F0415"}]
["OLPV2_322511015","heat shock ssb1 ","hypothetical protein SCHCODRAFT_65817 [Schizophyllum commune H4-8]","ref|XP_003035960.1|",614,27,194,9.9999999999999995E-7,48.1,{"$f":"VLOOKUP(K143,gi2taxid!G:H,2,FALSE)","v":"Fungi"},{"$f":"VLOOKUP(D143,gi2taxid!A:E,4,FALSE)","v":"Schizophyllum commune H4-8"}]
["OLPV2_322511016","trna ligase ","tRNA ligase [Prochlorococcus phage P-SSM7]","ref|YP_004324957.1|",265,29,248,3.9999999999999998E-29,112,{"$f":"VLOOKUP(K144,gi2taxid!G:H,2,FALSE)","v":"Caudovirales"},{"$f":"VLOOKUP(D144,gi2taxid!A:E,4,FALSE)","v":"Prochlorococcus phage P-SSM7"}]
["OLPV2_322511017",0,"putative secreted protein [Stenotrophomonas sp. SKA14]","ref|ZP_05133376.1|",260,23,96,5.0000000000000002E-5,43.1,{"$f":"VLOOKUP(K145,gi2taxid!G:H,2,FALSE)","v":"Gammaproteobacteria"},{"$f":"VLOOKUP(D145,gi2taxid!A:E,4,FALSE)","v":"Stenotrophomonas sp. SKA14"}]
["OLPV2_322511018","ribonucleoside diphosphate reductase large subunit ","ribonucleoside-diphosphate reductase subunit alpha [Runella slithyformis DSM 19594]","ref|YP_004654587.1|",815,52,834,0,885,{"$f":"VLOOKUP(K146,gi2taxid!G:H,2,FALSE)","v":"Bacteroidetes"},{"$f":"VLOOKUP(D146,gi2taxid!A:E,4,FALSE)","v":"Runella slithyformis DSM 19594"}]
["OLPV2_322511019","fibronectin type iii 3a ","hypothetical protein [Entamoeba histolytica HM-1:IMSS]","ref|XP_654216.1|",248,28,121,1E-3,39.299999999999997,{"$f":"VLOOKUP(K147,gi2taxid!G:H,2,FALSE)","v":"Archamoebae"},{"$f":"VLOOKUP(D147,gi2taxid!A:E,4,FALSE)","v":"Entamoeba histolytica HM-1:IMSS"}]
["OLPV2_322511020","zinc finger ","PREDICTED: uncharacterized protein LOC582350 [Strongylocentrotus purpuratus]","ref|XP_787396.3|",380,50,52,4.0000000000000001E-13,65.099999999999994,{"$f":"VLOOKUP(K148,gi2taxid!G:H,2,FALSE)","v":"Metazoa"},{"$f":"VLOOKUP(D148,gi2taxid!A:E,4,FALSE)","v":"Strongylocentrotus purpuratus"}]
["OLPV2_322511021","lambda type exonuclease ","putative phage-type endonuclease [Acanthamoeba polyphaga mimivirus]","ref|YP_003986857.1|",549,29,323,9.9999999999999994E-30,120,{"$f":"VLOOKUP(K149,gi2taxid!G:H,2,FALSE)","v":"Mimiviridae"},{"$f":"VLOOKUP(D149,gi2taxid!A:E,4,FALSE)","v":"Acanthamoeba polyphaga mimivirus"}]
["OLPV2_322511022",{"$error":"#N/A"},{"$nulls":7},{"$f":"VLOOKUP(K150,gi2taxid!G:H,2,FALSE)","v":{"$error":"#N/A"}},{"$f":"VLOOKUP(D150,gi2taxid!A:E,4,FALSE)","v":{"$error":"#N/A"}}]
["OLPV2_322511023","cre_13804 ","Hypothetical protein CBG19858 [Caenorhabditis briggsae]","ref|XP_002633826.1|",1137,30,114,4.9999999999999998E-8,52,{"$f":"VLOOKUP(K151,gi2taxid!G:H,2,FALSE)","v":"Metazoa"},{"$f":"VLOOKUP(D151,gi2taxid!A:E,4,FALSE)","v":"Caenorhabditis briggsae"}]
["OLPV2_322511024",0,"hypothetical protein AR158_C577R [Paramecium bursaria Chlorella virus AR158]","ref|YP_001498658.1|",174,40,177,7.9999999999999994E-34,120,{"$f":"VLOOKUP(K152,gi2taxid!G:H,2,FALSE)","v":"Phycodnaviridae"},{"$f":"VLOOKUP(D152,gi2taxid!A:E,4,FALSE)","v":"Paramecium bursaria Chlorella virus AR158"}]
["OLPV2_322511025","rhodanese ","hypothetical protein Daes_0886 [Desulfovibrio aespoeensis Aspo-2]","ref|YP_004120649.1|",317,27,90,5.9999999999999995E-4,38.5,{"$f":"VLOOKUP(K153,gi2taxid!G:H,2,FALSE)","v":"delta-epsilon_subdivisions"},{"$f":"VLOOKUP(D153,gi2taxid!A:E,4,FALSE)","v":"Desulfovibrio aespoeensis Aspo-2"}]
["OLPV2_322511026",0,"methyl-accepting chemotaxis sensory transducer [Opitutus terrae PB90-1]","ref|YP_001817703.1|",538,23,188,2E-3,42,{"$f":"VLOOKUP(K154,gi2taxid!G:H,2,FALSE)","v":"Verrucomicrobia"},{"$f":"VLOOKUP(D154,gi2taxid!A:E,4,FALSE)","v":"Opitutus terrae PB90-1"}]
["OLPV2_322511027","otv1_149 ","hypothetical protein OtV2_139 [Ostreococcus tauri virus 2]","ref|YP_004063572.1|",141,38,73,9.9999999999999994E-12,57.8,{"$f":"VLOOKUP(K155,gi2taxid!G:H,2,FALSE)","v":"Phycodnaviridae"},{"$f":"VLOOKUP(D155,gi2taxid!A:E,4,FALSE)","v":"Ostreococcus tauri virus 2"}]
["OLPV2_322511028","fr483_n741r ","hypothetical protein FR483_N741R [Paramecium bursaria Chlorella virus FR483]","ref|YP_001426373.1|",124,36,108,2.0000000000000002E-15,68.900000000000006,{"$f":"VLOOKUP(K156,gi2taxid!G:H,2,FALSE)","v":"Phycodnaviridae"},{"$f":"VLOOKUP(D156,gi2taxid!A:E,4,FALSE)","v":"Paramecium bursaria Chlorella virus FR483"}]
["OLPV2_322511029","cytochrome c type biogenesis ","major facilitator superfamily protein [Rubrivivax benzoatilyticus JA2]","ref|ZP_08403790.1|",403,28,94,6.9999999999999999E-4,38.9,{"$f":"VLOOKUP(K157,gi2taxid!G:H,2,FALSE)","v":"Betaproteobacteria"},{"$f":"VLOOKUP(D157,gi2taxid!A:E,4,FALSE)","v":"Rubrivivax benzoatilyticus JA2"}]
["OLPV2_322511030","dna replication licensing factor mcm2 ","hypothetical protein TGME49_112500 [Toxoplasma gondii ME49]","ref|XP_002364472.1|",1365,27,55,3.0000000000000001E-3,35.799999999999997,{"$f":"VLOOKUP(K158,gi2taxid!G:H,2,FALSE)","v":"Apicomplexa"},{"$f":"VLOOKUP(D158,gi2taxid!A:E,4,FALSE)","v":"Toxoplasma gondii ME49"}]
["OLPV2_322511031","mi1_09806 ","mg15 gene product [Megavirus chiliensis]","ref|YP_004894066.1|",285,31,71,1.0000000000000001E-5,43.1,{"$f":"VLOOKUP(K159,gi2taxid!G:H,2,FALSE)","v":"Mimiviridae"},{"$f":"VLOOKUP(D159,gi2taxid!A:E,4,FALSE)","v":"Megavirus chiliensis"}]
["OLPV2_322511032","transposase is605 orfb ","transposase [Chlamydomonas reinhardtii]","ref|XP_001690513.1|",903,28,93,1E-3,37.700000000000003,{"$f":"VLOOKUP(K160,gi2taxid!G:H,2,FALSE)","v":"Chlorophyta"},{"$f":"VLOOKUP(D160,gi2taxid!A:E,4,FALSE)","v":"Chlamydomonas reinhardtii"}]
["OLPV2_322511033","zinc finger 445 isoform 1 ","longitudinals lacking isoform 3 [Tribolium castaneum]","ref|NP_001157312.1|",468,39,49,2.0000000000000002E-5,42,{"$f":"VLOOKUP(K161,gi2taxid!G:H,2,FALSE)","v":"Metazoa"},{"$f":"VLOOKUP(D161,gi2taxid!A:E,4,FALSE)","v":"Tribolium castaneum"}]
["OLPV2_322511034","abc transporter atp binding ","hypothetical protein HMPREF0984_01916 [Eubacterium sp. 3_1_31]","ref|ZP_09544874.1|",492,28,88,1E-3,37.700000000000003,{"$f":"VLOOKUP(K162,gi2taxid!G:H,2,FALSE)","v":"Clostridia"},{"$f":"VLOOKUP(D162,gi2taxid!A:E,4,FALSE)","v":"Eubacterium sp. 3_1_31"}]
["OLPV2_322511035",0,"conserved hypothetical protein [Eremococcus coleocola ACS-139-V-Col8]","ref|ZP_07819151.1|",102,44,78,1.0000000000000001E-15,68.2,{"$f":"VLOOKUP(K163,gi2taxid!G:H,2,FALSE)","v":"Bacilli"},{"$f":"VLOOKUP(D163,gi2taxid!A:E,4,FALSE)","v":"Eremococcus coleocola ACS-139-V-Col8"}]
["OLPV2_322511036","ribonuclease h1 ","PREDICTED: ribonuclease H1-like [Apis florea]","ref|XP_003695743.1|",238,31,232,3.0000000000000003E-29,111,{"$f":"VLOOKUP(K164,gi2taxid!G:H,2,FALSE)","v":"Metazoa"},{"$f":"VLOOKUP(D164,gi2taxid!A:E,4,FALSE)","v":"Apis florea"}]
["OLPV2_322511037","nuclease ","hypothetical protein P20495_0680 [Pseudoalteromonas sp. BSi20495]","ref|ZP_09241940.1|",97,49,77,5E-15,66.2,{"$f":"VLOOKUP(K165,gi2taxid!G:H,2,FALSE)","v":"Gammaproteobacteria"},{"$f":"VLOOKUP(D165,gi2taxid!A:E,4,FALSE)","v":"Pseudoalteromonas sp. BSi20495"}]
["OLPV2_322511038","glutamine synthetase ","GK24607 [Drosophila willistoni]","ref|XP_002066651.1|",397,28,116,5.9999999999999995E-4,39.299999999999997,{"$f":"VLOOKUP(K166,gi2taxid!G:H,2,FALSE)","v":"Metazoa"},{"$f":"VLOOKUP(D166,gi2taxid!A:E,4,FALSE)","v":"Drosophila willistoni"}]
["OLPV2_322511039","sugar fermentation stimulation a ","sugar fermentation stimulation protein [Ectothiorhodospira sp. PHS-1]","ref|ZP_09695997.1|",238,32,101,2.0000000000000001E-9,53.5,{"$f":"VLOOKUP(K167,gi2taxid!G:H,2,FALSE)","v":"Gammaproteobacteria"},{"$f":"VLOOKUP(D167,gi2taxid!A:E,4,FALSE)","v":"Ectothiorhodospira sp. PHS-1"}]
["OLPV2_322511040","sugar fermentation stimulation ","sugar fermentation stimulation protein [Bacillus clausii KSM-K16]","ref|YP_174993.1|",232,34,108,3.0000000000000001E-12,62,{"$f":"VLOOKUP(K168,gi2taxid!G:H,2,FALSE)","v":"Bacilli"},{"$f":"VLOOKUP(D168,gi2taxid!A:E,4,FALSE)","v":"Bacillus clausii KSM-K16"}]
["OLPV2_322511041","otv2_162 ","hypothetical protein OsV5_200f [Ostreococcus virus OsV5]","ref|YP_001648276.1|",118,36,123,2.9999999999999998E-18,77.8,{"$f":"VLOOKUP(K169,gi2taxid!G:H,2,FALSE)","v":"Phycodnaviridae"},{"$f":"VLOOKUP(D169,gi2taxid!A:E,4,FALSE)","v":"Ostreococcus virus OsV5"}]
["OLPV2_322511042","phosphoglycerate transport regulatory pgtc ","conserved hypothetical protein [Ricinus communis]","ref|XP_002525858.1|",104,29,45,1.2E-2,31.6,{"$f":"VLOOKUP(K170,gi2taxid!G:H,2,FALSE)","v":"Streptophyta"},{"$f":"VLOOKUP(D170,gi2taxid!A:E,4,FALSE)","v":"Ricinus communis"}]
["OLPV2_322511043","kinase phosphatase 2c pp2c ","radical SAM domain-containing protein [Candidatus Ruthia magnifica str. Cm (Calyptogena magnifica)]","ref|YP_903659.1|",213,33,40,1.2E-2,32.700000000000003,{"$f":"VLOOKUP(K171,gi2taxid!G:H,2,FALSE)","v":"Gammaproteobacteria"},{"$f":"VLOOKUP(D171,gi2taxid!A:E,4,FALSE)","v":"Candidatus Ruthia magnifica str. Cm (Calyptogena magnifica)"}]
["OLPV2_322511044","growth hormone inducible transmembrane ","Hypothetical protein COLAER_00314 [Collinsella aerofaciens ATCC 25986]","ref|ZP_01771335.1|",231,28,159,6.9999999999999998E-9,53.1,{"$f":"VLOOKUP(K172,gi2taxid!G:H,2,FALSE)","v":"Actinobacteria"},{"$f":"VLOOKUP(D172,gi2taxid!A:E,4,FALSE)","v":"Collinsella aerofaciens ATCC 25986"}]
["OLPV2_322511045","major capsid 1 ","major capsid protein [Cafeteria roenbergensis virus BV-PW1]","ref|YP_003969975.1|",506,43,566,1.0000000000000001E-138,415,{"$f":"VLOOKUP(K173,gi2taxid!G:H,2,FALSE)","v":"unclassified_dsDNA_viruses (CroV)"},{"$f":"VLOOKUP(D173,gi2taxid!A:E,4,FALSE)","v":"Cafeteria roenbergensis virus BV-PW1"}]
["OLPV2_322511046","abc transporter ","ABC transporter, putative [Arthroderma benhamiae CBS 112371]","ref|XP_003013421.1|",646,31,55,5.0000000000000001E-3,34.299999999999997,{"$f":"VLOOKUP(K174,gi2taxid!G:H,2,FALSE)","v":"Fungi"},{"$f":"VLOOKUP(D174,gi2taxid!A:E,4,FALSE)","v":"Arthroderma benhamiae CBS 112371"}]
["OLPV2_322511047",0,"hypothetical protein OtV2_102 [Ostreococcus tauri virus 2]","ref|YP_004063535.1|",314,45,217,9.9999999999999999E-56,183,{"$f":"VLOOKUP(K175,gi2taxid!G:H,2,FALSE)","v":"Phycodnaviridae"},{"$f":"VLOOKUP(D175,gi2taxid!A:E,4,FALSE)","v":"Ostreococcus tauri virus 2"}]
["OLPV2_322511048",0,"hypothetical protein [Acanthamoeba polyphaga mimivirus]","ref|YP_003986938.1|",159,48,77,6.0000000000000001E-17,72.8,{"$f":"VLOOKUP(K176,gi2taxid!G:H,2,FALSE)","v":"Mimiviridae"},{"$f":"VLOOKUP(D176,gi2taxid!A:E,4,FALSE)","v":"Acanthamoeba polyphaga mimivirus"}]
["OLPV2_322511049","otv2_075 ","hypothetical protein crov339 [Cafeteria roenbergensis virus BV-PW1]","ref|YP_003969972.1|",211,39,140,5.0000000000000004E-18,80.900000000000006,{"$f":"VLOOKUP(K177,gi2taxid!G:H,2,FALSE)","v":"unclassified_dsDNA_viruses (CroV)"},{"$f":"VLOOKUP(D177,gi2taxid!A:E,4,FALSE)","v":"Cafeteria roenbergensis virus BV-PW1"}]
["OLPV2_322511050","thiaminase i ","acs gene product [Caldilinea aerophila DSM 14535 = NBRC 104270]","ref|YP_005442438.1|",654,47,30,2E-3,38.5,{"$f":"VLOOKUP(K178,gi2taxid!G:H,2,FALSE)","v":"Caldilineae"},{"$f":"VLOOKUP(D178,gi2taxid!A:E,4,FALSE)","v":"Caldilinea aerophila DSM 14535 = NBRC 104270"}]
["OLPV2_322511051",{"$error":"#N/A"},{"$nulls":7},{"$f":"VLOOKUP(K179,gi2taxid!G:H,2,FALSE)","v":{"$error":"#N/A"}},{"$f":"VLOOKUP(D179,gi2taxid!A:E,4,FALSE)","v":{"$error":"#N/A"}}]
["OLPV2_322511052",0,"hypothetical protein [Rickettsia australis str. Cutlack]","ref|YP_005414352.1|",440,43,58,1.4E-2,33.5,{"$f":"VLOOKUP(K180,gi2taxid!G:H,2,FALSE)","v":"Alphaproteobacteria"},{"$f":"VLOOKUP(D180,gi2taxid!A:E,4,FALSE)","v":"Rickettsia australis str. Cutlack"}]
["OLPV2_322511053","rstb gene product ","conserved hypothetical protein [Bacteroides finegoldii DSM 17565]","ref|ZP_05414423.1|",186,26,97,1.9E-2,33.9,{"$f":"VLOOKUP(K181,gi2taxid!G:H,2,FALSE)","v":"Bacteroidetes"},{"$f":"VLOOKUP(D181,gi2taxid!A:E,4,FALSE)","v":"Bacteroides finegoldii DSM 17565"}]
["OLPV2_322511054","type 11 methyltransferase ","hypothetical protein BH2887 [Bacillus halodurans C-125]","ref|NP_243753.1|",261,25,158,2.9999999999999999E-7,50.8,{"$f":"VLOOKUP(K182,gi2taxid!G:H,2,FALSE)","v":"Bacilli"},{"$f":"VLOOKUP(D182,gi2taxid!A:E,4,FALSE)","v":"Bacillus halodurans C-125"}]
["OLPV2_322511055","chgg_00452 ","Protein HPO-24 [Caenorhabditis elegans]","ref|NP_492643.2|",905,27,70,3.2000000000000001E-2,34.299999999999997,{"$f":"VLOOKUP(K183,gi2taxid!G:H,2,FALSE)","v":"Metazoa"},{"$f":"VLOOKUP(D183,gi2taxid!A:E,4,FALSE)","v":"Caenorhabditis elegans"}]
["OLPV2_322511056","patched 1 isoform ","testicular haploid expressed gene protein-like [Rattus norvegicus]","ref|NP_001017498.1|",454,28,54,1.4999999999999999E-2,35,{"$f":"VLOOKUP(K184,gi2taxid!G:H,2,FALSE)","v":"Metazoa"},{"$f":"VLOOKUP(D184,gi2taxid!A:E,4,FALSE)","v":"Rattus norvegicus"}]
["OLPV2_322511057","lambda phage tail tape meas lam c ","Lambda phage tail tape-measure protein (Tape-meas-lam-C) [Bradyrhizobium sp. YR681]","ref|ZP_10578228.1|",736,28,103,8.9999999999999998E-4,39.700000000000003,{"$f":"VLOOKUP(K185,gi2taxid!G:H,2,FALSE)","v":"Alphaproteobacteria"},{"$f":"VLOOKUP(D185,gi2taxid!A:E,4,FALSE)","v":"Bradyrhizobium sp. YR681"}]
["OLPV2_322511058","deoxyuridine 5' triphosphate nucleotidohydrolase ","deoxyuridine 5'-triphosphate nucleotidohydrolase [Maribacter sp. HTCC2170]","ref|YP_003862027.1|",261,31,110,1.7000000000000001E-2,37.4,{"$f":"VLOOKUP(K186,gi2taxid!G:H,2,FALSE)","v":"Bacteroidetes"},{"$f":"VLOOKUP(D186,gi2taxid!A:E,4,FALSE)","v":"Maribacter sp. HTCC2170"}]
["OLPV2_322511059","gh11010 ","oligopeptide ABC superfamily ATP binding cassette transporter, binding protein [Lactobacillus amylolyticus DSM 11664]","ref|ZP_06818656.1|",330,27,52,8.0000000000000002E-3,35,{"$f":"VLOOKUP(K187,gi2taxid!G:H,2,FALSE)","v":"Bacilli"},{"$f":"VLOOKUP(D187,gi2taxid!A:E,4,FALSE)","v":"Lactobacillus amylolyticus DSM 11664"}]
["OLPV2_322511060","glycosyl transferase group 1 ","PilT domain-containing protein [Acaryochloris marina MBIC11017]","ref|YP_001518116.1|",128,40,43,4.0000000000000001E-3,33.9,{"$f":"VLOOKUP(K188,gi2taxid!G:H,2,FALSE)","v":"Chroococcales"},{"$f":"VLOOKUP(D188,gi2taxid!A:E,4,FALSE)","v":"Acaryochloris marina MBIC11017"}]
["OLPV2_322511061","s30ae ","S30AE family protein [Rothia dentocariosa M567]","ref|ZP_07071861.1|",222,28,61,3.7999999999999999E-2,31.6,{"$f":"VLOOKUP(K189,gi2taxid!G:H,2,FALSE)","v":"Actinobacteria"},{"$f":"VLOOKUP(D189,gi2taxid!A:E,4,FALSE)","v":"Rothia dentocariosa M567"}]
["OLPV2_322511062",0,"hypothetical protein MpV1_067c [Micromonas sp. RCC1109 virus MpV1]","ref|YP_004061950.1|",369,40,203,2.9999999999999999E-48,169,{"$f":"VLOOKUP(K190,gi2taxid!G:H,2,FALSE)","v":"Phycodnaviridae"},{"$f":"VLOOKUP(D190,gi2taxid!A:E,4,FALSE)","v":"Micromonas sp. RCC1109 virus MpV1"}]
["OLPV2_322511063",0,"hypothetical protein OlV1_060 [Ostreococcus lucimarinus virus OlV1]","ref|YP_004061693.1|",239,30,152,8.0000000000000003E-10,55.8,{"$f":"VLOOKUP(K191,gi2taxid!G:H,2,FALSE)","v":"Phycodnaviridae"},{"$f":"VLOOKUP(D191,gi2taxid!A:E,4,FALSE)","v":"Ostreococcus lucimarinus virus OlV1"}]
["OLPV2_322511064","triaddraft_51343 ","hypothetical protein TRIADDRAFT_51343 [Trichoplax adhaerens]","ref|XP_002107637.1|",7662,25,118,2.0000000000000002E-5,45.1,{"$f":"VLOOKUP(K192,gi2taxid!G:H,2,FALSE)","v":"Metazoa"},{"$f":"VLOOKUP(D192,gi2taxid!A:E,4,FALSE)","v":"Trichoplax adhaerens"}]
["OLPV2_322511065","dna mismatch repair atpase ","DNA mismatch repair protein MutS [Streptococcus gordonii str. Challis substr. CH1]","ref|YP_001449605.1|",556,34,124,2.9999999999999999E-16,76.3,{"$f":"VLOOKUP(K193,gi2taxid!G:H,2,FALSE)","v":"Bacilli"},{"$f":"VLOOKUP(D193,gi2taxid!A:E,4,FALSE)","v":"Streptococcus gordonii str. Challis substr. CH1"}]
["OLPV2_322511066","4 hydroxyphenylpyruvate dioxygenase ","4-hydroxyphenylpyruvate dioxygenase [Niabella soli DSM 19437]","ref|ZP_09632144.1|",376,23,120,4.0000000000000001E-3,38.9,{"$f":"VLOOKUP(K194,gi2taxid!G:H,2,FALSE)","v":"Bacteroidetes"},{"$f":"VLOOKUP(D194,gi2taxid!A:E,4,FALSE)","v":"Niabella soli DSM 19437"}]
["OLPV2_322511067","gl15084 ","GH13202 [Drosophila grimshawi]","ref|XP_001993208.1|",1379,30,80,1E-3,37.700000000000003,{"$f":"VLOOKUP(K195,gi2taxid!G:H,2,FALSE)","v":"Metazoa"},{"$f":"VLOOKUP(D195,gi2taxid!A:E,4,FALSE)","v":"Drosophila grimshawi"}]
["OLPV2_322511068","dna mismatch repair ","Periplasmic dipeptide transport protein [Halomonas boliviensis LC1]","ref|ZP_09188374.1|",526,28,69,1.4999999999999999E-2,33.5,{"$f":"VLOOKUP(K196,gi2taxid!G:H,2,FALSE)","v":"Gammaproteobacteria"},{"$f":"VLOOKUP(D196,gi2taxid!A:E,4,FALSE)","v":"Halomonas boliviensis LC1"}]
["OLPV2_322511069","zinc finger lsd1 subclass subfamily ","Gp37Gp68 family protein [Pseudomonas putida W619]","ref|YP_001750222.1|",265,40,47,4.0000000000000001E-3,34.700000000000003,{"$f":"VLOOKUP(K197,gi2taxid!G:H,2,FALSE)","v":"Gammaproteobacteria"},{"$f":"VLOOKUP(D197,gi2taxid!A:E,4,FALSE)","v":"Pseudomonas putida W619"}]
["OLPV2_322511070","alpha amylase ","putative alpha amylase protein [Rhizobium etli 8C-3]","ref|ZP_03509775.1|",222,31,114,1E-4,43.1,{"$f":"VLOOKUP(K198,gi2taxid!G:H,2,FALSE)","v":"Alphaproteobacteria"},{"$f":"VLOOKUP(D198,gi2taxid!A:E,4,FALSE)","v":"Rhizobium etli 8C-3"}]
["OLPV2_322511071","cardiolipin synthetase ","leucine-rich repeat containing protein [Microscilla marina ATCC 23134]","ref|ZP_01692782.1|",488,27,71,2E-3,38.5,{"$f":"VLOOKUP(K199,gi2taxid!G:H,2,FALSE)","v":"Bacteroidetes"},{"$f":"VLOOKUP(D199,gi2taxid!A:E,4,FALSE)","v":"Microscilla marina ATCC 23134"}]
["OLPV2_322511072","peptidase m23 ","peptidase, M23 family [Solobacterium moorei F0204]","ref|ZP_08028933.1|",506,34,56,5.0000000000000001E-3,35.799999999999997,{"$f":"VLOOKUP(K200,gi2taxid!G:H,2,FALSE)","v":"Erysipelotrichi"},{"$f":"VLOOKUP(D200,gi2taxid!A:E,4,FALSE)","v":"Solobacterium moorei F0204"}]
["OLPV2_322511073","nechadraft_35748 ","hypothetical protein NECHADRAFT_35748 [Nectria haematococca mpVI 77-13-4]","ref|XP_003053045.1|",866,58,26,1.6E-2,33.1,{"$f":"VLOOKUP(K201,gi2taxid!G:H,2,FALSE)","v":"Fungi"},{"$f":"VLOOKUP(D201,gi2taxid!A:E,4,FALSE)","v":"Nectria haematococca mpVI 77-13-4"}]
["OLPV2_322511074","atp dependent metalloprotease ftsh ","peptidase M41, FtsH [Synechococcus sp. CC9902]","ref|YP_377160.1|",599,50,303,1.9999999999999998E-93,294,{"$f":"VLOOKUP(K202,gi2taxid!G:H,2,FALSE)","v":"Chroococcales"},{"$f":"VLOOKUP(D202,gi2taxid!A:E,4,FALSE)","v":"Synechococcus sp. CC9902"}]
["OLPV2_322511075","cell division ftsh3 ","cell division protein [Paulinella chromatophora]","ref|YP_002048793.1|",620,60,103,2.0000000000000002E-30,115,{"$f":"VLOOKUP(K203,gi2taxid!G:H,2,FALSE)","v":"Cercozoa"},{"$f":"VLOOKUP(D203,gi2taxid!A:E,4,FALSE)","v":"Paulinella chromatophora"}]
["OLPV2_322511076","zinc finger 462 ","mg15 gene product [Megavirus chiliensis]","ref|YP_004894066.1|",285,29,220,2.0000000000000001E-13,69.3,{"$f":"VLOOKUP(K204,gi2taxid!G:H,2,FALSE)","v":"Mimiviridae"},{"$f":"VLOOKUP(D204,gi2taxid!A:E,4,FALSE)","v":"Megavirus chiliensis"}]
["OLPV2_322511077","vanillate o demethylase oxygenase subunit ","vanillate O-demethylase oxygenase subunit [Novosphingobium nitrogenifigens DSM 19370]","ref|ZP_08210599.1|",338,25,257,2.0000000000000001E-13,70.5,{"$f":"VLOOKUP(K205,gi2taxid!G:H,2,FALSE)","v":"Alphaproteobacteria"},{"$f":"VLOOKUP(D205,gi2taxid!A:E,4,FALSE)","v":"Novosphingobium nitrogenifigens DSM 19370"}]
["OLPV2_322511078","ribonuclease hii ","ribonuclease HII [Maribacter sp. HTCC2170]","ref|YP_003862685.1|",198,53,100,5.9999999999999995E-25,96.3,{"$f":"VLOOKUP(K206,gi2taxid!G:H,2,FALSE)","v":"Bacteroidetes"},{"$f":"VLOOKUP(D206,gi2taxid!A:E,4,FALSE)","v":"Maribacter sp. HTCC2170"}]
["OLPV2_322511079","smc ","GI11024 [Drosophila mojavensis]","ref|XP_002011572.1|",668,35,110,1E-4,43.1,{"$f":"VLOOKUP(K207,gi2taxid!G:H,2,FALSE)","v":"Metazoa"},{"$f":"VLOOKUP(D207,gi2taxid!A:E,4,FALSE)","v":"Drosophila mojavensis"}]
["OLPV2_322511080","disulfide oxidoreductase ","putative Erv-family thiol oxidoreductase [Cafeteria roenbergensis virus BV-PW1]","ref|YP_003969775.1|",181,52,153,1E-53,172,{"$f":"VLOOKUP(K208,gi2taxid!G:H,2,FALSE)","v":"unclassified_dsDNA_viruses (CroV)"},{"$f":"VLOOKUP(D208,gi2taxid!A:E,4,FALSE)","v":"Cafeteria roenbergensis virus BV-PW1"}]
["OLPV2_322511081","asparagine synthetase ","4-hydroxythreonine-4-phosphate dehydrogenase [Blattabacterium sp. (Blattella germanica) str. Bge]","ref|YP_003283718.1|",344,38,40,8.9999999999999993E-3,33.1,{"$f":"VLOOKUP(K209,gi2taxid!G:H,2,FALSE)","v":"Bacteroidetes"},{"$f":"VLOOKUP(D209,gi2taxid!A:E,4,FALSE)","v":"Blattabacterium sp. (Blattella germanica) str. Bge"}]
["OLPV2_322511082","thioredoxin ","Thioredoxin [Caloramator australicus RC3]","ref|ZP_10504827.1|",108,33,82,1.0000000000000001E-9,52.8,{"$f":"VLOOKUP(K210,gi2taxid!G:H,2,FALSE)","v":"Clostridia"},{"$f":"VLOOKUP(D210,gi2taxid!A:E,4,FALSE)","v":"Caloramator australicus RC3"}]
["OLPV2_322511083","mpv1_104c ","mg441 gene product [Megavirus chiliensis]","ref|YP_004894492.1|",127,37,89,4.9999999999999998E-8,47.8,{"$f":"VLOOKUP(K211,gi2taxid!G:H,2,FALSE)","v":"Mimiviridae"},{"$f":"VLOOKUP(D211,gi2taxid!A:E,4,FALSE)","v":"Megavirus chiliensis"}]
["OLPV2_322511084",{"$error":"#N/A"},{"$nulls":7},{"$f":"VLOOKUP(K212,gi2taxid!G:H,2,FALSE)","v":{"$error":"#N/A"}},{"$f":"VLOOKUP(D212,gi2taxid!A:E,4,FALSE)","v":{"$error":"#N/A"}}]
["OLPV2_322511085","mtr_064s0031 ","DNA helicase TIP49 [Acidilobus saccharovorans 345-15]","ref|YP_003816061.1|",449,23,105,5.0000000000000001E-4,42,{"$f":"VLOOKUP(K213,gi2taxid!G:H,2,FALSE)","v":"Thermoprotei"},{"$f":"VLOOKUP(D213,gi2taxid!A:E,4,FALSE)","v":"Acidilobus saccharovorans 345-15"}]
["OLPV2_322511086","transcription initiation factor iib general ","putative transcription initiation factor IIb-like protein [Acanthamoeba polyphaga mimivirus]","ref|YP_003986746.1|",461,31,326,3.9999999999999997E-40,153,{"$f":"VLOOKUP(K214,gi2taxid!G:H,2,FALSE)","v":"Mimiviridae"},{"$f":"VLOOKUP(D214,gi2taxid!A:E,4,FALSE)","v":"Acanthamoeba polyphaga mimivirus"}]
["OLPV2_322511087","serine threonine kinase plk4 isoform 1 ","PREDICTED: serine/threonine-protein kinase PLK4 isoform 2 [Macaca mulatta]","ref|XP_002804234.1|",938,45,29,2.5999999999999999E-2,32.700000000000003,{"$f":"VLOOKUP(K215,gi2taxid!G:H,2,FALSE)","v":"Metazoa"},{"$f":"VLOOKUP(D215,gi2taxid!A:E,4,FALSE)","v":"Macaca mulatta"}]
["OLPV2_322511088","dna mismatch repair muts ","hypothetical protein SMAC_06660 [Sordaria macrospora k-hell]","ref|XP_003347825.1|",256,32,63,2.7E-2,32,{"$f":"VLOOKUP(K216,gi2taxid!G:H,2,FALSE)","v":"Fungi"},{"$f":"VLOOKUP(D216,gi2taxid!A:E,4,FALSE)","v":"Sordaria macrospora k-hell"}]
["OLPV2_322511089","eukaryotic translation initiation factor 4e type 3 ","putative eIF-4E [Cafeteria roenbergensis virus BV-PW1]","ref|YP_003969852.1|",163,42,78,5.0000000000000002E-14,65.900000000000006,{"$f":"VLOOKUP(K217,gi2taxid!G:H,2,FALSE)","v":"unclassified_dsDNA_viruses (CroV)"},{"$f":"VLOOKUP(D217,gi2taxid!A:E,4,FALSE)","v":"Cafeteria roenbergensis virus BV-PW1"}]
["OLPV2_322511090","membrane ","conserved putative membrane protein [Lausannevirus]","ref|YP_004347313.1|",212,27,153,2.0000000000000002E-5,44.3,{"$f":"VLOOKUP(K218,gi2taxid!G:H,2,FALSE)","v":"unclassified_dsDNA_viruses (Marseil)"},{"$f":"VLOOKUP(D218,gi2taxid!A:E,4,FALSE)","v":"Lausannevirus"}]
["OLPV2_322511091","pcna ","hypothetical protein OlV1_111 [Ostreococcus lucimarinus virus OlV1]","ref|YP_004061744.1|",248,36,250,3.0000000000000002E-47,160,{"$f":"VLOOKUP(K219,gi2taxid!G:H,2,FALSE)","v":"Phycodnaviridae"},{"$f":"VLOOKUP(D219,gi2taxid!A:E,4,FALSE)","v":"Ostreococcus lucimarinus virus OlV1"}]
["OLPV2_322511092","dna mismatch repair msh3 ","hypothetical protein HIMB114_0045 [alpha proteobacterium HIMB114]","ref|ZP_06054445.1|",81,38,52,3.0000000000000001E-5,39.299999999999997,{"$f":"VLOOKUP(K220,gi2taxid!G:H,2,FALSE)","v":"Alphaproteobacteria"},{"$f":"VLOOKUP(D220,gi2taxid!A:E,4,FALSE)","v":"alpha proteobacterium HIMB114"}]
["OLPV2_322511093","tryptophan repeat gene ","TIGR02452 family protein [Thiorhodovibrio sp. 970]","ref|ZP_09865998.1|",1352,27,256,7.9999999999999998E-16,79.3,{"$f":"VLOOKUP(K221,gi2taxid!G:H,2,FALSE)","v":"Gammaproteobacteria"},{"$f":"VLOOKUP(D221,gi2taxid!A:E,4,FALSE)","v":"Thiorhodovibrio sp. 970"}]
["OLPV2_322511094","transmembrane channel 5 ","ydfS gene product [Bacillus pseudofirmus OF4]","ref|YP_003426367.1|",237,37,57,2E-3,35.4,{"$f":"VLOOKUP(K222,gi2taxid!G:H,2,FALSE)","v":"Bacilli"},{"$f":"VLOOKUP(D222,gi2taxid!A:E,4,FALSE)","v":"Bacillus pseudofirmus OF4"}]
["OLPV2_322511095","ankyrin repeat a 2 ","Methyltransferase FkbM [Pyrobaculum sp. 1860]","ref|YP_005085650.1|",233,43,49,8.0000000000000004E-4,37.700000000000003,{"$f":"VLOOKUP(K223,gi2taxid!G:H,2,FALSE)","v":"Thermoprotei"},{"$f":"VLOOKUP(D223,gi2taxid!A:E,4,FALSE)","v":"Pyrobaculum sp. 1860"}]
["OLPV2_322511096",0,"hypothetical protein BuboB_26225 [Burkholderia ubonensis Bu]","ref|ZP_02381245.1|",535,20,526,4.0000000000000003E-17,83.2,{"$f":"VLOOKUP(K224,gi2taxid!G:H,2,FALSE)","v":"Betaproteobacteria"},{"$f":"VLOOKUP(D224,gi2taxid!A:E,4,FALSE)","v":"Burkholderia ubonensis Bu"}]
["OLPV2_322511097","pt repeat ","PT repeat family protein [Aspergillus clavatus NRRL 1]","ref|XP_001275986.1|",1885,63,118,6.0000000000000001E-23,97.4,{"$f":"VLOOKUP(K225,gi2taxid!G:H,2,FALSE)","v":"Fungi"},{"$f":"VLOOKUP(D225,gi2taxid!A:E,4,FALSE)","v":"Aspergillus clavatus NRRL 1"}]
["OLPV2_322511098","atp dependent dna helicase pif1 isoform 1 ","PREDICTED: PIF1 5'-to-3' DNA helicase homolog (S. cerevisiae), partial [Taeniopygia guttata]","ref|XP_002188590.1|",454,35,425,3.9999999999999997E-77,250,{"$f":"VLOOKUP(K226,gi2taxid!G:H,2,FALSE)","v":"Metazoa"},{"$f":"VLOOKUP(D226,gi2taxid!A:E,4,FALSE)","v":"Taeniopygia guttata"}]
["OLPV2_322511099","fad dependent oxidoreductase ","Two component regulator three Y domain-containing protein [Sphingobacterium sp. 21]","ref|YP_004316651.1|",953,30,60,1.4E-2,33.9,{"$f":"VLOOKUP(K227,gi2taxid!G:H,2,FALSE)","v":"Bacteroidetes"},{"$f":"VLOOKUP(D227,gi2taxid!A:E,4,FALSE)","v":"Sphingobacterium sp. 21"}]
["OLPV2_322511100","tata box binding ","TATA-box binding protein (TBP) [Ostreococcus tauri virus 2]","ref|YP_004063563.1|",285,25,159,1.0000000000000001E-9,58.5,{"$f":"VLOOKUP(K228,gi2taxid!G:H,2,FALSE)","v":"Phycodnaviridae"},{"$f":"VLOOKUP(D228,gi2taxid!A:E,4,FALSE)","v":"Ostreococcus tauri virus 2"}]
["OLPV2_322511101","dna replication factor c subunit rfc3 ","DNA replication factor [Coprinopsis cinerea okayama7#130]","ref|XP_001831330.1|",347,38,203,4.9999999999999999E-48,166,{"$f":"VLOOKUP(K229,gi2taxid!G:H,2,FALSE)","v":"Fungi"},{"$f":"VLOOKUP(D229,gi2taxid!A:E,4,FALSE)","v":"Coprinopsis cinerea okayama7#130"}]
["OLPV2_322511102","rna binding mssp 2 ","hypothetical protein [Trypanosoma cruzi strain CL Brener]","ref|XP_818821.1|",270,28,116,1E-3,39.700000000000003,{"$f":"VLOOKUP(K230,gi2taxid!G:H,2,FALSE)","v":"Kinetoplastida"},{"$f":"VLOOKUP(D230,gi2taxid!A:E,4,FALSE)","v":"Trypanosoma cruzi strain CL Brener"}]
["OLPV2_322511103","sensor ","hypothetical protein VR7_gp250 [Enterobacteria phage vB_EcoM-VR7]","ref|YP_004063931.1|",75,41,39,1E-3,33.5,{"$f":"VLOOKUP(K231,gi2taxid!G:H,2,FALSE)","v":"Caudovirales"},{"$f":"VLOOKUP(D231,gi2taxid!A:E,4,FALSE)","v":"Enterobacteria phage vB_EcoM-VR7"}]
["OLPV2_322511104","atp dependent protease binding subunit clpb gene product ","hypothetical protein Desku_0768 [Desulfotomaculum kuznetsovii DSM 6115]","ref|YP_004516175.1|",86,31,59,6.9999999999999999E-4,36.6,{"$f":"VLOOKUP(K232,gi2taxid!G:H,2,FALSE)","v":"Clostridia"},{"$f":"VLOOKUP(D232,gi2taxid!A:E,4,FALSE)","v":"Desulfotomaculum kuznetsovii DSM 6115"}]
["OLPV2_322511105","deoxynucleoside kinase ","deoxynucleoside kinase family protein [Staphylococcus hominis SK119]","ref|ZP_04059973.1|",205,32,53,8.9999999999999993E-3,35.4,{"$f":"VLOOKUP(K233,gi2taxid!G:H,2,FALSE)","v":"Bacilli"},{"$f":"VLOOKUP(D233,gi2taxid!A:E,4,FALSE)","v":"Staphylococcus hominis SK119"}]
["OLPV2_322511106","patatin ","patatin [Halanaerobium hydrogeniformans]","ref|YP_003996043.1|",251,29,169,1.9999999999999999E-6,48.1,{"$f":"VLOOKUP(K234,gi2taxid!G:H,2,FALSE)","v":"Clostridia"},{"$f":"VLOOKUP(D234,gi2taxid!A:E,4,FALSE)","v":"Halanaerobium hydrogeniformans"}]
["OLPV2_322511107",0,"hypothetical protein OlV1_030c [Ostreococcus lucimarinus virus OlV1]","ref|YP_004061663.1|",178,38,151,4.0000000000000002E-27,103,{"$f":"VLOOKUP(K235,gi2taxid!G:H,2,FALSE)","v":"Phycodnaviridae"},{"$f":"VLOOKUP(D235,gi2taxid!A:E,4,FALSE)","v":"Ostreococcus lucimarinus virus OlV1"}]
["OLPV2_322511108",{"$error":"#N/A"},{"$nulls":7},{"$f":"VLOOKUP(K236,gi2taxid!G:H,2,FALSE)","v":{"$error":"#N/A"}},{"$f":"VLOOKUP(D236,gi2taxid!A:E,4,FALSE)","v":{"$error":"#N/A"}}]
["OLPV2_322511109","dna directed rna polymerase ii core subunit ","DNA directed RNA polymerase II subunit [Trichophyton rubrum CBS 118892]","ref|XP_003236384.1|",131,30,116,4.9999999999999998E-8,48.5,{"$f":"VLOOKUP(K237,gi2taxid!G:H,2,FALSE)","v":"Fungi"},{"$f":"VLOOKUP(D237,gi2taxid!A:E,4,FALSE)","v":"Trichophyton rubrum CBS 118892"}]
["OLPV2_322511110","ubiquitin conjugating enzyme e2 z ","putative ubiquitin-conjugating enzyme E2 [Cafeteria roenbergensis virus BV-PW1]","ref|YP_003970126.1|",236,58,125,3.0000000000000003E-42,144,{"$f":"VLOOKUP(K238,gi2taxid!G:H,2,FALSE)","v":"unclassified_dsDNA_viruses (CroV)"},{"$f":"VLOOKUP(D238,gi2taxid!A:E,4,FALSE)","v":"Cafeteria roenbergensis virus BV-PW1"}]
["OLPV2_322511111","phage ","phage-like protein [Staphylococcus aureus subsp. aureus ED133]","ref|YP_005737491.1|",208,38,60,3.0000000000000001E-3,34.700000000000003,{"$f":"VLOOKUP(K239,gi2taxid!G:H,2,FALSE)","v":"Bacilli"},{"$f":"VLOOKUP(D239,gi2taxid!A:E,4,FALSE)","v":"Staphylococcus aureus subsp. aureus ED133"}]
["OLPV2_322511112","d5 ntpase involved dna replication ","putative helicase [Acanthamoeba polyphaga mimivirus]","ref|YP_003986703.1|",960,29,821,1E-84,293,{"$f":"VLOOKUP(K240,gi2taxid!G:H,2,FALSE)","v":"Mimiviridae"},{"$f":"VLOOKUP(D240,gi2taxid!A:E,4,FALSE)","v":"Acanthamoeba polyphaga mimivirus"}]
["OLPV2_322511113","sugar abc transporter permease ","sugar ABC transporter, permease protein [Oribacterium sp. oral taxon 078 str. F0262]","ref|ZP_06600094.1|",285,38,53,1.2999999999999999E-2,33.5,{"$f":"VLOOKUP(K241,gi2taxid!G:H,2,FALSE)","v":"Clostridia"},{"$f":"VLOOKUP(D241,gi2taxid!A:E,4,FALSE)","v":"Oribacterium sp. oral taxon 078 str. F0262"}]
["OLPV2_322511114","surface ","Putative uncharacterized protein [Lactobacillus hominis CRBIP 24.179]","ref|ZP_10421344.1|",2658,50,42,2E-3,36.200000000000003,{"$f":"VLOOKUP(K242,gi2taxid!G:H,2,FALSE)","v":"Bacilli"},{"$f":"VLOOKUP(D242,gi2taxid!A:E,4,FALSE)","v":"Lactobacillus hominis CRBIP 24.179"}]
["OLPV2_322511115",{"$error":"#N/A"},{"$nulls":7},{"$f":"VLOOKUP(K243,gi2taxid!G:H,2,FALSE)","v":{"$error":"#N/A"}},{"$f":"VLOOKUP(D243,gi2taxid!A:E,4,FALSE)","v":{"$error":"#N/A"}}]
["OLPV2_322511116","general secretion pathway g ","cystic fibrosis transmembrane conductance regulator [Takifugu rubripes]","ref|NP_001041505.1|",1511,29,100,2E-3,36.6,{"$f":"VLOOKUP(K244,gi2taxid!G:H,2,FALSE)","v":"Metazoa"},{"$f":"VLOOKUP(D244,gi2taxid!A:E,4,FALSE)","v":"Takifugu rubripes"}]
["OLPV2_322511117","dna directed rna polymerases ii 24 kda polypeptide ","DNA-directed RNA polymerases II 24 kDa polypeptide [Meyerozyma guilliermondii ATCC 6260]","ref|XP_001485036.1|",179,47,85,9.9999999999999998E-17,75.5,{"$f":"VLOOKUP(K245,gi2taxid!G:H,2,FALSE)","v":"Fungi"},{"$f":"VLOOKUP(D245,gi2taxid!A:E,4,FALSE)","v":"Meyerozyma guilliermondii ATCC 6260"}]
["OLPV2_322511118","dna directed rna polymerase ii subunit rpb2 ","DNA-DIRECTED RNA POLYMERASE II SECOND LARGEST SUBUNIT [Encephalitozoon cuniculi GB-M1]","ref|NP_586140.1|",1141,36,1132,0,667,{"$f":"VLOOKUP(K246,gi2taxid!G:H,2,FALSE)","v":"Fungi"},{"$f":"VLOOKUP(D246,gi2taxid!A:E,4,FALSE)","v":"Encephalitozoon cuniculi GB-M1"}]
["OLPV2_322511119","dna directed rna polymerase ii iii subunit rpabc5 ","DNA-directed RNA polymerase subunit N, putative [Perkinsus marinus ATCC 50983]","ref|XP_002773329.1|",69,45,73,5.0000000000000004E-16,68.2,{"$f":"VLOOKUP(K247,gi2taxid!G:H,2,FALSE)","v":"Perkinsea"},{"$f":"VLOOKUP(D247,gi2taxid!A:E,4,FALSE)","v":"Perkinsus marinus ATCC 50983"}]
["OLPV2_322511120","hnh endonuclease ","metalloendopeptidase [Bacillus selenitireducens MLS10]","ref|YP_003698654.1|",771,40,60,3.0000000000000001E-6,44.7,{"$f":"VLOOKUP(K248,gi2taxid!G:H,2,FALSE)","v":"Bacilli"},{"$f":"VLOOKUP(D248,gi2taxid!A:E,4,FALSE)","v":"Bacillus selenitireducens MLS10"}]
["OLPV2_322511121","dna mismatch repair muts ","DNA mismatch repair protein MutS-like protein [Caminibacter mediatlanticus TB-2]","ref|ZP_01872373.1|",251,46,68,1.0000000000000001E-15,69.7,{"$f":"VLOOKUP(K249,gi2taxid!G:H,2,FALSE)","v":"delta-epsilon_subdivisions"},{"$f":"VLOOKUP(D249,gi2taxid!A:E,4,FALSE)","v":"Caminibacter mediatlanticus TB-2"}]
["OLPV2_322511122","dna mismatch repair muts iii ","MutS-related protein [Nautilia profundicola AmH]","ref|YP_002607133.1|",917,32,534,3.0000000000000001E-62,222,{"$f":"VLOOKUP(K250,gi2taxid!G:H,2,FALSE)","v":"delta-epsilon_subdivisions"},{"$f":"VLOOKUP(D250,gi2taxid!A:E,4,FALSE)","v":"Nautilia profundicola AmH"}]
["OLPV2_322511123","dna mismatch repair muts ","DNA mismatch repair protein MutS [Thermosediminibacter oceani DSM 16646]","ref|YP_003825570.1|",863,30,82,6.0000000000000001E-3,34.700000000000003,{"$f":"VLOOKUP(K251,gi2taxid!G:H,2,FALSE)","v":"Clostridia"},{"$f":"VLOOKUP(D251,gi2taxid!A:E,4,FALSE)","v":"Thermosediminibacter oceani DSM 16646"}]
["OLPV2_322511124","dna mismatch repair muts ","MutS domain III family [Campylobacterales bacterium GD 1]","ref|ZP_05072493.1|",1010,37,51,4.0000000000000003E-5,41.2,{"$f":"VLOOKUP(K252,gi2taxid!G:H,2,FALSE)","v":"delta-epsilon_subdivisions"},{"$f":"VLOOKUP(D252,gi2taxid!A:E,4,FALSE)","v":"Campylobacterales bacterium GD 1"}]
["OLPV2_322511125","adp ribosylation factor ","kinesin-like protein B (ISS) [Ostreococcus tauri]","ref|XP_003078846.1|",2739,21,121,5.0000000000000002E-5,42.7,{"$f":"VLOOKUP(K253,gi2taxid!G:H,2,FALSE)","v":"Chlorophyta"},{"$f":"VLOOKUP(D253,gi2taxid!A:E,4,FALSE)","v":"Ostreococcus tauri"}]
["OLPV2_322511126","smc flexible hinge ","PREDICTED: DNA repair protein RAD50-like [Oreochromis niloticus]","ref|XP_003460198.1|",1394,31,103,3.5000000000000003E-2,35.4,{"$f":"VLOOKUP(K254,gi2taxid!G:H,2,FALSE)","v":"Metazoa"},{"$f":"VLOOKUP(D254,gi2taxid!A:E,4,FALSE)","v":"Oreochromis niloticus"}]
["OLPV2_322511127",{"$error":"#N/A"},{"$nulls":7},{"$f":"VLOOKUP(K255,gi2taxid!G:H,2,FALSE)","v":{"$error":"#N/A"}},{"$f":"VLOOKUP(D255,gi2taxid!A:E,4,FALSE)","v":{"$error":"#N/A"}}]
["OLPV2_322511128","dna directed rna polymerase ii subunit rpb1 ","hypothetical protein DICPUDRAFT_149604 [Dictyostelium purpureum]","ref|XP_003285719.1|",1755,38,1494,0,992,{"$f":"VLOOKUP(K256,gi2taxid!G:H,2,FALSE)","v":"Mycetozoa"},{"$f":"VLOOKUP(D256,gi2taxid!A:E,4,FALSE)","v":"Dictyostelium purpureum"}]
["OLPV2_322511129","cellulosome anchoring cohesin region ","cellulosome anchoring protein cohesin region [Clostridium thermocellum JW20]","ref|ZP_06247588.1|",1790,34,259,4.0000000000000002E-9,61.6,{"$f":"VLOOKUP(K257,gi2taxid!G:H,2,FALSE)","v":"Clostridia"},{"$f":"VLOOKUP(D257,gi2taxid!A:E,4,FALSE)","v":"Clostridium thermocellum JW20"}]
["OLPV2_322511130","translocon delta subunit ","gifsy-1 prophage RecE [Salmonella enterica subsp. enterica serovar Dublin str. CT_02021853]","ref|YP_002214937.1|",1062,33,57,0.01,33.9,{"$f":"VLOOKUP(K258,gi2taxid!G:H,2,FALSE)","v":"Gammaproteobacteria"},{"$f":"VLOOKUP(D258,gi2taxid!A:E,4,FALSE)","v":"Salmonella enterica subsp. enterica serovar Dublin str. CT_02021853"}]
["OLPV2_322511131","plasmodium function ","rhoGAP GTPase, putative [Plasmodium falciparum 3D7]","ref|XP_001347356.2|",593,55,74,2.0000000000000001E-9,61.6,{"$f":"VLOOKUP(K259,gi2taxid!G:H,2,FALSE)","v":"Apicomplexa"},{"$f":"VLOOKUP(D259,gi2taxid!A:E,4,FALSE)","v":"Plasmodium falciparum 3D7"}]
["OLPV2_322511132","metallopeptidase wlm ","putative metal-dependent hydrolase [Cafeteria roenbergensis virus BV-PW1]","ref|YP_003969923.1|",195,43,74,2.0000000000000001E-13,63.2,{"$f":"VLOOKUP(K260,gi2taxid!G:H,2,FALSE)","v":"unclassified_dsDNA_viruses (CroV)"},{"$f":"VLOOKUP(D260,gi2taxid!A:E,4,FALSE)","v":"Cafeteria roenbergensis virus BV-PW1"}]
["OLPV2_322511133","transcriptional regulator ","mg578 gene product [Megavirus chiliensis]","ref|YP_004894629.1|",197,32,93,3.9999999999999998E-7,47,{"$f":"VLOOKUP(K261,gi2taxid!G:H,2,FALSE)","v":"Mimiviridae"},{"$f":"VLOOKUP(D261,gi2taxid!A:E,4,FALSE)","v":"Megavirus chiliensis"}]
["OLPV2_322511134",0,"hypothetical protein AR158_C444L [Paramecium bursaria Chlorella virus AR158]","ref|YP_001498525.1|",207,38,78,2.9999999999999998E-13,65.5,{"$f":"VLOOKUP(K262,gi2taxid!G:H,2,FALSE)","v":"Phycodnaviridae"},{"$f":"VLOOKUP(D262,gi2taxid!A:E,4,FALSE)","v":"Paramecium bursaria Chlorella virus AR158"}]
["OLPV2_322511135","short chain dehydrogenase reductase sdr ","short-chain dehydrogenase/reductase SDR [Rhodanobacter sp. 2APBS1]","ref|ZP_08952283.1|",155,26,65,4.0000000000000001E-3,34.299999999999997,{"$f":"VLOOKUP(K263,gi2taxid!G:H,2,FALSE)","v":"Gammaproteobacteria"},{"$f":"VLOOKUP(D263,gi2taxid!A:E,4,FALSE)","v":"Rhodanobacter sp. 2APBS1"}]
["OLPV2_322511136","eh binding epsin 2 ","EH domain binding protein epsin 2 [Talaromyces stipitatus ATCC 10500]","ref|XP_002481445.1|",557,38,39,2E-3,35.799999999999997,{"$f":"VLOOKUP(K264,gi2taxid!G:H,2,FALSE)","v":"Fungi"},{"$f":"VLOOKUP(D264,gi2taxid!A:E,4,FALSE)","v":"Talaromyces stipitatus ATCC 10500"}]
["OLPV2_322511137",0,"hypothetical protein [Monosiga brevicollis MX1]","ref|XP_001748275.1|",117,42,50,4.0000000000000002E-4,36.200000000000003,{"$f":"VLOOKUP(K265,gi2taxid!G:H,2,FALSE)","v":"Choanoflagellida"},{"$f":"VLOOKUP(D265,gi2taxid!A:E,4,FALSE)","v":"Monosiga brevicollis MX1"}]
["OLPV2_322511138","exonuclease vii large subunit ","CUB domain protein [Aciduliprofundum boonei T469]","ref|ZP_04873939.1|",1618,28,57,3.1E-2,32,{"$f":"VLOOKUP(K266,gi2taxid!G:H,2,FALSE)","v":"unclassified_Euryarchaeota"},{"$f":"VLOOKUP(D266,gi2taxid!A:E,4,FALSE)","v":"Aciduliprofundum boonei T469"}]
["OLPV2_322511139","brevican core isoform 1 precursor ","PREDICTED: brevican core protein-like [Ailuropoda melanoleuca]","ref|XP_002927009.1|",1153,31,121,5.0000000000000001E-9,57.4,{"$f":"VLOOKUP(K267,gi2taxid!G:H,2,FALSE)","v":"Metazoa"},{"$f":"VLOOKUP(D267,gi2taxid!A:E,4,FALSE)","v":"Ailuropoda melanoleuca"}]
["OLPV2_322511140",0,"hypothetical protein [Kluyveromyces lactis NRRL Y-1140]","ref|XP_454413.1|",796,45,67,2.0000000000000001E-10,57,{"$f":"VLOOKUP(K268,gi2taxid!G:H,2,FALSE)","v":"Fungi"},{"$f":"VLOOKUP(D268,gi2taxid!A:E,4,FALSE)","v":"Kluyveromyces lactis NRRL Y-1140"}]
["OLPV2_322511141","ubiquitin c terminal hydrolase ","ubiquitin C-terminal hydrolase, putative [Aspergillus flavus NRRL3357]","ref|XP_002375059.1|",827,32,59,1E-3,37,{"$f":"VLOOKUP(K269,gi2taxid!G:H,2,FALSE)","v":"Fungi"},{"$f":"VLOOKUP(D269,gi2taxid!A:E,4,FALSE)","v":"Aspergillus flavus NRRL3357"}]
["OLPV2_322511142","ubiquitin c terminal hydrolase 38 isoform 1 ","hypothetical protein CaO19.6063 [Candida albicans SC5314]","ref|XP_719025.1|",412,38,72,3E-10,56.2,{"$f":"VLOOKUP(K270,gi2taxid!G:H,2,FALSE)","v":"Fungi"},{"$f":"VLOOKUP(D270,gi2taxid!A:E,4,FALSE)","v":"Candida albicans SC5314"}]
["OLPV2_322511143","rhamnosyltransferase ","hypothetical protein CLOLEP_00894 [Clostridium leptum DSM 753]","ref|ZP_02079451.1|",248,27,93,3.0000000000000001E-3,35.4,{"$f":"VLOOKUP(K271,gi2taxid!G:H,2,FALSE)","v":"Clostridia"},{"$f":"VLOOKUP(D271,gi2taxid!A:E,4,FALSE)","v":"Clostridium leptum DSM 753"}]
["OLPV2_322511144","eco57i restriction endonuclease ","putative DNA methyltransferase [Cafeteria roenbergensis virus BV-PW1]","ref|YP_003970029.1|",550,32,174,9.9999999999999998E-20,87,{"$f":"VLOOKUP(K272,gi2taxid!G:H,2,FALSE)","v":"unclassified_dsDNA_viruses (CroV)"},{"$f":"VLOOKUP(D272,gi2taxid!A:E,4,FALSE)","v":"Cafeteria roenbergensis virus BV-PW1"}]
["OLPV2_322511145","metal dependent phosphohydrolase ","metal dependent phosphohydrolase [gamma proteobacterium IMCC1989]","ref|ZP_08329143.1|",443,57,21,9.5000000000000001E-2,30,{"$f":"VLOOKUP(K273,gi2taxid!G:H,2,FALSE)","v":"Gammaproteobacteria"},{"$f":"VLOOKUP(D273,gi2taxid!A:E,4,FALSE)","v":"gamma proteobacterium IMCC1989"}]
["OLPV2_322511146","ny2a_b720l ","putative type I restriction enzyme R protein [Roseovarius sp. TM1035]","ref|ZP_01880400.1|",1142,36,45,4.0000000000000001E-3,35,{"$f":"VLOOKUP(K274,gi2taxid!G:H,2,FALSE)","v":"Alphaproteobacteria"},{"$f":"VLOOKUP(D274,gi2taxid!A:E,4,FALSE)","v":"Roseovarius sp. TM1035"}]
["OLPV2_322511147","arginine decarboxylase ","PREDICTED: hemolectin [Saccoglossus kowalevskii]","ref|XP_002738041.1|",1481,32,69,1.2999999999999999E-2,33.5,{"$f":"VLOOKUP(K275,gi2taxid!G:H,2,FALSE)","v":"Metazoa"},{"$f":"VLOOKUP(D275,gi2taxid!A:E,4,FALSE)","v":"Saccoglossus kowalevskii"}]
["OLPV2_322511148","dna directed rna polymerase ii subunit rpb2 ","hypothetical protein SELMODRAFT_148107 [Selaginella moellendorffii]","ref|XP_002971836.1|",1178,42,1195,0,951,{"$f":"VLOOKUP(K276,gi2taxid!G:H,2,FALSE)","v":"Streptophyta"},{"$f":"VLOOKUP(D276,gi2taxid!A:E,4,FALSE)","v":"Selaginella moellendorffii"}]
["OLPV2_322511149","rna polymerase ","hypothetical protein [Paramecium tetraurelia strain d4-2]","ref|XP_001447492.1|",136,30,80,0.01,35,{"$f":"VLOOKUP(K277,gi2taxid!G:H,2,FALSE)","v":"Ciliophora"},{"$f":"VLOOKUP(D277,gi2taxid!A:E,4,FALSE)","v":"Paramecium tetraurelia strain d4-2"}]
["OLPV2_322511150","serine threonine kinase ","conserved domain protein [Peptostreptococcus stomatis DSM 17678]","ref|ZP_07526825.1|",272,35,57,4.4999999999999998E-2,35.799999999999997,{"$f":"VLOOKUP(K278,gi2taxid!G:H,2,FALSE)","v":"Clostridia"},{"$f":"VLOOKUP(D278,gi2taxid!A:E,4,FALSE)","v":"Peptostreptococcus stomatis DSM 17678"}]
["OLPV2_322511151","fibrinogen binding ","PREDICTED: 3-hydroxyacyl-CoA dehydratase 3-like [Nasonia vitripennis]","ref|XP_001600050.2|",364,32,109,8.0000000000000002E-3,35.4,{"$f":"VLOOKUP(K279,gi2taxid!G:H,2,FALSE)","v":"Metazoa"},{"$f":"VLOOKUP(D279,gi2taxid!A:E,4,FALSE)","v":"Nasonia vitripennis"}]
["OLPV2_322511152","beclin 1 autophagy key regulator ","PREDICTED: beclin 1-associated autophagy-related key regulator [Canis lupus familiaris]","ref|XP_547826.2|",492,22,85,4.5999999999999999E-2,34.700000000000003,{"$f":"VLOOKUP(K280,gi2taxid!G:H,2,FALSE)","v":"Metazoa"},{"$f":"VLOOKUP(D280,gi2taxid!A:E,4,FALSE)","v":"Canis lupus familiaris"}]
["OLPV2_322511153","ftsj methyltransferase 1 ","putative FtsJ-like methyltransferase [Cafeteria roenbergensis virus BV-PW1]","ref|YP_003970075.1|",445,30,357,1.0000000000000001E-31,125,{"$f":"VLOOKUP(K281,gi2taxid!G:H,2,FALSE)","v":"unclassified_dsDNA_viruses (CroV)"},{"$f":"VLOOKUP(D281,gi2taxid!A:E,4,FALSE)","v":"Cafeteria roenbergensis virus BV-PW1"}]
["OLPV2_322511154",{"$error":"#N/A"},{"$nulls":7},{"$f":"VLOOKUP(K282,gi2taxid!G:H,2,FALSE)","v":{"$error":"#N/A"}},{"$f":"VLOOKUP(D282,gi2taxid!A:E,4,FALSE)","v":{"$error":"#N/A"}}]
["OLPV2_322511155","mrna cap guanine n7 methyltransferase ","probable mRNA-capping enzyme [Acanthamoeba polyphaga mimivirus]","ref|YP_003986887.1|",1170,25,853,3.0000000000000003E-42,168,{"$f":"VLOOKUP(K283,gi2taxid!G:H,2,FALSE)","v":"Mimiviridae"},{"$f":"VLOOKUP(D283,gi2taxid!A:E,4,FALSE)","v":"Acanthamoeba polyphaga mimivirus"}]
["OLPV2_322511156","atp binding cassette sub e oabp 1 ","PREDICTED: ATP-binding cassette, sub-family E, member 1-like [Saccoglossus kowalevskii]","ref|XP_002734288.1|",488,31,59,5.0000000000000001E-3,37.4,{"$f":"VLOOKUP(K284,gi2taxid!G:H,2,FALSE)","v":"Metazoa"},{"$f":"VLOOKUP(D284,gi2taxid!A:E,4,FALSE)","v":"Saccoglossus kowalevskii"}]
["OLPV2_322511157","polyketide synthase type i ","hypothetical protein [Acanthamoeba polyphaga mimivirus]","ref|YP_003986883.1|",195,32,44,2E-3,35.799999999999997,{"$f":"VLOOKUP(K285,gi2taxid!G:H,2,FALSE)","v":"Mimiviridae"},{"$f":"VLOOKUP(D285,gi2taxid!A:E,4,FALSE)","v":"Acanthamoeba polyphaga mimivirus"}]
["OLPV2_322511158","dna directed rna polymerase ii subunit rpb7 ","predicted protein [Micromonas pusilla CCMP1545]","ref|XP_003057746.1|",174,27,146,1.9999999999999999E-6,45.4,{"$f":"VLOOKUP(K286,gi2taxid!G:H,2,FALSE)","v":"Chlorophyta"},{"$f":"VLOOKUP(D286,gi2taxid!A:E,4,FALSE)","v":"Micromonas pusilla CCMP1545"}]
["OLPV2_322511159","preprotein translocase seca subunit ","hypothetical protein Bd0240 [Bdellovibrio bacteriovorus HD100]","ref|NP_967245.1|",148,32,76,2E-3,35.799999999999997,{"$f":"VLOOKUP(K287,gi2taxid!G:H,2,FALSE)","v":"delta-epsilon_subdivisions"},{"$f":"VLOOKUP(D287,gi2taxid!A:E,4,FALSE)","v":"Bdellovibrio bacteriovorus HD100"}]
["OLPV2_322511160","dynamin ","putative NTPase [Acanthamoeba polyphaga mimivirus]","ref|YP_003986882.1|",1147,32,217,2.9999999999999997E-8,55.8,{"$f":"VLOOKUP(K288,gi2taxid!G:H,2,FALSE)","v":"Mimiviridae"},{"$f":"VLOOKUP(D288,gi2taxid!A:E,4,FALSE)","v":"Acanthamoeba polyphaga mimivirus"}]
["OLPV2_322511161","d6 d11 helicase ","D6/D11-like helicase [Marseillevirus]","ref|YP_003406944.1|",772,26,425,9.9999999999999994E-30,122,{"$f":"VLOOKUP(K289,gi2taxid!G:H,2,FALSE)","v":"unclassified_dsDNA_viruses (Marseil)"},{"$f":"VLOOKUP(D289,gi2taxid!A:E,4,FALSE)","v":"Marseillevirus"}]
["OLPV2_322511162","4 hydroxy 3 methylbut 2 enyl diphosphate reductase ","hypothetical protein phi1p142 [Enterobacteria phage Phi1]","ref|YP_001469486.1|",110,30,57,8.9999999999999993E-3,32.299999999999997,{"$f":"VLOOKUP(K290,gi2taxid!G:H,2,FALSE)","v":"Caudovirales"},{"$f":"VLOOKUP(D290,gi2taxid!A:E,4,FALSE)","v":"Enterobacteria phage Phi1"}]
["OLPV2_322511163","ribonuclease iii ","mg559 gene product [Megavirus chiliensis]","ref|YP_004894610.1|",542,31,144,8.0000000000000002E-8,51.2,{"$f":"VLOOKUP(K291,gi2taxid!G:H,2,FALSE)","v":"Mimiviridae"},{"$f":"VLOOKUP(D291,gi2taxid!A:E,4,FALSE)","v":"Megavirus chiliensis"}]
["OLPV2_322511164","ribonuclease iii ","ribonuclease III [Candidatus Azobacteroides pseudotrichonymphae genomovar. CFP2]","ref|YP_002308869.1|",261,43,69,1E-14,67.400000000000006,{"$f":"VLOOKUP(K292,gi2taxid!G:H,2,FALSE)","v":"Bacteroidetes"},{"$f":"VLOOKUP(D292,gi2taxid!A:E,4,FALSE)","v":"Candidatus Azobacteroides pseudotrichonymphae genomovar. CFP2"}]
["OLPV2_322511165","low quality tspa ","nicotinate phosphoribosyltransferase [Ferroplasma acidarmanus fer1]","ref|ZP_05571663.1|",386,57,23,4.7E-2,31.2,{"$f":"VLOOKUP(K293,gi2taxid!G:H,2,FALSE)","v":"Thermoplasmata"},{"$f":"VLOOKUP(D293,gi2taxid!A:E,4,FALSE)","v":"Ferroplasma acidarmanus fer1"}]
["OLPV2_322511166","mtr_7g068140 ","ABC transporter related protein [Ktedonobacter racemifer DSM 44963]","ref|ZP_06974485.1|",253,43,37,1.6E-2,33.1,{"$f":"VLOOKUP(K294,gi2taxid!G:H,2,FALSE)","v":"Ktedonobacteria"},{"$f":"VLOOKUP(D294,gi2taxid!A:E,4,FALSE)","v":"Ktedonobacter racemifer DSM 44963"}]
["OLPV2_322511167","hef nuclease ","ERCC4-type nuclease [Belliella baltica DSM 15883]","ref|YP_006407354.1|",247,30,164,2E-16,75.900000000000006,{"$f":"VLOOKUP(K295,gi2taxid!G:H,2,FALSE)","v":"Bacteroidetes"},{"$f":"VLOOKUP(D295,gi2taxid!A:E,4,FALSE)","v":"Belliella baltica DSM 15883"}]
["OLPV2_322511168","hydrolase ","hypothetical protein [Candida glabrata CBS 138]","ref|XP_445052.1|",191,27,83,3.0000000000000001E-3,37.4,{"$f":"VLOOKUP(K296,gi2taxid!G:H,2,FALSE)","v":"Fungi"},{"$f":"VLOOKUP(D296,gi2taxid!A:E,4,FALSE)","v":"Candida glabrata CBS 138"}]
["OLPV2_322511169","disulfide isomerase ","PREDICTED: similar to protein disulfide isomerase [Tribolium castaneum]","ref|XP_971669.2|",384,42,86,9.9999999999999994E-12,62.4,{"$f":"VLOOKUP(K297,gi2taxid!G:H,2,FALSE)","v":"Metazoa"},{"$f":"VLOOKUP(D297,gi2taxid!A:E,4,FALSE)","v":"Tribolium castaneum"}]
["OLPV2_322511170","dna polymerase delta catalytic subunit ","DNA polymerase delta catalytic subunit [Lodderomyces elongisporus NRRL YB-4239]","ref|XP_001523599.1|",1087,29,792,3.0000000000000001E-93,325,{"$f":"VLOOKUP(K298,gi2taxid!G:H,2,FALSE)","v":"Fungi"},{"$f":"VLOOKUP(D298,gi2taxid!A:E,4,FALSE)","v":"Lodderomyces elongisporus NRRL YB-4239"}]
["OLPV2_322511171","zinc finger 250 ","hypothetical protein HMPREF9538_02416 [Klebsiella sp. MS 92-3]","ref|ZP_08304735.1|",94,49,37,2E-3,37.700000000000003,{"$f":"VLOOKUP(K299,gi2taxid!G:H,2,FALSE)","v":"Gammaproteobacteria"},{"$f":"VLOOKUP(D299,gi2taxid!A:E,4,FALSE)","v":"Klebsiella sp. MS 92-3"}]
["OLPV2_322511172","aig2 ","AIG2 family protein [Syntrophobotulus glycolicus DSM 8271]","ref|YP_004264417.1|",167,38,110,9.9999999999999994E-12,59.7,{"$f":"VLOOKUP(K300,gi2taxid!G:H,2,FALSE)","v":"Clostridia"},{"$f":"VLOOKUP(D300,gi2taxid!A:E,4,FALSE)","v":"Syntrophobotulus glycolicus DSM 8271"}]
["OLPV2_322511173",0,"hypothetical protein, conserved [Toxoplasma gondii ME49]","ref|XP_002370635.1|",376,27,121,2E-8,55.5,{"$f":"VLOOKUP(K301,gi2taxid!G:H,2,FALSE)","v":"Apicomplexa"},{"$f":"VLOOKUP(D301,gi2taxid!A:E,4,FALSE)","v":"Toxoplasma gondii ME49"}]
["OLPV2_322511174","coch_1390 ","PREDICTED: transmembrane protease serine 6-like [Oreochromis niloticus]","ref|XP_003459393.1|",804,32,75,1E-3,41.2,{"$f":"VLOOKUP(K302,gi2taxid!G:H,2,FALSE)","v":"Metazoa"},{"$f":"VLOOKUP(D302,gi2taxid!A:E,4,FALSE)","v":"Oreochromis niloticus"}]
["OLPV2_322511175","lamg ","LamG domain-containing protein [Thermotoga petrophila RKU-1]","ref|YP_001244238.1|",247,30,122,1E-4,44.3,{"$f":"VLOOKUP(K303,gi2taxid!G:H,2,FALSE)","v":"Thermotogae"},{"$f":"VLOOKUP(D303,gi2taxid!A:E,4,FALSE)","v":"Thermotoga petrophila RKU-1"}]
["OLPV2_322511176","hnh endonuclease ","phage associated protein [Lactobacillus coleohominis 101-4-CHN]","ref|ZP_05553271.1|",125,63,32,2E-8,47.8,{"$f":"VLOOKUP(K304,gi2taxid!G:H,2,FALSE)","v":"Bacilli"},{"$f":"VLOOKUP(D304,gi2taxid!A:E,4,FALSE)","v":"Lactobacillus coleohominis 101-4-CHN"}]
["OLPV2_322511177","peptidase m16 inactive ","peptidase M16 inactive domain protein [Prevotella timonensis CRIS 5C-B1]","ref|ZP_06288983.1|",968,32,60,3.0000000000000001E-3,37,{"$f":"VLOOKUP(K305,gi2taxid!G:H,2,FALSE)","v":"Bacteroidetes"},{"$f":"VLOOKUP(D305,gi2taxid!A:E,4,FALSE)","v":"Prevotella timonensis CRIS 5C-B1"}]
["OLPV2_322511178","4 hydroxy 3 methylbut 2 enyl diphosphate reductase ","hypothetical protein [Candida glabrata CBS 138]","ref|XP_449854.1|",897,20,114,6.0000000000000001E-3,36.200000000000003,{"$f":"VLOOKUP(K306,gi2taxid!G:H,2,FALSE)","v":"Fungi"},{"$f":"VLOOKUP(D306,gi2taxid!A:E,4,FALSE)","v":"Candida glabrata CBS 138"}]
["OLPV2_322511179","nudix hydrolase ","putative diphosphoinositol polyphosphate phosphohydrolase [Acanthamoeba polyphaga mimivirus]","ref|YP_003986880.1|",360,33,262,3E-32,123,{"$f":"VLOOKUP(K307,gi2taxid!G:H,2,FALSE)","v":"Mimiviridae"},{"$f":"VLOOKUP(D307,gi2taxid!A:E,4,FALSE)","v":"Acanthamoeba polyphaga mimivirus"}]
["OLPV2_322511180","superfamily ii helicase vv d11 ","putative transcription termination factor [Acanthamoeba polyphaga mimivirus]","ref|YP_003986853.1|",817,29,480,3E-32,136,{"$f":"VLOOKUP(K308,gi2taxid!G:H,2,FALSE)","v":"Mimiviridae"},{"$f":"VLOOKUP(D308,gi2taxid!A:E,4,FALSE)","v":"Acanthamoeba polyphaga mimivirus"}]
["OLPV2_322511181","mcyg_08685 ","hypothetical protein NEMVEDRAFT_v1g225267 [Nematostella vectensis]","ref|XP_001618328.1|",214,33,87,4.0000000000000001E-3,40,{"$f":"VLOOKUP(K309,gi2taxid!G:H,2,FALSE)","v":"Metazoa"},{"$f":"VLOOKUP(D309,gi2taxid!A:E,4,FALSE)","v":"Nematostella vectensis"}]
["OLPV2_322511182","zinc finger 183 ","zinc finger protein 183 [Oryzias latipes]","ref|NP_001098254.1|",319,38,66,1.4999999999999999E-2,37.700000000000003,{"$f":"VLOOKUP(K310,gi2taxid!G:H,2,FALSE)","v":"Metazoa"},{"$f":"VLOOKUP(D310,gi2taxid!A:E,4,FALSE)","v":"Oryzias latipes"}]
["OLPV2_322511183","dna primase ","radical SAM protein [Mesoflavibacter zeaxanthinifaciens S86]","ref|ZP_09499364.1|",420,35,71,6.9999999999999999E-4,40,{"$f":"VLOOKUP(K311,gi2taxid!G:H,2,FALSE)","v":"Bacteroidetes"},{"$f":"VLOOKUP(D311,gi2taxid!A:E,4,FALSE)","v":"Mesoflavibacter zeaxanthinifaciens S86"}]
["OLPV2_322511184","ps273r ","putative thiol protease [Acanthamoeba polyphaga mimivirus]","ref|YP_003986858.1|",302,31,120,3E-11,60.1,{"$f":"VLOOKUP(K312,gi2taxid!G:H,2,FALSE)","v":"Mimiviridae"},{"$f":"VLOOKUP(D312,gi2taxid!A:E,4,FALSE)","v":"Acanthamoeba polyphaga mimivirus"}]
["OLPV2_322511185","carboxyl terminal protease ","putative cysteine protease [Cafeteria roenbergensis virus BV-PW1]","ref|YP_003969816.1|",294,31,126,6E-11,59.3,{"$f":"VLOOKUP(K313,gi2taxid!G:H,2,FALSE)","v":"unclassified_dsDNA_viruses (CroV)"},{"$f":"VLOOKUP(D313,gi2taxid!A:E,4,FALSE)","v":"Cafeteria roenbergensis virus BV-PW1"}]
["OLPV2_322511186","type iii restriction enzyme res subunit ","pyrophosphatase, NUDIX family protein [Burkholderia thailandensis TXDOH]","ref|ZP_02373361.1|",149,27,89,4.0000000000000001E-3,35,{"$f":"VLOOKUP(K314,gi2taxid!G:H,2,FALSE)","v":"Betaproteobacteria"},{"$f":"VLOOKUP(D314,gi2taxid!A:E,4,FALSE)","v":"Burkholderia thailandensis TXDOH"}]
["OLPV2_322511187","aconitate hydratase ","biotin synthase [Stackebrandtia nassauensis DSM 44728]","ref|YP_003509277.1|",354,35,68,4.0000000000000003E-5,42.7,{"$f":"VLOOKUP(K315,gi2taxid!G:H,2,FALSE)","v":"Actinobacteria"},{"$f":"VLOOKUP(D315,gi2taxid!A:E,4,FALSE)","v":"Stackebrandtia nassauensis DSM 44728"}]
["OLPV2_322511188","asparagine synthetase ","asparagine synthetase B [Psychroflexus torquis ATCC 700755]","ref|ZP_01253256.1|",524,40,532,3.0000000000000002E-119,365,{"$f":"VLOOKUP(K316,gi2taxid!G:H,2,FALSE)","v":"Bacteroidetes"},{"$f":"VLOOKUP(D316,gi2taxid!A:E,4,FALSE)","v":"Psychroflexus torquis ATCC 700755"}]
["OLPV2_322511189","fbxb 24 ","glycosyl hydrolase [Leuconostoc fallax KCTC 3537]","ref|ZP_08313441.1|",1318,27,70,4.0000000000000001E-3,35,{"$f":"VLOOKUP(K317,gi2taxid!G:H,2,FALSE)","v":"Bacilli"},{"$f":"VLOOKUP(D317,gi2taxid!A:E,4,FALSE)","v":"Leuconostoc fallax KCTC 3537"}]
["OLPV2_322511190","serine palmitoyltransferase 2 ","hypothetical protein [Brachyspira intermedia PWS/A]","ref|YP_005595564.1|",88,35,60,3.0000000000000001E-3,33.9,{"$f":"VLOOKUP(K318,gi2taxid!G:H,2,FALSE)","v":"Spirochaetia"},{"$f":"VLOOKUP(D318,gi2taxid!A:E,4,FALSE)","v":"Brachyspira intermedia PWS/A"}]
["OLPV2_322511191","atp synthase chain d mitochondrial ","Pectate lyase/Amb allergen [Ruminococcus flavefaciens FD-1]","ref|ZP_06142225.1|",572,30,71,8.9999999999999993E-3,34.700000000000003,{"$f":"VLOOKUP(K319,gi2taxid!G:H,2,FALSE)","v":"Clostridia"},{"$f":"VLOOKUP(D319,gi2taxid!A:E,4,FALSE)","v":"Ruminococcus flavefaciens FD-1"}]
["OLPV2_322511192","gliding motility gldl ","gliding motility-associated protein GldL [Chryseobacterium sp. CF314]","ref|ZP_10727232.1|",230,29,104,5.0000000000000001E-3,37.4,{"$f":"VLOOKUP(K320,gi2taxid!G:H,2,FALSE)","v":"Bacteroidetes"},{"$f":"VLOOKUP(D320,gi2taxid!A:E,4,FALSE)","v":"Chryseobacterium sp. CF314"}]
["OLPV2_322511193","bifunctional dihydrofolate reductase thymidylate synthase ","thymidylate synthase [Enterocytozoon bieneusi H348]","ref|XP_002650147.1|",291,47,172,9.9999999999999994E-50,165,{"$f":"VLOOKUP(K321,gi2taxid!G:H,2,FALSE)","v":"Fungi"},{"$f":"VLOOKUP(D321,gi2taxid!A:E,4,FALSE)","v":"Enterocytozoon bieneusi H348"}]
["OLPV2_322511194","bifunctional dihydrofolate reductase thymidylate synthase ","bifunctional dihydrofolate reductase-thymidylate synthase 1 [Plasmodium vivax Sal-1]","ref|XP_001615082.1|",624,53,112,4.0000000000000003E-37,134,{"$f":"VLOOKUP(K322,gi2taxid!G:H,2,FALSE)","v":"Apicomplexa"},{"$f":"VLOOKUP(D322,gi2taxid!A:E,4,FALSE)","v":"Plasmodium vivax Sal-1"}]
["OLPV2_322511195","replication ","putative tape measure domain protein [Subdoligranulum variabile DSM 15176]","ref|ZP_05981607.1|",1022,35,65,1E-4,40.799999999999997,{"$f":"VLOOKUP(K323,gi2taxid!G:H,2,FALSE)","v":"Clostridia"},{"$f":"VLOOKUP(D323,gi2taxid!A:E,4,FALSE)","v":"Subdoligranulum variabile DSM 15176"}]
["OLPV2_322511196","tryptophan 2 3 dioxygenase ","tryptophan 2,3-dioxygenase [Dictyostelium purpureum]","ref|XP_003291688.1|",401,24,78,1.7000000000000001E-2,35.799999999999997,{"$f":"VLOOKUP(K324,gi2taxid!G:H,2,FALSE)","v":"Mycetozoa"},{"$f":"VLOOKUP(D324,gi2taxid!A:E,4,FALSE)","v":"Dictyostelium purpureum"}]
["OLPV2_322511197","sucrose 6 phosphate hydrolase ","hypothetical protein bthur0005_23780 [Bacillus thuringiensis serovar pakistani str. T13001]","ref|ZP_04120586.1|",373,30,357,9.9999999999999995E-21,92.4,{"$f":"VLOOKUP(K325,gi2taxid!G:H,2,FALSE)","v":"Bacilli"},{"$f":"VLOOKUP(D325,gi2taxid!A:E,4,FALSE)","v":"Bacillus thuringiensis serovar pakistani str. T13001"}]
["OLPV2_322511198","pyridoxal kinase ","PREDICTED: pyridoxal kinase-like [Rattus norvegicus]","ref|XP_001079270.1|",312,34,62,3.0000000000000001E-3,35.799999999999997,{"$f":"VLOOKUP(K326,gi2taxid!G:H,2,FALSE)","v":"Metazoa"},{"$f":"VLOOKUP(D326,gi2taxid!A:E,4,FALSE)","v":"Rattus norvegicus"}]
["OLPV2_322511199","ribonuclease r ","ribonuclease R [Lachnospiraceae bacterium 9_1_43BFAA]","ref|ZP_08336149.1|",723,26,219,3.9999999999999999E-12,68.599999999999994,{"$f":"VLOOKUP(K327,gi2taxid!G:H,2,FALSE)","v":"Clostridia"},{"$f":"VLOOKUP(D327,gi2taxid!A:E,4,FALSE)","v":"Lachnospiraceae bacterium 9_1_43BFAA"}]

{"sheet":"gi2taxid","index":3,"n_rows":1047,"n_cols":8,"rows_kept":1047,"cut":false,"hidden":false,"merged":[]}
["ref|NP_001017498.1|",62945348,"cellular organisms,Eukaryota,Opisthokonta,Metazoa,Eumetazoa,Bilateria,Coelomata,Deuterostomia,Chordata,Craniata,Vertebrata,Gnathostomata,Teleostomi,Euteleostomi,Sarcopterygii,Tetrapoda,Amniota,Mammalia,Theria,Eutheria,Euarchontoglires,Glires,Rodentia,Sciurognathi,Muroidea,Muridae,Murinae,Rattus,Rattus norvegicus","Rattus norvegicus","Metazoa",null,"Acanthamoeba polyphaga mimivirus","Mimiviridae"]
["ref|NP_001037019.1|",112983202,"cellular organisms,Eukaryota,Opisthokonta,Metazoa,Eumetazoa,Bilateria,Coelomata,Protostomia,Ecdysozoa,Panarthropoda,Arthropoda,Mandibulata,Pancrustacea,Hexapoda,Insecta,Dicondylia,Pterygota,Neoptera,Endopterygota,Amphiesmenoptera,Lepidoptera,Glossata,Neolepidoptera,Heteroneura,Ditrysia,Obtectomera,Bombycoidea,Bombyciformes,Bombycidae,Bombycinae,Bombyx,Bombyx mori","Bombyx mori","Metazoa",null,"Acanthocystis turfacea Chlorella virus 1","Phycodnaviridae"]
["ref|NP_001041505.1|",114158600,"cellular organisms,Eukaryota,Opisthokonta,Metazoa,Eumetazoa,Bilateria,Coelomata,Deuterostomia,Chordata,Craniata,Vertebrata,Gnathostomata,Teleostomi,Euteleostomi,Actinopterygii,Actinopteri,Neopterygii,Teleostei,Elopocephala,Clupeocephala,Euteleostei,Neognathi,Neoteleostei,Eurypterygii,Ctenosquamata,Acanthomorpha,Euacanthomorpha,Holacanthopterygii,Acanthopterygii,Euacanthopterygii,Percomorpha,Tetraodontiformes,Tetraodontoidei,Tetradontoidea,Tetraodontidae,Takifugu,Takifugu rubripes","Takifugu rubripes","Metazoa",null,"Acaryochloris marina MBIC11017","Chroococcales"]
["ref|NP_001082183.1|",147901021,"cellular organisms,Eukaryota,Opisthokonta,Metazoa,Eumetazoa,Bilateria,Coelomata,Deuterostomia,Chordata,Craniata,Vertebrata,Gnathostomata,Teleostomi,Euteleostomi,Sarcopterygii,Tetrapoda,Amphibia,Batrachia,Anura,Pipoidea,Pipidae,Xenopodinae,Xenopus,Xenopus,Xenopus laevis","Xenopus laevis","Metazoa",null,"Acetivibrio cellulolyticus CD2","Clostridia"]
["ref|NP_001085847.1|",147902465,"cellular organisms,Eukaryota,Opisthokonta,Metazoa,Eumetazoa,Bilateria,Coelomata,Deuterostomia,Chordata,Craniata,Vertebrata,Gnathostomata,Teleostomi,Euteleostomi,Sarcopterygii,Tetrapoda,Amphibia,Batrachia,Anura,Pipoidea,Pipidae,Xenopodinae,Xenopus,Xenopus,Xenopus laevis","Xenopus laevis","Metazoa",null,"Acetonema longum DSM 6540","Negativicutes"]
["ref|NP_001098254.1|",157278305,"cellular organisms,Eukaryota,Opisthokonta,Metazoa,Eumetazoa,Bilateria,Coelomata,Deuterostomia,Chordata,Craniata,Vertebrata,Gnathostomata,Teleostomi,Euteleostomi,Actinopterygii,Actinopteri,Neopterygii,Teleostei,Elopocephala,Clupeocephala,Euteleostei,Neognathi,Neoteleostei,Eurypterygii,Ctenosquamata,Acanthomorpha,Euacanthomorpha,Holacanthopterygii,Acanthopterygii,Euacanthopterygii,Percomorpha,Smegmamorpha,Atherinomorpha,Beloniformes,Adrianichthyoidei,Adrianichthyidae,Oryziinae,Oryzias,Oryzias latipes","Oryzias latipes","Metazoa",null,"Acholeplasma laidlawii PG-8A","Mollicutes"]
["ref|NP_001157312.1|",255522799,"cellular organisms,Eukaryota,Opisthokonta,Metazoa,Eumetazoa,Bilateria,Coelomata,Protostomia,Ecdysozoa,Panarthropoda,Arthropoda,Mandibulata,Pancrustacea,Hexapoda,Insecta,Dicondylia,Pterygota,Neoptera,Endopterygota,Coleoptera,Polyphaga,Cucujiformia,Tenebrionoidea,Tenebrionidae,Tribolium,Tribolium castaneum","Tribolium castaneum","Metazoa",null,"Achromobacter piechaudii ATCC 43553","Betaproteobacteria"]
["ref|NP_001162147.1|",274315958,"cellular organisms,Eukaryota,Opisthokonta,Metazoa,Eumetazoa,Bilateria,Coelomata,Protostomia,Ecdysozoa,Panarthropoda,Arthropoda,Mandibulata,Pancrustacea,Hexapoda,Insecta,Dicondylia,Pterygota,Neoptera,Paraneoptera,Hemiptera,Sternorrhyncha,Aphidiformes,Aphidomorpha,Aphidoidea,Aphididae,Aphidinae,Macrosiphini,Acyrthosiphon,Acyrthosiphon pisum","Acyrthosiphon pisum","Metazoa",null,"Acidilobus saccharovorans 345-15","Thermoprotei"]
["ref|NP_031913.1|",6681237,"cellular organisms,Eukaryota,Opisthokonta,Metazoa,Eumetazoa,Bilateria,Coelomata,Deuterostomia,Chordata,Craniata,Vertebrata,Gnathostomata,Teleostomi,Euteleostomi,Sarcopterygii,Tetrapoda,Amniota,Mammalia,Theria,Eutheria,Euarchontoglires,Glires,Rodentia,Sciurognathi,Muroidea,Muridae,Murinae,Mus,Mus,Mus musculus","Mus musculus","Metazoa",null,"Acidiphilium sp. PM","Alphaproteobacteria"]
["ref|NP_041784.1|",9627308,"Viruses,dsDNA viruses, no RNA stage,Papillomaviridae,Alphapapillomavirus,Alphapapillomavirus 5,Human papillomavirus type 26","Human papillomavirus type 26","Papillomaviridae",null,"Acidovorax sp. JS42","Betaproteobacteria"]
["ref|NP_042761.1|",9628175,"Viruses,dsDNA viruses, no RNA stage,Asfarviridae,Asfivirus,African swine fever virus","African swine fever virus","Asfarviridae",null,"Aciduliprofundum boonei T469","unclassified_Euryarchaeota"]
["ref|NP_042767.1|",9628181,"Viruses,dsDNA viruses, no RNA stage,Asfarviridae,Asfivirus,African swine fever virus","African swine fever virus","Asfarviridae",null,"Acinetobacter baumannii 6013150","Gammaproteobacteria"]
["ref|NP_044710.1|",9629479,"Viruses,dsDNA viruses, no RNA stage,Adenoviridae,Atadenovirus,Duck adenovirus A","Duck adenovirus A","Adenoviridae",null,"Acinetobacter radioresistens SK82","Gammaproteobacteria"]
["ref|NP_048392.1|",9631613,"Viruses,dsDNA viruses, no RNA stage,Phycodnaviridae,Chlorovirus,Paramecium bursaria Chlorella virus 1","Paramecium bursaria Chlorella virus 1","Phycodnaviridae",null,"Actinobacillus minor 202","Gammaproteobacteria"]
["ref|NP_048980.1|",9632155,"Viruses,dsDNA viruses, no RNA stage,Phycodnaviridae,Chlorovirus,Paramecium bursaria Chlorella virus 1","Paramecium bursaria Chlorella virus 1","Phycodnaviridae",null,"Actinomyces graevenitzii C83","Actinobacteria"]
["ref|NP_243753.1|",15615450,"cellular organisms,Bacteria,Firmicutes,Bacilli,Bacillales,Bacillaceae,Bacillus,Bacillus halodurans,Bacillus halodurans C-125","Bacillus halodurans C-125","Bacilli",null,"Actinomyces odontolyticus F0309","Actinobacteria"]
["ref|NP_244473.1|",15616168,"cellular organisms,Bacteria,Firmicutes,Bacilli,Bacillales,Bacillaceae,Bacillus,Bacillus halodurans,Bacillus halodurans C-125","Bacillus halodurans C-125","Bacilli",null,"Actinomyces sp. oral taxon 178 str. F0338","Actinobacteria"]
["ref|NP_377373.1|",15921704,"cellular organisms,Archaea,Crenarchaeota,Thermoprotei,Sulfolobales,Sulfolobaceae,Sulfolobus,Sulfolobus tokodaii,Sulfolobus tokodaii str. 7","Sulfolobus tokodaii str. 7","Thermoprotei",null,"Acyrthosiphon pisum","Metazoa"]
["ref|NP_492643.2|",212645022,"cellular organisms,Eukaryota,Opisthokonta,Metazoa,Eumetazoa,Bilateria,Coelomata,Protostomia,Ecdysozoa,Nematoda,Chromadorea,Rhabditida,Rhabditoidea,Rhabditidae,Peloderinae,Caenorhabditis,Caenorhabditis elegans","Caenorhabditis elegans","Metazoa",null,"Aedes aegypti","Metazoa"]
["ref|NP_569083.1|",18426812,"cellular organisms,Eukaryota,Opisthokonta,Metazoa,Eumetazoa,Bilateria,Coelomata,Deuterostomia,Chordata,Craniata,Vertebrata,Gnathostomata,Teleostomi,Euteleostomi,Sarcopterygii,Tetrapoda,Amniota,Mammalia,Theria,Eutheria,Euarchontoglires,Glires,Rodentia,Sciurognathi,Muroidea,Muridae,Murinae,Rattus,Rattus norvegicus","Rattus norvegicus","Metazoa",null,"Aequorivita sublithincola DSM 14238","Bacteroidetes"]
["ref|NP_584718.1|",19074112,"cellular organisms,Eukaryota,Opisthokonta,Fungi,Microsporidia,Apansporoblastina,Unikaryonidae,Encephalitozoon,Encephalitozoon cuniculi,Encephalitozoon cuniculi GB-M1","Encephalitozoon cuniculi GB-M1","Fungi",null,"Aeromonas phage 44RR2.8t","Caudovirales"]
["ref|NP_586140.1|",19074634,"cellular organisms,Eukaryota,Opisthokonta,Fungi,Microsporidia,Apansporoblastina,Unikaryonidae,Encephalitozoon,Encephalitozoon cuniculi,Encephalitozoon cuniculi GB-M1","Encephalitozoon cuniculi GB-M1","Fungi",null,"Aeromonas phage Aeh1","Caudovirales"]
["ref|NP_712628.1|",24215147,"cellular organisms,Bacteria,Spirochaetes,Spirochaetia,Spirochaetales,Leptospiraceae,Leptospira,Leptospira interrogans,Leptospira interrogans serovar Lai,Leptospira interrogans serovar Lai str. 56601","Leptospira interrogans serovar Lai str. 56601","Spirochaetia",null,"Aeromonas salmonicida subsp. salmonicida A449","Gammaproteobacteria"]
["ref|NP_765789.1|",27469152,"cellular organisms,Bacteria,Firmicutes,Bacilli,Bacillales,Staphylococcaceae,Staphylococcus,Staphylococcus epidermidis,Staphylococcus epidermidis ATCC 12228","Staphylococcus epidermidis ATCC 12228","Bacilli",null,"African swine fever virus","Asfarviridae"]
["ref|NP_932356.1|",37651482,"Viruses,dsDNA viruses, no RNA stage,Caudovirales,Myoviridae,Tevenvirinae,T4-like viruses,Aeromonas phage 44RR2.8t","Aeromonas phage 44RR2.8t","Caudovirales",null,"Aggregatibacter actinomycetemcomitans ANH9381","Gammaproteobacteria"]
["ref|NP_944053.1|",38640097,"Viruses,dsDNA viruses, no RNA stage,Caudovirales,Myoviridae,Tevenvirinae,T4-like viruses,Aeromonas phage Aeh1","Aeromonas phage Aeh1","Caudovirales",null,"Agrobacterium radiobacter K84","Alphaproteobacteria"]
["ref|NP_967245.1|",42521865,"cellular organisms,Bacteria,Proteobacteria,delta/epsilon subdivisions,Deltaproteobacteria,Bdellovibrionales,Bdellovibrionaceae,Bdellovibrio,Bdellovibrio bacteriovorus,Bdellovibrio bacteriovorus HD100","Bdellovibrio bacteriovorus HD100","delta-epsilon_subdivisions",null,"Ailuropoda melanoleuca","Metazoa"]
["ref|NP_968327.1|",42522947,"cellular organisms,Bacteria,Proteobacteria,delta/epsilon subdivisions,Deltaproteobacteria,Bdellovibrionales,Bdellovibrionaceae,Bdellovibrio,Bdellovibrio bacteriovorus,Bdellovibrio bacteriovorus HD100","Bdellovibrio bacteriovorus HD100","delta-epsilon_subdivisions",null,"Ajellomyces capsulatus NAm1","Fungi"]
["ref|NP_984039.2|",302307390,"cellular organisms,Eukaryota,Opisthokonta,Fungi,Dikarya,Ascomycota,saccharomyceta,Saccharomycotina,Saccharomycetes,Saccharomycetales,Saccharomycetaceae,Eremothecium,Eremothecium gossypii,Ashbya gossypii ATCC 10895","Ashbya gossypii ATCC 10895","Fungi",null,"Aliivibrio fischeri","Gammaproteobacteria"]
["ref|NP_990257.1|",45382531,"cellular organisms,Eukaryota,Opisthokonta,Metazoa,Eumetazoa,Bilateria,Coelomata,Deuterostomia,Chordata,Craniata,Vertebrata,Gnathostomata,Teleostomi,Euteleostomi,Sarcopterygii,Tetrapoda,Amniota,Sauropsida,Sauria,Archosauria,Dinosauria,Saurischia,Theropoda,Coelurosauria,Aves,Neognathae,Galliformes,Phasianidae,Phasianinae,Gallus,Gallus gallus","Gallus gallus","Metazoa",null,"Alishewanella aestuarii B11","Gammaproteobacteria"]
["ref|NP_999195.1|",47522880,"cellular organisms,Eukaryota,Opisthokonta,Metazoa,Eumetazoa,Bilateria,Coelomata,Deuterostomia,Chordata,Craniata,Vertebrata,Gnathostomata,Teleostomi,Euteleostomi,Sarcopterygii,Tetrapoda,Amniota,Mammalia,Theria,Eutheria,Laurasiatheria,Cetartiodactyla,Suina,Suidae,Sus,Sus scrofa","Sus scrofa","Metazoa",null,"Amphimedon queenslandica","Metazoa"]
["ref|XP_001013186.1|",118359896,"cellular organisms,Eukaryota,Alveolata,Ciliophora,Intramacronucleata,Oligohymenophorea,Hymenostomatida,Tetrahymenina,Tetrahymenidae,Tetrahymena,Tetrahymena thermophila","Tetrahymena thermophila","Ciliophora",null,"Amycolicicoccus subflavus DQS3-9A1","Actinobacteria"]
["ref|XP_001013519.1|",118360573,"cellular organisms,Eukaryota,Alveolata,Ciliophora,Intramacronucleata,Oligohymenophorea,Hymenostomatida,Tetrahymenina,Tetrahymenidae,Tetrahymena,Tetrahymena thermophila","Tetrahymena thermophila","Ciliophora",null,"Anaerococcus hydrogenalis ACS-025-V-Sch4","Clostridia"]
["ref|XP_001015540.1|",118364637,"cellular organisms,Eukaryota,Alveolata,Ciliophora,Intramacronucleata,Oligohymenophorea,Hymenostomatida,Tetrahymenina,Tetrahymenidae,Tetrahymena,Tetrahymena thermophila","Tetrahymena thermophila","Ciliophora",null,"Anaerococcus hydrogenalis DSM 7454","Clostridia"]
["ref|XP_001016343.1|",118366249,"cellular organisms,Eukaryota,Alveolata,Ciliophora,Intramacronucleata,Oligohymenophorea,Hymenostomatida,Tetrahymenina,Tetrahymenidae,Tetrahymena,Tetrahymena thermophila","Tetrahymena thermophila","Ciliophora",null,"Anolis carolinensis","Metazoa"]
["ref|XP_001025939.2|",229593950,"cellular organisms,Eukaryota,Alveolata,Ciliophora,Intramacronucleata,Oligohymenophorea,Hymenostomatida,Tetrahymenina,Tetrahymenidae,Tetrahymena,Tetrahymena thermophila","Tetrahymena thermophila","Ciliophora",null,"Anopheles gambiae str. PEST","Metazoa"]
["ref|XP_001079270.1|",109509890,"cellular organisms,Eukaryota,Opisthokonta,Metazoa,Eumetazoa,Bilateria,Coelomata,Deuterostomia,Chordata,Craniata,Vertebrata,Gnathostomata,Teleostomi,Euteleostomi,Sarcopterygii,Tetrapoda,Amniota,Mammalia,Theria,Eutheria,Euarchontoglires,Glires,Rodentia,Sciurognathi,Muroidea,Muridae,Murinae,Rattus,Rattus norvegicus","Rattus norvegicus","Metazoa",null,"Anoxybacillus flavithermus WK1","Bacilli"]
["ref|XP_001216631.1|",115432988,"cellular organisms,Eukaryota,Opisthokonta,Fungi,Dikarya,Ascomycota,saccharomyceta,Pezizomycotina,leotiomyceta,Eurotiomycetes,Eurotiomycetidae,Eurotiales,Trichocomaceae,mitosporic Trichocomaceae,Aspergillus,Aspergillus terreus,Aspergillus terreus NIH2624","Aspergillus terreus NIH2624","Fungi",null,"Apis florea","Metazoa"]
["ref|XP_001246556.1|",119191900,"cellular organisms,Eukaryota,Opisthokonta,Fungi,Dikarya,Ascomycota,saccharomyceta,Pezizomycotina,leotiomyceta,Eurotiomycetes,Eurotiomycetidae,Onygenales,mitosporic Onygenales,Coccidioides,Coccidioides immitis,Coccidioides immitis RS","Coccidioides immitis RS","Fungi",null,"Arabidopsis lyrata subsp. lyrata","Streptophyta"]
["ref|XP_001275986.1|",121717036,"cellular organisms,Eukaryota,Opisthokonta,Fungi,Dikarya,Ascomycota,saccharomyceta,Pezizomycotina,leotiomyceta,Eurotiomycetes,Eurotiomycetidae,Eurotiales,Trichocomaceae,mitosporic Trichocomaceae,Aspergillus,Aspergillus clavatus,Aspergillus clavatus NRRL 1","Aspergillus clavatus NRRL 1","Fungi",null,"Arcobacter butzleri RM4018","delta-epsilon_subdivisions"]
["ref|XP_001322811.1|",123479305,"cellular organisms,Eukaryota,Parabasalia,Trichomonadida,Trichomonadidae,Trichomonas,Trichomonas vaginalis,Trichomonas vaginalis G3","Trichomonas vaginalis G3","Trichomonadida",null,"Arthrobacter arilaitensis Re117","Actinobacteria"]
["ref|XP_001328088.1|",123501483,"cellular organisms,Eukaryota,Parabasalia,Trichomonadida,Trichomonadidae,Trichomonas,Trichomonas vaginalis,Trichomonas vaginalis G3","Trichomonas vaginalis G3","Trichomonadida",null,"Arthroderma benhamiae CBS 112371","Fungi"]
["ref|XP_001347356.2|",258596989,"cellular organisms,Eukaryota,Alveolata,Apicomplexa,Aconoidasida,Haemosporida,Plasmodium,Plasmodium (Laverania),Plasmodium falciparum,Plasmodium falciparum 3D7","Plasmodium falciparum 3D7","Apicomplexa",null,"Arthroderma gypseum CBS 118893","Fungi"]
["ref|XP_001347871.1|",124803997,"cellular organisms,Eukaryota,Alveolata,Apicomplexa,Aconoidasida,Haemosporida,Plasmodium,Plasmodium (Laverania),Plasmodium falciparum,Plasmodium falciparum 3D7","Plasmodium falciparum 3D7","Apicomplexa",null,"Arthrospira maxima CS-328","Oscillatoriales"]
["ref|XP_001349427.1|",124512588,"cellular organisms,Eukaryota,Alveolata,Apicomplexa,Aconoidasida,Haemosporida,Plasmodium,Plasmodium (Laverania),Plasmodium falciparum,Plasmodium falciparum 3D7","Plasmodium falciparum 3D7","Apicomplexa",null,"Arthrospira sp. PCC 8005","Oscillatoriales"]
["ref|XP_001377920.2|",334349554,"cellular organisms,Eukaryota,Opisthokonta,Metazoa,Eumetazoa,Bilateria,Coelomata,Deuterostomia,Chordata,Craniata,Vertebrata,Gnathostomata,Teleostomi,Euteleostomi,Sarcopterygii,Tetrapoda,Amniota,Mammalia,Theria,Metatheria,Didelphimorphia,Didelphidae,Didelphinae,Monodelphis,Monodelphis domestica","Monodelphis domestica","Metazoa",null,"Ashbya gossypii ATCC 10895","Fungi"]
["ref|XP_001386852.1|",126275473,"cellular organisms,Eukaryota,Opisthokonta,Fungi,Dikarya,Ascomycota,saccharomyceta,Saccharomycotina,Saccharomycetes,Saccharomycetales,Debaryomycetaceae,Scheffersomyces,Scheffersomyces stipitis,Scheffersomyces stipitis CBS 6054","Scheffersomyces stipitis CBS 6054","Fungi",null,"Aspergillus clavatus NRRL 1","Fungi"]
["ref|XP_001433374.1|",145494760,"cellular organisms,Eukaryota,Alveolata,Ciliophora,Intramacronucleata,Oligohymenophorea,Peniculida,Parameciidae,Paramecium,Paramecium tetraurelia,Paramecium tetraurelia strain d4-2","Paramecium tetraurelia strain d4-2","Ciliophora",null,"Aspergillus flavus NRRL3357","Fungi"]
["ref|XP_001446018.1|",145520325,"cellular organisms,Eukaryota,Alveolata,Ciliophora,Intramacronucleata,Oligohymenophorea,Peniculida,Parameciidae,Paramecium,Paramecium tetraurelia,Paramecium tetraurelia strain d4-2","Paramecium tetraurelia strain d4-2","Ciliophora",null,"Aspergillus fumigatus Af293","Fungi"]
["ref|XP_001447492.1|",145523307,"cellular organisms,Eukaryota,Alveolata,Ciliophora,Intramacronucleata,Oligohymenophorea,Peniculida,Parameciidae,Paramecium,Paramecium tetraurelia,Paramecium tetraurelia strain d4-2","Paramecium tetraurelia strain d4-2","Ciliophora",null,"Aspergillus terreus NIH2624","Fungi"]
["ref|XP_001448817.1|",145526012,"cellular organisms,Eukaryota,Alveolata,Ciliophora,Intramacronucleata,Oligohymenophorea,Peniculida,Parameciidae,Paramecium,Paramecium tetraurelia,Paramecium tetraurelia strain d4-2","Paramecium tetraurelia strain d4-2","Ciliophora",null,"Asticcacaulis biprosthecum C19","Alphaproteobacteria"]
["ref|XP_001485036.1|",146418140,"cellular organisms,Eukaryota,Opisthokonta,Fungi,Dikarya,Ascomycota,saccharomyceta,Saccharomycotina,Saccharomycetes,Saccharomycetales,Debaryomycetaceae,Meyerozyma,Meyerozyma guilliermondii,Meyerozyma guilliermondii ATCC 6260","Meyerozyma guilliermondii ATCC 6260","Fungi",null,"Atopobium vaginae DSM 15829","Actinobacteria"]
["ref|XP_001523599.1|",149235442,"cellular organisms,Eukaryota,Opisthokonta,Fungi,Dikarya,Ascomycota,saccharomyceta,Saccharomycotina,Saccharomycetes,Saccharomycetales,Debaryomycetaceae,Lodderomyces,Lodderomyces elongisporus,Lodderomyces elongisporus NRRL YB-4239","Lodderomyces elongisporus NRRL YB-4239","Fungi",null,"Azorhizobium caulinodans ORS 571","Alphaproteobacteria"]
["ref|XP_001528086.1|",149247348,"cellular organisms,Eukaryota,Opisthokonta,Fungi,Dikarya,Ascomycota,saccharomyceta,Saccharomycotina,Saccharomycetes,Saccharomycetales,Debaryomycetaceae,Lodderomyces,Lodderomyces elongisporus,Lodderomyces elongisporus NRRL YB-4239","Lodderomyces elongisporus NRRL YB-4239","Fungi",null,"Babesia bovis T2Bo","Apicomplexa"]
["ref|XP_001536002.1|",154270293,"cellular organisms,Eukaryota,Opisthokonta,Fungi,Dikarya,Ascomycota,saccharomyceta,Pezizomycotina,leotiomyceta,Eurotiomycetes,Eurotiomycetidae,Onygenales,Ajellomycetaceae,Ajellomyces,Ajellomyces capsulatus,Ajellomyces capsulatus NAm1","Ajellomyces capsulatus NAm1","Fungi",null,"Bacillus anthracis str. A0442","Bacilli"]
["ref|XP_001552139.1|",154303464,"cellular organisms,Eukaryota,Opisthokonta,Fungi,Dikarya,Ascomycota,saccharomyceta,Pezizomycotina,leotiomyceta,sordariomyceta,Leotiomycetes,Helotiales,Sclerotiniaceae,Botryotinia,Botryotinia fuckeliana,Botryotinia fuckeliana B05.10","Botryotinia fuckeliana B05.10","Fungi",null,"Bacillus atrophaeus 1942","Bacilli"]
["ref|XP_001561666.2|",389600132,"cellular organisms,Eukaryota,Euglenozoa,Kinetoplastida,Trypanosomatidae,Leishmania,Viannia,Leishmania braziliensis species complex,Leishmania braziliensis,Leishmania braziliensis MHOM/BR/75/M2904","Leishmania braziliensis MHOM/BR/75/M2904","Kinetoplastida",null,"Bacillus cereus 03BB108","Bacilli"]
["ref|XP_001600050.2|",345497671,"cellular organisms,Eukaryota,Opisthokonta,Metazoa,Eumetazoa,Bilateria,Coelomata,Protostomia,Ecdysozoa,Panarthropoda,Arthropoda,Mandibulata,Pancrustacea,Hexapoda,Insecta,Dicondylia,Pterygota,Neoptera,Endopterygota,Hymenoptera,Apocrita,Chaldicoidea group,Chalcidoidea,Pteromalidae,Pteromalinae,Nasonia,Nasonia vitripennis","Nasonia vitripennis","Metazoa",null,"Bacillus clausii KSM-K16","Bacilli"]
["ref|XP_001601689.2|",345497275,"cellular organisms,Eukaryota,Opisthokonta,Metazoa,Eumetazoa,Bilateria,Coelomata,Protostomia,Ecdysozoa,Panarthropoda,Arthropoda,Mandibulata,Pancrustacea,Hexapoda,Insecta,Dicondylia,Pterygota,Neoptera,Endopterygota,Hymenoptera,Apocrita,Chaldicoidea group,Chalcidoidea,Pteromalidae,Pteromalinae,Nasonia,Nasonia vitripennis","Nasonia vitripennis","Metazoa",null,"Bacillus halodurans C-125","Bacilli"]
["ref|XP_001602778.2|",345490460,"cellular organisms,Eukaryota,Opisthokonta,Metazoa,Eumetazoa,Bilateria,Coelomata,Protostomia,Ecdysozoa,Panarthropoda,Arthropoda,Mandibulata,Pancrustacea,Hexapoda,Insecta,Dicondylia,Pterygota,Neoptera,Endopterygota,Hymenoptera,Apocrita,Chaldicoidea group,Chalcidoidea,Pteromalidae,Pteromalinae,Nasonia,Nasonia vitripennis","Nasonia vitripennis","Metazoa",null,"Bacillus licheniformis DSM 13 = ATCC 14580","Bacilli"]
["ref|XP_001603940.1|",156548750,"cellular organisms,Eukaryota,Opisthokonta,Metazoa,Eumetazoa,Bilateria,Coelomata,Protostomia,Ecdysozoa,Panarthropoda,Arthropoda,Mandibulata,Pancrustacea,Hexapoda,Insecta,Dicondylia,Pterygota,Neoptera,Endopterygota,Hymenoptera,Apocrita,Chaldicoidea group,Chalcidoidea,Pteromalidae,Pteromalinae,Nasonia,Nasonia vitripennis","Nasonia vitripennis","Metazoa",null,"Bacillus megaterium QM B1551","Bacilli"]
["ref|XP_001613548.1|",156095025,"cellular organisms,Eukaryota,Alveolata,Apicomplexa,Aconoidasida,Haemosporida,Plasmodium,Plasmodium (Plasmodium),Plasmodium vivax,Plasmodium vivax Sal-1","Plasmodium vivax Sal-1","Apicomplexa",null,"Bacillus megaterium WSH-002","Bacilli"]
["ref|XP_001615082.1|",156098099,"cellular organisms,Eukaryota,Alveolata,Apicomplexa,Aconoidasida,Haemosporida,Plasmodium,Plasmodium (Plasmodium),Plasmodium vivax,Plasmodium vivax Sal-1","Plasmodium vivax Sal-1","Apicomplexa",null,"Bacillus pseudofirmus OF4","Bacilli"]
["ref|XP_001615499.1|",156098969,"cellular organisms,Eukaryota,Alveolata,Apicomplexa,Aconoidasida,Haemosporida,Plasmodium,Plasmodium (Plasmodium),Plasmodium vivax,Plasmodium vivax Sal-1","Plasmodium vivax Sal-1","Apicomplexa",null,"Bacillus selenitireducens MLS10","Bacilli"]
["ref|XP_001618328.1|",156322307,"cellular organisms,Eukaryota,Opisthokonta,Metazoa,Eumetazoa,Cnidaria,Anthozoa,Hexacorallia,Actiniaria,Edwardsiidae,Nematostella,Nematostella vectensis","Nematostella vectensis","Metazoa",null,"Bacillus sp. JS","Bacilli"]
["ref|XP_001622215.1|",156350272,"cellular organisms,Eukaryota,Opisthokonta,Metazoa,Eumetazoa,Cnidaria,Anthozoa,Hexacorallia,Actiniaria,Edwardsiidae,Nematostella,Nematostella vectensis","Nematostella vectensis","Metazoa",null,"Bacillus sp. SG-1","Bacilli"]
["ref|XP_001634551.1|",156388123,"cellular organisms,Eukaryota,Opisthokonta,Metazoa,Eumetazoa,Cnidaria,Anthozoa,Hexacorallia,Actiniaria,Edwardsiidae,Nematostella,Nematostella vectensis","Nematostella vectensis","Metazoa",null,"Bacillus subtilis subsp. subtilis str. RO-NN-1","Bacilli"]
["ref|XP_001641303.1|",156406941,"cellular organisms,Eukaryota,Opisthokonta,Metazoa,Eumetazoa,Cnidaria,Anthozoa,Hexacorallia,Actiniaria,Edwardsiidae,Nematostella,Nematostella vectensis","Nematostella vectensis","Metazoa",null,"Bacillus thuringiensis BMB171","Bacilli"]
["ref|XP_001663484.1|",157135530,"cellular organisms,Eukaryota,Opisthokonta,Metazoa,Eumetazoa,Bilateria,Coelomata,Protostomia,Ecdysozoa,Panarthropoda,Arthropoda,Mandibulata,Pancrustacea,Hexapoda,Insecta,Dicondylia,Pterygota,Neoptera,Endopterygota,Diptera,Nematocera,Culicimorpha,Culicoidea,Culicidae,Culicinae,Aedini,Aedes,Stegomyia,Aedes aegypti","Aedes aegypti","Metazoa",null,"Bacillus thuringiensis serovar huazhongensis BGSC 4BD1","Bacilli"]
["ref|XP_001685109.1|",157873191,"cellular organisms,Eukaryota,Euglenozoa,Kinetoplastida,Trypanosomatidae,Leishmania,Leishmania,Leishmania major species complex,Leishmania major,Leishmania major strain Friedlin","Leishmania major strain Friedlin","Kinetoplastida",null,"Bacillus thuringiensis serovar pakistani str. T13001","Bacilli"]
["ref|XP_001690513.1|",159464567,"cellular organisms,Eukaryota,Viridiplantae,Chlorophyta,Chlorophyceae,Chlamydomonadales,Chlamydomonadaceae,Chlamydomonas,Chlamydomonas reinhardtii","Chlamydomonas reinhardtii","Chlorophyta",null,"Bacillus thuringiensis serovar sotto str. T04001","Bacilli"]
["ref|XP_001692463.1|",159468602,"cellular organisms,Eukaryota,Viridiplantae,Chlorophyta,Chlorophyceae,Chlamydomonadales,Chlamydomonadaceae,Chlamydomonas,Chlamydomonas reinhardtii","Chlamydomonas reinhardtii","Chlorophyta",null,"Bacteriovorax marinus SJ","delta-epsilon_subdivisions"]
["ref|XP_001708426.1|",159116409,"cellular organisms,Eukaryota,Fornicata,Diplomonadida,Hexamitidae,Giardiinae,Giardia,Giardia intestinalis,Giardia lamblia ATCC 50803","Giardia lamblia ATCC 50803","Diplomonadida",null,"Bacteroides faecis MAJ27","Bacteroidetes"]
["ref|XP_001713074.1|",162312464,"cellular organisms,Eukaryota,Opisthokonta,Fungi,Dikarya,Ascomycota,Taphrinomycotina,Schizosaccharomycetes,Schizosaccharomycetales,Schizosaccharomycetaceae,Schizosaccharomyces,Schizosaccharomyces pombe,Schizosaccharomyces pombe 972h-","Schizosaccharomyces pombe 972h-","Fungi",null,"Bacteroides finegoldii DSM 17565","Bacteroidetes"]
["ref|XP_001740382.1|",167392992,"cellular organisms,Eukaryota,Amoebozoa,Archamoebae,Entamoebidae,Entamoeba,Entamoeba dispar,Entamoeba dispar SAW760","Entamoeba dispar SAW760","Archamoebae",null,"Bacteroides fragilis NCTC 9343","Bacteroidetes"]
["ref|XP_001748275.1|",167533189,"cellular organisms,Eukaryota,Opisthokonta,Choanoflagellida,Codonosigidae,Monosiga,Monosiga brevicollis,Monosiga brevicollis MX1","Monosiga brevicollis MX1","Choanoflagellida",null,"Bacteroides phage B40-8","Caudovirales"]
["ref|XP_001758663.1|",168011945,"cellular organisms,Eukaryota,Viridiplantae,Streptophyta,Streptophytina,Embryophyta,Bryophyta,Bryophytina,Bryopsida,Funariidae,Funariales,Funariaceae,Physcomitrella,Physcomitrella patens,Physcomitrella patens subsp. patens","Physcomitrella patens subsp. patens","Streptophyta",null,"Bacteroides salanitronis DSM 18170","Bacteroidetes"]
["ref|XP_001831330.1|",169849253,"cellular organisms,Eukaryota,Opisthokonta,Fungi,Dikarya,Basidiomycota,Agaricomycotina,Agaricomycetes,Agaricomycetidae,Agaricales,Psathyrellaceae,Coprinopsis,Coprinopsis cinerea,Coprinopsis cinerea okayama7#130","Coprinopsis cinerea okayama7#130","Fungi",null,"Bacteroides sp. 2_1_22","Bacteroidetes"]
["ref|XP_001898837.1|",170588151,"cellular organisms,Eukaryota,Opisthokonta,Metazoa,Eumetazoa,Bilateria,Coelomata,Protostomia,Ecdysozoa,Nematoda,Chromadorea,Spirurida,Filarioidea,Onchocercidae,Brugia,Brugia malayi","Brugia malayi","Metazoa",null,"Bacteroides sp. 2_1_33B","Bacteroidetes"]
["ref|XP_001915044.1|",194227970,"cellular organisms,Eukaryota,Opisthokonta,Metazoa,Eumetazoa,Bilateria,Coelomata,Deuterostomia,Chordata,Craniata,Vertebrata,Gnathostomata,Teleostomi,Euteleostomi,Sarcopterygii,Tetrapoda,Amniota,Mammalia,Theria,Eutheria,Laurasiatheria,Perissodactyla,Equidae,Equus,Equus,Equus caballus","Equus caballus","Metazoa",null,"Bacteroides stercoris ATCC 43183","Bacteroidetes"]
["ref|XP_001956670.1|",194748473,"cellular organisms,Eukaryota,Opisthokonta,Metazoa,Eumetazoa,Bilateria,Coelomata,Protostomia,Ecdysozoa,Panarthropoda,Arthropoda,Mandibulata,Pancrustacea,Hexapoda,Insecta,Dicondylia,Pterygota,Neoptera,Endopterygota,Diptera,Brachycera,Muscomorpha,Eremoneura,Cyclorrhapha,Schizophora,Acalyptratae,Ephydroidea,Drosophilidae,Drosophilinae,Drosophilini,Drosophilina,Drosophiliti,Drosophila,Sophophora,melanogaster group,ananassae subgroup,ananassae species complex,Drosophila ananassae","Drosophila ananassae","Metazoa",null,"Bacteroides vulgatus ATCC 8482","Bacteroidetes"]
["ref|XP_001959521.1|",194754477,"cellular organisms,Eukaryota,Opisthokonta,Metazoa,Eumetazoa,Bilateria,Coelomata,Protostomia,Ecdysozoa,Panarthropoda,Arthropoda,Mandibulata,Pancrustacea,Hexapoda,Insecta,Dicondylia,Pterygota,Neoptera,Endopterygota,Diptera,Brachycera,Muscomorpha,Eremoneura,Cyclorrhapha,Schizophora,Acalyptratae,Ephydroidea,Drosophilidae,Drosophilinae,Drosophilini,Drosophilina,Drosophiliti,Drosophila,Sophophora,melanogaster group,ananassae subgroup,ananassae species complex,Drosophila ananassae","Drosophila ananassae","Metazoa",null,"Bartonella elizabethae Re6043vi","Alphaproteobacteria"]
["ref|XP_001993208.1|",195051970,"cellular organisms,Eukaryota,Opisthokonta,Metazoa,Eumetazoa,Bilateria,Coelomata,Protostomia,Ecdysozoa,Panarthropoda,Arthropoda,Mandibulata,Pancrustacea,Hexapoda,Insecta,Dicondylia,Pterygota,Neoptera,Endopterygota,Diptera,Brachycera,Muscomorpha,Eremoneura,Cyclorrhapha,Schizophora,Acalyptratae,Ephydroidea,Drosophilidae,Drosophilinae,Drosophilini,Drosophilina,Drosophiliti,Drosophila,Hawaiian Drosophila,picture wing clade,grimshawi clade,grimshawi group,grimshawi subgroup,Drosophila grimshawi","Drosophila grimshawi","Metazoa",null,"Bathycoccus sp. RCC1105 virus BpV1","Phycodnaviridae"]
["ref|XP_002000698.1|",195112272,"cellular organisms,Eukaryota,Opisthokonta,Metazoa,Eumetazoa,Bilateria,Coelomata,Protostomia,Ecdysozoa,Panarthropoda,Arthropoda,Mandibulata,Pancrustacea,Hexapoda,Insecta,Dicondylia,Pterygota,Neoptera,Endopterygota,Diptera,Brachycera,Muscomorpha,Eremoneura,Cyclorrhapha,Schizophora,Acalyptratae,Ephydroidea,Drosophilidae,Drosophilinae,Drosophilini,Drosophilina,Drosophiliti,Drosophila,Drosophila,repleta group,mulleri subgroup,mojavensis species complex,Drosophila mojavensis","Drosophila mojavensis","Metazoa",null,"Bdellovibrio bacteriovorus HD100","delta-epsilon_subdivisions"]
["ref|XP_002011572.1|",195134294,"cellular organisms,Eukaryota,Opisthokonta,Metazoa,Eumetazoa,Bilateria,Coelomata,Protostomia,Ecdysozoa,Panarthropoda,Arthropoda,Mandibulata,Pancrustacea,Hexapoda,Insecta,Dicondylia,Pterygota,Neoptera,Endopterygota,Diptera,Brachycera,Muscomorpha,Eremoneura,Cyclorrhapha,Schizophora,Acalyptratae,Ephydroidea,Drosophilidae,Drosophilinae,Drosophilini,Drosophilina,Drosophiliti,Drosophila,Drosophila,repleta group,mulleri subgroup,mojavensis species complex,Drosophila mojavensis","Drosophila mojavensis","Metazoa",null,"Belliella baltica DSM 15883","Bacteroidetes"]
["ref|XP_002042277.1|",195351510,"cellular organisms,Eukaryota,Opisthokonta,Metazoa,Eumetazoa,Bilateria,Coelomata,Protostomia,Ecdysozoa,Panarthropoda,Arthropoda,Mandibulata,Pancrustacea,Hexapoda,Insecta,Dicondylia,Pterygota,Neoptera,Endopterygota,Diptera,Brachycera,Muscomorpha,Eremoneura,Cyclorrhapha,Schizophora,Acalyptratae,Ephydroidea,Drosophilidae,Drosophilinae,Drosophilini,Drosophilina,Drosophiliti,Drosophila,Sophophora,melanogaster group,melanogaster subgroup,Drosophila sechellia","Drosophila sechellia","Metazoa",null,"Bifidobacterium dentium ATCC 27679","Actinobacteria"]
["ref|XP_002066651.1|",195437446,"cellular organisms,Eukaryota,Opisthokonta,Metazoa,Eumetazoa,Bilateria,Coelomata,Protostomia,Ecdysozoa,Panarthropoda,Arthropoda,Mandibulata,Pancrustacea,Hexapoda,Insecta,Dicondylia,Pterygota,Neoptera,Endopterygota,Diptera,Brachycera,Muscomorpha,Eremoneura,Cyclorrhapha,Schizophora,Acalyptratae,Ephydroidea,Drosophilidae,Drosophilinae,Drosophilini,Drosophilina,Drosophiliti,Drosophila,Sophophora,willistoni group,willistoni subgroup,Drosophila willistoni","Drosophila willistoni","Metazoa",null,"Bizionia argentinensis JUB59","Bacteroidetes"]
["ref|XP_002080954.1|",195582276,"cellular organisms,Eukaryota,Opisthokonta,Metazoa,Eumetazoa,Bilateria,Coelomata,Protostomia,Ecdysozoa,Panarthropoda,Arthropoda,Mandibulata,Pancrustacea,Hexapoda,Insecta,Dicondylia,Pterygota,Neoptera,Endopterygota,Diptera,Brachycera,Muscomorpha,Eremoneura,Cyclorrhapha,Schizophora,Acalyptratae,Ephydroidea,Drosophilidae,Drosophilinae,Drosophilini,Drosophilina,Drosophiliti,Drosophila,Sophophora,melanogaster group,melanogaster subgroup,Drosophila simulans","Drosophila simulans","Metazoa",null,"Blattabacterium sp. (Blattella germanica) str. Bge","Bacteroidetes"]
["ref|XP_002107637.1|",195995537,"cellular organisms,Eukaryota,Opisthokonta,Metazoa,Placozoa,Trichoplax,Trichoplax adhaerens","Trichoplax adhaerens","Metazoa",null,"Blautia hydrogenotrophica DSM 10507","Clostridia"]
["ref|XP_002155132.1|",221120622,"cellular organisms,Eukaryota,Opisthokonta,Metazoa,Eumetazoa,Cnidaria,Hydrozoa,Hydroida,Anthomedusae,Hydridae,Hydra,Hydra magnipapillata","Hydra magnipapillata","Metazoa",null,"Bombus impatiens","Metazoa"]
["ref|XP_002157919.1|",221106376,"cellular organisms,Eukaryota,Opisthokonta,Metazoa,Eumetazoa,Cnidaria,Hydrozoa,Hydroida,Anthomedusae,Hydridae,Hydra,Hydra magnipapillata","Hydra magnipapillata","Metazoa",null,"Bombyx mori","Metazoa"]
["ref|XP_002177807.1|",219112111,"cellular organisms,Eukaryota,stramenopiles,Bacillariophyta,Bacillariophyceae,Bacillariophycidae,Naviculales,Phaeodactylaceae,Phaeodactylum,Phaeodactylum tricornutum,Phaeodactylum tricornutum CCAP 1055/1","Phaeodactylum tricornutum CCAP 1055/1","Bacillariophyta",null,"Borrelia turicatae 91E135","Spirochaetia"]
["ref|XP_002181515.1|",219122362,"cellular organisms,Eukaryota,stramenopiles,Bacillariophyta,Bacillariophyceae,Bacillariophycidae,Naviculales,Phaeodactylaceae,Phaeodactylum,Phaeodactylum tricornutum,Phaeodactylum tricornutum CCAP 1055/1","Phaeodactylum tricornutum CCAP 1055/1","Bacillariophyta",null,"Bos taurus","Metazoa"]
["ref|XP_002188590.1|",224057684,"cellular organisms,Eukaryota,Opisthokonta,Metazoa,Eumetazoa,Bilateria,Coelomata,Deuterostomia,Chordata,Craniata,Vertebrata,Gnathostomata,Teleostomi,Euteleostomi,Sarcopterygii,Tetrapoda,Amniota,Sauropsida,Sauria,Archosauria,Dinosauria,Saurischia,Theropoda,Coelurosauria,Aves,Neognathae,Passeriformes,Passeroidea,Estrildidae,Estrildinae,Taeniopygia,Taeniopygia guttata","Taeniopygia guttata","Metazoa",null,"Botryotinia fuckeliana B05.10","Fungi"]
["ref|XP_002190308.1|",224080055,"cellular organisms,Eukaryota,Opisthokonta,Metazoa,Eumetazoa,Bilateria,Coelomata,Deuterostomia,Chordata,Craniata,Vertebrata,Gnathostomata,Teleostomi,Euteleostomi,Sarcopterygii,Tetrapoda,Amniota,Sauropsida,Sauria,Archosauria,Dinosauria,Saurischia,Theropoda,Coelurosauria,Aves,Neognathae,Passeriformes,Passeroidea,Estrildidae,Estrildinae,Taeniopygia,Taeniopygia guttata","Taeniopygia guttata","Metazoa",null,"Brachypodium distachyon","Streptophyta"]
["ref|XP_002259276.1|",221056276,"cellular organisms,Eukaryota,Alveolata,Apicomplexa,Aconoidasida,Haemosporida,Plasmodium,Plasmodium (Plasmodium),Plasmodium knowlesi,Plasmodium knowlesi strain H","Plasmodium knowlesi strain H","Apicomplexa",null,"Brachyspira intermedia PWS/A","Spirochaetia"]
["ref|XP_002285868.1|",225459599,"cellular organisms,Eukaryota,Viridiplantae,Streptophyta,Streptophytina,Embryophyta,Tracheophyta,Euphyllophyta,Spermatophyta,Magnoliophyta,eudicotyledons,core eudicotyledons,rosids,rosids incertae sedis,Vitales,Vitaceae,Vitis,Vitis vinifera","Vitis vinifera","Streptophyta",null,"Bradyrhizobium japonicum USDA 6","Alphaproteobacteria"]
["ref|XP_002293651.1|",224009385,"cellular organisms,Eukaryota,stramenopiles,Bacillariophyta,Coscinodiscophyceae,Thalassiosirophycidae,Thalassiosirales,Thalassiosiraceae,Thalassiosira,Thalassiosira pseudonana,Thalassiosira pseudonana CCMP1335","Thalassiosira pseudonana CCMP1335","Bacillariophyta",null,"Bradyrhizobium sp. YR681","Alphaproteobacteria"]
["ref|XP_002298630.1|",224055741,"cellular organisms,Eukaryota,Viridiplantae,Streptophyta,Streptophytina,Embryophyta,Tracheophyta,Euphyllophyta,Spermatophyta,Magnoliophyta,eudicotyledons,core eudicotyledons,rosids,fabids,Malpighiales,Salicaceae,Saliceae,Populus,Populus trichocarpa","Populus trichocarpa","Streptophyta",null,"Branchiostoma floridae","Metazoa"]
["ref|XP_002310786.1|",224096918,"cellular organisms,Eukaryota,Viridiplantae,Streptophyta,Streptophytina,Embryophyta,Tracheophyta,Euphyllophyta,Spermatophyta,Magnoliophyta,eudicotyledons,core eudicotyledons,rosids,fabids,Malpighiales,Salicaceae,Saliceae,Populus,Populus trichocarpa","Populus trichocarpa","Streptophyta",null,"Brevibacillus laterosporus LMG 15441","Bacilli"]
["ref|XP_002327802.1|",224134292,"cellular organisms,Eukaryota,Viridiplantae,Streptophyta,Streptophytina,Embryophyta,Tracheophyta,Euphyllophyta,Spermatophyta,Magnoliophyta,eudicotyledons,core eudicotyledons,rosids,fabids,Malpighiales,Salicaceae,Saliceae,Populus,Populus trichocarpa","Populus trichocarpa","Streptophyta",null,"Brevibacillus sp. BC25","Bacilli"]
["ref|XP_002364472.1|",237830349,"cellular organisms,Eukaryota,Alveolata,Apicomplexa,Coccidia,Eucoccidiorida,Eimeriorina,Sarcocystidae,Toxoplasma,Toxoplasma gondii,Toxoplasma gondii ME49","Toxoplasma gondii ME49","Apicomplexa",null,"Brevibacterium linens BL2","Actinobacteria"]
["ref|XP_002364791.1|",237830987,"cellular organisms,Eukaryota,Alveolata,Apicomplexa,Coccidia,Eucoccidiorida,Eimeriorina,Sarcocystidae,Toxoplasma,Toxoplasma gondii,Toxoplasma gondii ME49","Toxoplasma gondii ME49","Apicomplexa",null,"Brevundimonas diminuta ATCC 11568","Alphaproteobacteria"]
["ref|XP_002368173.1|",237837751,"cellular organisms,Eukaryota,Alveolata,Apicomplexa,Coccidia,Eucoccidiorida,Eimeriorina,Sarcocystidae,Toxoplasma,Toxoplasma gondii,Toxoplasma gondii ME49","Toxoplasma gondii ME49","Apicomplexa",null,"Brugia malayi","Metazoa"]
["ref|XP_002368243.1|",237837891,"cellular organisms,Eukaryota,Alveolata,Apicomplexa,Coccidia,Eucoccidiorida,Eimeriorina,Sarcocystidae,Toxoplasma,Toxoplasma gondii,Toxoplasma gondii ME49","Toxoplasma gondii ME49","Apicomplexa",null,"Burkholderia ambifaria MEX-5","Betaproteobacteria"]
["ref|XP_002370635.1|",237842675,"cellular organisms,Eukaryota,Alveolata,Apicomplexa,Coccidia,Eucoccidiorida,Eimeriorina,Sarcocystidae,Toxoplasma,Toxoplasma gondii,Toxoplasma gondii ME49","Toxoplasma gondii ME49","Apicomplexa",null,"Burkholderia oklahomensis C6786","Betaproteobacteria"]
["ref|XP_002375059.1|",238487642,"cellular organisms,Eukaryota,Opisthokonta,Fungi,Dikarya,Ascomycota,saccharomyceta,Pezizomycotina,leotiomyceta,Eurotiomycetes,Eurotiomycetidae,Eurotiales,Trichocomaceae,mitosporic Trichocomaceae,Aspergillus,Aspergillus flavus,Aspergillus flavus NRRL3357","Aspergillus flavus NRRL3357","Fungi",null,"Burkholderia oklahomensis EO147","Betaproteobacteria"]
["ref|XP_002415101.1|",241836504,"cellular organisms,Eukaryota,Opisthokonta,Metazoa,Eumetazoa,Bilateria,Coelomata,Protostomia,Ecdysozoa,Panarthropoda,Arthropoda,Chelicerata,Arachnida,Acari,Parasitiformes,Ixodida,Ixodoidea,Ixodidae,Ixodinae,Ixodes,Ixodes scapularis","Ixodes scapularis","Metazoa",null,"Burkholderia phymatum STM815","Betaproteobacteria"]
["ref|XP_002421057.1|",241956674,"cellular organisms,Eukaryota,Opisthokonta,Fungi,Dikarya,Ascomycota,saccharomyceta,Saccharomycotina,Saccharomycetes,Saccharomycetales,mitosporic Saccharomycetales,Candida,Candida dubliniensis,Candida dubliniensis CD36","Candida dubliniensis CD36","Fungi",null,"Burkholderia phytofirmans PsJN","Betaproteobacteria"]
["ref|XP_002481084.1|",242787775,"cellular organisms,Eukaryota,Opisthokonta,Fungi,Dikarya,Ascomycota,saccharomyceta,Pezizomycotina,leotiomyceta,Eurotiomycetes,Eurotiomycetidae,Eurotiales,Trichocomaceae,Talaromyces,Talaromyces stipitatus,Talaromyces stipitatus ATCC 10500","Talaromyces stipitatus ATCC 10500","Fungi",null,"Burkholderia pseudomallei 1655","Betaproteobacteria"]
["ref|XP_002481445.1|",242789844,"cellular organisms,Eukaryota,Opisthokonta,Fungi,Dikarya,Ascomycota,saccharomyceta,Pezizomycotina,leotiomyceta,Eurotiomycetes,Eurotiomycetidae,Eurotiales,Trichocomaceae,Talaromyces,Talaromyces stipitatus,Talaromyces stipitatus ATCC 10500","Talaromyces stipitatus ATCC 10500","Fungi",null,"Burkholderia terrae BS001","Betaproteobacteria"]
["ref|XP_002500621.1|",255073893,"cellular organisms,Eukaryota,Viridiplantae,Chlorophyta,Mamiellophyceae,Mamiellales,Micromonas,Micromonas sp. RCC299","Micromonas sp. RCC299","Chlorophyta",null,"Burkholderia thailandensis TXDOH","Betaproteobacteria"]
["ref|XP_002503379.1|",255079598,"cellular organisms,Eukaryota,Viridiplantae,Chlorophyta,Mamiellophyceae,Mamiellales,Micromonas,Micromonas sp. RCC299","Micromonas sp. RCC299","Chlorophyta",null,"Burkholderia ubonensis Bu","Betaproteobacteria"]
["ref|XP_002518075.1|",255554070,"cellular organisms,Eukaryota,Viridiplantae,Streptophyta,Streptophytina,Embryophyta,Tracheophyta,Euphyllophyta,Spermatophyta,Magnoliophyta,eudicotyledons,core eudicotyledons,rosids,fabids,Malpighiales,Euphorbiaceae,Acalyphoideae,Acalypheae,Ricinus,Ricinus communis","Ricinus communis","Streptophyta",null,"Burkholderia xenovorans LB400","Betaproteobacteria"]
["ref|XP_002525858.1|",255569788,"cellular organisms,Eukaryota,Viridiplantae,Streptophyta,Streptophytina,Embryophyta,Tracheophyta,Euphyllophyta,Spermatophyta,Magnoliophyta,eudicotyledons,core eudicotyledons,rosids,fabids,Malpighiales,Euphorbiaceae,Acalyphoideae,Acalypheae,Ricinus,Ricinus communis","Ricinus communis","Streptophyta",null,"Butyrivibrio proteoclasticus B316","Clostridia"]
["ref|XP_002555711.1|",255718861,"cellular organisms,Eukaryota,Opisthokonta,Fungi,Dikarya,Ascomycota,saccharomyceta,Saccharomycotina,Saccharomycetes,Saccharomycetales,Saccharomycetaceae,Lachancea,Lachancea thermotolerans,Lachancea thermotolerans CBS 6340","Lachancea thermotolerans CBS 6340","Fungi",null,"Caenorhabditis briggsae","Metazoa"]
["ref|XP_002561261.1|",255940984,"cellular organisms,Eukaryota,Opisthokonta,Fungi,Dikarya,Ascomycota,saccharomyceta,Pezizomycotina,leotiomyceta,Eurotiomycetes,Eurotiomycetidae,Eurotiales,Trichocomaceae,mitosporic Trichocomaceae,Penicillium,Penicillium chrysogenum complex,Penicillium chrysogenum,Penicillium chrysogenum Wisconsin 54-1255","Penicillium chrysogenum Wisconsin 54-1255","Fungi",null,"Caenorhabditis elegans","Metazoa"]
["ref|XP_002588796.1|",260787511,"cellular organisms,Eukaryota,Opisthokonta,Metazoa,Eumetazoa,Bilateria,Coelomata,Deuterostomia,Chordata,Cephalochordata,Branchiostomidae,Branchiostoma,Branchiostoma floridae","Branchiostoma floridae","Metazoa",null,"Caenorhabditis remanei","Metazoa"]
["ref|XP_002595239.1|",260800708,"cellular organisms,Eukaryota,Opisthokonta,Metazoa,Eumetazoa,Bilateria,Coelomata,Deuterostomia,Chordata,Cephalochordata,Branchiostomidae,Branchiostoma,Branchiostoma floridae","Branchiostoma floridae","Metazoa",null,"Cafeteria roenbergensis virus BV-PW1","unclassified_dsDNA_viruses (CroV)"]
["ref|XP_002602257.1|",260822903,"cellular organisms,Eukaryota,Opisthokonta,Metazoa,Eumetazoa,Bilateria,Coelomata,Deuterostomia,Chordata,Cephalochordata,Branchiostomidae,Branchiostoma,Branchiostoma floridae","Branchiostoma floridae","Metazoa",null,"Caldilinea aerophila DSM 14535 = NBRC 104270","Caldilineae"]
["ref|XP_002613972.1|",260841544,"cellular organisms,Eukaryota,Opisthokonta,Metazoa,Eumetazoa,Bilateria,Coelomata,Deuterostomia,Chordata,Cephalochordata,Branchiostomidae,Branchiostoma,Branchiostoma floridae","Branchiostoma floridae","Metazoa",null,"Callithrix jacchus","Metazoa"]
["ref|XP_002633826.1|",268537380,"cellular organisms,Eukaryota,Opisthokonta,Metazoa,Eumetazoa,Bilateria,Coelomata,Protostomia,Ecdysozoa,Nematoda,Chromadorea,Rhabditida,Rhabditoidea,Rhabditidae,Peloderinae,Caenorhabditis,Caenorhabditis briggsae","Caenorhabditis briggsae","Metazoa",null,"Caloramator australicus RC3","Clostridia"]
["ref|XP_002635770.1|",268555562,"cellular organisms,Eukaryota,Opisthokonta,Metazoa,Eumetazoa,Bilateria,Coelomata,Protostomia,Ecdysozoa,Nematoda,Chromadorea,Rhabditida,Rhabditoidea,Rhabditidae,Peloderinae,Caenorhabditis,Caenorhabditis briggsae","Caenorhabditis briggsae","Metazoa",null,"Caminibacter mediatlanticus TB-2","delta-epsilon_subdivisions"]
["ref|XP_002646007.1|",268582047,"cellular organisms,Eukaryota,Opisthokonta,Metazoa,Eumetazoa,Bilateria,Coelomata,Protostomia,Ecdysozoa,Nematoda,Chromadorea,Rhabditida,Rhabditoidea,Rhabditidae,Peloderinae,Caenorhabditis,Caenorhabditis briggsae","Caenorhabditis briggsae","Metazoa",null,"Campylobacter coli RM2228","delta-epsilon_subdivisions"]
["ref|XP_002650147.1|",269860859,"cellular organisms,Eukaryota,Opisthokonta,Fungi,Microsporidia,Apansporoblastina,Enterocytozoonidae,Enterocytozoon,Enterocytozoon bieneusi,Enterocytozoon bieneusi H348","Enterocytozoon bieneusi H348","Fungi",null,"Campylobacter gracilis RM3268","delta-epsilon_subdivisions"]
["ref|XP_002669781.1|",290974094,"cellular organisms,Eukaryota,Heterolobosea,Schizopyrenida,Vahlkampfiidae,Naegleria,Naegleria gruberi,Naegleria gruberi strain NEG-M","Naegleria gruberi strain NEG-M","Schizopyrenida",null,"Campylobacter jejuni RM1221","delta-epsilon_subdivisions"]
["ref|XP_002670459.1|",290975457,"cellular organisms,Eukaryota,Heterolobosea,Schizopyrenida,Vahlkampfiidae,Naegleria,Naegleria gruberi,Naegleria gruberi strain NEG-M","Naegleria gruberi strain NEG-M","Schizopyrenida",null,"Campylobacter jejuni subsp. jejuni 414","delta-epsilon_subdivisions"]
["ref|XP_002672948.1|",290980456,"cellular organisms,Eukaryota,Heterolobosea,Schizopyrenida,Vahlkampfiidae,Naegleria,Naegleria gruberi,Naegleria gruberi strain NEG-M","Naegleria gruberi strain NEG-M","Schizopyrenida",null,"Campylobacter upsaliensis RM3195","delta-epsilon_subdivisions"]
["ref|XP_002680908.1|",290996676,"cellular organisms,Eukaryota,Heterolobosea,Schizopyrenida,Vahlkampfiidae,Naegleria,Naegleria gruberi,Naegleria gruberi strain NEG-M","Naegleria gruberi strain NEG-M","Schizopyrenida",null,"Campylobacterales bacterium GD 1","delta-epsilon_subdivisions"]
["ref|XP_002713921.1|",291394978,"cellular organisms,Eukaryota,Opisthokonta,Metazoa,Eumetazoa,Bilateria,Coelomata,Deuterostomia,Chordata,Craniata,Vertebrata,Gnathostomata,Teleostomi,Euteleostomi,Sarcopterygii,Tetrapoda,Amniota,Mammalia,Theria,Eutheria,Euarchontoglires,Glires,Lagomorpha,Leporidae,Oryctolagus,Oryctolagus cuniculus","Oryctolagus cuniculus","Metazoa",null,"Canary polyomavirus","Polyomaviridae"]
["ref|XP_002720847.1|",291409057,"cellular organisms,Eukaryota,Opisthokonta,Metazoa,Eumetazoa,Bilateria,Coelomata,Deuterostomia,Chordata,Craniata,Vertebrata,Gnathostomata,Teleostomi,Euteleostomi,Sarcopterygii,Tetrapoda,Amniota,Mammalia,Theria,Eutheria,Euarchontoglires,Glires,Lagomorpha,Leporidae,Oryctolagus,Oryctolagus cuniculus","Oryctolagus cuniculus","Metazoa",null,"Candida albicans SC5314","Fungi"]
["ref|XP_002734288.1|",291228641,"cellular organisms,Eukaryota,Opisthokonta,Metazoa,Eumetazoa,Bilateria,Coelomata,Deuterostomia,Hemichordata,Enteropneusta,Harrimaniidae,Saccoglossus,Saccoglossus kowalevskii","Saccoglossus kowalevskii","Metazoa",null,"Candida dubliniensis CD36","Fungi"]
["ref|XP_002736216.1|",291232535,"cellular organisms,Eukaryota,Opisthokonta,Metazoa,Eumetazoa,Bilateria,Coelomata,Deuterostomia,Hemichordata,Enteropneusta,Harrimaniidae,Saccoglossus,Saccoglossus kowalevskii","Saccoglossus kowalevskii","Metazoa",null,"Candida glabrata CBS 138","Fungi"]
["ref|XP_002738041.1|",291236226,"cellular organisms,Eukaryota,Opisthokonta,Metazoa,Eumetazoa,Bilateria,Coelomata,Deuterostomia,Hemichordata,Enteropneusta,Harrimaniidae,Saccoglossus,Saccoglossus kowalevskii","Saccoglossus kowalevskii","Metazoa",null,"Candidatus Amoebophilus asiaticus 5a2","Bacteroidetes"]
["ref|XP_002740679.1|",291241561,"cellular organisms,Eukaryota,Opisthokonta,Metazoa,Eumetazoa,Bilateria,Coelomata,Deuterostomia,Hemichordata,Enteropneusta,Harrimaniidae,Saccoglossus,Saccoglossus kowalevskii","Saccoglossus kowalevskii","Metazoa",null,"Candidatus Arthromitus sp. SFB-mouse-Japan","Clostridia"]
["ref|XP_002741030.1|",291242269,"cellular organisms,Eukaryota,Opisthokonta,Metazoa,Eumetazoa,Bilateria,Coelomata,Deuterostomia,Hemichordata,Enteropneusta,Harrimaniidae,Saccoglossus,Saccoglossus kowalevskii","Saccoglossus kowalevskii","Metazoa",null,"Candidatus Azobacteroides pseudotrichonymphae genomovar. CFP2","Bacteroidetes"]
["ref|XP_002753466.1|",296213901,"cellular organisms,Eukaryota,Opisthokonta,Metazoa,Eumetazoa,Bilateria,Coelomata,Deuterostomia,Chordata,Craniata,Vertebrata,Gnathostomata,Teleostomi,Euteleostomi,Sarcopterygii,Tetrapoda,Amniota,Mammalia,Theria,Eutheria,Euarchontoglires,Primates,Haplorrhini,Simiiformes,Platyrrhini,Cebidae,Callitrichinae,Callithrix,Callithrix jacchus","Callithrix jacchus","Metazoa",null,"Candidatus Cloacamonas acidaminovorans","candidate_division_WWE1"]
["ref|XP_002768828.1|",294879928,"cellular organisms,Eukaryota,Alveolata,Perkinsea,Perkinsida,Perkinsidae,Perkinsus,Perkinsus marinus,Perkinsus marinus ATCC 50983","Perkinsus marinus ATCC 50983","Perkinsea",null,"Candidatus Nitrosoarchaeum koreensis MY1","Nitrosopumilales"]
["ref|XP_002773329.1|",294890817,"cellular organisms,Eukaryota,Alveolata,Perkinsea,Perkinsida,Perkinsidae,Perkinsus,Perkinsus marinus,Perkinsus marinus ATCC 50983","Perkinsus marinus ATCC 50983","Perkinsea",null,"Candidatus Ruthia magnifica str. Cm (Calyptogena magnifica)","Gammaproteobacteria"]
["ref|XP_002780582.1|",294933069,"cellular organisms,Eukaryota,Alveolata,Perkinsea,Perkinsida,Perkinsidae,Perkinsus,Perkinsus marinus,Perkinsus marinus ATCC 50983","Perkinsus marinus ATCC 50983","Perkinsea",null,"Canis lupus familiaris","Metazoa"]
["ref|XP_002804234.1|",297293349,"cellular organisms,Eukaryota,Opisthokonta,Metazoa,Eumetazoa,Bilateria,Coelomata,Deuterostomia,Chordata,Craniata,Vertebrata,Gnathostomata,Teleostomi,Euteleostomi,Sarcopterygii,Tetrapoda,Amniota,Mammalia,Theria,Eutheria,Euarchontoglires,Primates,Haplorrhini,Simiiformes,Catarrhini,Cercopithecoidea,Cercopithecidae,Cercopithecinae,Macaca,Macaca mulatta","Macaca mulatta","Metazoa",null,"Cardiobacterium valvarum F0432","Gammaproteobacteria"]
["ref|XP_002835366.1|",296411290,"cellular organisms,Eukaryota,Opisthokonta,Fungi,Dikarya,Ascomycota,saccharomyceta,Pezizomycotina,Pezizomycetes,Pezizales,Tuberaceae,Tuber,Tuber melanosporum,Tuber melanosporum Mel28","Tuber melanosporum Mel28","Fungi",null,"Catenulispora acidiphila DSM 44928","Actinobacteria"]
["ref|XP_002879776.1|",297823787,"cellular organisms,Eukaryota,Viridiplantae,Streptophyta,Streptophytina,Embryophyta,Tracheophyta,Euphyllophyta,Spermatophyta,Magnoliophyta,eudicotyledons,core eudicotyledons,rosids,malvids,Brassicales,Brassicaceae,Camelineae,Arabidopsis,Arabidopsis lyrata,Arabidopsis lyrata subsp. lyrata","Arabidopsis lyrata subsp. lyrata","Streptophyta",null,"Caulobacter segnis ATCC 21756","Alphaproteobacteria"]
["ref|XP_002901762.1|",301105357,"cellular organisms,Eukaryota,stramenopiles,Oomycetes,Peronosporales,Phytophthora,Phytophthora infestans,Phytophthora infestans T30-4","Phytophthora infestans T30-4","Oomycetes",null,"Caulobacter sp. AP07","Alphaproteobacteria"]
["ref|XP_002902008.1|",301105849,"cellular organisms,Eukaryota,stramenopiles,Oomycetes,Peronosporales,Phytophthora,Phytophthora infestans,Phytophthora infestans T30-4","Phytophthora infestans T30-4","Oomycetes",null,"Cavia porcellus","Metazoa"]
["ref|XP_002902128.1|",301106090,"cellular organisms,Eukaryota,stramenopiles,Oomycetes,Peronosporales,Phytophthora,Phytophthora infestans,Phytophthora infestans T30-4","Phytophthora infestans T30-4","Oomycetes",null,"Chitinophaga pinensis DSM 2588","Bacteroidetes"]
["ref|XP_002927009.1|",301783173,"cellular organisms,Eukaryota,Opisthokonta,Metazoa,Eumetazoa,Bilateria,Coelomata,Deuterostomia,Chordata,Craniata,Vertebrata,Gnathostomata,Teleostomi,Euteleostomi,Sarcopterygii,Tetrapoda,Amniota,Mammalia,Theria,Eutheria,Laurasiatheria,Carnivora,Caniformia,Ursidae,Ailuropoda,Ailuropoda melanoleuca","Ailuropoda melanoleuca","Metazoa",null,"Chlamydomonas reinhardtii","Chlorophyta"]
["ref|XP_002934331.1|",301609637,"cellular organisms,Eukaryota,Opisthokonta,Metazoa,Eumetazoa,Bilateria,Coelomata,Deuterostomia,Chordata,Craniata,Vertebrata,Gnathostomata,Teleostomi,Euteleostomi,Sarcopterygii,Tetrapoda,Amphibia,Batrachia,Anura,Pipoidea,Pipidae,Xenopodinae,Xenopus,Silurana,Xenopus (Silurana) tropicalis","Xenopus (Silurana) tropicalis","Metazoa",null,"Chlorobaculum parvum NCIB 8327","Chlorobi"]
["ref|XP_002936091.1|",301613181,"cellular organisms,Eukaryota,Opisthokonta,Metazoa,Eumetazoa,Bilateria,Coelomata,Deuterostomia,Chordata,Craniata,Vertebrata,Gnathostomata,Teleostomi,Euteleostomi,Sarcopterygii,Tetrapoda,Amphibia,Batrachia,Anura,Pipoidea,Pipidae,Xenopodinae,Xenopus,Silurana,Xenopus (Silurana) tropicalis","Xenopus (Silurana) tropicalis","Metazoa",null,"Chlorobium phaeobacteroides BS1","Chlorobi"]
["ref|XP_002971836.1|",302780123,"cellular organisms,Eukaryota,Viridiplantae,Streptophyta,Streptophytina,Embryophyta,Tracheophyta,Lycopodiophyta,Isoetopsida,Selaginellales,Selaginellaceae,Selaginella,Selaginella moellendorffii","Selaginella moellendorffii","Streptophyta",null,"Chlorobium phaeovibrioides DSM 265","Chlorobi"]
["ref|XP_002972363.1|",302781178,"cellular organisms,Eukaryota,Viridiplantae,Streptophyta,Streptophytina,Embryophyta,Tracheophyta,Lycopodiophyta,Isoetopsida,Selaginellales,Selaginellaceae,Selaginella,Selaginella moellendorffii","Selaginella moellendorffii","Streptophyta",null,"Chromohalobacter salexigens DSM 3043","Gammaproteobacteria"]
["ref|XP_002993082.1|",302822853,"cellular organisms,Eukaryota,Viridiplantae,Streptophyta,Streptophytina,Embryophyta,Tracheophyta,Lycopodiophyta,Isoetopsida,Selaginellales,Selaginellaceae,Selaginella,Selaginella moellendorffii","Selaginella moellendorffii","Streptophyta",null,"Chryseobacterium sp. CF314","Bacteroidetes"]
["ref|XP_002996608.1|",300708874,"cellular organisms,Eukaryota,Opisthokonta,Fungi,Microsporidia,Apansporoblastina,Nosematidae,Nosema,Nosema ceranae,Nosema ceranae BRL01","Nosema ceranae BRL01","Fungi",null,"Citreicella sp. SE45","Alphaproteobacteria"]
["ref|XP_003013421.1|",302502921,"cellular organisms,Eukaryota,Opisthokonta,Fungi,Dikarya,Ascomycota,saccharomyceta,Pezizomycotina,leotiomyceta,Eurotiomycetes,Eurotiomycetidae,Onygenales,Arthrodermataceae,Arthroderma,Arthroderma benhamiae,Arthroderma benhamiae CBS 112371","Arthroderma benhamiae CBS 112371","Fungi",null,"Citrobacter rodentium ICC168","Gammaproteobacteria"]
["ref|XP_003035960.1|",302692562,"cellular organisms,Eukaryota,Opisthokonta,Fungi,Dikarya,Basidiomycota,Agaricomycotina,Agaricomycetes,Agaricomycetidae,Agaricales,Schizophyllaceae,Schizophyllum,Schizophyllum commune,Schizophyllum commune H4-8","Schizophyllum commune H4-8","Fungi",null,"Clavispora lusitaniae ATCC 42720","Fungi"]
["ref|XP_003036236.1|",302693114,"cellular organisms,Eukaryota,Opisthokonta,Fungi,Dikarya,Basidiomycota,Agaricomycotina,Agaricomycetes,Agaricomycetidae,Agaricales,Schizophyllaceae,Schizophyllum,Schizophyllum commune,Schizophyllum commune H4-8","Schizophyllum commune H4-8","Fungi",null,"Clostridium botulinum A str. ATCC 3502","Clostridia"]
["ref|XP_003036370.1|",302693383,"cellular organisms,Eukaryota,Opisthokonta,Fungi,Dikarya,Basidiomycota,Agaricomycotina,Agaricomycetes,Agaricomycetidae,Agaricales,Schizophyllaceae,Schizophyllum,Schizophyllum commune,Schizophyllum commune H4-8","Schizophyllum commune H4-8","Fungi",null,"Clostridium botulinum B1 str. Okra","Clostridia"]
["ref|XP_003053045.1|",302920318,"cellular organisms,Eukaryota,Opisthokonta,Fungi,Dikarya,Ascomycota,saccharomyceta,Pezizomycotina,leotiomyceta,sordariomyceta,Sordariomycetes,Hypocreomycetidae,Hypocreales,Nectriaceae,Nectria,Nectria haematococca complex,Nectria haematococca,Nectria haematococca mpVI,Nectria haematococca mpVI 77-13-4","Nectria haematococca mpVI 77-13-4","Fungi",null,"Clostridium botulinum E3 str. Alaska E43","Clostridia"]
["ref|XP_003056094.1|",303273466,"cellular organisms,Eukaryota,Viridiplantae,Chlorophyta,Mamiellophyceae,Mamiellales,Micromonas,Micromonas pusilla,Micromonas pusilla CCMP1545","Micromonas pusilla CCMP1545","Chlorophyta",null,"Clostridium clariflavum DSM 19732","Clostridia"]
["ref|XP_003057746.1|",303276905,"cellular organisms,Eukaryota,Viridiplantae,Chlorophyta,Mamiellophyceae,Mamiellales,Micromonas,Micromonas pusilla,Micromonas pusilla CCMP1545","Micromonas pusilla CCMP1545","Chlorophyta",null,"Clostridium hathewayi DSM 13479","Clostridia"]
["ref|XP_003060638.1|",303282693,"cellular organisms,Eukaryota,Viridiplantae,Chlorophyta,Mamiellophyceae,Mamiellales,Micromonas,Micromonas pusilla,Micromonas pusilla CCMP1545","Micromonas pusilla CCMP1545","Chlorophyta",null,"Clostridium hathewayi WAL-18680","Clostridia"]
["ref|XP_003072680.1|",303388894,"cellular organisms,Eukaryota,Opisthokonta,Fungi,Microsporidia,Apansporoblastina,Unikaryonidae,Encephalitozoon,Encephalitozoon intestinalis,Encephalitozoon intestinalis ATCC 50506","Encephalitozoon intestinalis ATCC 50506","Fungi",null,"Clostridium leptum DSM 753","Clostridia"]
["ref|XP_003073320.1|",303390178,"cellular organisms,Eukaryota,Opisthokonta,Fungi,Microsporidia,Apansporoblastina,Unikaryonidae,Encephalitozoon,Encephalitozoon intestinalis,Encephalitozoon intestinalis ATCC 50506","Encephalitozoon intestinalis ATCC 50506","Fungi",null,"Clostridium papyrosolvens DSM 2782","Clostridia"]
["ref|XP_003073707.1|",303390954,"cellular organisms,Eukaryota,Opisthokonta,Fungi,Microsporidia,Apansporoblastina,Unikaryonidae,Encephalitozoon,Encephalitozoon intestinalis,Encephalitozoon intestinalis ATCC 50506","Encephalitozoon intestinalis ATCC 50506","Fungi",null,"Clostridium perfringens B str. ATCC 3626","Clostridia"]
["ref|XP_003075201.1|",308800840,"cellular organisms,Eukaryota,Viridiplantae,Chlorophyta,Mamiellophyceae,Mamiellales,Ostreococcus,Ostreococcus tauri","Ostreococcus tauri","Chlorophyta",null,"Clostridium perfringens D str. JGS1721","Clostridia"]
["ref|XP_003078846.1|",308803066,"cellular organisms,Eukaryota,Viridiplantae,Chlorophyta,Mamiellophyceae,Mamiellales,Ostreococcus,Ostreococcus tauri","Ostreococcus tauri","Chlorophyta",null,"Clostridium perfringens NCTC 8239","Clostridia"]
["ref|XP_003083784.1|",308812955,"cellular organisms,Eukaryota,Viridiplantae,Chlorophyta,Mamiellophyceae,Mamiellales,Ostreococcus,Ostreococcus tauri","Ostreococcus tauri","Chlorophyta",null,"Clostridium sp. 7_3_54FAA","Clostridia"]
["ref|XP_003106620.1|",308488853,"cellular organisms,Eukaryota,Opisthokonta,Metazoa,Eumetazoa,Bilateria,Coelomata,Protostomia,Ecdysozoa,Nematoda,Chromadorea,Rhabditida,Rhabditoidea,Rhabditidae,Peloderinae,Caenorhabditis,Caenorhabditis remanei","Caenorhabditis remanei","Metazoa",null,"Clostridium sp. BNL1100","Clostridia"]
["ref|XP_003144378.1|",312084690,"cellular organisms,Eukaryota,Opisthokonta,Metazoa,Eumetazoa,Bilateria,Coelomata,Protostomia,Ecdysozoa,Nematoda,Chromadorea,Spirurida,Filarioidea,Onchocercidae,Loa,Loa loa","Loa loa","Metazoa",null,"Clostridium sp. D5","Clostridia"]
["ref|XP_003200870.1|",326677626,"cellular organisms,Eukaryota,Opisthokonta,Metazoa,Eumetazoa,Bilateria,Coelomata,Deuterostomia,Chordata,Craniata,Vertebrata,Gnathostomata,Teleostomi,Euteleostomi,Actinopterygii,Actinopteri,Neopterygii,Teleostei,Elopocephala,Clupeocephala,Otocephala,Ostariophysi,Otophysi,Cypriniphysi,Cypriniformes,Cyprinoidea,Cyprinidae,Danio,Danio rerio","Danio rerio","Metazoa",null,"Clostridium sporogenes ATCC 15579","Clostridia"]
["ref|XP_003216374.1|",327263130,"cellular organisms,Eukaryota,Opisthokonta,Metazoa,Eumetazoa,Bilateria,Coelomata,Deuterostomia,Chordata,Craniata,Vertebrata,Gnathostomata,Teleostomi,Euteleostomi,Sarcopterygii,Tetrapoda,Amniota,Sauropsida,Sauria,Lepidosauria,Squamata,Iguania,Iguanidae,Polychrotinae,Anolis,Anolis carolinensis","Anolis carolinensis","Metazoa",null,"Clostridium symbiosum WAL-14163","Clostridia"]
["ref|XP_003230463.1|",327291508,"cellular organisms,Eukaryota,Opisthokonta,Metazoa,Eumetazoa,Bilateria,Coelomata,Deuterostomia,Chordata,Craniata,Vertebrata,Gnathostomata,Teleostomi,Euteleostomi,Sarcopterygii,Tetrapoda,Amniota,Sauropsida,Sauria,Lepidosauria,Squamata,Iguania,Iguanidae,Polychrotinae,Anolis,Anolis carolinensis","Anolis carolinensis","Metazoa",null,"Clostridium thermocellum ATCC 27405","Clostridia"]
["ref|XP_003236384.1|",327303384,"cellular organisms,Eukaryota,Opisthokonta,Fungi,Dikarya,Ascomycota,saccharomyceta,Pezizomycotina,leotiomyceta,Eurotiomycetes,Eurotiomycetidae,Onygenales,Arthrodermataceae,mitosporic Arthrodermataceae,Trichophyton,Trichophyton rubrum,Trichophyton rubrum CBS 118892","Trichophyton rubrum CBS 118892","Fungi",null,"Clostridium thermocellum JW20","Clostridia"]
["ref|XP_003285395.1|",330794659,"cellular organisms,Eukaryota,Amoebozoa,Mycetozoa,Dictyosteliida,Dictyostelium,Dictyostelium purpureum","Dictyostelium purpureum","Mycetozoa",null,"Coccidioides immitis RS","Fungi"]
["ref|XP_003285719.1|",330795314,"cellular organisms,Eukaryota,Amoebozoa,Mycetozoa,Dictyosteliida,Dictyostelium,Dictyostelium purpureum","Dictyostelium purpureum","Mycetozoa",null,"Collinsella aerofaciens ATCC 25986","Actinobacteria"]
["ref|XP_003291110.1|",330806301,"cellular organisms,Eukaryota,Amoebozoa,Mycetozoa,Dictyosteliida,Dictyostelium,Dictyostelium purpureum","Dictyostelium purpureum","Mycetozoa",null,"Collinsella stercoris DSM 13279","Actinobacteria"]
["ref|XP_003291688.1|",330822498,"cellular organisms,Eukaryota,Amoebozoa,Mycetozoa,Dictyosteliida,Dictyostelium,Dictyostelium purpureum","Dictyostelium purpureum","Mycetozoa",null,"Colwellia psychrerythraea 34H","Gammaproteobacteria"]
["ref|XP_003295759.1|",330907245,"cellular organisms,Eukaryota,Opisthokonta,Fungi,Dikarya,Ascomycota,saccharomyceta,Pezizomycotina,leotiomyceta,dothideomyceta,Dothideomycetes,Pleosporomycetidae,Pleosporales,Pleosporineae,Pleosporaceae,Pyrenophora,Pyrenophora teres,Pyrenophora teres f. teres,Pyrenophora teres f. teres 0-1","Pyrenophora teres f. teres 0-1","Fungi",null,"Coprinopsis cinerea okayama7#130","Fungi"]
["ref|XP_003347825.1|",336266112,"cellular organisms,Eukaryota,Opisthokonta,Fungi,Dikarya,Ascomycota,saccharomyceta,Pezizomycotina,leotiomyceta,sordariomyceta,Sordariomycetes,Sordariomycetidae,Sordariales,Sordariaceae,Sordaria,Sordaria macrospora,Sordaria macrospora k-hell","Sordaria macrospora k-hell","Fungi",null,"Coprobacillus sp. D7","Erysipelotrichi"]
["ref|XP_003369271.1|",339258170,"cellular organisms,Eukaryota,Opisthokonta,Metazoa,Eumetazoa,Bilateria,Coelomata,Protostomia,Ecdysozoa,Nematoda,Enoplea,Enoplia,Trichocephalida,Trichinellidae,Trichinella,Trichinella spiralis","Trichinella spiralis","Metazoa",null,"Cricetulus griseus","Metazoa"]
["ref|XP_003376128.1|",339240405,"cellular organisms,Eukaryota,Opisthokonta,Metazoa,Eumetazoa,Bilateria,Coelomata,Protostomia,Ecdysozoa,Nematoda,Enoplea,Enoplia,Trichocephalida,Trichinellidae,Trichinella,Trichinella spiralis","Trichinella spiralis","Metazoa",null,"Cryptococcus neoformans var. neoformans B-3501A","Fungi"]
["ref|XP_003389993.1|",340382975,"cellular organisms,Eukaryota,Opisthokonta,Metazoa,Porifera,Demospongiae,Ceractinomorpha,Haplosclerida,Niphatidae,Amphimedon,Amphimedon queenslandica","Amphimedon queenslandica","Metazoa",null,"Cryptococcus neoformans var. neoformans JEC21","Fungi"]
["ref|XP_003391455.1|",340385918,"cellular organisms,Eukaryota,Opisthokonta,Metazoa,Porifera,Demospongiae,Ceractinomorpha,Haplosclerida,Niphatidae,Amphimedon,Amphimedon queenslandica","Amphimedon queenslandica","Metazoa",null,"Cryptosporidium hominis TU502","Apicomplexa"]
["ref|XP_003415980.1|",344288485,"cellular organisms,Eukaryota,Opisthokonta,Metazoa,Eumetazoa,Bilateria,Coelomata,Deuterostomia,Chordata,Craniata,Vertebrata,Gnathostomata,Teleostomi,Euteleostomi,Sarcopterygii,Tetrapoda,Amniota,Mammalia,Theria,Eutheria,Afrotheria,Proboscidea,Elephantidae,Loxodonta,Loxodonta africana","Loxodonta africana","Metazoa",null,"Cryptosporidium muris RN66","Apicomplexa"]
["ref|XP_003417539.1|",344291633,"cellular organisms,Eukaryota,Opisthokonta,Metazoa,Eumetazoa,Bilateria,Coelomata,Deuterostomia,Chordata,Craniata,Vertebrata,Gnathostomata,Teleostomi,Euteleostomi,Sarcopterygii,Tetrapoda,Amniota,Mammalia,Theria,Eutheria,Afrotheria,Proboscidea,Elephantidae,Loxodonta,Loxodonta africana","Loxodonta africana","Metazoa",null,"Culex quinquefasciatus","Metazoa"]
["ref|XP_003435779.1|",347965523,"cellular organisms,Eukaryota,Opisthokonta,Metazoa,Eumetazoa,Bilateria,Coelomata,Protostomia,Ecdysozoa,Panarthropoda,Arthropoda,Mandibulata,Pancrustacea,Hexapoda,Insecta,Dicondylia,Pterygota,Neoptera,Endopterygota,Diptera,Nematocera,Culicimorpha,Culicoidea,Culicidae,Anophelinae,Anopheles,Cellia,Pyretophorus,gambiae species complex,Anopheles gambiae,Anopheles gambiae str. PEST","Anopheles gambiae str. PEST","Metazoa",null,"Cupriavidus basilensis OR16","Betaproteobacteria"]
["ref|XP_003459393.1|",348543846,"cellular organisms,Eukaryota,Opisthokonta,Metazoa,Eumetazoa,Bilateria,Coelomata,Deuterostomia,Chordata,Craniata,Vertebrata,Gnathostomata,Teleostomi,Euteleostomi,Actinopterygii,Actinopteri,Neopterygii,Teleostei,Elopocephala,Clupeocephala,Euteleostei,Neognathi,Neoteleostei,Eurypterygii,Ctenosquamata,Acanthomorpha,Euacanthomorpha,Holacanthopterygii,Acanthopterygii,Euacanthopterygii,Percomorpha,Perciformes,Labroidei,Cichlidae,African cichlids,Pseudocrenilabrinae,Tilapiini,Oreochromis,Oreochromis niloticus","Oreochromis niloticus","Metazoa",null,"Cyanothece sp. CCY0110","Chroococcales"]
["ref|XP_003460198.1|",348545460,"cellular organisms,Eukaryota,Opisthokonta,Metazoa,Eumetazoa,Bilateria,Coelomata,Deuterostomia,Chordata,Craniata,Vertebrata,Gnathostomata,Teleostomi,Euteleostomi,Actinopterygii,Actinopteri,Neopterygii,Teleostei,Elopocephala,Clupeocephala,Euteleostei,Neognathi,Neoteleostei,Eurypterygii,Ctenosquamata,Acanthomorpha,Euacanthomorpha,Holacanthopterygii,Acanthopterygii,Euacanthopterygii,Percomorpha,Perciformes,Labroidei,Cichlidae,African cichlids,Pseudocrenilabrinae,Tilapiini,Oreochromis,Oreochromis niloticus","Oreochromis niloticus","Metazoa",null,"Cyanothece sp. PCC 7424","Chroococcales"]
["ref|XP_003485413.1|",350399085,"cellular organisms,Eukaryota,Opisthokonta,Metazoa,Eumetazoa,Bilateria,Coelomata,Protostomia,Ecdysozoa,Panarthropoda,Arthropoda,Mandibulata,Pancrustacea,Hexapoda,Insecta,Dicondylia,Pterygota,Neoptera,Endopterygota,Hymenoptera,Apocrita,Aculeata,Apoidea,Apidae,Bombinae,Bombini,Bombus,Pyrobombus,Bombus impatiens","Bombus impatiens","Metazoa",null,"Cyanothece sp. PCC 7425","Chroococcales"]
["ref|XP_003488634.1|",350409163,"cellular organisms,Eukaryota,Opisthokonta,Metazoa,Eumetazoa,Bilateria,Coelomata,Protostomia,Ecdysozoa,Panarthropoda,Arthropoda,Mandibulata,Pancrustacea,Hexapoda,Insecta,Dicondylia,Pterygota,Neoptera,Endopterygota,Hymenoptera,Apocrita,Aculeata,Apoidea,Apidae,Bombinae,Bombini,Bombus,Pyrobombus,Bombus impatiens","Bombus impatiens","Metazoa",null,"Cyanothece sp. PCC 8802","Chroococcales"]
["ref|XP_003508418.1|",354492565,"cellular organisms,Eukaryota,Opisthokonta,Metazoa,Eumetazoa,Bilateria,Coelomata,Deuterostomia,Chordata,Craniata,Vertebrata,Gnathostomata,Teleostomi,Euteleostomi,Sarcopterygii,Tetrapoda,Amniota,Mammalia,Theria,Eutheria,Euarchontoglires,Glires,Rodentia,Sciurognathi,Muroidea,Cricetidae,Cricetinae,Cricetulus,Cricetulus griseus","Cricetulus griseus","Metazoa",null,"Cyclobacterium marinum DSM 745","Bacteroidetes"]
["ref|XP_003518299.1|",356498930,"cellular organisms,Eukaryota,Viridiplantae,Streptophyta,Streptophytina,Embryophyta,Tracheophyta,Euphyllophyta,Spermatophyta,Magnoliophyta,eudicotyledons,core eudicotyledons,rosids,fabids,Fabales,Fabaceae,Papilionoideae,Phaseoleae,Glycine,Glycine max","Glycine max","Streptophyta",null,"Cytophaga hutchinsonii ATCC 33406","Bacteroidetes"]
["ref|XP_003558998.1|",357114420,"cellular organisms,Eukaryota,Viridiplantae,Streptophyta,Streptophytina,Embryophyta,Tracheophyta,Euphyllophyta,Spermatophyta,Magnoliophyta,Liliopsida,commelinids,Poales,Poaceae,BEP clade,Pooideae,Brachypodieae,Brachypodium,Brachypodium distachyon","Brachypodium distachyon","Streptophyta",null,"Danio rerio","Metazoa"]
["ref|XP_003560402.1|",357117285,"cellular organisms,Eukaryota,Viridiplantae,Streptophyta,Streptophytina,Embryophyta,Tracheophyta,Euphyllophyta,Spermatophyta,Magnoliophyta,Liliopsida,commelinids,Poales,Poaceae,BEP clade,Pooideae,Brachypodieae,Brachypodium,Brachypodium distachyon","Brachypodium distachyon","Streptophyta",null,"Debaryomyces hansenii CBS767","Fungi"]
["ref|XP_003596117.1|",357451681,"cellular organisms,Eukaryota,Viridiplantae,Streptophyta,Streptophytina,Embryophyta,Tracheophyta,Euphyllophyta,Spermatophyta,Magnoliophyta,eudicotyledons,core eudicotyledons,rosids,fabids,Fabales,Fabaceae,Papilionoideae,Trifolieae,Medicago,Medicago truncatula","Medicago truncatula","Streptophyta",null,"Desulfobacterium autotrophicum HRM2","delta-epsilon_subdivisions"]
["ref|XP_003681542.1|",367014085,"cellular organisms,Eukaryota,Opisthokonta,Fungi,Dikarya,Ascomycota,saccharomyceta,Saccharomycotina,Saccharomycetes,Saccharomycetales,Saccharomycetaceae,Torulaspora,Torulaspora delbrueckii","Torulaspora delbrueckii","Fungi",null,"Desulfomicrobium baculatum DSM 4028","delta-epsilon_subdivisions"]
["ref|XP_003695743.1|",380023892,"cellular organisms,Eukaryota,Opisthokonta,Metazoa,Eumetazoa,Bilateria,Coelomata,Protostomia,Ecdysozoa,Panarthropoda,Arthropoda,Mandibulata,Pancrustacea,Hexapoda,Insecta,Dicondylia,Pterygota,Neoptera,Endopterygota,Hymenoptera,Apocrita,Aculeata,Apoidea,Apidae,Apinae,Apini,Apis,Apis florea","Apis florea","Metazoa",null,"Desulfomonile tiedjei DSM 6799","delta-epsilon_subdivisions"]
["ref|XP_003703705.1|",383856417,"cellular organisms,Eukaryota,Opisthokonta,Metazoa,Eumetazoa,Bilateria,Coelomata,Protostomia,Ecdysozoa,Panarthropoda,Arthropoda,Mandibulata,Pancrustacea,Hexapoda,Insecta,Dicondylia,Pterygota,Neoptera,Endopterygota,Hymenoptera,Apocrita,Aculeata,Apoidea,Megachilidae,Megachilinae,Megachilini,Megachile,Megachile rotundata","Megachile rotundata","Metazoa",null,"Desulfotomaculum acetoxidans DSM 771","Clostridia"]
["ref|XP_003704433.1|",383857883,"cellular organisms,Eukaryota,Opisthokonta,Metazoa,Eumetazoa,Bilateria,Coelomata,Protostomia,Ecdysozoa,Panarthropoda,Arthropoda,Mandibulata,Pancrustacea,Hexapoda,Insecta,Dicondylia,Pterygota,Neoptera,Endopterygota,Hymenoptera,Apocrita,Aculeata,Apoidea,Megachilidae,Megachilinae,Megachilini,Megachile,Megachile rotundata","Megachile rotundata","Metazoa",null,"Desulfotomaculum kuznetsovii DSM 6115","Clostridia"]
["ref|XP_003726529.1|",390346340,"cellular organisms,Eukaryota,Opisthokonta,Metazoa,Eumetazoa,Bilateria,Coelomata,Deuterostomia,Echinodermata,Eleutherozoa,Echinozoa,Echinoidea,Euechinoidea,Echinacea,Echinoida,Strongylocentrotidae,Strongylocentrotus,Strongylocentrotus purpuratus","Strongylocentrotus purpuratus","Metazoa",null,"Desulfovibrio aespoeensis Aspo-2","delta-epsilon_subdivisions"]
["ref|XP_003728365.1|",390354601,"cellular organisms,Eukaryota,Opisthokonta,Metazoa,Eumetazoa,Bilateria,Coelomata,Deuterostomia,Echinodermata,Eleutherozoa,Echinozoa,Echinoidea,Euechinoidea,Echinacea,Echinoida,Strongylocentrotidae,Strongylocentrotus,Strongylocentrotus purpuratus","Strongylocentrotus purpuratus","Metazoa",null,"Dictyostelium discoideum AX4","Mycetozoa"]
["ref|XP_003786799.1|",395827212,"cellular organisms,Eukaryota,Opisthokonta,Metazoa,Eumetazoa,Bilateria,Coelomata,Deuterostomia,Chordata,Craniata,Vertebrata,Gnathostomata,Teleostomi,Euteleostomi,Sarcopterygii,Tetrapoda,Amniota,Mammalia,Theria,Eutheria,Euarchontoglires,Primates,Strepsirrhini,Lorisiformes,Galagidae,Otolemur,Otolemur garnettii","Otolemur garnettii","Metazoa",null,"Dictyostelium purpureum","Mycetozoa"]
["ref|XP_313024.5|",347971328,"cellular organisms,Eukaryota,Opisthokonta,Metazoa,Eumetazoa,Bilateria,Coelomata,Protostomia,Ecdysozoa,Panarthropoda,Arthropoda,Mandibulata,Pancrustacea,Hexapoda,Insecta,Dicondylia,Pterygota,Neoptera,Endopterygota,Diptera,Nematocera,Culicimorpha,Culicoidea,Culicidae,Anophelinae,Anopheles,Cellia,Pyretophorus,gambiae species complex,Anopheles gambiae,Anopheles gambiae str. PEST","Anopheles gambiae str. PEST","Metazoa",null,"Drosophila ananassae","Metazoa"]
["ref|XP_384518.1|",46117000,"cellular organisms,Eukaryota,Opisthokonta,Fungi,Dikarya,Ascomycota,saccharomyceta,Pezizomycotina,leotiomyceta,sordariomyceta,Sordariomycetes,Hypocreomycetidae,Hypocreales,Nectriaceae,Gibberella,Gibberella zeae,Gibberella zeae PH-1","Gibberella zeae PH-1","Fungi",null,"Drosophila grimshawi","Metazoa"]
["ref|XP_385952.1|",46122797,"cellular organisms,Eukaryota,Opisthokonta,Fungi,Dikarya,Ascomycota,saccharomyceta,Pezizomycotina,leotiomyceta,sordariomyceta,Sordariomycetes,Hypocreomycetidae,Hypocreales,Nectriaceae,Gibberella,Gibberella zeae,Gibberella zeae PH-1","Gibberella zeae PH-1","Fungi",null,"Drosophila mojavensis","Metazoa"]
["ref|XP_418597.3|",363729656,"cellular organisms,Eukaryota,Opisthokonta,Metazoa,Eumetazoa,Bilateria,Coelomata,Deuterostomia,Chordata,Craniata,Vertebrata,Gnathostomata,Teleostomi,Euteleostomi,Sarcopterygii,Tetrapoda,Amniota,Sauropsida,Sauria,Archosauria,Dinosauria,Saurischia,Theropoda,Coelurosauria,Aves,Neognathae,Galliformes,Phasianidae,Phasianinae,Gallus,Gallus gallus","Gallus gallus","Metazoa",null,"Drosophila sechellia","Metazoa"]
["ref|XP_445052.1|",50285247,"cellular organisms,Eukaryota,Opisthokonta,Fungi,Dikarya,Ascomycota,saccharomyceta,Saccharomycotina,Saccharomycetes,Saccharomycetales,Saccharomycetaceae,Nakaseomyces,mitosporic Nakaseomyces,Candida glabrata,Candida glabrata CBS 138","Candida glabrata CBS 138","Fungi",null,"Drosophila simulans","Metazoa"]
["ref|XP_449854.1|",50294886,"cellular organisms,Eukaryota,Opisthokonta,Fungi,Dikarya,Ascomycota,saccharomyceta,Saccharomycotina,Saccharomycetes,Saccharomycetales,Saccharomycetaceae,Nakaseomyces,mitosporic Nakaseomyces,Candida glabrata,Candida glabrata CBS 138","Candida glabrata CBS 138","Fungi",null,"Drosophila virilis","Metazoa"]
["ref|XP_454413.1|",50308817,"cellular organisms,Eukaryota,Opisthokonta,Fungi,Dikarya,Ascomycota,saccharomyceta,Saccharomycotina,Saccharomycetes,Saccharomycetales,Saccharomycetaceae,Kluyveromyces,Kluyveromyces lactis,Kluyveromyces lactis NRRL Y-1140","Kluyveromyces lactis NRRL Y-1140","Fungi",null,"Drosophila willistoni","Metazoa"]
["ref|XP_456655.2|",294654595,"cellular organisms,Eukaryota,Opisthokonta,Fungi,Dikarya,Ascomycota,saccharomyceta,Saccharomycotina,Saccharomycetes,Saccharomycetales,Debaryomycetaceae,Debaryomyces,Debaryomyces hansenii,Debaryomyces hansenii var. hansenii,Debaryomyces hansenii CBS767","Debaryomyces hansenii CBS767","Fungi",null,"Duck adenovirus A","Adenoviridae"]
["ref|XP_547826.2|",73963930,"cellular organisms,Eukaryota,Opisthokonta,Metazoa,Eumetazoa,Bilateria,Coelomata,Deuterostomia,Chordata,Craniata,Vertebrata,Gnathostomata,Teleostomi,Euteleostomi,Sarcopterygii,Tetrapoda,Amniota,Mammalia,Theria,Eutheria,Laurasiatheria,Carnivora,Caniformia,Canidae,Canis,Canis lupus,Canis lupus familiaris","Canis lupus familiaris","Metazoa",null,"Ectocarpus siliculosus virus 1","Phycodnaviridae"]
["ref|XP_568319.1|",58261818,"cellular organisms,Eukaryota,Opisthokonta,Fungi,Dikarya,Basidiomycota,Agaricomycotina,Tremellomycetes,Tremellales,Tremellaceae,Filobasidiella,Filobasidiella/Cryptococcus neoformans species complex,Cryptococcus neoformans,Cryptococcus neoformans var. neoformans,Cryptococcus neoformans var. neoformans JEC21","Cryptococcus neoformans var. neoformans JEC21","Fungi",null,"Ectothiorhodospira sp. PHS-1","Gammaproteobacteria"]
["ref|XP_628867.1|",66799883,"cellular organisms,Eukaryota,Amoebozoa,Mycetozoa,Dictyosteliida,Dictyostelium,Dictyostelium discoideum,Dictyostelium discoideum AX4","Dictyostelium discoideum AX4","Mycetozoa",null,"Elizabethkingia anophelis Ag1","Bacteroidetes"]
["ref|XP_640317.1|",66812276,"cellular organisms,Eukaryota,Amoebozoa,Mycetozoa,Dictyosteliida,Dictyostelium,Dictyostelium discoideum,Dictyostelium discoideum AX4","Dictyostelium discoideum AX4","Mycetozoa",null,"Emiliania huxleyi virus 86","Phycodnaviridae"]
["ref|XP_651491.1|",67471071,"cellular organisms,Eukaryota,Amoebozoa,Archamoebae,Entamoebidae,Entamoeba,Entamoeba histolytica,Entamoeba histolytica HM-1:IMSS","Entamoeba histolytica HM-1:IMSS","Archamoebae",null,"Encephalitozoon cuniculi GB-M1","Fungi"]
["ref|XP_654216.1|",67477511,"cellular organisms,Eukaryota,Amoebozoa,Archamoebae,Entamoebidae,Entamoeba,Entamoeba histolytica,Entamoeba histolytica HM-1:IMSS","Entamoeba histolytica HM-1:IMSS","Archamoebae",null,"Encephalitozoon intestinalis ATCC 50506","Fungi"]
["ref|XP_668015.1|",67623465,"cellular organisms,Eukaryota,Alveolata,Apicomplexa,Coccidia,Eucoccidiorida,Eimeriorina,Cryptosporidiidae,Cryptosporidium,Cryptosporidium hominis,Cryptosporidium hominis TU502","Cryptosporidium hominis TU502","Apicomplexa",null,"Entamoeba dispar SAW760","Archamoebae"]
["ref|XP_710329.1|",68491774,"cellular organisms,Eukaryota,Opisthokonta,Fungi,Dikarya,Ascomycota,saccharomyceta,Saccharomycotina,Saccharomycetes,Saccharomycetales,mitosporic Saccharomycetales,Candida,Candida albicans,Candida albicans SC5314","Candida albicans SC5314","Fungi",null,"Entamoeba histolytica HM-1:IMSS","Archamoebae"]
["ref|XP_719025.1|",68473844,"cellular organisms,Eukaryota,Opisthokonta,Fungi,Dikarya,Ascomycota,saccharomyceta,Saccharomycotina,Saccharomycetes,Saccharomycetales,mitosporic Saccharomycetales,Candida,Candida albicans,Candida albicans SC5314","Candida albicans SC5314","Fungi",null,"Enterobacteria phage Phi1","Caudovirales"]
["ref|XP_722538.1|",68466685,"cellular organisms,Eukaryota,Opisthokonta,Fungi,Dikarya,Ascomycota,saccharomyceta,Saccharomycotina,Saccharomycetes,Saccharomycetales,mitosporic Saccharomycetales,Candida,Candida albicans,Candida albicans SC5314","Candida albicans SC5314","Fungi",null,"Enterobacteria phage vB_EcoM-VR7","Caudovirales"]
["ref|XP_729399.1|",83273441,"cellular organisms,Eukaryota,Alveolata,Apicomplexa,Aconoidasida,Haemosporida,Plasmodium,Plasmodium (Vinckeia),Plasmodium yoelii,Plasmodium yoelii yoelii,Plasmodium yoelii yoelii 17XNL","Plasmodium yoelii yoelii 17XNL","Apicomplexa",null,"Enterococcus faecalis DS5","Bacilli"]
["ref|XP_731090.1|",83317275,"cellular organisms,Eukaryota,Alveolata,Apicomplexa,Aconoidasida,Haemosporida,Plasmodium,Plasmodium (Vinckeia),Plasmodium yoelii,Plasmodium yoelii yoelii,Plasmodium yoelii yoelii 17XNL","Plasmodium yoelii yoelii 17XNL","Apicomplexa",null,"Enterococcus hirae ATCC 9790","Bacilli"]
["ref|XP_735468.1|",70925600,"cellular organisms,Eukaryota,Alveolata,Apicomplexa,Aconoidasida,Haemosporida,Plasmodium,Plasmodium (Vinckeia),Plasmodium chabaudi,Plasmodium chabaudi chabaudi","Plasmodium chabaudi chabaudi","Apicomplexa",null,"Enterococcus phage EFRM31","Caudovirales"]
["ref|XP_774982.1|",134112878,"cellular organisms,Eukaryota,Opisthokonta,Fungi,Dikarya,Basidiomycota,Agaricomycotina,Tremellomycetes,Tremellales,Tremellaceae,Filobasidiella,Filobasidiella/Cryptococcus neoformans species complex,Cryptococcus neoformans,Cryptococcus neoformans var. neoformans,Cryptococcus neoformans var. neoformans B-3501A","Cryptococcus neoformans var. neoformans B-3501A","Fungi",null,"Enterocytozoon bieneusi H348","Fungi"]
["ref|XP_785593.3|",390332103,"cellular organisms,Eukaryota,Opisthokonta,Metazoa,Eumetazoa,Bilateria,Coelomata,Deuterostomia,Echinodermata,Eleutherozoa,Echinozoa,Echinoidea,Euechinoidea,Echinacea,Echinoida,Strongylocentrotidae,Strongylocentrotus,Strongylocentrotus purpuratus","Strongylocentrotus purpuratus","Metazoa",null,"Equus caballus","Metazoa"]
["ref|XP_787396.3|",390367713,"cellular organisms,Eukaryota,Opisthokonta,Metazoa,Eumetazoa,Bilateria,Coelomata,Deuterostomia,Echinodermata,Eleutherozoa,Echinozoa,Echinoidea,Euechinoidea,Echinacea,Echinoida,Strongylocentrotidae,Strongylocentrotus,Strongylocentrotus purpuratus","Strongylocentrotus purpuratus","Metazoa",null,"Eremococcus coleocola ACS-139-V-Col8","Bacilli"]
["ref|XP_818821.1|",71663662,"cellular organisms,Eukaryota,Euglenozoa,Kinetoplastida,Trypanosomatidae,Trypanosoma,Schizotrypanum,Trypanosoma cruzi,Trypanosoma cruzi strain CL Brener","Trypanosoma cruzi strain CL Brener","Kinetoplastida",null,"Erythrobacter sp. SD-21","Alphaproteobacteria"]
["ref|XP_820186.1|",71666455,"cellular organisms,Eukaryota,Euglenozoa,Kinetoplastida,Trypanosomatidae,Trypanosoma,Schizotrypanum,Trypanosoma cruzi,Trypanosoma cruzi strain CL Brener","Trypanosoma cruzi strain CL Brener","Kinetoplastida",null,"Ethanoligenens harbinense YUAN-3","Clostridia"]
["ref|XP_846083.1|",72391578,"cellular organisms,Eukaryota,Euglenozoa,Kinetoplastida,Trypanosomatidae,Trypanosoma,Trypanozoon,Trypanosoma brucei,Trypanosoma brucei brucei,Trypanosoma brucei brucei strain 927/4 GUTat10.1","Trypanosoma brucei brucei strain 927/4 GUTat10.1","Kinetoplastida",null,"Eubacterium biforme DSM 3989","Erysipelotrichi"]
["ref|XP_971669.2|",189234306,"cellular organisms,Eukaryota,Opisthokonta,Metazoa,Eumetazoa,Bilateria,Coelomata,Protostomia,Ecdysozoa,Panarthropoda,Arthropoda,Mandibulata,Pancrustacea,Hexapoda,Insecta,Dicondylia,Pterygota,Neoptera,Endopterygota,Coleoptera,Polyphaga,Cucujiformia,Tenebrionoidea,Tenebrionidae,Tribolium,Tribolium castaneum","Tribolium castaneum","Metazoa",null,"Eubacterium sp. 3_1_31","Clostridia"]
["ref|YP_001008784.1|",123967926,"cellular organisms,Bacteria,Cyanobacteria,Prochlorales,Prochlorococcaceae,Prochlorococcus,Prochlorococcus marinus,Prochlorococcus marinus str. AS9601","Prochlorococcus marinus str. AS9601","Prochlorales",null,"Eubacterium yurii subsp. margaretiae ATCC 43715","Clostridia"]
["ref|YP_001037511.1|",125973601,"cellular organisms,Bacteria,Firmicutes,Clostridia,Clostridiales,Clostridiaceae,Clostridium,Clostridium thermocellum,Clostridium thermocellum ATCC 27405","Clostridium thermocellum ATCC 27405","Clostridia",null,"Feldmannia species virus","Phycodnaviridae"]
["ref|YP_001130142.1|",145219433,"cellular organisms,Bacteria,Bacteroidetes/Chlorobi group,Chlorobi,Chlorobia,Chlorobiales,Chlorobiaceae,Chlorobium/Pelodictyon group,Chlorobium,Chlorobium phaeovibrioides,Chlorobium phaeovibrioides DSM 265","Chlorobium phaeovibrioides DSM 265","Chlorobi",null,"Ferroplasma acidarmanus fer1","Thermoplasmata"]
["ref|YP_001244238.1|",148269778,"cellular organisms,Bacteria,Thermotogae,Thermotogae,Thermotogales,Thermotogaceae,Thermotoga,Thermotoga petrophila,Thermotoga petrophila RKU-1","Thermotoga petrophila RKU-1","Thermotogae",null,"Fibrobacter succinogenes subsp. succinogenes S85","Fibrobacteres"]
["ref|YP_001252723.1|",148378182,"cellular organisms,Bacteria,Firmicutes,Clostridia,Clostridiales,Clostridiaceae,Clostridium,Clostridium botulinum,Clostridium botulinum A,Clostridium botulinum A str. ATCC 3502","Clostridium botulinum A str. ATCC 3502","Clostridia",null,"Finegoldia magna ATCC 29328","Clostridia"]
["ref|YP_001259980.1|",148557804,"cellular organisms,Bacteria,Fusobacteria,Fusobacteriia,Fusobacteriales,Fusobacteriaceae,Fusobacterium,Fusobacterium nucleatum,Fusobacterium nucleatum subsp. polymorphum,Fusobacterium nucleatum subsp. polymorphum ATCC 10953","Fusobacterium nucleatum subsp. polymorphum ATCC 10953","Fusobacteriia",null,"Fischerella sp. JSC-11","Stigonematales"]
["ref|YP_001264066.1|",148556484,"cellular organisms,Bacteria,Proteobacteria,Alphaproteobacteria,Sphingomonadales,Sphingomonadaceae,Sphingomonas,Sphingomonas wittichii,Sphingomonas wittichii RW1","Sphingomonas wittichii RW1","Alphaproteobacteria",null,"Flavobacteria bacterium BAL38","Bacteroidetes"]
["ref|YP_001301243.1|",150006499,"cellular organisms,Bacteria,Bacteroidetes/Chlorobi group,Bacteroidetes,Bacteroidia,Bacteroidales,Bacteroidaceae,Bacteroides,Bacteroides vulgatus,Bacteroides vulgatus ATCC 8482","Bacteroides vulgatus ATCC 8482","Bacteroidetes",null,"Flavobacterium indicum GPTSA100-9","Bacteroidetes"]
["ref|YP_001356155.1|",152990433,"cellular organisms,Bacteria,Proteobacteria,delta/epsilon subdivisions,Epsilonproteobacteria,unclassified Epsilonproteobacteria,Nitratiruptor,Nitratiruptor sp. SB155-2","Nitratiruptor sp. SB155-2","delta-epsilon_subdivisions",null,"Flavobacterium sp. CF136","Bacteroidetes"]
["ref|YP_001425723.1|",155370189,"Viruses,dsDNA viruses, no RNA stage,Phycodnaviridae,Chlorovirus,Paramecium bursaria Chlorella virus A1,Paramecium bursaria Chlorella virus FR483","Paramecium bursaria Chlorella virus FR483","Phycodnaviridae",null,"Fluoribacter dumoffii Tex-KL","Gammaproteobacteria"]
["ref|YP_001426373.1|",155370839,"Viruses,dsDNA viruses, no RNA stage,Phycodnaviridae,Chlorovirus,Paramecium bursaria Chlorella virus A1,Paramecium bursaria Chlorella virus FR483","Paramecium bursaria Chlorella virus FR483","Phycodnaviridae",null,"Fluviicola taffensis DSM 16823","Bacteroidetes"]
["ref|YP_001427311.1|",155371777,"Viruses,dsDNA viruses, no RNA stage,Phycodnaviridae,Chlorovirus,unclassified Chlorovirus,Acanthocystis turfacea Chlorella virus 1","Acanthocystis turfacea Chlorella virus 1","Phycodnaviridae",null,"Francisella philomiragia subsp. philomiragia ATCC 25015","Gammaproteobacteria"]
["ref|YP_001435882.1|",156938086,"cellular organisms,Archaea,Crenarchaeota,Thermoprotei,Desulfurococcales,Desulfurococcaceae,Ignicoccus,Ignicoccus hospitalis,Ignicoccus hospitalis KIN4/I","Ignicoccus hospitalis KIN4/I","Thermoprotei",null,"Frankia sp. EAN1pec","Actinobacteria"]
["ref|YP_001449605.1|",157150630,"cellular organisms,Bacteria,Firmicutes,Bacilli,Lactobacillales,Streptococcaceae,Streptococcus,Streptococcus gordonii,Streptococcus gordonii str. Challis,Streptococcus gordonii str. Challis substr. CH1","Streptococcus gordonii str. Challis substr. CH1","Bacilli",null,"Frateuria aurantia DSM 6220","Gammaproteobacteria"]
["ref|YP_001469486.1|",157311443,"Viruses,dsDNA viruses, no RNA stage,Caudovirales,Myoviridae,Tevenvirinae,T4-like viruses,unclassified T4-like viruses,Enterobacteria phage Phi1","Enterobacteria phage Phi1","Caudovirales",null,"Fusobacterium mortiferum ATCC 9817","Fusobacteriia"]
["ref|YP_001492810.1|",157804261,"cellular organisms,Bacteria,Proteobacteria,Alphaproteobacteria,Rickettsiales,Rickettsiaceae,Rickettsieae,Rickettsia,typhus group,Rickettsia canadensis,Rickettsia canadensis str. McKiel","Rickettsia canadensis str. McKiel","Alphaproteobacteria",null,"Fusobacterium nucleatum subsp. polymorphum ATCC 10953","Fusobacteriia"]
["ref|YP_001496729.1|",157827665,"cellular organisms,Bacteria,Proteobacteria,Alphaproteobacteria,Rickettsiales,Rickettsiaceae,Rickettsieae,Rickettsia,belli group,Rickettsia bellii,Rickettsia bellii OSU 85-389","Rickettsia bellii OSU 85-389","Alphaproteobacteria",null,"Fusobacterium periodonticum ATCC 33693","Fusobacteriia"]
["ref|YP_001497834.1|",157952942,"Viruses,dsDNA viruses, no RNA stage,Phycodnaviridae,Chlorovirus,Paramecium bursaria Chlorella virus NY2A","Paramecium bursaria Chlorella virus NY2A","Phycodnaviridae",null,"Gallibacterium anatis UMN179","Gammaproteobacteria"]
["ref|YP_001498525.1|",157953634,"Viruses,dsDNA viruses, no RNA stage,Phycodnaviridae,Chlorovirus,unclassified Chlorovirus,Paramecium bursaria Chlorella virus AR158","Paramecium bursaria Chlorella virus AR158","Phycodnaviridae",null,"Gallus gallus","Metazoa"]
["ref|YP_001498658.1|",157953767,"Viruses,dsDNA viruses, no RNA stage,Phycodnaviridae,Chlorovirus,unclassified Chlorovirus,Paramecium bursaria Chlorella virus AR158","Paramecium bursaria Chlorella virus AR158","Phycodnaviridae",null,"Gemella haemolysans ATCC 10379","Bacilli"]
["ref|YP_001518116.1|",158336941,"cellular organisms,Bacteria,Cyanobacteria,Chroococcales,Acaryochloris,Acaryochloris marina,Acaryochloris marina MBIC11017","Acaryochloris marina MBIC11017","Chroococcales",null,"Geobacillus kaustophilus HTA426","Bacilli"]
["ref|YP_001542924.1|",159896677,"cellular organisms,Bacteria,Chloroflexi,Chloroflexi,Herpetosiphonales,Herpetosiphonaceae,Herpetosiphon,Herpetosiphon aurantiacus,Herpetosiphon aurantiacus DSM 785","Herpetosiphon aurantiacus DSM 785","Chloroflexi",null,"Giardia lamblia ATCC 50803","Diplomonadida"]
["ref|YP_001554412.1|",160875096,"cellular organisms,Bacteria,Proteobacteria,Gammaproteobacteria,Alteromonadales,Shewanellaceae,Shewanella,Shewanella baltica,Shewanella baltica OS195","Shewanella baltica OS195","Gammaproteobacteria",null,"Gibberella zeae PH-1","Fungi"]
["ref|YP_001621277.1|",162448145,"cellular organisms,Bacteria,Tenericutes,Mollicutes,Acholeplasmatales,Acholeplasmataceae,Acholeplasma,Acholeplasma laidlawii,Acholeplasma laidlawii PG-8A","Acholeplasma laidlawii PG-8A","Mollicutes",null,"Gillisia limnaea DSM 15749","Bacteroidetes"]
["ref|YP_001648191.1|",163955087,"Viruses,dsDNA viruses, no RNA stage,Phycodnaviridae,unclassified Phycodnaviridae,Ostreococcus virus OsV5","Ostreococcus virus OsV5","Phycodnaviridae",null,"Gluconacetobacter europaeus LMG 18494","Alphaproteobacteria"]
["ref|YP_001648248.1|",163955144,"Viruses,dsDNA viruses, no RNA stage,Phycodnaviridae,unclassified Phycodnaviridae,Ostreococcus virus OsV5","Ostreococcus virus OsV5","Phycodnaviridae",null,"Glycine max","Streptophyta"]
["ref|YP_001648276.1|",163955172,"Viruses,dsDNA viruses, no RNA stage,Phycodnaviridae,unclassified Phycodnaviridae,Ostreococcus virus OsV5","Ostreococcus virus OsV5","Phycodnaviridae",null,"Granulicatella adiacens ATCC 49175","Bacilli"]
["ref|YP_001655450.1|",166363177,"cellular organisms,Bacteria,Cyanobacteria,Chroococcales,Microcystis,Microcystis aeruginosa,Microcystis aeruginosa NIES-843","Microcystis aeruginosa NIES-843","Chroococcales",null,"Granulicella tundricola MP5ACTX9","Acidobacteria"]
["ref|YP_001663176.1|",167040191,"cellular organisms,Bacteria,Firmicutes,Clostridia,Thermoanaerobacterales,Thermoanaerobacteraceae,Thermoanaerobacter,Thermoanaerobacter sp. X514","Thermoanaerobacter sp. X514","Clostridia",null,"Haemophilus parasuis SH0165","Gammaproteobacteria"]
["ref|YP_001673090.1|",167622796,"cellular organisms,Bacteria,Proteobacteria,Gammaproteobacteria,Alteromonadales,Shewanellaceae,Shewanella,Shewanella halifaxensis,Shewanella halifaxensis HAW-EB4","Shewanella halifaxensis HAW-EB4","Gammaproteobacteria",null,"Hafnia alvei ATCC 51873","Gammaproteobacteria"]
["ref|YP_001692629.1|",169825018,"cellular organisms,Bacteria,Firmicutes,Clostridia,Clostridiales,Clostridiales incertae sedis,Clostridiales Family XI. Incertae Sedis,Finegoldia,Finegoldia magna,Finegoldia magna ATCC 29328","Finegoldia magna ATCC 29328","Clostridia",null,"Hahella chejuensis KCTC 2396","Gammaproteobacteria"]
["ref|YP_001741631.1|",218961856,"cellular organisms,Bacteria,unclassified Bacteria,candidate division WWE1,Candidatus Cloacamonas,Candidatus Cloacamonas acidaminovorans","Candidatus Cloacamonas acidaminovorans","candidate_division_WWE1",null,"Halalkalicoccus jeotgali B3","Halobacteria"]
["ref|YP_001750222.1|",170722534,"cellular organisms,Bacteria,Proteobacteria,Gammaproteobacteria,Pseudomonadales,Pseudomonadaceae,Pseudomonas,Pseudomonas putida group,Pseudomonas putida,Pseudomonas putida W619","Pseudomonas putida W619","Gammaproteobacteria",null,"Halanaerobium hydrogeniformans","Clostridia"]
["ref|YP_001779970.1|",170754686,"cellular organisms,Bacteria,Firmicutes,Clostridia,Clostridiales,Clostridiaceae,Clostridium,Clostridium botulinum,Clostridium botulinum B,Clostridium botulinum B1,Clostridium botulinum B1 str. Okra","Clostridium botulinum B1 str. Okra","Clostridia",null,"Haliscomenobacter hydrossis DSM 1100","Bacteroidetes"]
["ref|YP_001817703.1|",182412637,"cellular organisms,Bacteria,Chlamydiae/Verrucomicrobia group,Verrucomicrobia,Opitutae,Opitutales,Opitutaceae,Opitutus,Opitutus terrae,Opitutus terrae PB90-1","Opitutus terrae PB90-1","Verrucomicrobia",null,"Haloarcula marismortui ATCC 43049","Halobacteria"]
["ref|YP_001860804.1|",186473462,"cellular organisms,Bacteria,Proteobacteria,Betaproteobacteria,Burkholderiales,Burkholderiaceae,Burkholderia,Burkholderia phymatum,Burkholderia phymatum STM815","Burkholderia phymatum STM815","Betaproteobacteria",null,"Halomonas boliviensis LC1","Gammaproteobacteria"]
["ref|YP_001866131.1|",186682935,"cellular organisms,Bacteria,Cyanobacteria,Nostocales,Nostocaceae,Nostoc,Nostoc punctiforme,Nostoc punctiforme PCC 73102","Nostoc punctiforme PCC 73102","Nostocales",null,"Haloterrigena turkmenica DSM 5511","Halobacteria"]
["ref|YP_001899963.1|",187929476,"cellular organisms,Bacteria,Proteobacteria,Betaproteobacteria,Burkholderiales,Burkholderiaceae,Ralstonia,Ralstonia pickettii,Ralstonia pickettii 12J","Ralstonia pickettii 12J","Betaproteobacteria",null,"Helicobacter cetorum MIT 00-7128","delta-epsilon_subdivisions"]
["ref|YP_001922493.1|",188587624,"cellular organisms,Bacteria,Firmicutes,Clostridia,Clostridiales,Clostridiaceae,Clostridium,Clostridium botulinum,Clostridium botulinum E,Clostridium botulinum E3 str. Alaska E43","Clostridium botulinum E3 str. Alaska E43","Clostridia",null,"Helicobacter cinaedi CCUG 18818","delta-epsilon_subdivisions"]
["ref|YP_001939517.1|",189218876,"cellular organisms,Bacteria,Chlamydiae/Verrucomicrobia group,Verrucomicrobia,unclassified Verrucomicrobia,Methylacidiphilales,Methylacidiphilaceae,Methylacidiphilum,Methylacidiphilum infernorum,Methylacidiphilum infernorum V4","Methylacidiphilum infernorum V4","Verrucomicrobia",null,"Helicobacter pylori 98-10","delta-epsilon_subdivisions"]
["ref|YP_001997940.1|",193211987,"cellular organisms,Bacteria,Bacteroidetes/Chlorobi group,Chlorobi,Chlorobia,Chlorobiales,Chlorobiaceae,Chlorobaculum,Chlorobaculum parvum,Chlorobaculum parvum NCIB 8327","Chlorobaculum parvum NCIB 8327","Chlorobi",null,"Helicobacter pylori PeCan18","delta-epsilon_subdivisions"]
["ref|YP_002048793.1|",194476614,"cellular organisms,Eukaryota,Rhizaria,Cercozoa,Silicofilosea,Euglyphida,Paulinellidae,Paulinella,Paulinella chromatophora","Paulinella chromatophora","Cercozoa",null,"Helicobacter pylori PeCan4","delta-epsilon_subdivisions"]
["ref|YP_002154742.1|",197322469,"Viruses,dsDNA viruses, no RNA stage,Phycodnaviridae,Phaeovirus,Feldmannia species virus","Feldmannia species virus","Phycodnaviridae",null,"Helicobacter pylori SNT49","delta-epsilon_subdivisions"]
["ref|YP_002214937.1|",198242606,"cellular organisms,Bacteria,Proteobacteria,Gammaproteobacteria,Enterobacteriales,Enterobacteriaceae,Salmonella,Salmonella enterica,Salmonella enterica subsp. enterica,Salmonella enterica subsp. enterica serovar Dublin,Salmonella enterica subsp. enterica serovar Dublin str. CT_02021853","Salmonella enterica subsp. enterica serovar Dublin str. CT_02021853","Gammaproteobacteria",null,"Helicobacter suis HS1","delta-epsilon_subdivisions"]
["ref|YP_002221582.1|",200003997,"Viruses,dsDNA viruses, no RNA stage,Caudovirales,Siphoviridae,unclassified Siphoviridae,Bacteroides phage B40-8","Bacteroides phage B40-8","Caudovirales",null,"Herpetosiphon aurantiacus DSM 785","Chloroflexi"]
["ref|YP_002249720.1|",206890517,"cellular organisms,Bacteria,Nitrospirae,Nitrospira,Nitrospirales,Nitrospiraceae,Thermodesulfovibrio,Thermodesulfovibrio yellowstonii,Thermodesulfovibrio yellowstonii DSM 11347","Thermodesulfovibrio yellowstonii DSM 11347","Nitrospira",null,"Hirschia baltica ATCC 49814","Alphaproteobacteria"]
["ref|YP_002308869.1|",212550552,"cellular organisms,Bacteria,Bacteroidetes/Chlorobi group,Bacteroidetes,Bacteroidia,Bacteroidales,unclassified Bacteroidales,Candidatus Azobacteroides,Candidatus Azobacteroides pseudotrichonymphae,Candidatus Azobacteroides pseudotrichonymphae genomovar. CFP2","Candidatus Azobacteroides pseudotrichonymphae genomovar. CFP2","Bacteroidetes",null,"Human herpesvirus 8","Herpesvirales"]
["ref|YP_002314702.1|",212638182,"cellular organisms,Bacteria,Firmicutes,Bacilli,Bacillales,Bacillaceae,Anoxybacillus,Anoxybacillus flavithermus,Anoxybacillus flavithermus WK1","Anoxybacillus flavithermus WK1","Bacilli",null,"Human papillomavirus type 26","Papillomaviridae"]
["ref|YP_002380642.1|",218442316,"cellular organisms,Bacteria,Cyanobacteria,Chroococcales,Cyanothece,Cyanothece sp. PCC 7424","Cyanothece sp. PCC 7424","Chroococcales",null,"Hydra magnipapillata","Metazoa"]
["ref|YP_002475374.1|",219870999,"cellular organisms,Bacteria,Proteobacteria,Gammaproteobacteria,Pasteurellales,Pasteurellaceae,Haemophilus,Haemophilus parasuis,Haemophilus parasuis SH0165","Haemophilus parasuis SH0165","Gammaproteobacteria",null,"Hyperthermus butylicus DSM 5456","Thermoprotei"]
["ref|YP_002482781.1|",220907470,"cellular organisms,Bacteria,Cyanobacteria,Chroococcales,Cyanothece,Cyanothece sp. PCC 7425","Cyanothece sp. PCC 7425","Chroococcales",null,"Ignavibacterium album JCM 16511","Ignavibacteria"]
["ref|YP_002544338.1|",222085808,"cellular organisms,Bacteria,Proteobacteria,Alphaproteobacteria,Rhizobiales,Rhizobiaceae,Rhizobium/Agrobacterium group,Agrobacterium,Agrobacterium tumefaciens complex,Agrobacterium tumefaciens,Agrobacterium radiobacter K84","Agrobacterium radiobacter K84","Alphaproteobacteria",null,"Ignicoccus hospitalis KIN4/I","Thermoprotei"]
["ref|YP_002562308.1|",222153131,"cellular organisms,Bacteria,Firmicutes,Bacilli,Lactobacillales,Streptococcaceae,Streptococcus,Streptococcus uberis,Streptococcus uberis 0140J","Streptococcus uberis 0140J","Bacilli",null,"Ilyobacter polytropus DSM 2926","Fusobacteriia"]
["ref|YP_002604070.1|",224369906,"cellular organisms,Bacteria,Proteobacteria,delta/epsilon subdivisions,Deltaproteobacteria,Desulfobacterales,Desulfobacteraceae,Desulfobacterium,Desulfobacterium autotrophicum,Desulfobacterium autotrophicum HRM2","Desulfobacterium autotrophicum HRM2","delta-epsilon_subdivisions",null,"Ixodes scapularis","Metazoa"]
["ref|YP_002607133.1|",224372761,"cellular organisms,Bacteria,Proteobacteria,delta/epsilon subdivisions,Epsilonproteobacteria,Nautiliales,Nautiliaceae,Nautilia,Nautilia profundicola,Nautilia profundicola AmH","Nautilia profundicola AmH","delta-epsilon_subdivisions",null,"Kangiella koreensis DSM 16069","Gammaproteobacteria"]
["ref|YP_002873089.1|",229590970,"cellular organisms,Bacteria,Proteobacteria,Gammaproteobacteria,Pseudomonadales,Pseudomonadaceae,Pseudomonas,Pseudomonas fluorescens group,Pseudomonas fluorescens,Pseudomonas fluorescens SBW25","Pseudomonas fluorescens SBW25","Gammaproteobacteria",null,"Kingella kingae PYKK081","Betaproteobacteria"]
["ref|YP_003049154.1|",253997090,"cellular organisms,Bacteria,Proteobacteria,Betaproteobacteria,Methylophilales,Methylophilaceae,Methylotenera,Methylotenera mobilis,Methylotenera mobilis JLW8","Methylotenera mobilis JLW8","Betaproteobacteria",null,"Klebsiella pneumoniae KCTC 2242","Gammaproteobacteria"]
["ref|YP_003052410.1|",254000347,"cellular organisms,Bacteria,Proteobacteria,Betaproteobacteria,Methylophilales,Methylophilaceae,Methylovorus,Methylovorus glucosotrophus,Methylovorus glucosetrophus SIP3-4","Methylovorus glucosetrophus SIP3-4","Betaproteobacteria",null,"Klebsiella sp. MS 92-3","Gammaproteobacteria"]
["ref|YP_003059487.1|",254293464,"cellular organisms,Bacteria,Proteobacteria,Alphaproteobacteria,Rhodobacterales,Hyphomonadaceae,Hirschia,Hirschia baltica,Hirschia baltica ATCC 49814","Hirschia baltica ATCC 49814","Alphaproteobacteria",null,"Kluyveromyces lactis NRRL Y-1140","Fungi"]
["ref|YP_003060599.1|",254294576,"cellular organisms,Bacteria,Proteobacteria,Alphaproteobacteria,Rhodobacterales,Hyphomonadaceae,Hirschia,Hirschia baltica,Hirschia baltica ATCC 49814","Hirschia baltica ATCC 49814","Alphaproteobacteria",null,"Kordia algicida OT-1","Bacteroidetes"]
["ref|YP_003115890.1|",256394326,"cellular organisms,Bacteria,Actinobacteria,Actinobacteria,Actinobacteridae,Actinomycetales,Catenulisporineae,Catenulisporaceae,Catenulispora,Catenulispora acidiphila,Catenulispora acidiphila DSM 44928","Catenulispora acidiphila DSM 44928","Actinobacteria",null,"Krokinobacter sp. 4H-3-7-5","Bacteroidetes"]
["ref|YP_003121264.1|",256420611,"cellular organisms,Bacteria,Bacteroidetes/Chlorobi group,Bacteroidetes,Sphingobacteriia,Sphingobacteriales,Chitinophagaceae,Chitinophaga,Chitinophaga pinensis,Chitinophaga pinensis DSM 2588","Chitinophaga pinensis DSM 2588","Bacteroidetes",null,"Ktedonobacter racemifer DSM 44963","Ktedonobacteria"]
["ref|YP_003137459.1|",257059571,"cellular organisms,Bacteria,Cyanobacteria,Chroococcales,Cyanothece,Cyanothece sp. PCC 8802","Cyanothece sp. PCC 8802","Chroococcales",null,"Laccaria bicolor S238N-H82","Fungi"]
["ref|YP_003189636.1|",258513414,"cellular organisms,Bacteria,Firmicutes,Clostridia,Clostridiales,Peptococcaceae,Desulfotomaculum,Desulfotomaculum acetoxidans,Desulfotomaculum acetoxidans DSM 771","Desulfotomaculum acetoxidans DSM 771","Clostridia",null,"Lachancea thermotolerans CBS 6340","Fungi"]
["ref|YP_003247146.1|",261402922,"cellular organisms,Archaea,Euryarchaeota,Methanococci,Methanococcales,Methanocaldococcaceae,Methanocaldococcus,Methanocaldococcus vulcanius,Methanocaldococcus vulcanius M7","Methanocaldococcus vulcanius M7","Methanococci",null,"Lachnospiraceae bacterium 9_1_43BFAA","Clostridia"]
["ref|YP_003250589.1|",261416906,"cellular organisms,Bacteria,Fibrobacteres/Acidobacteria group,Fibrobacteres,Fibrobacteria,Fibrobacterales,Fibrobacteraceae,Fibrobacter,Fibrobacter succinogenes,Fibrobacter succinogenes subsp. succinogenes,Fibrobacter succinogenes subsp. succinogenes S85","Fibrobacter succinogenes subsp. succinogenes S85","Fibrobacteres",null,"Lachnospiraceae bacterium oral taxon 082 str. F0431","Clostridia"]
["ref|YP_003283718.1|",262340863,"cellular organisms,Bacteria,Bacteroidetes/Chlorobi group,Bacteroidetes,Flavobacteriia,Flavobacteriales,Blattabacteriaceae,Blattabacterium,Blattabacterium sp. (Blattella germanica),Blattabacterium sp. (Blattella germanica) str. Bge","Blattabacterium sp. (Blattella germanica) str. Bge","Bacteroidetes",null,"Lacinutrix sp. 5H-3-7-4","Bacteroidetes"]
["ref|YP_003342547.1|",271968351,"cellular organisms,Bacteria,Actinobacteria,Actinobacteria,Actinobacteridae,Actinomycetales,Streptosporangineae,Streptosporangiaceae,Streptosporangium,Streptosporangium roseum,Streptosporangium roseum DSM 43021","Streptosporangium roseum DSM 43021","Actinobacteria",null,"Lactobacillus amylolyticus DSM 11664","Bacilli"]
["ref|YP_003347150.1|",281413071,"cellular organisms,Bacteria,Thermotogae,Thermotogae,Thermotogales,Thermotogaceae,Thermotoga,Thermotoga naphthophila,Thermotoga naphthophila RKU-10","Thermotoga naphthophila RKU-10","Thermotogae",null,"Lactobacillus coleohominis 101-4-CHN","Bacilli"]
["ref|YP_003366729.1|",283786864,"cellular organisms,Bacteria,Proteobacteria,Gammaproteobacteria,Enterobacteriales,Enterobacteriaceae,Citrobacter,Citrobacter rodentium,Citrobacter rodentium ICC168","Citrobacter rodentium ICC168","Gammaproteobacteria",null,"Lactobacillus coryniformis subsp. torquens KCTC 3535","Bacilli"]
["ref|YP_003389245.1|",284039315,"cellular organisms,Bacteria,Bacteroidetes/Chlorobi group,Bacteroidetes,Cytophagia,Cytophagales,Cytophagaceae,Spirosoma,Spirosoma linguale,Spirosoma linguale DSM 74","Spirosoma linguale DSM 74","Bacteroidetes",null,"Lactobacillus delbrueckii subsp. bulgaricus ND02","Bacilli"]
["ref|YP_003405279.1|",284167000,"cellular organisms,Archaea,Euryarchaeota,Halobacteria,Halobacteriales,Halobacteriaceae,Haloterrigena,Haloterrigena turkmenica,Haloterrigena turkmenica DSM 5511","Haloterrigena turkmenica DSM 5511","Halobacteria",null,"Lactobacillus hilgardii ATCC 8290","Bacilli"]
["ref|YP_003406772.1|",284504057,"Viruses,dsDNA viruses, no RNA stage,unclassified dsDNA viruses,Marseillevirus family,Marseillevirus","Marseillevirus","unclassified_dsDNA_viruses",null,"Lactobacillus hominis CRBIP 24.179","Bacilli"]
["ref|YP_003406944.1|",284504229,"Viruses,dsDNA viruses, no RNA stage,unclassified dsDNA viruses,Marseillevirus family,Marseillevirus","Marseillevirus","unclassified_dsDNA_viruses",null,"Lactobacillus phage Lc-Nu","Caudovirales"]
["ref|YP_003426367.1|",288554432,"cellular organisms,Bacteria,Firmicutes,Bacilli,Bacillales,Bacillaceae,Bacillus,Bacillus pseudofirmus,Bacillus pseudofirmus OF4","Bacillus pseudofirmus OF4","Bacilli",null,"Lactobacillus reuteri 100-23","Bacilli"]
["ref|YP_003494895.1|",290343528,"Viruses,dsDNA viruses, no RNA stage,Phycodnaviridae,unclassified Phycodnaviridae,Ostreococcus tauri virus 1","Ostreococcus tauri virus 1","Phycodnaviridae",null,"Lausannevirus","unclassified_dsDNA_viruses (Marseil)"]
["ref|YP_003494913.1|",290343546,"Viruses,dsDNA viruses, no RNA stage,Phycodnaviridae,unclassified Phycodnaviridae,Ostreococcus tauri virus 1","Ostreococcus tauri virus 1","Phycodnaviridae",null,"Legionella longbeachae D-4968","Gammaproteobacteria"]
["ref|YP_003494939.1|",290343572,"Viruses,dsDNA viruses, no RNA stage,Phycodnaviridae,unclassified Phycodnaviridae,Ostreococcus tauri virus 1","Ostreococcus tauri virus 1","Phycodnaviridae",null,"Leishmania braziliensis MHOM/BR/75/M2904","Kinetoplastida"]
["ref|YP_003509277.1|",291297999,"cellular organisms,Bacteria,Actinobacteria,Actinobacteria,Actinobacteridae,Actinomycetales,Glycomycineae,Glycomycetaceae,Stackebrandtia,Stackebrandtia nassauensis,Stackebrandtia nassauensis DSM 44728","Stackebrandtia nassauensis DSM 44728","Actinobacteria",null,"Leishmania donovani","Kinetoplastida"]
["ref|YP_003557121.1|",294141143,"cellular organisms,Bacteria,Proteobacteria,Gammaproteobacteria,Alteromonadales,Shewanellaceae,Shewanella,Shewanella violacea,Shewanella violacea DSS12","Shewanella violacea DSS12","Gammaproteobacteria",null,"Leishmania infantum JPCM5","Kinetoplastida"]
["ref|YP_003577476.1|",294676861,"cellular organisms,Bacteria,Proteobacteria,Alphaproteobacteria,Rhodobacterales,Rhodobacteraceae,Rhodobacter,Rhodobacter capsulatus,Rhodobacter capsulatus SB 1003","Rhodobacter capsulatus SB 1003","Alphaproteobacteria",null,"Leishmania major strain Friedlin","Kinetoplastida"]
["ref|YP_003586683.1|",295136007,"cellular organisms,Bacteria,Bacteroidetes/Chlorobi group,Bacteroidetes,Flavobacteriia,Flavobacteriales,Flavobacteriaceae,Zunongwangia,Zunongwangia profunda,Zunongwangia profunda SM-A87","Zunongwangia profunda SM-A87","Bacteroidetes",null,"Lentisphaera araneosa HTCC2155","Lentisphaerae"]
["ref|YP_003593986.1|",295690293,"cellular organisms,Bacteria,Proteobacteria,Alphaproteobacteria,Caulobacterales,Caulobacteraceae,Caulobacter,Caulobacter segnis,Caulobacter segnis ATCC 21756","Caulobacter segnis ATCC 21756","Alphaproteobacteria",null,"Leptonema illini DSM 21528","Spirochaetia"]
["ref|YP_003675377.1|",297539608,"cellular organisms,Bacteria,Proteobacteria,Betaproteobacteria,Methylophilales,Methylophilaceae,Methylotenera,Methylotenera versatilis,Methylotenera versatilis 301","Methylotenera versatilis 301","Betaproteobacteria",null,"Leptospira interrogans serovar Lai str. 56601","Spirochaetia"]
["ref|YP_003698654.1|",297582874,"cellular organisms,Bacteria,Firmicutes,Bacilli,Bacillales,Bacillaceae,Bacillus,Bacillus selenitireducens,Bacillus selenitireducens MLS10","Bacillus selenitireducens MLS10","Bacilli",null,"Leptospira kirschneri serovar Bim str. 1051","Spirochaetia"]
["ref|YP_003726661.1|",298674911,"cellular organisms,Archaea,Euryarchaeota,Methanomicrobia,Methanosarcinales,Methanosarcinaceae,Methanohalobium,Methanohalobium evestigatum,Methanohalobium evestigatum Z-7303","Methanohalobium evestigatum Z-7303","Methanomicrobia",null,"Leptothrix ochracea L12","Betaproteobacteria"]
["ref|YP_003816061.1|",302348423,"cellular organisms,Archaea,Crenarchaeota,Thermoprotei,Acidilobales,Acidilobaceae,Acidilobus,Acidilobus saccharovorans,Acidilobus saccharovorans 345-15","Acidilobus saccharovorans 345-15","Thermoprotei",null,"Leuconostoc fallax KCTC 3537","Bacilli"]
["ref|YP_003825570.1|",302389749,"cellular organisms,Bacteria,Firmicutes,Clostridia,Thermoanaerobacterales,Thermoanaerobacterales Family III. Incertae Sedis,Thermosediminibacter,Thermosediminibacter oceani,Thermosediminibacter oceani DSM 16646","Thermosediminibacter oceani DSM 16646","Clostridia",null,"Listeria monocytogenes HCC23","Bacilli"]
["ref|YP_003830178.1|",302670218,"cellular organisms,Bacteria,Firmicutes,Clostridia,Clostridiales,Lachnospiraceae,Butyrivibrio,Clostridium proteoclasticum,Butyrivibrio proteoclasticus B316","Butyrivibrio proteoclasticus B316","Clostridia",null,"Loa loa","Metazoa"]
["ref|YP_003831833.1|",302671873,"cellular organisms,Bacteria,Firmicutes,Clostridia,Clostridiales,Lachnospiraceae,Butyrivibrio,Clostridium proteoclasticum,Butyrivibrio proteoclasticus B316","Butyrivibrio proteoclasticus B316","Clostridia",null,"Lodderomyces elongisporus NRRL YB-4239","Fungi"]
["ref|YP_003860762.1|",305664475,"cellular organisms,Bacteria,Bacteroidetes/Chlorobi group,Bacteroidetes,Flavobacteriia,Flavobacteriales,Flavobacteriaceae,Maribacter,Maribacter sp. HTCC2170","Maribacter sp. HTCC2170","Bacteroidetes",null,"Loxodonta africana","Metazoa"]
["ref|YP_003862027.1|",305665740,"cellular organisms,Bacteria,Bacteroidetes/Chlorobi group,Bacteroidetes,Flavobacteriia,Flavobacteriales,Flavobacteriaceae,Maribacter,Maribacter sp. HTCC2170","Maribacter sp. HTCC2170","Bacteroidetes",null,"Lyngbya sp. PCC 8106","Oscillatoriales"]
["ref|YP_003862685.1|",305666398,"cellular organisms,Bacteria,Bacteroidetes/Chlorobi group,Bacteroidetes,Flavobacteriia,Flavobacteriales,Flavobacteriaceae,Maribacter,Maribacter sp. HTCC2170","Maribacter sp. HTCC2170","Bacteroidetes",null,"Macaca mulatta","Metazoa"]
["ref|YP_003926970.1|",308182843,"cellular organisms,Bacteria,Proteobacteria,delta/epsilon subdivisions,Epsilonproteobacteria,Campylobacterales,Helicobacteraceae,Helicobacter,Helicobacter pylori,Helicobacter pylori PeCan4","Helicobacter pylori PeCan4","delta-epsilon_subdivisions",null,"Magnetospirillum magneticum AMB-1","Alphaproteobacteria"]
["ref|YP_003969668.1|",310831025,"Viruses,dsDNA viruses, no RNA stage,unclassified dsDNA viruses,Cafeteria roenbergensis virus BV-PW1","Cafeteria roenbergensis virus BV-PW1","unclassified_dsDNA_viruses",null,"Magnetospirillum magnetotacticum MS-1","Alphaproteobacteria"]
["ref|YP_003969763.1|",310831120,"Viruses,dsDNA viruses, no RNA stage,unclassified dsDNA viruses,Cafeteria roenbergensis virus BV-PW1","Cafeteria roenbergensis virus BV-PW1","unclassified_dsDNA_viruses",null,"Mannheimia haemolytica serotype A2 str. BOVINE","Gammaproteobacteria"]
["ref|YP_003969775.1|",310831132,"Viruses,dsDNA viruses, no RNA stage,unclassified dsDNA viruses,Cafeteria roenbergensis virus BV-PW1","Cafeteria roenbergensis virus BV-PW1","unclassified_dsDNA_viruses",null,"Maribacter sp. HTCC2170","Bacteroidetes"]
["ref|YP_003969816.1|",310831173,"Viruses,dsDNA viruses, no RNA stage,unclassified dsDNA viruses,Cafeteria roenbergensis virus BV-PW1","Cafeteria roenbergensis virus BV-PW1","unclassified_dsDNA_viruses",null,"Marseillevirus","unclassified_dsDNA_viruses (Marseil)"]
["ref|YP_003969817.1|",310831174,"Viruses,dsDNA viruses, no RNA stage,unclassified dsDNA viruses,Cafeteria roenbergensis virus BV-PW1","Cafeteria roenbergensis virus BV-PW1","unclassified_dsDNA_viruses",null,"Medicago truncatula","Streptophyta"]
["ref|YP_003969818.1|",310831175,"Viruses,dsDNA viruses, no RNA stage,unclassified dsDNA viruses,Cafeteria roenbergensis virus BV-PW1","Cafeteria roenbergensis virus BV-PW1","unclassified_dsDNA_viruses",null,"Megachile rotundata","Metazoa"]
["ref|YP_003969852.1|",310831209,"Viruses,dsDNA viruses, no RNA stage,unclassified dsDNA viruses,Cafeteria roenbergensis virus BV-PW1","Cafeteria roenbergensis virus BV-PW1","unclassified_dsDNA_viruses",null,"Megamonas funiformis YIT 11815","Negativicutes"]
["ref|YP_003969923.1|",310831280,"Viruses,dsDNA viruses, no RNA stage,unclassified dsDNA viruses,Cafeteria roenbergensis virus BV-PW1","Cafeteria roenbergensis virus BV-PW1","unclassified_dsDNA_viruses",null,"Megavirus chiliensis","Mimiviridae"]
["ref|YP_003969937.1|",310831294,"Viruses,dsDNA viruses, no RNA stage,unclassified dsDNA viruses,Cafeteria roenbergensis virus BV-PW1","Cafeteria roenbergensis virus BV-PW1","unclassified_dsDNA_viruses",null,"Mesoflavibacter zeaxanthinifaciens S86","Bacteroidetes"]
["ref|YP_003969947.1|",310831304,"Viruses,dsDNA viruses, no RNA stage,unclassified dsDNA viruses,Cafeteria roenbergensis virus BV-PW1","Cafeteria roenbergensis virus BV-PW1","unclassified_dsDNA_viruses",null,"Mesorhizobium amorphae CCNWGS0123","Alphaproteobacteria"]
["ref|YP_003969949.1|",310831306,"Viruses,dsDNA viruses, no RNA stage,unclassified dsDNA viruses,Cafeteria roenbergensis virus BV-PW1","Cafeteria roenbergensis virus BV-PW1","unclassified_dsDNA_viruses",null,"Metallosphaera cuprina Ar-4","Thermoprotei"]
["ref|YP_003969972.1|",310831329,"Viruses,dsDNA viruses, no RNA stage,unclassified dsDNA viruses,Cafeteria roenbergensis virus BV-PW1","Cafeteria roenbergensis virus BV-PW1","unclassified_dsDNA_viruses",null,"Metaseiulus occidentalis","Metazoa"]
["ref|YP_003969975.1|",310831332,"Viruses,dsDNA viruses, no RNA stage,unclassified dsDNA viruses,Cafeteria roenbergensis virus BV-PW1","Cafeteria roenbergensis virus BV-PW1","unclassified_dsDNA_viruses",null,"Methanocaldococcus jannaschii DSM 2661","Methanococci"]
["ref|YP_003969980.1|",310831337,"Viruses,dsDNA viruses, no RNA stage,unclassified dsDNA viruses,Cafeteria roenbergensis virus BV-PW1","Cafeteria roenbergensis virus BV-PW1","unclassified_dsDNA_viruses",null,"Methanocaldococcus vulcanius M7","Methanococci"]
["ref|YP_003969981.1|",310831338,"Viruses,dsDNA viruses, no RNA stage,unclassified dsDNA viruses,Cafeteria roenbergensis virus BV-PW1","Cafeteria roenbergensis virus BV-PW1","unclassified_dsDNA_viruses",null,"Methanococcus maripaludis S2","Methanococci"]
["ref|YP_003970015.1|",310831372,"Viruses,dsDNA viruses, no RNA stage,unclassified dsDNA viruses,Cafeteria roenbergensis virus BV-PW1","Cafeteria roenbergensis virus BV-PW1","unclassified_dsDNA_viruses",null,"Methanohalobium evestigatum Z-7303","Methanomicrobia"]
["ref|YP_003970029.1|",310831386,"Viruses,dsDNA viruses, no RNA stage,unclassified dsDNA viruses,Cafeteria roenbergensis virus BV-PW1","Cafeteria roenbergensis virus BV-PW1","unclassified_dsDNA_viruses",null,"Methanosaeta thermophila PT","Methanomicrobia"]
["ref|YP_003970033.1|",310831390,"Viruses,dsDNA viruses, no RNA stage,unclassified dsDNA viruses,Cafeteria roenbergensis virus BV-PW1","Cafeteria roenbergensis virus BV-PW1","unclassified_dsDNA_viruses",null,"Methanosalsum zhilinae DSM 4017","Methanomicrobia"]
["ref|YP_003970075.1|",310831432,"Viruses,dsDNA viruses, no RNA stage,unclassified dsDNA viruses,Cafeteria roenbergensis virus BV-PW1","Cafeteria roenbergensis virus BV-PW1","unclassified_dsDNA_viruses",null,"Methylacidiphilum fumariolicum SolV","Verrucomicrobia"]
["ref|YP_003970079.1|",310831436,"Viruses,dsDNA viruses, no RNA stage,unclassified dsDNA viruses,Cafeteria roenbergensis virus BV-PW1","Cafeteria roenbergensis virus BV-PW1","unclassified_dsDNA_viruses",null,"Methylacidiphilum infernorum V4","Verrucomicrobia"]
["ref|YP_003970105.1|",310831462,"Viruses,dsDNA viruses, no RNA stage,unclassified dsDNA viruses,Cafeteria roenbergensis virus BV-PW1","Cafeteria roenbergensis virus BV-PW1","unclassified_dsDNA_viruses",null,"Methylomicrobium alcaliphilum 20Z","Gammaproteobacteria"]
["ref|YP_003970126.1|",310831483,"Viruses,dsDNA viruses, no RNA stage,unclassified dsDNA viruses,Cafeteria roenbergensis virus BV-PW1","Cafeteria roenbergensis virus BV-PW1","unclassified_dsDNA_viruses",null,"Methylophilales bacterium HTCC2181","Betaproteobacteria"]
["ref|YP_003970159.1|",310831516,"Viruses,dsDNA viruses, no RNA stage,unclassified dsDNA viruses,Cafeteria roenbergensis virus BV-PW1","Cafeteria roenbergensis virus BV-PW1","unclassified_dsDNA_viruses",null,"Methylosinus trichosporium OB3b","Alphaproteobacteria"]
["ref|YP_003970183.1|",310831540,"Viruses,dsDNA viruses, no RNA stage,unclassified dsDNA viruses,Cafeteria roenbergensis virus BV-PW1","Cafeteria roenbergensis virus BV-PW1","unclassified_dsDNA_viruses",null,"Methylotenera mobilis JLW8","Betaproteobacteria"]
["ref|YP_003974887.1|",311069964,"cellular organisms,Bacteria,Firmicutes,Bacilli,Bacillales,Bacillaceae,Bacillus,Bacillus subtilis group,Bacillus atrophaeus,Bacillus atrophaeus 1942","Bacillus atrophaeus 1942","Bacilli",null,"Methylotenera versatilis 301","Betaproteobacteria"]
["ref|YP_003986482.1|",311977363,"Viruses,dsDNA viruses, no RNA stage,Mimiviridae,Mimivirus,Acanthamoeba polyphaga mimivirus","Acanthamoeba polyphaga mimivirus","Mimiviridae",null,"Methylovorus glucosetrophus SIP3-4","Betaproteobacteria"]
["ref|YP_003986703.1|",311977583,"Viruses,dsDNA viruses, no RNA stage,Mimiviridae,Mimivirus,Acanthamoeba polyphaga mimivirus","Acanthamoeba polyphaga mimivirus","Mimiviridae",null,"Meyerozyma guilliermondii ATCC 6260","Fungi"]
["ref|YP_003986746.1|",311977626,"Viruses,dsDNA viruses, no RNA stage,Mimiviridae,Mimivirus,Acanthamoeba polyphaga mimivirus","Acanthamoeba polyphaga mimivirus","Mimiviridae",null,"Microcoleus vaginatus FGP-2","Oscillatoriales"]
["ref|YP_003986812.1|",311977692,"Viruses,dsDNA viruses, no RNA stage,Mimiviridae,Mimivirus,Acanthamoeba polyphaga mimivirus","Acanthamoeba polyphaga mimivirus","Mimiviridae",null,"Microcystis aeruginosa NIES-843","Chroococcales"]
["ref|YP_003986853.1|",311977733,"Viruses,dsDNA viruses, no RNA stage,Mimiviridae,Mimivirus,Acanthamoeba polyphaga mimivirus","Acanthamoeba polyphaga mimivirus","Mimiviridae",null,"Micromonas pusilla CCMP1545","Chlorophyta"]
["ref|YP_003986857.1|",311977737,"Viruses,dsDNA viruses, no RNA stage,Mimiviridae,Mimivirus,Acanthamoeba polyphaga mimivirus","Acanthamoeba polyphaga mimivirus","Mimiviridae",null,"Micromonas sp. RCC1109 virus MpV1","Phycodnaviridae"]
["ref|YP_003986858.1|",311977738,"Viruses,dsDNA viruses, no RNA stage,Mimiviridae,Mimivirus,Acanthamoeba polyphaga mimivirus","Acanthamoeba polyphaga mimivirus","Mimiviridae",null,"Micromonas sp. RCC299","Chlorophyta"]
["ref|YP_003986880.1|",311977760,"Viruses,dsDNA viruses, no RNA stage,Mimiviridae,Mimivirus,Acanthamoeba polyphaga mimivirus","Acanthamoeba polyphaga mimivirus","Mimiviridae",null,"Microscilla marina ATCC 23134","Bacteroidetes"]
["ref|YP_003986882.1|",311977762,"Viruses,dsDNA viruses, no RNA stage,Mimiviridae,Mimivirus,Acanthamoeba polyphaga mimivirus","Acanthamoeba polyphaga mimivirus","Mimiviridae",null,"Mitsuokella multacida DSM 20544","Negativicutes"]
["ref|YP_003986883.1|",311977763,"Viruses,dsDNA viruses, no RNA stage,Mimiviridae,Mimivirus,Acanthamoeba polyphaga mimivirus","Acanthamoeba polyphaga mimivirus","Mimiviridae",null,"Monodelphis domestica","Metazoa"]
["ref|YP_003986887.1|",311977767,"Viruses,dsDNA viruses, no RNA stage,Mimiviridae,Mimivirus,Acanthamoeba polyphaga mimivirus","Acanthamoeba polyphaga mimivirus","Mimiviridae",null,"Monosiga brevicollis MX1","Choanoflagellida"]
["ref|YP_003986913.1|",311977793,"Viruses,dsDNA viruses, no RNA stage,Mimiviridae,Mimivirus,Acanthamoeba polyphaga mimivirus","Acanthamoeba polyphaga mimivirus","Mimiviridae",null,"Muricauda ruestringensis DSM 13258","Bacteroidetes"]
["ref|YP_003986938.1|",311977818,"Viruses,dsDNA viruses, no RNA stage,Mimiviridae,Mimivirus,Acanthamoeba polyphaga mimivirus","Acanthamoeba polyphaga mimivirus","Mimiviridae",null,"Mus musculus","Metazoa"]
["ref|YP_003986964.1|",311977844,"Viruses,dsDNA viruses, no RNA stage,Mimiviridae,Mimivirus,Acanthamoeba polyphaga mimivirus","Acanthamoeba polyphaga mimivirus","Mimiviridae",null,"Mycobacterium massiliense str. GO 06","Actinobacteria"]
["ref|YP_003987016.1|",311977896,"Viruses,dsDNA viruses, no RNA stage,Mimiviridae,Mimivirus,Acanthamoeba polyphaga mimivirus","Acanthamoeba polyphaga mimivirus","Mimiviridae",null,"Mycobacterium parascrofulaceum ATCC BAA-614","Actinobacteria"]
["ref|YP_003987078.1|",311977958,"Viruses,dsDNA viruses, no RNA stage,Mimiviridae,Mimivirus,Acanthamoeba polyphaga mimivirus","Acanthamoeba polyphaga mimivirus","Mimiviridae",null,"Mycobacterium sp. MCS","Actinobacteria"]
["ref|YP_003987080.1|",311977960,"Viruses,dsDNA viruses, no RNA stage,Mimiviridae,Mimivirus,Acanthamoeba polyphaga mimivirus","Acanthamoeba polyphaga mimivirus","Mimiviridae",null,"Mycoplasma bovis Hubei-1","Mollicutes"]
["ref|YP_003987109.1|",311977989,"Viruses,dsDNA viruses, no RNA stage,Mimiviridae,Mimivirus,Acanthamoeba polyphaga mimivirus","Acanthamoeba polyphaga mimivirus","Mimiviridae",null,"NULL","Bacilli"]
["ref|YP_003996043.1|",312144597,"cellular organisms,Bacteria,Firmicutes,Clostridia,Halanaerobiales,Halanaerobiaceae,Halanaerobium,Halanaerobium hydrogeniformans","Halanaerobium hydrogeniformans","Clostridia",null,"Naegleria gruberi strain NEG-M","Schizopyrenida"]
["ref|YP_004061473.1|",313768042,"Viruses,dsDNA viruses, no RNA stage,Phycodnaviridae,Prasinovirus,unclassified Prasinovirus,Bathycoccus sp. RCC1105 virus BpV,Bathycoccus sp. RCC1105 virus BpV1","Bathycoccus sp. RCC1105 virus BpV1","Phycodnaviridae",null,"Nasonia vitripennis","Metazoa"]
["ref|YP_004061521.1|",313768090,"Viruses,dsDNA viruses, no RNA stage,Phycodnaviridae,Prasinovirus,unclassified Prasinovirus,Bathycoccus sp. RCC1105 virus BpV,Bathycoccus sp. RCC1105 virus BpV1","Bathycoccus sp. RCC1105 virus BpV1","Phycodnaviridae",null,"Naumovozyma dairenensis CBS 421","Fungi"]
["ref|YP_004061546.1|",313768115,"Viruses,dsDNA viruses, no RNA stage,Phycodnaviridae,Prasinovirus,unclassified Prasinovirus,Bathycoccus sp. RCC1105 virus BpV,Bathycoccus sp. RCC1105 virus BpV1","Bathycoccus sp. RCC1105 virus BpV1","Phycodnaviridae",null,"Nautilia profundicola AmH","delta-epsilon_subdivisions"]
["ref|YP_004061557.1|",313768126,"Viruses,dsDNA viruses, no RNA stage,Phycodnaviridae,Prasinovirus,unclassified Prasinovirus,Bathycoccus sp. RCC1105 virus BpV,Bathycoccus sp. RCC1105 virus BpV1","Bathycoccus sp. RCC1105 virus BpV1","Phycodnaviridae",null,"Nectria haematococca mpVI 77-13-4","Fungi"]
["ref|YP_004061663.1|",313844000,"Viruses,dsDNA viruses, no RNA stage,Phycodnaviridae,Prasinovirus,unclassified Prasinovirus,Ostreococcus lucimarinus virus OlV1","Ostreococcus lucimarinus virus OlV1","Phycodnaviridae",null,"Neisseria gonorrhoeae FA6140","Betaproteobacteria"]
["ref|YP_004061693.1|",313844030,"Viruses,dsDNA viruses, no RNA stage,Phycodnaviridae,Prasinovirus,unclassified Prasinovirus,Ostreococcus lucimarinus virus OlV1","Ostreococcus lucimarinus virus OlV1","Phycodnaviridae",null,"Neisseria meningitidis FAM18","Betaproteobacteria"]
["ref|YP_004061744.1|",313844081,"Viruses,dsDNA viruses, no RNA stage,Phycodnaviridae,Prasinovirus,unclassified Prasinovirus,Ostreococcus lucimarinus virus OlV1","Ostreococcus lucimarinus virus OlV1","Phycodnaviridae",null,"Neisseria polysaccharea ATCC 43768","Betaproteobacteria"]
["ref|YP_004061746.1|",313844083,"Viruses,dsDNA viruses, no RNA stage,Phycodnaviridae,Prasinovirus,unclassified Prasinovirus,Ostreococcus lucimarinus virus OlV1","Ostreococcus lucimarinus virus OlV1","Phycodnaviridae",null,"Nematostella vectensis","Metazoa"]
["ref|YP_004061769.1|",313844106,"Viruses,dsDNA viruses, no RNA stage,Phycodnaviridae,Prasinovirus,unclassified Prasinovirus,Ostreococcus lucimarinus virus OlV1","Ostreococcus lucimarinus virus OlV1","Phycodnaviridae",null,"Neosartorya fischeri NRRL 181","Fungi"]
["ref|YP_004061950.1|",313768270,"Viruses,dsDNA viruses, no RNA stage,Phycodnaviridae,Prasinovirus,unclassified Prasinovirus,Micromonas sp. RCC1109 virus MpV1","Micromonas sp. RCC1109 virus MpV1","Phycodnaviridae",null,"Neurospora crassa OR74A","Fungi"]
["ref|YP_004061975.1|",313768295,"Viruses,dsDNA viruses, no RNA stage,Phycodnaviridae,Prasinovirus,unclassified Prasinovirus,Micromonas sp. RCC1109 virus MpV1","Micromonas sp. RCC1109 virus MpV1","Phycodnaviridae",null,"Niabella soli DSM 19437","Bacteroidetes"]
["ref|YP_004062016.1|",313768336,"Viruses,dsDNA viruses, no RNA stage,Phycodnaviridae,Prasinovirus,unclassified Prasinovirus,Micromonas sp. RCC1109 virus MpV1","Micromonas sp. RCC1109 virus MpV1","Phycodnaviridae",null,"Nitratifractor salsuginis DSM 16511","delta-epsilon_subdivisions"]
["ref|YP_004062073.1|",313768393,"Viruses,dsDNA viruses, no RNA stage,Phycodnaviridae,Prasinovirus,unclassified Prasinovirus,Micromonas sp. RCC1109 virus MpV1","Micromonas sp. RCC1109 virus MpV1","Phycodnaviridae",null,"Nitratiruptor sp. SB155-2","delta-epsilon_subdivisions"]
["ref|YP_004062087.1|",313768407,"Viruses,dsDNA viruses, no RNA stage,Phycodnaviridae,Prasinovirus,unclassified Prasinovirus,Micromonas sp. RCC1109 virus MpV1","Micromonas sp. RCC1109 virus MpV1","Phycodnaviridae",null,"Nitrococcus mobilis Nb-231","Gammaproteobacteria"]
["ref|YP_004063526.1|",314055188,"Viruses,dsDNA viruses, no RNA stage,Phycodnaviridae,unclassified Phycodnaviridae,Ostreococcus tauri virus 2","Ostreococcus tauri virus 2","Phycodnaviridae",null,"Nitrolancetus hollandicus Lb","Thermomicrobia"]
["ref|YP_004063529.1|",314055191,"Viruses,dsDNA viruses, no RNA stage,Phycodnaviridae,unclassified Phycodnaviridae,Ostreococcus tauri virus 2","Ostreococcus tauri virus 2","Phycodnaviridae",null,"Nitrosopumilus maritimus SCM1","Nitrosopumilales"]
["ref|YP_004063535.1|",314055197,"Viruses,dsDNA viruses, no RNA stage,Phycodnaviridae,unclassified Phycodnaviridae,Ostreococcus tauri virus 2","Ostreococcus tauri virus 2","Phycodnaviridae",null,"Nodularia spumigena CCY9414","Nostocales"]
["ref|YP_004063563.1|",314055225,"Viruses,dsDNA viruses, no RNA stage,Phycodnaviridae,unclassified Phycodnaviridae,Ostreococcus tauri virus 2","Ostreococcus tauri virus 2","Phycodnaviridae",null,"Nosema ceranae BRL01","Fungi"]
["ref|YP_004063572.1|",314055234,"Viruses,dsDNA viruses, no RNA stage,Phycodnaviridae,unclassified Phycodnaviridae,Ostreococcus tauri virus 2","Ostreococcus tauri virus 2","Phycodnaviridae",null,"Nostoc punctiforme PCC 73102","Nostocales"]
["ref|YP_004063931.1|",314121812,"Viruses,dsDNA viruses, no RNA stage,Caudovirales,Myoviridae,Tevenvirinae,T4-like viruses,unclassified T4-like viruses,Enterobacteria phage vB_EcoM-VR7","Enterobacteria phage vB_EcoM-VR7","Caudovirales",null,"Novosphingobium nitrogenifigens DSM 19370","Alphaproteobacteria"]
["ref|YP_004091579.1|",317132265,"cellular organisms,Bacteria,Firmicutes,Clostridia,Clostridiales,Ruminococcaceae,Ethanoligenens,Ethanoligenens harbinense,Ethanoligenens harbinense YUAN-3","Ethanoligenens harbinense YUAN-3","Clostridia",null,"Novosphingobium sp. AP12","Alphaproteobacteria"]
["ref|YP_004120649.1|",317152601,"cellular organisms,Bacteria,Proteobacteria,delta/epsilon subdivisions,Deltaproteobacteria,Desulfovibrionales,Desulfovibrionaceae,Desulfovibrio,Desulfovibrio aespoeensis,Desulfovibrio aespoeensis Aspo-2","Desulfovibrio aespoeensis Aspo-2","delta-epsilon_subdivisions",null,"Novosphingobium sp. Rr 2-17","Alphaproteobacteria"]
["ref|YP_004218723.1|",322436511,"cellular organisms,Bacteria,Fibrobacteres/Acidobacteria group,Acidobacteria,Acidobacteriia,Acidobacteriales,Acidobacteriaceae,Granulicella,Granulicella tundricola,Granulicella tundricola MP5ACTX9","Granulicella tundricola MP5ACTX9","Acidobacteria",null,"Oceanicola batsensis HTCC2597","Alphaproteobacteria"]
["ref|YP_004238839.1|",325955179,"cellular organisms,Bacteria,Bacteroidetes/Chlorobi group,Bacteroidetes,Flavobacteriia,Flavobacteriales,Flavobacteriaceae,Weeksella,Weeksella virosa,Weeksella virosa DSM 16922","Weeksella virosa DSM 16922","Bacteroidetes",null,"Oceanicola granulosus HTCC2516","Alphaproteobacteria"]
["ref|YP_004246348.1|",325970157,"cellular organisms,Bacteria,Spirochaetes,Spirochaetia,Spirochaetales,Spirochaetaceae,Sphaerochaeta,Sphaerochaeta globus,Sphaerochaeta globus str. Buddy","Sphaerochaeta globus str. Buddy","Spirochaetia",null,"Oceanithermus profundus DSM 14977","Deinococci"]
["ref|YP_004264417.1|",325288236,"cellular organisms,Bacteria,Firmicutes,Clostridia,Clostridiales,Peptococcaceae,Syntrophobotulus,Syntrophobotulus glycolicus,Syntrophobotulus glycolicus DSM 8271","Syntrophobotulus glycolicus DSM 8271","Clostridia",null,"Odoribacter splanchnicus DSM 20712","Bacteroidetes"]
["ref|YP_004316651.1|",326798832,"cellular organisms,Bacteria,Bacteroidetes/Chlorobi group,Bacteroidetes,Sphingobacteriia,Sphingobacteriales,Sphingobacteriaceae,Sphingobacterium,Sphingobacterium sp. 21","Sphingobacterium sp. 21","Bacteroidetes",null,"Opitutus terrae PB90-1","Verrucomicrobia"]
["ref|YP_004323928.1|",326783569,"Viruses,dsDNA viruses, no RNA stage,Caudovirales,Myoviridae,unclassified Myoviridae,Synechococcus phage Syn19","Synechococcus phage Syn19","Caudovirales",null,"Oreochromis niloticus","Metazoa"]
["ref|YP_004324183.1|",326783789,"Viruses,dsDNA viruses, no RNA stage,Caudovirales,Myoviridae,unclassified Myoviridae,Synechococcus phage S-SSM7","Synechococcus phage S-SSM7","Caudovirales",null,"Oribacterium sp. oral taxon 078 str. F0262","Clostridia"]
["ref|YP_004324957.1|",326784552,"Viruses,dsDNA viruses, no RNA stage,Caudovirales,Myoviridae,unclassified Myoviridae,Prochlorococcus phage P-SSM7","Prochlorococcus phage P-SSM7","Caudovirales",null,"Oryctolagus cuniculus","Metazoa"]
["ref|YP_004344352.1|",327403514,"cellular organisms,Bacteria,Bacteroidetes/Chlorobi group,Bacteroidetes,Flavobacteriia,Flavobacteriales,Cryomorphaceae,Fluviicola,Fluviicola taffensis,Fluviicola taffensis DSM 16823","Fluviicola taffensis DSM 16823","Bacteroidetes",null,"Oryza sativa Japonica Group","Streptophyta"]
["ref|YP_004347313.1|",327409893,"Viruses,dsDNA viruses, no RNA stage,unclassified dsDNA viruses,Marseillevirus family,Lausannevirus","Lausannevirus","unclassified_dsDNA_viruses",null,"Oryzias latipes","Metazoa"]
["ref|YP_004410129.1|",330835401,"cellular organisms,Archaea,Crenarchaeota,Thermoprotei,Sulfolobales,Sulfolobaceae,Metallosphaera,Metallosphaera cuprina,Metallosphaera cuprina Ar-4","Metallosphaera cuprina Ar-4","Thermoprotei",null,"Ostreococcus lucimarinus CCE9901","Chlorophyta"]
["ref|YP_004419914.1|",332289062,"cellular organisms,Bacteria,Proteobacteria,Gammaproteobacteria,Pasteurellales,Pasteurellaceae,Gallibacterium,Gallibacterium anatis,Gallibacterium anatis UMN179","Gallibacterium anatis UMN179","Gammaproteobacteria",null,"Ostreococcus lucimarinus virus OlV1","Phycodnaviridae"]
["ref|YP_004429764.1|",332291155,"cellular organisms,Bacteria,Bacteroidetes/Chlorobi group,Bacteroidetes,Flavobacteriia,Flavobacteriales,Flavobacteriaceae,Krokinobacter,Krokinobacter sp. 4H-3-7-5","Krokinobacter sp. 4H-3-7-5","Bacteroidetes",null,"Ostreococcus tauri","Chlorophyta"]
["ref|YP_004516175.1|",333978230,"cellular organisms,Bacteria,Firmicutes,Clostridia,Clostridiales,Peptococcaceae,Desulfotomaculum,Desulfotomaculum kuznetsovii,Desulfotomaculum kuznetsovii DSM 6115","Desulfotomaculum kuznetsovii DSM 6115","Clostridia",null,"Ostreococcus tauri virus 1","Phycodnaviridae"]
["ref|YP_004537338.1|",334144182,"cellular organisms,Bacteria,Proteobacteria,Gammaproteobacteria,Thiotrichales,Piscirickettsiaceae,Thioalkalimicrobium,Thioalkalimicrobium cyclicum,Thioalkalimicrobium cyclicum ALM1","Thioalkalimicrobium cyclicum ALM1","Gammaproteobacteria",null,"Ostreococcus tauri virus 2","Phycodnaviridae"]
["ref|YP_004551971.1|",334319412,"cellular organisms,Bacteria,Proteobacteria,Alphaproteobacteria,Rhizobiales,Rhizobiaceae,Sinorhizobium/Ensifer group,Sinorhizobium,Sinorhizobium meliloti,Sinorhizobium meliloti AK83","Sinorhizobium meliloti AK83","Alphaproteobacteria",null,"Ostreococcus virus OsV5","Phycodnaviridae"]
["ref|YP_004579025.1|",336171887,"cellular organisms,Bacteria,Bacteroidetes/Chlorobi group,Bacteroidetes,Flavobacteriia,Flavobacteriales,Flavobacteriaceae,Lacinutrix,Lacinutrix sp. 5H-3-7-4","Lacinutrix sp. 5H-3-7-4","Bacteroidetes",null,"Otolemur garnettii","Metazoa"]
["ref|YP_004616121.1|",336476980,"cellular organisms,Archaea,Euryarchaeota,Methanomicrobia,Methanosarcinales,Methanosarcinaceae,Methanosalsum,Methanosalsum zhilinae,Methanosalsum zhilinae DSM 4017","Methanosalsum zhilinae DSM 4017","Methanomicrobia",null,"Oxalobacteraceae bacterium IMCC9480","Betaproteobacteria"]
["ref|YP_004646178.1|",337752016,"cellular organisms,Bacteria,Firmicutes,Bacilli,Bacillales,Paenibacillaceae,Paenibacillus,Paenibacillus mucilaginosus,Paenibacillus mucilaginosus KNP414","Paenibacillus mucilaginosus KNP414","Bacilli",null,"Paenibacillus elgii B69","Bacilli"]
["ref|YP_004654587.1|",338210538,"cellular organisms,Bacteria,Bacteroidetes/Chlorobi group,Bacteroidetes,Cytophagia,Cytophagales,Cytophagaceae,Runella,Runella slithyformis,Runella slithyformis DSM 19594","Runella slithyformis DSM 19594","Bacteroidetes",null,"Paenibacillus larvae subsp. larvae BRL-230010","Bacilli"]
["ref|YP_004683115.1|",339320593,"cellular organisms,Bacteria,Tenericutes,Mollicutes,Mycoplasmatales,Mycoplasmataceae,Mycoplasma,Mycoplasma bovis,Mycoplasma bovis Hubei-1","Mycoplasma bovis Hubei-1","Mollicutes",null,"Paenibacillus mucilaginosus KNP414","Bacilli"]
["ref|YP_004771317.1|",342732478,"cellular organisms,Bacteria,Firmicutes,Clostridia,Clostridiales,Clostridiaceae,Candidatus Arthromitus,Candidatus Arthromitus sp. SFB-mouse,Candidatus Arthromitus sp. SFB-mouse-Japan","Candidatus Arthromitus sp. SFB-mouse-Japan","Clostridia",null,"Paenibacillus terrae HPL-003","Bacilli"]
["ref|YP_004781855.1|",347524285,"cellular organisms,Archaea,Crenarchaeota,Thermoprotei,Desulfurococcales,Pyrodictiaceae,Pyrolobus,Pyrolobus fumarii,Pyrolobus fumarii 1A","Pyrolobus fumarii 1A","Thermoprotei",null,"Paenibacillus vortex V453","Bacilli"]
["ref|YP_004886034.1|",352516717,"cellular organisms,Bacteria,Firmicutes,Bacilli,Lactobacillales,Enterococcaceae,Tetragenococcus,Tetragenococcus halophilus,Tetragenococcus halophilus NBRC 12172","Tetragenococcus halophilus NBRC 12172","Bacilli",null,"Paludibacter propionicigenes WB4","Bacteroidetes"]
["ref|YP_004894066.1|",363539837,"Viruses,dsDNA viruses, no RNA stage,Mimiviridae,Mimivirus,Megavirus chiliensis","Megavirus chiliensis","Mimiviridae",null,"Pantoea sp. YR343","Gammaproteobacteria"]
["ref|YP_004894147.1|",363539852,"Viruses,dsDNA viruses, no RNA stage,Mimiviridae,Mimivirus,Megavirus chiliensis","Megavirus chiliensis","Mimiviridae",null,"Pantoea stewartii subsp. stewartii DC283","Gammaproteobacteria"]
["ref|YP_004894356.1|",363540124,"Viruses,dsDNA viruses, no RNA stage,Mimiviridae,Mimivirus,Megavirus chiliensis","Megavirus chiliensis","Mimiviridae",null,"Parachlamydia acanthamoebae str. Hall's coccus","Chlamydiae"]
["ref|YP_004894489.1|",363540820,"Viruses,dsDNA viruses, no RNA stage,Mimiviridae,Mimivirus,Megavirus chiliensis","Megavirus chiliensis","Mimiviridae",null,"Paracoccus denitrificans PD1222","Alphaproteobacteria"]
["ref|YP_004894492.1|",363540630,"Viruses,dsDNA viruses, no RNA stage,Mimiviridae,Mimivirus,Megavirus chiliensis","Megavirus chiliensis","Mimiviridae",null,"Paramecium bursaria Chlorella virus 1","Phycodnaviridae"]
["ref|YP_004894515.1|",363540260,"Viruses,dsDNA viruses, no RNA stage,Mimiviridae,Mimivirus,Megavirus chiliensis","Megavirus chiliensis","Mimiviridae",null,"Paramecium bursaria Chlorella virus AR158","Phycodnaviridae"]
["ref|YP_004894535.1|",363540130,"Viruses,dsDNA viruses, no RNA stage,Mimiviridae,Mimivirus,Megavirus chiliensis","Megavirus chiliensis","Mimiviridae",null,"Paramecium bursaria Chlorella virus FR483","Phycodnaviridae"]
["ref|YP_004894570.1|",363540279,"Viruses,dsDNA viruses, no RNA stage,Mimiviridae,Mimivirus,Megavirus chiliensis","Megavirus chiliensis","Mimiviridae",null,"Paramecium bursaria Chlorella virus NY2A","Phycodnaviridae"]
["ref|YP_004894603.1|",363540672,"Viruses,dsDNA viruses, no RNA stage,Mimiviridae,Mimivirus,Megavirus chiliensis","Megavirus chiliensis","Mimiviridae",null,"Paramecium tetraurelia strain d4-2","Ciliophora"]
["ref|YP_004894610.1|",363540715,"Viruses,dsDNA viruses, no RNA stage,Mimiviridae,Mimivirus,Megavirus chiliensis","Megavirus chiliensis","Mimiviridae",null,"Pasteurella multocida subsp. multocida str. Pm70","Gammaproteobacteria"]
["ref|YP_004894612.1|",363540729,"Viruses,dsDNA viruses, no RNA stage,Mimiviridae,Mimivirus,Megavirus chiliensis","Megavirus chiliensis","Mimiviridae",null,"Paulinella chromatophora","Cercozoa"]
["ref|YP_004894629.1|",363540187,"Viruses,dsDNA viruses, no RNA stage,Mimiviridae,Mimivirus,Megavirus chiliensis","Megavirus chiliensis","Mimiviridae",null,"Pelosinus fermentans DSM 17108","Negativicutes"]
["ref|YP_004894648.1|",363540162,"Viruses,dsDNA viruses, no RNA stage,Mimiviridae,Mimivirus,Megavirus chiliensis","Megavirus chiliensis","Mimiviridae",null,"Penicillium chrysogenum Wisconsin 54-1255","Fungi"]
["ref|YP_004949241.1|",365967679,"cellular organisms,Bacteria,Proteobacteria,Gammaproteobacteria,Pasteurellales,Pasteurellaceae,Aggregatibacter,Aggregatibacter actinomycetemcomitans,Aggregatibacter actinomycetemcomitans ANH9381","Aggregatibacter actinomycetemcomitans ANH9381","Gammaproteobacteria",null,"Peptostreptococcus stomatis DSM 17678","Clostridia"]
["ref|YP_005085650.1|",374327450,"cellular organisms,Archaea,Crenarchaeota,Thermoprotei,Thermoproteales,Thermoproteaceae,Pyrobaculum,Pyrobaculum sp. 1860","Pyrobaculum sp. 1860","Thermoprotei",null,"Perkinsus marinus ATCC 50983","Perkinsea"]
["ref|YP_005094193.1|",374337490,"cellular organisms,Bacteria,Firmicutes,Bacilli,Lactobacillales,Streptococcaceae,Streptococcus,Streptococcus macedonicus,Streptococcus macedonicus ACA-DC 198","Streptococcus macedonicus ACA-DC 198","Bacilli",null,"Persephonella marina EX-H1","Aquificae"]
["ref|YP_005230968.1|",378443258,"cellular organisms,Bacteria,Proteobacteria,Gammaproteobacteria,Vibrionales,Vibrionaceae,Aliivibrio,Aliivibrio fischeri","Aliivibrio fischeri","Gammaproteobacteria",null,"Phaeodactylum tricornutum CCAP 1055/1","Bacillariophyta"]
["ref|YP_005357768.1|",383451047,"cellular organisms,Bacteria,Bacteroidetes/Chlorobi group,Bacteroidetes,Flavobacteriia,Flavobacteriales,Flavobacteriaceae,Flavobacterium,Flavobacterium indicum,Flavobacterium indicum GPTSA100-9","Flavobacterium indicum GPTSA100-9","Bacteroidetes",null,"Phaeosphaeria nodorum SN15","Fungi"]
["ref|YP_005377477.1|",383316635,"cellular organisms,Bacteria,Proteobacteria,Gammaproteobacteria,Xanthomonadales,Xanthomonadaceae,Frateuria,Frateuria aurantia,Frateuria aurantia DSM 6220","Frateuria aurantia DSM 6220","Gammaproteobacteria",null,"Photobacterium leiognathi subsp. mandapamensis svers.1.1.","Gammaproteobacteria"]
["ref|YP_005414352.1|",383500993,"cellular organisms,Bacteria,Proteobacteria,Alphaproteobacteria,Rickettsiales,Rickettsiaceae,Rickettsieae,Rickettsia,spotted fever group,Rickettsia australis,Rickettsia australis str. Cutlack","Rickettsia australis str. Cutlack","Alphaproteobacteria",null,"Physcomitrella patens subsp. patens","Streptophyta"]
["ref|YP_005442438.1|",383763456,"cellular organisms,Bacteria,Chloroflexi,Caldilineae,Caldilineales,Caldilineaceae,Caldilinea,Caldilinea aerophila,Caldilinea aerophila DSM 14535 = NBRC 104270","Caldilinea aerophila DSM 14535 = NBRC 104270","Caldilineae",null,"Phytophthora infestans T30-4","Oomycetes"]
["ref|YP_005475147.1|",383790573,"cellular organisms,Bacteria,Spirochaetes,Spirochaetia,Spirochaetales,Spirochaetaceae,Spirochaeta,Spirochaeta africana,Spirochaeta africana DSM 8902","Spirochaeta africana DSM 8902","Spirochaetia",null,"Plasmodium chabaudi chabaudi","Apicomplexa"]
["ref|YP_005475416.1|",383790842,"cellular organisms,Bacteria,Spirochaetes,Spirochaetia,Spirochaetales,Spirochaetaceae,Spirochaeta,Spirochaeta africana,Spirochaeta africana DSM 8902","Spirochaeta africana DSM 8902","Spirochaetia",null,"Plasmodium falciparum 3D7","Apicomplexa"]
["ref|YP_005558031.1|",384176646,"cellular organisms,Bacteria,Firmicutes,Bacilli,Bacillales,Bacillaceae,Bacillus,Bacillus subtilis group,Bacillus subtilis,Bacillus subtilis subsp. subtilis,Bacillus subtilis subsp. subtilis str. RO-NN-1","Bacillus subtilis subsp. subtilis str. RO-NN-1","Bacilli",null,"Plasmodium knowlesi strain H","Apicomplexa"]
["ref|YP_005595564.1|",384209844,"cellular organisms,Bacteria,Spirochaetes,Spirochaetia,Spirochaetales,Brachyspiraceae,Brachyspira,Brachyspira intermedia,Brachyspira intermedia PWS/A","Brachyspira intermedia PWS/A","Spirochaetia",null,"Plasmodium vivax Sal-1","Apicomplexa"]
["ref|YP_005605488.1|",384214325,"cellular organisms,Bacteria,Proteobacteria,Alphaproteobacteria,Rhizobiales,Bradyrhizobiaceae,Bradyrhizobium,Bradyrhizobium japonicum,Bradyrhizobium japonicum USDA 6","Bradyrhizobium japonicum USDA 6","Alphaproteobacteria",null,"Plasmodium yoelii yoelii 17XNL","Apicomplexa"]
["ref|YP_005737491.1|",384548238,"cellular organisms,Bacteria,Firmicutes,Bacilli,Bacillales,Staphylococcaceae,Staphylococcus,Staphylococcus aureus,Staphylococcus aureus subsp. aureus,Staphylococcus aureus subsp. aureus ED133","Staphylococcus aureus subsp. aureus ED133","Bacilli",null,"Pontibacter sp. BAB1700","Bacteroidetes"]
["ref|YP_005787223.1|",385227299,"cellular organisms,Bacteria,Proteobacteria,delta/epsilon subdivisions,Epsilonproteobacteria,Campylobacterales,Helicobacteraceae,Helicobacter,Helicobacter pylori,Helicobacter pylori SNT49","Helicobacter pylori SNT49","delta-epsilon_subdivisions",null,"Populus trichocarpa","Streptophyta"]
["ref|YP_005952799.1|",386032886,"cellular organisms,Bacteria,Proteobacteria,Gammaproteobacteria,Enterobacteriales,Enterobacteriaceae,Klebsiella,Klebsiella pneumoniae,Klebsiella pneumoniae KCTC 2242","Klebsiella pneumoniae KCTC 2242","Gammaproteobacteria",null,"Prevotella amnii CRIS 21A-A","Bacteroidetes"]
["ref|YP_006013230.1|",386317066,"cellular organisms,Bacteria,Firmicutes,Bacilli,Lactobacillales,Streptococcaceae,Streptococcus,Streptococcus dysgalactiae group,Streptococcus dysgalactiae,Streptococcus dysgalactiae subsp. equisimilis,Streptococcus dysgalactiae subsp. equisimilis ATCC 12394","Streptococcus dysgalactiae subsp. equisimilis ATCC 12394","Bacilli",null,"Prevotella bergensis DSM 17361","Bacteroidetes"]
["ref|YP_006039744.1|",386343379,"cellular organisms,Bacteria,Proteobacteria,Gammaproteobacteria,Alteromonadales,Shewanellaceae,Shewanella,Shewanella baltica,Shewanella baltica OS117","Shewanella baltica OS117","Gammaproteobacteria",null,"Prevotella dentalis DSM 3688","Bacteroidetes"]
["ref|YP_006222581.1|",386749374,"cellular organisms,Bacteria,Proteobacteria,delta/epsilon subdivisions,Epsilonproteobacteria,Campylobacterales,Helicobacteraceae,Helicobacter,Helicobacter cetorum,Helicobacter cetorum MIT 00-7128","Helicobacter cetorum MIT 00-7128","delta-epsilon_subdivisions",null,"Prevotella melaninogenica ATCC 25845","Bacteroidetes"]
["ref|YP_006231744.1|",386758528,"cellular organisms,Bacteria,Firmicutes,Bacilli,Bacillales,Bacillaceae,Bacillus,Bacillus sp. JS","Bacillus sp. JS","Bacilli",null,"Prevotella oulorum F0390","Bacteroidetes"]
["ref|YP_006310765.1|",387880462,"cellular organisms,Bacteria,Firmicutes,Bacilli,Lactobacillales,Streptococcaceae,Streptococcus,Streptococcus parasanguinis,Streptococcus parasanguinis FW213","Streptococcus parasanguinis FW213","Bacilli",null,"Prevotella timonensis CRIS 5C-B1","Bacteroidetes"]
["ref|YP_006340493.1|",387910187,"cellular organisms,Bacteria,Firmicutes,Bacilli,Lactobacillales,Streptococcaceae,Streptococcus,Streptococcus thermophilus,Streptococcus thermophilus MN-ZLW-002","Streptococcus thermophilus MN-ZLW-002","Bacilli",null,"Prochlorococcus marinus str. AS9601","Prochlorales"]
["ref|YP_006407354.1|",390943593,"cellular organisms,Bacteria,Bacteroidetes/Chlorobi group,Bacteroidetes,Cytophagia,Cytophagales,Cyclobacteriaceae,Belliella,Belliella baltica,Belliella baltica DSM 15883","Belliella baltica DSM 15883","Bacteroidetes",null,"Prochlorococcus marinus str. MIT 9515","Prochlorales"]
["ref|YP_006461875.1|",393200033,"cellular organisms,Bacteria,Firmicutes,Bacilli,Bacillales,Planococcaceae,Solibacillus,Solibacillus silvestris,Solibacillus silvestris StLB046","Solibacillus silvestris StLB046","Bacilli",null,"Prochlorococcus phage P-HM1","Caudovirales"]
["ref|YP_006517922.1|",397676384,"cellular organisms,Bacteria,Proteobacteria,Alphaproteobacteria,Sphingomonadales,Sphingomonadaceae,Zymomonas,Zymomonas mobilis,Zymomonas mobilis subsp. mobilis,Zymomonas mobilis subsp. mobilis ATCC 29191","Zymomonas mobilis subsp. mobilis ATCC 29191","Alphaproteobacteria",null,"Prochlorococcus phage P-SSM7","Caudovirales"]
["ref|YP_006522315.1|",397680780,"cellular organisms,Bacteria,Actinobacteria,Actinobacteria,Actinobacteridae,Actinomycetales,Corynebacterineae,Mycobacteriaceae,Mycobacterium,Mycobacterium chelonae group,Mycobacterium abscessus subgroup,Mycobacterium massiliense,Mycobacterium massiliense str. GO 06","Mycobacterium massiliense str. GO 06","Actinobacteria",null,"Propionibacterium acnes J139","Actinobacteria"]
["ref|YP_164245.1|",56692787,"Viruses,dsDNA viruses, no RNA stage,Iridoviridae,Ranavirus,unclassified Ranavirus,Singapore grouper iridovirus","Singapore grouper iridovirus","Iridoviridae",null,"Proteus penneri ATCC 35198","Gammaproteobacteria"]
["ref|YP_172643.1|",56751942,"cellular organisms,Bacteria,Cyanobacteria,Chroococcales,Synechococcus,Synechococcus elongatus,Synechococcus elongatus PCC 6301","Synechococcus elongatus PCC 6301","Chroococcales",null,"Providencia rettgeri DSM 1131","Gammaproteobacteria"]
["ref|YP_174993.1|",56963262,"cellular organisms,Bacteria,Firmicutes,Bacilli,Bacillales,Bacillaceae,Bacillus,Bacillus clausii,Bacillus clausii KSM-K16","Bacillus clausii KSM-K16","Bacilli",null,"Pseudoalteromonas sp. BSi20439","Gammaproteobacteria"]
["ref|YP_178388.1|",57237375,"cellular organisms,Bacteria,Proteobacteria,delta/epsilon subdivisions,Epsilonproteobacteria,Campylobacterales,Campylobacteraceae,Campylobacter,Campylobacter jejuni,Campylobacter jejuni RM1221","Campylobacter jejuni RM1221","delta-epsilon_subdivisions",null,"Pseudoalteromonas sp. BSi20495","Gammaproteobacteria"]
["ref|YP_210702.1|",60680558,"cellular organisms,Bacteria,Bacteroidetes/Chlorobi group,Bacteroidetes,Bacteroidia,Bacteroidales,Bacteroidaceae,Bacteroides,Bacteroides fragilis,Bacteroides fragilis NCTC 9343","Bacteroides fragilis NCTC 9343","Bacteroidetes",null,"Pseudoalteromonas sp. BSi20652","Gammaproteobacteria"]
["ref|YP_268586.1|",71278107,"cellular organisms,Bacteria,Proteobacteria,Gammaproteobacteria,Alteromonadales,Colwelliaceae,Colwellia,Colwellia psychrerythraea,Colwellia psychrerythraea 34H","Colwellia psychrerythraea 34H","Gammaproteobacteria",null,"Pseudoalteromonas sp. SM9913","Gammaproteobacteria"]
["ref|YP_268614.1|",71279353,"cellular organisms,Bacteria,Proteobacteria,Gammaproteobacteria,Alteromonadales,Colwelliaceae,Colwellia,Colwellia psychrerythraea,Colwellia psychrerythraea 34H","Colwellia psychrerythraea 34H","Gammaproteobacteria",null,"Pseudoalteromonas tunicata D2","Gammaproteobacteria"]
["ref|YP_301400.1|",73662619,"cellular organisms,Bacteria,Firmicutes,Bacilli,Bacillales,Staphylococcaceae,Staphylococcus,Staphylococcus saprophyticus,Staphylococcus saprophyticus subsp. saprophyticus,Staphylococcus saprophyticus subsp. saprophyticus ATCC 15305","Staphylococcus saprophyticus subsp. saprophyticus ATCC 15305","Bacilli",null,"Pseudomonas extremaustralis 14-3 substr. 14-3b","Gammaproteobacteria"]
["ref|YP_377160.1|",78184725,"cellular organisms,Bacteria,Cyanobacteria,Chroococcales,Synechococcus,Synechococcus sp. CC9902","Synechococcus sp. CC9902","Chroococcales",null,"Pseudomonas fluorescens SBW25","Gammaproteobacteria"]
["ref|YP_420835.1|",83310571,"cellular organisms,Bacteria,Proteobacteria,Alphaproteobacteria,Rhodospirillales,Rhodospirillaceae,Magnetospirillum,Magnetospirillum magneticum,Magnetospirillum magneticum AMB-1","Magnetospirillum magneticum AMB-1","Alphaproteobacteria",null,"Pseudomonas putida W619","Gammaproteobacteria"]
["ref|YP_433930.1|",83645495,"cellular organisms,Bacteria,Proteobacteria,Gammaproteobacteria,Oceanospirillales,Hahellaceae,Hahella,Hahella chejuensis,Hahella chejuensis KCTC 2396","Hahella chejuensis KCTC 2396","Gammaproteobacteria",null,"Pseudomonas sp. GM78","Gammaproteobacteria"]
["ref|YP_559127.1|",91783921,"cellular organisms,Bacteria,Proteobacteria,Betaproteobacteria,Burkholderiales,Burkholderiaceae,Burkholderia,Burkholderia xenovorans,Burkholderia xenovorans LB400","Burkholderia xenovorans LB400","Betaproteobacteria",null,"Psychroflexus torquis ATCC 700755","Bacteroidetes"]
["ref|YP_574037.1|",92114109,"cellular organisms,Bacteria,Proteobacteria,Gammaproteobacteria,Oceanospirillales,Halomonadaceae,Chromohalobacter,Chromohalobacter salexigens,Chromohalobacter salexigens DSM 3043","Chromohalobacter salexigens DSM 3043","Gammaproteobacteria",null,"Psychromonas ingrahamii 37","Gammaproteobacteria"]
["ref|YP_642470.1|",108802273,"cellular organisms,Bacteria,Actinobacteria,Actinobacteria,Actinobacteridae,Actinomycetales,Corynebacterineae,Mycobacteriaceae,Mycobacterium,Mycobacterium sp. MCS","Mycobacterium sp. MCS","Actinobacteria",null,"Pyrenophora teres f. teres 0-1","Fungi"]
["ref|YP_676670.1|",110636463,"cellular organisms,Bacteria,Bacteroidetes/Chlorobi group,Bacteroidetes,Cytophagia,Cytophagales,Cytophagaceae,Cytophaga,Cytophaga hutchinsonii,Cytophaga hutchinsonii ATCC 33406","Cytophaga hutchinsonii ATCC 33406","Bacteroidetes",null,"Pyrobaculum sp. 1860","Thermoprotei"]
["ref|YP_723279.1|",113477218,"cellular organisms,Bacteria,Cyanobacteria,Oscillatoriales,Trichodesmium,Trichodesmium erythraeum,Trichodesmium erythraeum IMS101","Trichodesmium erythraeum IMS101","Oscillatoriales",null,"Pyrolobus fumarii 1A","Thermoprotei"]
["ref|YP_738904.1|",114048354,"cellular organisms,Bacteria,Proteobacteria,Gammaproteobacteria,Alteromonadales,Shewanellaceae,Shewanella,Shewanella sp. MR-7","Shewanella sp. MR-7","Gammaproteobacteria",null,"Ralstonia pickettii 12J","Betaproteobacteria"]
["ref|YP_903388.1|",118602173,"cellular organisms,Bacteria,Proteobacteria,Gammaproteobacteria,unclassified Gammaproteobacteria,sulfur-oxidizing symbionts,Candidatus Ruthia magnifica,Candidatus Ruthia magnifica str. Cm (Calyptogena magnifica)","Candidatus Ruthia magnifica str. Cm (Calyptogena magnifica)","Gammaproteobacteria",null,"Rattus norvegicus","Metazoa"]
["ref|YP_903659.1|",118602444,"cellular organisms,Bacteria,Proteobacteria,Gammaproteobacteria,unclassified Gammaproteobacteria,sulfur-oxidizing symbionts,Candidatus Ruthia magnifica,Candidatus Ruthia magnifica str. Cm (Calyptogena magnifica)","Candidatus Ruthia magnifica str. Cm (Calyptogena magnifica)","Gammaproteobacteria",null,"Rhizobium etli 8C-3","Alphaproteobacteria"]
["ref|YP_945138.1|",119952929,"cellular organisms,Bacteria,Spirochaetes,Spirochaetia,Spirochaetales,Spirochaetaceae,Borrelia,Borrelia turicatae,Borrelia turicatae 91E135","Borrelia turicatae 91E135","Spirochaetia",null,"Rhizobium leguminosarum bv. trifolii WSM1325","Alphaproteobacteria"]
["ref|YP_974478.1|",121634233,"cellular organisms,Bacteria,Proteobacteria,Betaproteobacteria,Neisseriales,Neisseriaceae,Neisseria,Neisseria meningitidis,Neisseria meningitidis serogroup C,Neisseria meningitidis FAM18","Neisseria meningitidis FAM18","Betaproteobacteria",null,"Rhodanobacter sp. 2APBS1","Gammaproteobacteria"]
["ref|ZP_00367749.1|",57168617,"cellular organisms,Bacteria,Proteobacteria,delta/epsilon subdivisions,Epsilonproteobacteria,Campylobacterales,Campylobacteraceae,Campylobacter,Campylobacter coli,Campylobacter coli RM2228","Campylobacter coli RM2228","delta-epsilon_subdivisions",null,"Rhodanobacter spathiphylli B39","Gammaproteobacteria"]
["ref|ZP_00372070.1|",57506149,"cellular organisms,Bacteria,Proteobacteria,delta/epsilon subdivisions,Epsilonproteobacteria,Campylobacterales,Campylobacteraceae,Campylobacter,Campylobacter upsaliensis,Campylobacter upsaliensis RM3195","Campylobacter upsaliensis RM3195","delta-epsilon_subdivisions",null,"Rhodobacter capsulatus SB 1003","Alphaproteobacteria"]
["ref|ZP_01133129.1|",88858487,"cellular organisms,Bacteria,Proteobacteria,Gammaproteobacteria,Alteromonadales,Pseudoalteromonadaceae,Pseudoalteromonas,Pseudoalteromonas tunicata,Pseudoalteromonas tunicata D2","Pseudoalteromonas tunicata D2","Gammaproteobacteria",null,"Rhodobacteraceae bacterium KLH11","Alphaproteobacteria"]
["ref|ZP_01253158.1|",91216190,"cellular organisms,Bacteria,Bacteroidetes/Chlorobi group,Bacteroidetes,Flavobacteriia,Flavobacteriales,Flavobacteriaceae,Psychroflexus,Psychroflexus torquis,Psychroflexus torquis ATCC 700755","Psychroflexus torquis ATCC 700755","Bacteroidetes",null,"Rhodobacterales bacterium Y4I","Alphaproteobacteria"]
["ref|ZP_01253256.1|",91216289,"cellular organisms,Bacteria,Bacteroidetes/Chlorobi group,Bacteroidetes,Flavobacteriia,Flavobacteriales,Flavobacteriaceae,Psychroflexus,Psychroflexus torquis,Psychroflexus torquis ATCC 700755","Psychroflexus torquis ATCC 700755","Bacteroidetes",null,"Ricinus communis","Streptophyta"]
["ref|ZP_01552067.1|",118594720,"cellular organisms,Bacteria,Proteobacteria,Betaproteobacteria,Methylophilales,unclassified Methylophilales,Methylophilales bacterium HTCC2181","Methylophilales bacterium HTCC2181","Betaproteobacteria",null,"Rickettsia australis str. Cutlack","Alphaproteobacteria"]
["ref|ZP_01619256.1|",119484774,"cellular organisms,Bacteria,Cyanobacteria,Oscillatoriales,Lyngbya,Lyngbya sp. PCC 8106","Lyngbya sp. PCC 8106","Oscillatoriales",null,"Rickettsia bellii OSU 85-389","Alphaproteobacteria"]
["ref|ZP_01630236.1|",119511118,"cellular organisms,Bacteria,Cyanobacteria,Nostocales,Nostocaceae,Nodularia,Nodularia spumigena,Nodularia spumigena CCY9414","Nodularia spumigena CCY9414","Nostocales",null,"Rickettsia canadensis str. McKiel","Alphaproteobacteria"]
["ref|ZP_01692782.1|",124008083,"cellular organisms,Bacteria,Bacteroidetes/Chlorobi group,Bacteroidetes,Cytophagia,Cytophagales,Cytophagaceae,Microscilla,Microscilla marina,Microscilla marina ATCC 23134","Microscilla marina ATCC 23134","Bacteroidetes",null,"Roseburia hominis A2-183","Clostridia"]
["ref|ZP_01735243.1|",126664251,"cellular organisms,Bacteria,Bacteroidetes/Chlorobi group,Bacteroidetes,Flavobacteriia,Flavobacteriales,unclassified Flavobacteriales,unclassified Flavobacteriales (miscellaneous),Flavobacteria bacterium BAL38","Flavobacteria bacterium BAL38","Bacteroidetes",null,"Roseobacter sp. AzwK-3b","Alphaproteobacteria"]
["ref|ZP_01771335.1|",139437175,"cellular organisms,Bacteria,Actinobacteria,Actinobacteria,Coriobacteridae,Coriobacteriales,Coriobacterineae,Coriobacteriaceae,Collinsella,Collinsella aerofaciens,Collinsella aerofaciens ATCC 25986","Collinsella aerofaciens ATCC 25986","Actinobacteria",null,"Roseobacter sp. MED193","Alphaproteobacteria"]
["ref|ZP_01813050.1|",148976326,"cellular organisms,Bacteria,Proteobacteria,Gammaproteobacteria,Vibrionales,unclassified Vibrionales,Vibrionales bacterium SWAT-3","Vibrionales bacterium SWAT-3","Gammaproteobacteria",null,"Roseovarius sp. TM1035","Alphaproteobacteria"]
["ref|ZP_01861796.1|",149183359,"cellular organisms,Bacteria,Firmicutes,Bacilli,Bacillales,Bacillaceae,Bacillus,Bacillus sp. SG-1","Bacillus sp. SG-1","Bacilli",null,"Rothia dentocariosa M567","Actinobacteria"]
["ref|ZP_01864889.1|",149186577,"cellular organisms,Bacteria,Proteobacteria,Alphaproteobacteria,Sphingomonadales,Erythrobacteraceae,Erythrobacter,Erythrobacter sp. SD-21","Erythrobacter sp. SD-21","Alphaproteobacteria",null,"Rubrivivax benzoatilyticus JA2","Betaproteobacteria"]
["ref|ZP_01872373.1|",149195285,"cellular organisms,Bacteria,Proteobacteria,delta/epsilon subdivisions,Epsilonproteobacteria,Nautiliales,Nautiliaceae,Caminibacter,Caminibacter mediatlanticus,Caminibacter mediatlanticus TB-2","Caminibacter mediatlanticus TB-2","delta-epsilon_subdivisions",null,"Ruminococcus albus 7","Clostridia"]
["ref|ZP_01879625.1|",149202653,"cellular organisms,Bacteria,Proteobacteria,Alphaproteobacteria,Rhodobacterales,Rhodobacteraceae,Roseovarius,Roseovarius sp. TM1035","Roseovarius sp. TM1035","Alphaproteobacteria",null,"Ruminococcus flavefaciens FD-1","Clostridia"]
["ref|ZP_01880400.1|",149203430,"cellular organisms,Bacteria,Proteobacteria,Alphaproteobacteria,Rhodobacterales,Rhodobacteraceae,Roseovarius,Roseovarius sp. TM1035","Roseovarius sp. TM1035","Alphaproteobacteria",null,"Ruminococcus gnavus ATCC 29149","Clostridia"]
["ref|ZP_01889763.1|",149369912,"cellular organisms,Bacteria,Bacteroidetes/Chlorobi group,Bacteroidetes,environmental samples,unidentified eubacterium SCB49","unidentified eubacterium SCB49","Bacteroidetes",null,"Ruminococcus lactaris ATCC 29176","Clostridia"]
["ref|ZP_01903065.1|",149914535,"cellular organisms,Bacteria,Proteobacteria,Alphaproteobacteria,Rhodobacterales,Rhodobacteraceae,Roseobacter,Roseobacter sp. AzwK-3b","Roseobacter sp. AzwK-3b","Alphaproteobacteria",null,"Runella slithyformis DSM 19594","Bacteroidetes"]
["ref|ZP_02041593.1|",154504855,"cellular organisms,Bacteria,Firmicutes,Clostridia,Clostridiales,Lachnospiraceae,Blautia,[Ruminococcus] gnavus,Ruminococcus gnavus ATCC 29149","Ruminococcus gnavus ATCC 29149","Clostridia",null,"SAR116 cluster alpha proteobacterium HIMB100","Alphaproteobacteria"]
["ref|ZP_02079451.1|",160932060,"cellular organisms,Bacteria,Firmicutes,Clostridia,Clostridiales,Clostridiaceae,Clostridium,Clostridium leptum,Clostridium leptum DSM 753","Clostridium leptum DSM 753","Clostridia",null,"Saccharomonospora glauca K62","Actinobacteria"]
["ref|ZP_02196064.1|",163802169,"cellular organisms,Bacteria,Proteobacteria,Gammaproteobacteria,Vibrionales,Vibrionaceae,Vibrio,Vibrio sp. AND4","Vibrio sp. AND4","Gammaproteobacteria",null,"Saccharomonospora paurometabolica YIM 90007","Actinobacteria"]
["ref|ZP_02355430.1|",167562514,"cellular organisms,Bacteria,Proteobacteria,Betaproteobacteria,Burkholderiales,Burkholderiaceae,Burkholderia,pseudomallei group,Burkholderia oklahomensis,Burkholderia oklahomensis EO147","Burkholderia oklahomensis EO147","Betaproteobacteria",null,"Saccoglossus kowalevskii","Metazoa"]
["ref|ZP_02373361.1|",167580487,"cellular organisms,Bacteria,Proteobacteria,Betaproteobacteria,Burkholderiales,Burkholderiaceae,Burkholderia,pseudomallei group,Burkholderia thailandensis,Burkholderia thailandensis TXDOH","Burkholderia thailandensis TXDOH","Betaproteobacteria",null,"Salmonella enterica subsp. enterica serovar Dublin str. CT_02021853","Gammaproteobacteria"]
["ref|ZP_02381245.1|",167588857,"cellular organisms,Bacteria,Proteobacteria,Betaproteobacteria,Burkholderiales,Burkholderiaceae,Burkholderia,Burkholderia ubonensis,Burkholderia ubonensis Bu","Burkholderia ubonensis Bu","Betaproteobacteria",null,"Salmonella enterica subsp. enterica serovar Javiana str. GA_MM04042433","Gammaproteobacteria"]
["ref|ZP_02995905.1|",187779432,"cellular organisms,Bacteria,Firmicutes,Clostridia,Clostridiales,Clostridiaceae,Clostridium,Clostridium sporogenes,Clostridium sporogenes ATCC 15579","Clostridium sporogenes ATCC 15579","Clostridia",null,"Salmonella enterica subsp. enterica serovar Typhi str. J185","Gammaproteobacteria"]
["ref|ZP_03113927.1|",196046704,"cellular organisms,Bacteria,Firmicutes,Bacilli,Bacillales,Bacillaceae,Bacillus,Bacillus cereus group,Bacillus cereus,Bacillus cereus 03BB108","Bacillus cereus 03BB108","Bacilli",null,"Salmonella enterica subsp. enterica serovar Virchow str. SL491","Gammaproteobacteria"]
["ref|ZP_03167861.1|",197302809,"cellular organisms,Bacteria,Firmicutes,Clostridia,Clostridiales,Ruminococcaceae,Ruminococcus,Ruminococcus lactaris,Ruminococcus lactaris ATCC 29176","Ruminococcus lactaris ATCC 29176","Clostridia",null,"Sarcophilus harrisii","Metazoa"]
["ref|ZP_03216658.1|",200390047,"cellular organisms,Bacteria,Proteobacteria,Gammaproteobacteria,Enterobacteriales,Enterobacteriaceae,Salmonella,Salmonella enterica,Salmonella enterica subsp. enterica,Salmonella enterica subsp. enterica serovar Virchow,Salmonella enterica subsp. enterica serovar Virchow str. SL491","Salmonella enterica subsp. enterica serovar Virchow str. SL491","Gammaproteobacteria",null,"Scheffersomyces stipitis CBS 6054","Fungi"]
["ref|ZP_03221768.1|",204930895,"cellular organisms,Bacteria,Proteobacteria,Gammaproteobacteria,Enterobacteriales,Enterobacteriaceae,Salmonella,Salmonella enterica,Salmonella enterica subsp. enterica,Salmonella enterica subsp. enterica serovar Javiana,Salmonella enterica subsp. enterica serovar Javiana str. GA_MM04042433","Salmonella enterica subsp. enterica serovar Javiana str. GA_MM04042433","Gammaproteobacteria",null,"Schistosoma mansoni","Metazoa"]
["ref|ZP_03271783.1|",209523227,"cellular organisms,Bacteria,Cyanobacteria,Oscillatoriales,Arthrospira,Arthrospira maxima,Arthrospira maxima CS-328","Arthrospira maxima CS-328","Oscillatoriales",null,"Schizophyllum commune H4-8","Fungi"]
["ref|ZP_03296821.1|",210631247,"cellular organisms,Bacteria,Actinobacteria,Actinobacteria,Coriobacteridae,Coriobacteriales,Coriobacterineae,Coriobacteriaceae,Collinsella,Collinsella stercoris,Collinsella stercoris DSM 13279","Collinsella stercoris DSM 13279","Actinobacteria",null,"Schizosaccharomyces pombe 972h-","Fungi"]
["ref|ZP_03305398.1|",212697270,"cellular organisms,Bacteria,Firmicutes,Clostridia,Clostridiales,Clostridiales incertae sedis,Clostridiales Family XI. Incertae Sedis,Anaerococcus,Anaerococcus hydrogenalis,Anaerococcus hydrogenalis DSM 7454","Anaerococcus hydrogenalis DSM 7454","Clostridia",null,"Sclerotinia sclerotiorum 1980 UF-70","Fungi"]
["ref|ZP_03379456.1|",213649403,"cellular organisms,Bacteria,Proteobacteria,Gammaproteobacteria,Enterobacteriales,Enterobacteriaceae,Salmonella,Salmonella enterica,Salmonella enterica subsp. enterica,Salmonella enterica subsp. enterica serovar Typhi,Salmonella enterica subsp. enterica serovar Typhi str. J185","Salmonella enterica subsp. enterica serovar Typhi str. J185","Gammaproteobacteria",null,"Segniliparus rugosus ATCC BAA-974","Actinobacteria"]
["ref|ZP_03489219.1|",218283140,"cellular organisms,Bacteria,Firmicutes,Erysipelotrichi,Erysipelotrichales,Erysipelotrichaceae,unclassified Erysipelotrichaceae,Eubacterium biforme,Eubacterium biforme DSM 3989","Eubacterium biforme DSM 3989","Erysipelotrichi",null,"Selaginella moellendorffii","Streptophyta"]
["ref|ZP_03509775.1|",218512935,"cellular organisms,Bacteria,Proteobacteria,Alphaproteobacteria,Rhizobiales,Rhizobiaceae,Rhizobium/Agrobacterium group,Rhizobium,Rhizobium etli,Rhizobium etli 8C-3","Rhizobium etli 8C-3","Alphaproteobacteria",null,"Selenomonas sputigena ATCC 35185","Negativicutes"]
["ref|ZP_03782002.1|",225573247,"cellular organisms,Bacteria,Firmicutes,Clostridia,Clostridiales,Lachnospiraceae,Blautia,Blautia hydrogenotrophica,Blautia hydrogenotrophica DSM 10507","Blautia hydrogenotrophica DSM 10507","Clostridia",null,"Serinicoccus profundi MCCC 1A05965","Actinobacteria"]
["ref|ZP_03803930.1|",226328412,"cellular organisms,Bacteria,Proteobacteria,Gammaproteobacteria,Enterobacteriales,Enterobacteriaceae,Proteus,Proteus penneri,Proteus penneri ATCC 35198","Proteus penneri ATCC 35198","Gammaproteobacteria",null,"Serratia odorifera 4Rx13","Gammaproteobacteria"]
["ref|ZP_03952933.1|",227522884,"cellular organisms,Bacteria,Firmicutes,Bacilli,Lactobacillales,Lactobacillaceae,Lactobacillus,Lactobacillus hilgardii,Lactobacillus hilgardii ATCC 8290","Lactobacillus hilgardii ATCC 8290","Bacilli",null,"Serratia sp. M24T3","Gammaproteobacteria"]
["ref|ZP_04059973.1|",228475248,"cellular organisms,Bacteria,Firmicutes,Bacilli,Bacillales,Staphylococcaceae,Staphylococcus,Staphylococcus hominis,Staphylococcus hominis SK119","Staphylococcus hominis SK119","Bacilli",null,"Shewanella baltica OS117","Gammaproteobacteria"]
["ref|ZP_04084320.1|",228920983,"cellular organisms,Bacteria,Firmicutes,Bacilli,Bacillales,Bacillaceae,Bacillus,Bacillus cereus group,Bacillus thuringiensis,Bacillus thuringiensis serovar huazhongensis,Bacillus thuringiensis serovar huazhongensis BGSC 4BD1","Bacillus thuringiensis serovar huazhongensis BGSC 4BD1","Bacilli",null,"Shewanella baltica OS195","Gammaproteobacteria"]
["ref|ZP_04120586.1|",228958881,"cellular organisms,Bacteria,Firmicutes,Bacilli,Bacillales,Bacillaceae,Bacillus,Bacillus cereus group,Bacillus thuringiensis,Bacillus thuringiensis serovar pakistani,Bacillus thuringiensis serovar pakistani str. T13001","Bacillus thuringiensis serovar pakistani str. T13001","Bacilli",null,"Shewanella halifaxensis HAW-EB4","Gammaproteobacteria"]
["ref|ZP_04566018.1|",237735537,"cellular organisms,Bacteria,Firmicutes,Erysipelotrichi,Erysipelotrichales,Erysipelotrichaceae,Coprobacillus,Coprobacillus sp. D7","Coprobacillus sp. D7","Erysipelotrichi",null,"Shewanella sp. MR-7","Gammaproteobacteria"]
["ref|ZP_04678737.1|",239637773,"cellular organisms,Bacteria,Firmicutes,Bacilli,Bacillales,Staphylococcaceae,Staphylococcus,Staphylococcus warneri,Staphylococcus warneri L37603","Staphylococcus warneri L37603","Bacilli",null,"Shewanella violacea DSS12","Gammaproteobacteria"]
["ref|ZP_04722494.1|",240015954,"cellular organisms,Bacteria,Proteobacteria,Betaproteobacteria,Neisseriales,Neisseriaceae,Neisseria,Neisseria gonorrhoeae,Neisseria gonorrhoeae FA6140","Neisseria gonorrhoeae FA6140","Betaproteobacteria",null,"Shuttleworthia satelles DSM 14600","Clostridia"]
["ref|ZP_04776628.1|",241889325,"cellular organisms,Bacteria,Firmicutes,Bacilli,Bacillales,Bacillales incertae sedis,Bacillales Family XI. Incertae Sedis,Gemella,Gemella haemolysans,Gemella haemolysans ATCC 10379","Gemella haemolysans ATCC 10379","Bacilli",null,"Singapore grouper iridovirus","Iridoviridae"]
["ref|ZP_04873939.1|",254167086,"cellular organisms,Archaea,Euryarchaeota,unclassified Euryarchaeota,Aciduliprofundum,Aciduliprofundum boonei,Aciduliprofundum boonei T469","Aciduliprofundum boonei T469","unclassified_Euryarchaeota",null,"Sinorhizobium meliloti AK83","Alphaproteobacteria"]
["ref|ZP_04891401.1|",254184812,"cellular organisms,Bacteria,Proteobacteria,Betaproteobacteria,Burkholderiales,Burkholderiaceae,Burkholderia,pseudomallei group,Burkholderia pseudomallei,Burkholderia pseudomallei 1655","Burkholderia pseudomallei 1655","Betaproteobacteria",null,"Solibacillus silvestris StLB046","Bacilli"]
["ref|ZP_04957903.1|",254282935,"cellular organisms,Bacteria,Proteobacteria,Gammaproteobacteria,unclassified Gammaproteobacteria,unclassified Gammaproteobacteria (miscellaneous),gamma proteobacterium NOR51-B","gamma proteobacterium NOR51-B","Gammaproteobacteria",null,"Solobacterium moorei F0204","Erysipelotrichi"]
["ref|ZP_05072003.1|",254458578,"cellular organisms,Bacteria,Proteobacteria,delta/epsilon subdivisions,Epsilonproteobacteria,Campylobacterales,unclassified Campylobacterales,unclassified Campylobacterales (miscellaneous),Campylobacterales bacterium GD 1","Campylobacterales bacterium GD 1","delta-epsilon_subdivisions",null,"Sordaria macrospora k-hell","Fungi"]
["ref|ZP_05072493.1|",254459070,"cellular organisms,Bacteria,Proteobacteria,delta/epsilon subdivisions,Epsilonproteobacteria,Campylobacterales,unclassified Campylobacterales,unclassified Campylobacterales (miscellaneous),Campylobacterales bacterium GD 1","Campylobacterales bacterium GD 1","delta-epsilon_subdivisions",null,"Sorghum bicolor","Streptophyta"]
["ref|ZP_05124955.1|",254512889,"cellular organisms,Bacteria,Proteobacteria,Alphaproteobacteria,Rhodobacterales,Rhodobacteraceae,unclassified Rhodobacteraceae,Rhodobacteraceae bacterium KLH11","Rhodobacteraceae bacterium KLH11","Alphaproteobacteria",null,"Sphaerochaeta globus str. Buddy","Spirochaetia"]
["ref|ZP_05126124.1|",254514063,"cellular organisms,Bacteria,Proteobacteria,Gammaproteobacteria,unclassified Gammaproteobacteria,unclassified Gammaproteobacteria (miscellaneous),gamma proteobacterium NOR5-3","gamma proteobacterium NOR5-3","Gammaproteobacteria",null,"Sphingobacterium sp. 21","Bacteroidetes"]
["ref|ZP_05133376.1|",254521321,"cellular organisms,Bacteria,Proteobacteria,Gammaproteobacteria,Xanthomonadales,Xanthomonadaceae,Stenotrophomonas,Stenotrophomonas sp. SKA14","Stenotrophomonas sp. SKA14","Gammaproteobacteria",null,"Sphingomonas wittichii RW1","Alphaproteobacteria"]
["ref|ZP_05360135.1|",255318909,"cellular organisms,Bacteria,Proteobacteria,Gammaproteobacteria,Pseudomonadales,Moraxellaceae,Acinetobacter,Acinetobacter radioresistens,Acinetobacter radioresistens SK82","Acinetobacter radioresistens SK82","Gammaproteobacteria",null,"Spirochaeta africana DSM 8902","Spirochaetia"]
["ref|ZP_05414423.1|",255690748,"cellular organisms,Bacteria,Bacteroidetes/Chlorobi group,Bacteroidetes,Bacteroidia,Bacteroidales,Bacteroidaceae,Bacteroides,Bacteroides finegoldii,Bacteroides finegoldii DSM 17565","Bacteroides finegoldii DSM 17565","Bacteroidetes",null,"Spiroplasma melliferum KC3","Mollicutes"]
["ref|ZP_05553271.1|",256847826,"cellular organisms,Bacteria,Firmicutes,Bacilli,Lactobacillales,Lactobacillaceae,Lactobacillus,Lactobacillus coleohominis,Lactobacillus coleohominis 101-4-CHN","Lactobacillus coleohominis 101-4-CHN","Bacilli",null,"Spirosoma linguale DSM 74","Bacteroidetes"]
["ref|ZP_05571663.1|",257077302,"cellular organisms,Archaea,Euryarchaeota,Thermoplasmata,Thermoplasmatales,Ferroplasmaceae,Ferroplasma,Ferroplasma acidarmanus,Ferroplasma acidarmanus fer1","Ferroplasma acidarmanus fer1","Thermoplasmata",null,"Stackebrandtia nassauensis DSM 44728","Actinobacteria"]
["ref|ZP_05626160.1|",257461062,"cellular organisms,Bacteria,Proteobacteria,delta/epsilon subdivisions,Epsilonproteobacteria,Campylobacterales,Campylobacteraceae,Campylobacter,Campylobacter gracilis,Campylobacter gracilis RM3268","Campylobacter gracilis RM3268","delta-epsilon_subdivisions",null,"Staphylococcus aureus subsp. aureus ED133","Bacilli"]
["ref|ZP_05629258.1|",257464887,"cellular organisms,Bacteria,Proteobacteria,Gammaproteobacteria,Pasteurellales,Pasteurellaceae,Actinobacillus,Actinobacillus minor,Actinobacillus minor 202","Actinobacillus minor 202","Gammaproteobacteria",null,"Staphylococcus epidermidis ATCC 12228","Bacilli"]
["ref|ZP_05737147.1|",259046746,"cellular organisms,Bacteria,Firmicutes,Bacilli,Lactobacillales,Carnobacteriaceae,Granulicatella,Granulicatella adiacens,Granulicatella adiacens ATCC 49175","Granulicatella adiacens ATCC 49175","Bacilli",null,"Staphylococcus hominis SK119","Bacilli"]
["ref|ZP_05790015.1|",260436045,"cellular organisms,Bacteria,Cyanobacteria,Chroococcales,Synechococcus,Synechococcus sp. WH 8109","Synechococcus sp. WH 8109","Chroococcales",null,"Staphylococcus saprophyticus subsp. saprophyticus ATCC 15305","Bacilli"]
["ref|ZP_05981607.1|",261368724,"cellular organisms,Bacteria,Firmicutes,Clostridia,Clostridiales,Ruminococcaceae,Subdoligranulum,Subdoligranulum variabile,Subdoligranulum variabile DSM 15176","Subdoligranulum variabile DSM 15176","Clostridia",null,"Staphylococcus simiae CCM 7213","Bacilli"]
["ref|ZP_05990410.1|",261493900,"cellular organisms,Bacteria,Proteobacteria,Gammaproteobacteria,Pasteurellales,Pasteurellaceae,Mannheimia,Mannheimia haemolytica,Mannheimia haemolytica serotype A2,Mannheimia haemolytica serotype A2 str. BOVINE","Mannheimia haemolytica serotype A2 str. BOVINE","Gammaproteobacteria",null,"Staphylococcus warneri L37603","Bacilli"]
["ref|ZP_06005414.1|",261878987,"cellular organisms,Bacteria,Bacteroidetes/Chlorobi group,Bacteroidetes,Bacteroidia,Bacteroidales,Prevotellaceae,Prevotella,Prevotella bergensis,Prevotella bergensis DSM 17361","Prevotella bergensis DSM 17361","Bacteroidetes",null,"Stenotrophomonas sp. SKA14","Gammaproteobacteria"]
["ref|ZP_06027598.1|",262067986,"cellular organisms,Bacteria,Fusobacteria,Fusobacteriia,Fusobacteriales,Fusobacteriaceae,Fusobacterium,Fusobacterium periodonticum,Fusobacterium periodonticum ATCC 33693","Fusobacterium periodonticum ATCC 33693","Fusobacteriia",null,"Stigmatella aurantiaca DW4/3-1","delta-epsilon_subdivisions"]
["ref|ZP_06039179.1|",262171501,"cellular organisms,Bacteria,Proteobacteria,Gammaproteobacteria,Vibrionales,Vibrionaceae,Vibrio,Vibrio mimicus,Vibrio mimicus MB451","Vibrio mimicus MB451","Gammaproteobacteria",null,"Streptococcus agalactiae ATCC 13813","Bacilli"]
["ref|ZP_06054445.1|",262276640,"cellular organisms,Bacteria,Proteobacteria,Alphaproteobacteria,unclassified Alphaproteobacteria,SAR11 cluster,alpha proteobacterium HIMB114","alpha proteobacterium HIMB114","Alphaproteobacteria",null,"Streptococcus downei F0415","Bacilli"]
["ref|ZP_06075234.1|",262382096,"cellular organisms,Bacteria,Bacteroidetes/Chlorobi group,Bacteroidetes,Bacteroidia,Bacteroidales,Bacteroidaceae,Bacteroides,Bacteroides sp. 2_1_33B","Bacteroides sp. 2_1_33B","Bacteroidetes",null,"Streptococcus dysgalactiae subsp. equisimilis ATCC 12394","Bacilli"]
["ref|ZP_06115823.1|",266622888,"cellular organisms,Bacteria,Firmicutes,Clostridia,Clostridiales,Clostridiaceae,Clostridium,Clostridium hathewayi,Clostridium hathewayi DSM 13479","Clostridium hathewayi DSM 13479","Clostridia",null,"Streptococcus gordonii str. Challis substr. CH1","Bacilli"]
["ref|ZP_06125964.1|",268591743,"cellular organisms,Bacteria,Proteobacteria,Gammaproteobacteria,Enterobacteriales,Enterobacteriaceae,Providencia,Providencia rettgeri,Providencia rettgeri DSM 1131","Providencia rettgeri DSM 1131","Gammaproteobacteria",null,"Streptococcus macedonicus ACA-DC 198","Bacilli"]
["ref|ZP_06142225.1|",268608498,"cellular organisms,Bacteria,Firmicutes,Clostridia,Clostridiales,Ruminococcaceae,Ruminococcus,Ruminococcus flavefaciens,Ruminococcus flavefaciens FD-1","Ruminococcus flavefaciens FD-1","Clostridia",null,"Streptococcus parasanguinis FW213","Bacilli"]
["ref|ZP_06189367.1|",270261094,"cellular organisms,Bacteria,Proteobacteria,Gammaproteobacteria,Enterobacteriales,Enterobacteriaceae,Serratia,Serratia odorifera,Serratia odorifera 4Rx13","Serratia odorifera 4Rx13","Gammaproteobacteria",null,"Streptococcus thermophilus MN-ZLW-002","Bacilli"]
["ref|ZP_06247588.1|",281416568,"cellular organisms,Bacteria,Firmicutes,Clostridia,Clostridiales,Clostridiaceae,Clostridium,Clostridium thermocellum,Clostridium thermocellum JW20","Clostridium thermocellum JW20","Clostridia",null,"Streptococcus uberis 0140J","Bacilli"]
["ref|ZP_06263324.1|",282853987,"cellular organisms,Bacteria,Actinobacteria,Actinobacteria,Actinobacteridae,Actinomycetales,Propionibacterineae,Propionibacteriaceae,Propionibacterium,Propionibacterium acnes,Propionibacterium acnes J139","Propionibacterium acnes J139","Actinobacteria",null,"Streptomyces cattleya NRRL 8057 = DSM 46488","Actinobacteria"]
["ref|ZP_06288983.1|",282880267,"cellular organisms,Bacteria,Bacteroidetes/Chlorobi group,Bacteroidetes,Bacteroidia,Bacteroidales,Prevotellaceae,Prevotella,Prevotella timonensis,Prevotella timonensis CRIS 5C-B1","Prevotella timonensis CRIS 5C-B1","Bacteroidetes",null,"Streptomyces chartreusis NRRL 12338","Actinobacteria"]
["ref|ZP_06300136.1|",282891649,"cellular organisms,Bacteria,Chlamydiae/Verrucomicrobia group,Chlamydiae,Chlamydiia,Chlamydiales,Parachlamydiaceae,Parachlamydia,Parachlamydia acanthamoebae,Parachlamydia acanthamoebae str. Hall's coccus","Parachlamydia acanthamoebae str. Hall's coccus","Chlamydiae",null,"Streptomyces griseus subsp. griseus NBRC 13350","Actinobacteria"]
["ref|ZP_06372863.1|",283955364,"cellular organisms,Bacteria,Proteobacteria,delta/epsilon subdivisions,Epsilonproteobacteria,Campylobacterales,Campylobacteraceae,Campylobacter,Campylobacter jejuni,Campylobacter jejuni subsp. jejuni,Campylobacter jejuni subsp. jejuni 414","Campylobacter jejuni subsp. jejuni 414","delta-epsilon_subdivisions",null,"Streptosporangium roseum DSM 43021","Actinobacteria"]
["ref|ZP_06600094.1|",291460704,"cellular organisms,Bacteria,Firmicutes,Clostridia,Clostridiales,Lachnospiraceae,Oribacterium,Oribacterium sp. oral taxon 078,Oribacterium sp. oral taxon 078 str. F0262","Oribacterium sp. oral taxon 078 str. F0262","Clostridia",null,"Strongylocentrotus purpuratus","Metazoa"]
["ref|ZP_06608371.1|",293189654,"cellular organisms,Bacteria,Actinobacteria,Actinobacteria,Actinobacteridae,Actinomycetales,Actinomycineae,Actinomycetaceae,Actinomyces,Actinomyces odontolyticus,Actinomyces odontolyticus F0309","Actinomyces odontolyticus F0309","Actinobacteria",null,"Subdoligranulum variabile DSM 15176","Clostridia"]
["ref|ZP_06818656.1|",295425982,"cellular organisms,Bacteria,Firmicutes,Bacilli,Lactobacillales,Lactobacillaceae,Lactobacillus,Lactobacillus amylolyticus,Lactobacillus amylolyticus DSM 11664","Lactobacillus amylolyticus DSM 11664","Bacilli",null,"Subterranean clover stunt virus","Nanovirus"]
["ref|ZP_06941159.1|",297579231,"cellular organisms,Bacteria,Proteobacteria,Gammaproteobacteria,Vibrionales,Vibrionaceae,Vibrio,Vibrio cholerae,Vibrio cholerae RC385","Vibrio cholerae RC385","Gammaproteobacteria",null,"Sulfolobus tokodaii str. 7","Thermoprotei"]
["ref|ZP_06968054.1|",298244248,"cellular organisms,Bacteria,Chloroflexi,Ktedonobacteria,Ktedonobacterales,Ktedonobacteraceae,Ktedonobacter,Ktedonobacter racemifer,Ktedonobacter racemifer DSM 44963","Ktedonobacter racemifer DSM 44963","Ktedonobacteria",null,"Sulfurovum sp. NBC37-1","delta-epsilon_subdivisions"]
["ref|ZP_06974485.1|",298250681,"cellular organisms,Bacteria,Chloroflexi,Ktedonobacteria,Ktedonobacterales,Ktedonobacteraceae,Ktedonobacter,Ktedonobacter racemifer,Ktedonobacter racemifer DSM 44963","Ktedonobacter racemifer DSM 44963","Ktedonobacteria",null,"Sus scrofa","Metazoa"]
["ref|ZP_07071861.1|",300741840,"cellular organisms,Bacteria,Actinobacteria,Actinobacteria,Actinobacteridae,Actinomycetales,Micrococcineae,Micrococcaceae,Rothia,Rothia dentocariosa,Rothia dentocariosa M567","Rothia dentocariosa M567","Actinobacteria",null,"Synechococcus elongatus PCC 6301","Chroococcales"]
["ref|ZP_07453766.1|",306820118,"cellular organisms,Bacteria,Firmicutes,Clostridia,Clostridiales,Peptostreptococcaceae,[Eubacterium] yurii,Eubacterium yurii subsp. margaretiae,Eubacterium yurii subsp. margaretiae ATCC 43715","Eubacterium yurii subsp. margaretiae ATCC 43715","Clostridia",null,"Synechococcus phage S-SSM7","Caudovirales"]
["ref|ZP_07526825.1|",307244723,"cellular organisms,Bacteria,Firmicutes,Clostridia,Clostridiales,Peptostreptococcaceae,Peptostreptococcus,Peptostreptococcus stomatis,Peptostreptococcus stomatis DSM 17678","Peptostreptococcus stomatis DSM 17678","Clostridia",null,"Synechococcus phage Syn19","Caudovirales"]
["ref|ZP_07628461.1|",307566003,"cellular organisms,Bacteria,Bacteroidetes/Chlorobi group,Bacteroidetes,Bacteroidia,Bacteroidales,Prevotellaceae,Prevotella,Prevotella amnii,Prevotella amnii CRIS 21A-A","Prevotella amnii CRIS 21A-A","Bacteroidetes",null,"Synechococcus sp. CC9902","Chroococcales"]
["ref|ZP_07664381.1|",308233644,"cellular organisms,Bacteria,Actinobacteria,Actinobacteria,Coriobacteridae,Coriobacteriales,Coriobacterineae,Coriobacteriaceae,Atopobium,Atopobium vaginae,Atopobium vaginae DSM 15829","Atopobium vaginae DSM 15829","Actinobacteria",null,"Synechococcus sp. JA-3-3Ab","Chroococcales"]
["ref|ZP_07726026.1|",312865804,"cellular organisms,Bacteria,Firmicutes,Bacilli,Lactobacillales,Streptococcaceae,Streptococcus,Streptococcus downei,Streptococcus downei F0415","Streptococcus downei F0415","Bacilli",null,"Synechococcus sp. WH 8109","Chroococcales"]
["ref|ZP_07805503.1|",313143310,"cellular organisms,Bacteria,Proteobacteria,delta/epsilon subdivisions,Epsilonproteobacteria,Campylobacterales,Helicobacteraceae,Helicobacter,Helicobacter cinaedi,Helicobacter cinaedi CCUG 18818","Helicobacter cinaedi CCUG 18818","delta-epsilon_subdivisions",null,"Syntrophobotulus glycolicus DSM 8271","Clostridia"]
["ref|ZP_07819151.1|",313885401,"cellular organisms,Bacteria,Firmicutes,Bacilli,Lactobacillales,Aerococcaceae,Eremococcus,Eremococcus coleocola,Eremococcus coleocola ACS-139-V-Col8","Eremococcus coleocola ACS-139-V-Col8","Bacilli",null,"Syntrophomonas wolfei subsp. wolfei str. Goettingen","Clostridia"]
["ref|ZP_07899886.1|",315646771,"cellular organisms,Bacteria,Firmicutes,Bacilli,Bacillales,Paenibacillaceae,Paenibacillus,Paenibacillus vortex,Paenibacillus vortex V453","Paenibacillus vortex V453","Bacilli",null,"Taeniopygia guttata","Metazoa"]
["ref|ZP_08028933.1|",320527764,"cellular organisms,Bacteria,Firmicutes,Erysipelotrichi,Erysipelotrichales,Erysipelotrichaceae,Solobacterium,Solobacterium moorei,Solobacterium moorei F0204","Solobacterium moorei F0204","Erysipelotrichi",null,"Takifugu rubripes","Metazoa"]
["ref|ZP_08037183.1|",320537219,"cellular organisms,Bacteria,Spirochaetes,Spirochaetia,Spirochaetales,Spirochaetaceae,Treponema,Treponema phagedenis,Treponema phagedenis F0421","Treponema phagedenis F0421","Spirochaetia",null,"Talaromyces stipitatus ATCC 10500","Fungi"]
["ref|ZP_08092108.1|",323486789,"cellular organisms,Bacteria,Firmicutes,Clostridia,Clostridiales,Clostridiaceae,Clostridium,Clostridium symbiosum,Clostridium symbiosum WAL-14163","Clostridium symbiosum WAL-14163","Clostridia",null,"Tannerella sp. 6_1_58FAA_CT1","Bacteroidetes"]
["ref|ZP_08169455.1|",325846540,"cellular organisms,Bacteria,Firmicutes,Clostridia,Clostridiales,Clostridiales incertae sedis,Clostridiales Family XI. Incertae Sedis,Anaerococcus,Anaerococcus hydrogenalis,Anaerococcus hydrogenalis ACS-025-V-Sch4","Anaerococcus hydrogenalis ACS-025-V-Sch4","Clostridia",null,"Tetragenococcus halophilus NBRC 12172","Bacilli"]
["ref|ZP_08193621.1|",326203758,"cellular organisms,Bacteria,Firmicutes,Clostridia,Clostridiales,Clostridiaceae,Clostridium,Clostridium papyrosolvens,Clostridium papyrosolvens DSM 2782","Clostridium papyrosolvens DSM 2782","Clostridia",null,"Tetrahymena thermophila","Ciliophora"]
["ref|ZP_08210599.1|",326389017,"cellular organisms,Bacteria,Proteobacteria,Alphaproteobacteria,Sphingomonadales,Sphingomonadaceae,Novosphingobium,Novosphingobium nitrogenifigens,Novosphingobium nitrogenifigens DSM 19370","Novosphingobium nitrogenifigens DSM 19370","Alphaproteobacteria",null,"Tetrapisispora phaffii CBS 4417","Fungi"]
["ref|ZP_08267095.1|",329888497,"cellular organisms,Bacteria,Proteobacteria,Alphaproteobacteria,Caulobacterales,Caulobacteraceae,Brevundimonas,Brevundimonas diminuta,Brevundimonas diminuta ATCC 11568","Brevundimonas diminuta ATCC 11568","Alphaproteobacteria",null,"Thalassiosira pseudonana CCMP1335","Bacillariophyta"]
["ref|ZP_08273649.1|",329904003,"cellular organisms,Bacteria,Proteobacteria,Betaproteobacteria,Burkholderiales,Oxalobacteraceae,unclassified Oxalobacteraceae,Oxalobacteraceae bacterium IMCC9480","Oxalobacteraceae bacterium IMCC9480","Betaproteobacteria",null,"Thermoanaerobacter sp. X514","Clostridia"]
["ref|ZP_08304735.1|",330003717,"cellular organisms,Bacteria,Proteobacteria,Gammaproteobacteria,Enterobacteriales,Enterobacteriaceae,Klebsiella,Klebsiella sp. MS 92-3","Klebsiella sp. MS 92-3","Gammaproteobacteria",null,"Thermoanaerobacter wiegelii Rt8.B1","Clostridia"]
["ref|ZP_08313441.1|",330718841,"cellular organisms,Bacteria,Firmicutes,Bacilli,Lactobacillales,Leuconostocaceae,Leuconostoc,Leuconostoc fallax,Leuconostoc fallax KCTC 3537","Leuconostoc fallax KCTC 3537","Bacilli",null,"Thermococcus barophilus MP","Thermococci"]
["ref|ZP_08329143.1|",331005784,"cellular organisms,Bacteria,Proteobacteria,Gammaproteobacteria,Alteromonadales,Alteromonadales genera incertae sedis,gamma proteobacterium IMCC1989","gamma proteobacterium IMCC1989","Gammaproteobacteria",null,"Thermococcus sibiricus MM 739","Thermococci"]
["ref|ZP_08336149.1|",331087075,"cellular organisms,Bacteria,Firmicutes,Clostridia,Clostridiales,Lachnospiraceae,unclassified Lachnospiraceae,Lachnospiraceae bacterium 9_1_43BFAA","Lachnospiraceae bacterium 9_1_43BFAA","Clostridia",null,"Thermodesulfovibrio yellowstonii DSM 11347","Nitrospira"]
["ref|ZP_08403790.1|",332527749,"cellular organisms,Bacteria,Proteobacteria,Betaproteobacteria,Burkholderiales,unclassified Burkholderiales,Burkholderiales Genera incertae sedis,Rubrivivax,Rubrivivax benzoatilyticus,Rubrivivax benzoatilyticus JA2","Rubrivivax benzoatilyticus JA2","Betaproteobacteria",null,"Thermosediminibacter oceani DSM 16646","Clostridia"]
["ref|ZP_08436007.1|",332855698,"cellular organisms,Bacteria,Proteobacteria,Gammaproteobacteria,Pseudomonadales,Moraxellaceae,Acinetobacter,Acinetobacter calcoaceticus/baumannii complex,Acinetobacter baumannii,Acinetobacter baumannii 6013150","Acinetobacter baumannii 6013150","Gammaproteobacteria",null,"Thermotoga naphthophila RKU-10","Thermotogae"]
["ref|ZP_08574460.1|",336393061,"cellular organisms,Bacteria,Firmicutes,Bacilli,Lactobacillales,Lactobacillaceae,Lactobacillus,Lactobacillus coryniformis,Lactobacillus coryniformis subsp. torquens,Lactobacillus coryniformis subsp. torquens KCTC 3535","Lactobacillus coryniformis subsp. torquens KCTC 3535","Bacilli",null,"Thermotoga petrophila RKU-1","Thermotogae"]
["ref|ZP_08631202.1|",338979861,"cellular organisms,Bacteria,Proteobacteria,Alphaproteobacteria,Rhodospirillales,Acetobacteraceae,Acidiphilium,Acidiphilium sp. PM","Acidiphilium sp. PM","Alphaproteobacteria",null,"Thioalkalimicrobium cyclicum ALM1","Gammaproteobacteria"]
["ref|ZP_08641991.1|",339009419,"cellular organisms,Bacteria,Firmicutes,Bacilli,Bacillales,Paenibacillaceae,Brevibacillus,Brevibacillus laterosporus,Brevibacillus laterosporus LMG 15441","Brevibacillus laterosporus LMG 15441","Bacilli",null,"Thiorhodovibrio sp. 970","Gammaproteobacteria"]
["ref|ZP_08668492.1|",340345360,"cellular organisms,Archaea,Thaumarchaeota,Nitrosopumilales,Nitrosopumilaceae,Candidatus Nitrosoarchaeum,Candidatus Nitrosoarchaeum koreensis,Candidatus Nitrosoarchaeum koreensis MY1","Candidatus Nitrosoarchaeum koreensis MY1","Nitrosopumilales",null,"Tistrella mobilis KA081020-065","Alphaproteobacteria"]
["ref|ZP_08669066.1|",340345936,"cellular organisms,Bacteria,Bacteroidetes/Chlorobi group,Bacteroidetes,Bacteroidia,Bacteroidales,Prevotellaceae,Prevotella,Prevotella dentalis,Prevotella dentalis DSM 3688","Prevotella dentalis DSM 3688","Bacteroidetes",null,"Torulaspora delbrueckii","Fungi"]
["ref|ZP_08670416.1|",340347304,"cellular organisms,Bacteria,Bacteroidetes/Chlorobi group,Bacteroidetes,Bacteroidia,Bacteroidales,Prevotellaceae,Prevotella,Prevotella dentalis,Prevotella dentalis DSM 3688","Prevotella dentalis DSM 3688","Bacteroidetes",null,"Toxoplasma gondii ME49","Apicomplexa"]
["ref|ZP_08820125.1|",345868130,"cellular organisms,Bacteria,Bacteroidetes/Chlorobi group,Bacteroidetes,Flavobacteriia,Flavobacteriales,Flavobacteriaceae,Bizionia,Bizionia argentinensis,Bizionia argentinensis JUB59","Bizionia argentinensis JUB59","Bacteroidetes",null,"Trachelium caeruleum","Streptophyta"]
["ref|ZP_08833155.1|",345881641,"cellular organisms,Bacteria,Bacteroidetes/Chlorobi group,Bacteroidetes,Bacteroidia,Bacteroidales,Prevotellaceae,Prevotella,Prevotella oulorum,Prevotella oulorum F0390","Prevotella oulorum F0390","Bacteroidetes",null,"Treponema denticola ATCC 35405","Spirochaetia"]
["ref|ZP_08871588.1|",347818154,"cellular organisms,Bacteria,Proteobacteria,Betaproteobacteria,Burkholderiales,Comamonadaceae,Verminephrobacter,Verminephrobacter aporrectodeae,Verminephrobacter aporrectodeae subsp. tuberculatae,Verminephrobacter aporrectodeae subsp. tuberculatae At4","Verminephrobacter aporrectodeae subsp. tuberculatae At4","Betaproteobacteria",null,"Treponema phagedenis F0421","Spirochaetia"]
["ref|ZP_08902175.1|",349700546,"cellular organisms,Bacteria,Proteobacteria,Alphaproteobacteria,Rhodospirillales,Acetobacteraceae,Gluconacetobacter,Gluconacetobacter europaeus,Gluconacetobacter europaeus LMG 18494","Gluconacetobacter europaeus LMG 18494","Alphaproteobacteria",null,"Tribolium castaneum","Metazoa"]
["ref|ZP_08952283.1|",352081405,"cellular organisms,Bacteria,Proteobacteria,Gammaproteobacteria,Xanthomonadales,Xanthomonadaceae,Rhodanobacter,Rhodanobacter sp. 2APBS1","Rhodanobacter sp. 2APBS1","Gammaproteobacteria",null,"Trichinella spiralis","Metazoa"]
["ref|ZP_08987757.1|",354568594,"cellular organisms,Bacteria,Cyanobacteria,Stigonematales,Fischerella,Fischerella sp. JSC-11","Fischerella sp. JSC-11","Stigonematales",null,"Trichodesmium erythraeum IMS101","Oscillatoriales"]
["ref|ZP_09074526.1|",357009527,"cellular organisms,Bacteria,Firmicutes,Bacilli,Bacillales,Paenibacillaceae,Paenibacillus,Paenibacillus elgii,Paenibacillus elgii B69","Paenibacillus elgii B69","Bacilli",null,"Trichomonas vaginalis G3","Trichomonadida"]
["ref|ZP_09147359.1|",358053622,"cellular organisms,Bacteria,Firmicutes,Bacilli,Bacillales,Staphylococcaceae,Staphylococcus,Staphylococcus simiae,Staphylococcus simiae CCM 7213","Staphylococcus simiae CCM 7213","Bacilli",null,"Trichophyton rubrum CBS 118892","Fungi"]
["ref|ZP_09188374.1|",359395322,"cellular organisms,Bacteria,Proteobacteria,Gammaproteobacteria,Oceanospirillales,Halomonadaceae,Halomonas,Halomonas boliviensis,Halomonas boliviensis LC1","Halomonas boliviensis LC1","Gammaproteobacteria",null,"Trichoplax adhaerens","Metazoa"]
["ref|ZP_09225310.1|",359435080,"cellular organisms,Bacteria,Proteobacteria,Gammaproteobacteria,Alteromonadales,Pseudoalteromonadaceae,Pseudoalteromonas,Pseudoalteromonas sp. BSi20652","Pseudoalteromonas sp. BSi20652","Gammaproteobacteria",null,"Trypanosoma brucei brucei strain 927/4 GUTat10.1","Kinetoplastida"]
["ref|ZP_09241940.1|",359452596,"cellular organisms,Bacteria,Proteobacteria,Gammaproteobacteria,Alteromonadales,Pseudoalteromonadaceae,Pseudoalteromonas,Pseudoalteromonas sp. BSi20495","Pseudoalteromonas sp. BSi20495","Gammaproteobacteria",null,"Trypanosoma cruzi strain CL Brener","Kinetoplastida"]
["ref|ZP_09242176.1|",359452837,"cellular organisms,Bacteria,Proteobacteria,Gammaproteobacteria,Alteromonadales,Pseudoalteromonadaceae,Pseudoalteromonas,Pseudoalteromonas sp. BSi20495","Pseudoalteromonas sp. BSi20495","Gammaproteobacteria",null,"Tuber melanosporum Mel28","Fungi"]
["ref|ZP_09368141.1|",365826195,"cellular organisms,Bacteria,Actinobacteria,Actinobacteria,Actinobacteridae,Actinomycetales,Actinomycineae,Actinomycetaceae,Actinomyces,Actinomyces graevenitzii,Actinomyces graevenitzii C83","Actinomyces graevenitzii C83","Actinobacteria",null,"Uncinocarpus reesii 1704","Fungi"]
["ref|ZP_09379780.1|",365838437,"cellular organisms,Bacteria,Proteobacteria,Gammaproteobacteria,Enterobacteriales,Enterobacteriaceae,Hafnia,Hafnia alvei,Hafnia alvei ATCC 51873","Hafnia alvei ATCC 51873","Gammaproteobacteria",null,"Verminephrobacter aporrectodeae subsp. tuberculatae At4","Betaproteobacteria"]
["ref|ZP_09416047.1|",365876526,"cellular organisms,Bacteria,Bacteroidetes/Chlorobi group,Bacteroidetes,Flavobacteriia,Flavobacteriales,Flavobacteriaceae,Elizabethkingia,Elizabethkingia anophelis,Elizabethkingia anophelis Ag1","Elizabethkingia anophelis Ag1","Bacteroidetes",null,"Verrucomicrobiae bacterium DG1235","Verrucomicrobia"]
["ref|ZP_09446706.1|",365922508,"cellular organisms,Bacteria,Proteobacteria,Gammaproteobacteria,Cardiobacteriales,Cardiobacteriaceae,Cardiobacterium,Cardiobacterium valvarum,Cardiobacterium valvarum F0432","Cardiobacterium valvarum F0432","Gammaproteobacteria",null,"Verticillium albo-atrum VaMs.102","Fungi"]
["ref|ZP_09465079.1|",366165324,"cellular organisms,Bacteria,Firmicutes,Clostridia,Clostridiales,Ruminococcaceae,Acetivibrio,Acetivibrio cellulolyticus,Acetivibrio cellulolyticus CD2","Acetivibrio cellulolyticus CD2","Clostridia",null,"Vibrio cholerae 623-39","Gammaproteobacteria"]
["ref|ZP_09499364.1|",372220943,"cellular organisms,Bacteria,Bacteroidetes/Chlorobi group,Bacteroidetes,Flavobacteriia,Flavobacteriales,Flavobacteriaceae,Mesoflavibacter,Mesoflavibacter zeaxanthinifaciens,Mesoflavibacter zeaxanthinifaciens S86","Mesoflavibacter zeaxanthinifaciens S86","Bacteroidetes",null,"Vibrio cholerae RC385","Gammaproteobacteria"]
["ref|ZP_09544874.1|",373452970,"cellular organisms,Bacteria,Firmicutes,Clostridia,Clostridiales,Eubacteriaceae,Eubacterium,Eubacterium sp. 3_1_31","Eubacterium sp. 3_1_31","Clostridia",null,"Vibrio mimicus MB451","Gammaproteobacteria"]
["ref|ZP_09632144.1|",374374485,"cellular organisms,Bacteria,Bacteroidetes/Chlorobi group,Bacteroidetes,Sphingobacteriia,Sphingobacteriales,Chitinophagaceae,Niabella,Niabella soli,Niabella soli DSM 19437","Niabella soli DSM 19437","Bacteroidetes",null,"Vibrio sp. AND4","Gammaproteobacteria"]
["ref|ZP_09660489.1|",374587397,"cellular organisms,Bacteria,Spirochaetes,Spirochaetia,Spirochaetales,Leptospiraceae,Leptonema,Leptonema illini,Leptonema illini DSM 21528","Leptonema illini DSM 21528","Spirochaetia",null,"Vibrionales bacterium SWAT-3","Gammaproteobacteria"]
["ref|ZP_09668113.1|",374595109,"cellular organisms,Bacteria,Bacteroidetes/Chlorobi group,Bacteroidetes,Flavobacteriia,Flavobacteriales,Flavobacteriaceae,Gillisia,Gillisia limnaea,Gillisia limnaea DSM 15749","Gillisia limnaea DSM 15749","Bacteroidetes",null,"Vitis vinifera","Streptophyta"]
["ref|ZP_09695997.1|",374623488,"cellular organisms,Bacteria,Proteobacteria,Gammaproteobacteria,Chromatiales,Ectothiorhodospiraceae,Ectothiorhodospira,Ectothiorhodospira sp. PHS-1","Ectothiorhodospira sp. PHS-1","Gammaproteobacteria",null,"Volvox carteri f. nagariensis","Chlorophyta"]
["ref|ZP_09732453.1|",375085831,"cellular organisms,Bacteria,Firmicutes,Negativicutes,Selenomonadales,Veillonellaceae,Megamonas,Megamonas funiformis,Megamonas funiformis YIT 11815","Megamonas funiformis YIT 11815","Negativicutes",null,"Weeksella virosa DSM 16922","Bacteroidetes"]
["ref|ZP_09831190.1|",378582552,"cellular organisms,Bacteria,Proteobacteria,Gammaproteobacteria,Enterobacteriales,Enterobacteriaceae,Pantoea,Pantoea stewartii,Pantoea stewartii subsp. stewartii,Pantoea stewartii subsp. stewartii DC283","Pantoea stewartii subsp. stewartii DC283","Gammaproteobacteria",null,"Weissella confusa LBAE C39-2","Bacilli"]
["ref|ZP_09865998.1|",381156760,"cellular organisms,Bacteria,Proteobacteria,Gammaproteobacteria,Chromatiales,Chromatiaceae,Thiorhodovibrio,Thiorhodovibrio sp. 970","Thiorhodovibrio sp. 970","Gammaproteobacteria",null,"Wiseana iridescent virus","Iridoviridae"]
["ref|ZP_09957217.1|",383644811,"cellular organisms,Bacteria,Actinobacteria,Actinobacteria,Actinobacteridae,Actinomycetales,Streptomycineae,Streptomycetaceae,Streptomyces,Streptomyces chartreusis,Streptomyces chartreusis NRRL 12338","Streptomyces chartreusis NRRL 12338","Actinobacteria",null,"Xenopus (Silurana) tropicalis","Metazoa"]
["ref|ZP_10013746.1|",384566642,"cellular organisms,Bacteria,Actinobacteria,Actinobacteria,Actinobacteridae,Actinomycetales,Pseudonocardineae,Pseudonocardiaceae,Saccharomonospora,Saccharomonospora glauca,Saccharomonospora glauca K62","Saccharomonospora glauca K62","Actinobacteria",null,"Xenopus laevis","Metazoa"]
["ref|ZP_10015599.1|",384914927,"cellular organisms,Bacteria,Chlamydiae/Verrucomicrobia group,Verrucomicrobia,unclassified Verrucomicrobia,Methylacidiphilales,Methylacidiphilaceae,Methylacidiphilum,Methylacidiphilum fumariolicum,Methylacidiphilum fumariolicum SolV","Methylacidiphilum fumariolicum SolV","Verrucomicrobia",null,"Zunongwangia profunda SM-A87","Bacteroidetes"]
["ref|ZP_10100249.1|",386813024,"cellular organisms,Bacteria,Planctomycetes,Planctomycetia,Planctomycetales,Planctomycetaceae,unclassified Planctomycetaceae,planctomycete KSU-1","planctomycete KSU-1","Planctomycetia",null,"Zygosaccharomyces rouxii CBS 732","Fungi"]
["ref|ZP_10137631.1|",388455336,"cellular organisms,Bacteria,Proteobacteria,Gammaproteobacteria,Legionellales,Legionellaceae,Fluoribacter,Fluoribacter dumoffii,Fluoribacter dumoffii Tex-KL","Fluoribacter dumoffii Tex-KL","Gammaproteobacteria",null,"Zymomonas mobilis subsp. mobilis ATCC 29191","Alphaproteobacteria"]
["ref|ZP_10184974.1|",389699401,"cellular organisms,Bacteria,Proteobacteria,Betaproteobacteria,Burkholderiales,unclassified Burkholderiales,Burkholderiales Genera incertae sedis,Leptothrix,Leptothrix ochracea,Leptothrix ochracea L12","Leptothrix ochracea L12","Betaproteobacteria",null,"Zymoseptoria tritici IPO323","Fungi"]
["ref|ZP_10192810.1|",389774691,"cellular organisms,Bacteria,Proteobacteria,Gammaproteobacteria,Xanthomonadales,Xanthomonadaceae,Rhodanobacter,Rhodanobacter spathiphylli,Rhodanobacter spathiphylli B39","Rhodanobacter spathiphylli B39","Gammaproteobacteria",null,"alpha proteobacterium HIMB114","Alphaproteobacteria"]
["ref|ZP_10245194.1|",390563049,"cellular organisms,Bacteria,Chloroflexi,Thermomicrobia,Sphaerobacteridae,Sphaerobacterales,Sphaerobacterineae,Sphaerobacteraceae,Nitrolancetus,Nitrolancetus hollandicus,Nitrolancetus hollandicus Lb","Nitrolancetus hollandicus Lb","Thermomicrobia",null,"delta proteobacterium MLMS-1","delta-epsilon_subdivisions"]
["ref|ZP_10251803.1|",390571564,"cellular organisms,Bacteria,Proteobacteria,Betaproteobacteria,Burkholderiales,Burkholderiaceae,Burkholderia,Burkholderia terrae,Burkholderia terrae BS001","Burkholderia terrae BS001","Betaproteobacteria",null,"delta proteobacterium NaphS2","delta-epsilon_subdivisions"]
["ref|ZP_10327913.1|",392962477,"cellular organisms,Bacteria,Firmicutes,Negativicutes,Selenomonadales,Veillonellaceae,Pelosinus,Pelosinus fermentans,Pelosinus fermentans DSM 17108","Pelosinus fermentans DSM 17108","Negativicutes",null,"gamma proteobacterium HIMB30","Gammaproteobacteria"]
["ref|ZP_10360439.1|",393771973,"cellular organisms,Bacteria,Proteobacteria,Alphaproteobacteria,Sphingomonadales,Sphingomonadaceae,Novosphingobium,Novosphingobium sp. Rr 2-17","Novosphingobium sp. Rr 2-17","Alphaproteobacteria",null,"gamma proteobacterium IMCC1989","Gammaproteobacteria"]
["ref|ZP_10400122.1|",395213237,"cellular organisms,Bacteria,Bacteroidetes/Chlorobi group,Bacteroidetes,Cytophagia,Cytophagales,Cytophagaceae,Pontibacter,Pontibacter sp. BAB1700","Pontibacter sp. BAB1700","Bacteroidetes",null,"gamma proteobacterium NOR5-3","Gammaproteobacteria"]
["ref|ZP_10421344.1|",395244377,"cellular organisms,Bacteria,Firmicutes,Bacilli,Lactobacillales,Lactobacillaceae,Lactobacillus,Lactobacillus hominis,Lactobacillus hominis CRBIP 24.179","Lactobacillus hominis CRBIP 24.179","Bacilli",null,"gamma proteobacterium NOR51-B","Gammaproteobacteria"]
["ref|ZP_10440475.1|",395652625,"cellular organisms,Bacteria,Proteobacteria,Gammaproteobacteria,Pseudomonadales,Pseudomonadaceae,Pseudomonas,Pseudomonas extremaustralis,Pseudomonas extremaustralis 14-3,Pseudomonas extremaustralis 14-3 substr. 14-3b","Pseudomonas extremaustralis 14-3 substr. 14-3b","Gammaproteobacteria",null,"planctomycete KSU-1","Planctomycetia"]
["ref|ZP_10495082.1|",397171683,"cellular organisms,Bacteria,Proteobacteria,Gammaproteobacteria,Alteromonadales,Alteromonadaceae,Alishewanella,Alishewanella aestuarii,Alishewanella aestuarii B11","Alishewanella aestuarii B11","Gammaproteobacteria",null,"unidentified eubacterium SCB49","Bacteroidetes"]
["ref|ZP_10504827.1|",397903890,"cellular organisms,Bacteria,Firmicutes,Clostridia,Clostridiales,Clostridiaceae,Caloramator,Caloramator australicus,Caloramator australicus RC3","Caloramator australicus RC3","Clostridia"]
["ref|ZP_10555071.1|",398795156,"cellular organisms,Bacteria,Proteobacteria,Gammaproteobacteria,Enterobacteriales,Enterobacteriaceae,Pantoea,Pantoea sp. YR343","Pantoea sp. YR343","Gammaproteobacteria"]
["ref|ZP_10573927.1|",398815257,"cellular organisms,Bacteria,Firmicutes,Bacilli,Bacillales,Paenibacillaceae,Brevibacillus,Brevibacillus sp. BC25","Brevibacillus sp. BC25","Bacilli"]
["ref|ZP_10574463.1|",398815802,"cellular organisms,Bacteria,Firmicutes,Bacilli,Bacillales,Paenibacillaceae,Brevibacillus,Brevibacillus sp. BC25","Brevibacillus sp. BC25","Bacilli"]
["ref|ZP_10578228.1|",398819679,"cellular organisms,Bacteria,Proteobacteria,Alphaproteobacteria,Rhizobiales,Bradyrhizobiaceae,Bradyrhizobium,Bradyrhizobium sp. YR681","Bradyrhizobium sp. YR681","Alphaproteobacteria"]
["ref|ZP_10624422.1|",398869036,"cellular organisms,Bacteria,Proteobacteria,Gammaproteobacteria,Pseudomonadales,Pseudomonadaceae,Pseudomonas,Pseudomonas sp. GM78","Pseudomonas sp. GM78","Gammaproteobacteria"]
["ref|ZP_10727232.1|",399025219,"cellular organisms,Bacteria,Bacteroidetes/Chlorobi group,Bacteroidetes,Flavobacteriia,Flavobacteriales,Flavobacteriaceae,Chryseobacterium,Chryseobacterium sp. CF314","Chryseobacterium sp. CF314","Bacteroidetes"]
["ref|ZP_10728945.1|",399027458,"cellular organisms,Bacteria,Bacteroidetes/Chlorobi group,Bacteroidetes,Flavobacteriia,Flavobacteriales,Flavobacteriaceae,Flavobacterium,Flavobacterium sp. CF136","Flavobacterium sp. CF136","Bacteroidetes"]
["ref|ZP_10748492.1|",399066552,"cellular organisms,Bacteria,Proteobacteria,Alphaproteobacteria,Sphingomonadales,Sphingomonadaceae,Novosphingobium,Novosphingobium sp. AP12","Novosphingobium sp. AP12","Alphaproteobacteria"]
["ref|NP_001006448.1|",57530101,"cellular organisms,Eukaryota,Opisthokonta,Metazoa,Eumetazoa,Bilateria,Coelomata,Deuterostomia,Chordata,Craniata,Vertebrata,Gnathostomata,Teleostomi,Euteleostomi,Sarcopterygii,Tetrapoda,Amniota,Sauropsida,Sauria,Archosauria,Dinosauria,Saurischia,Theropoda,Coelurosauria,Aves,Neognathae,Galliformes,Phasianidae,Phasianinae,Gallus,Gallus gallus","Gallus gallus","Metazoa"]
["ref|NP_001048974.1|",115450747,"cellular organisms,Eukaryota,Viridiplantae,Streptophyta,Streptophytina,Embryophyta,Tracheophyta,Euphyllophyta,Spermatophyta,Magnoliophyta,Liliopsida,commelinids,Poales,Poaceae,BEP clade,Ehrhartoideae,Oryzeae,Oryza,Oryza sativa,Oryza sativa Japonica Group","Oryza sativa Japonica Group","Streptophyta"]
["ref|NP_001156084.1|",242247091,"cellular organisms,Eukaryota,Opisthokonta,Metazoa,Eumetazoa,Bilateria,Coelomata,Protostomia,Ecdysozoa,Panarthropoda,Arthropoda,Mandibulata,Pancrustacea,Hexapoda,Insecta,Dicondylia,Pterygota,Neoptera,Paraneoptera,Hemiptera,Sternorrhyncha,Aphidiformes,Aphidomorpha,Aphidoidea,Aphididae,Aphidinae,Macrosiphini,Acyrthosiphon,Acyrthosiphon pisum","Acyrthosiphon pisum","Metazoa"]
["ref|NP_001173265.1|",297721803,"cellular organisms,Eukaryota,Viridiplantae,Streptophyta,Streptophytina,Embryophyta,Tracheophyta,Euphyllophyta,Spermatophyta,Magnoliophyta,Liliopsida,commelinids,Poales,Poaceae,BEP clade,Ehrhartoideae,Oryzeae,Oryza,Oryza sativa,Oryza sativa Japonica Group","Oryza sativa Japonica Group","Streptophyta"]
["ref|NP_048469.2|",340025713,"Viruses,dsDNA viruses, no RNA stage,Phycodnaviridae,Chlorovirus,Paramecium bursaria Chlorella virus 1","Paramecium bursaria Chlorella virus 1","Phycodnaviridae"]
["ref|NP_077537.1|",13242524,"Viruses,dsDNA viruses, no RNA stage,Phycodnaviridae,Phaeovirus,Ectocarpus siliculosus virus 1","Ectocarpus siliculosus virus 1","Phycodnaviridae"]
["ref|NP_077646.1|",13242631,"Viruses,dsDNA viruses, no RNA stage,Phycodnaviridae,Phaeovirus,Ectocarpus siliculosus virus 1","Ectocarpus siliculosus virus 1","Phycodnaviridae"]
["ref|NP_241707.1|",15613404,"cellular organisms,Bacteria,Firmicutes,Bacilli,Bacillales,Bacillaceae,Bacillus,Bacillus halodurans,Bacillus halodurans C-125","Bacillus halodurans C-125","Bacilli"]
["ref|NP_245758.1|",15602686,"cellular organisms,Bacteria,Proteobacteria,Gammaproteobacteria,Pasteurellales,Pasteurellaceae,Pasteurella,Pasteurella multocida,Pasteurella multocida subsp. multocida,Pasteurella multocida subsp. multocida str. Pm70","Pasteurella multocida subsp. multocida str. Pm70","Gammaproteobacteria"]
["ref|NP_247626.1|",15668823,"cellular organisms,Archaea,Euryarchaeota,Methanococci,Methanococcales,Methanocaldococcaceae,Methanocaldococcus,Methanocaldococcus jannaschii,Methanocaldococcus jannaschii DSM 2661","Methanocaldococcus jannaschii DSM 2661","Methanococci"]
["ref|NP_501030.2|",25149553,"cellular organisms,Eukaryota,Opisthokonta,Metazoa,Eumetazoa,Bilateria,Coelomata,Protostomia,Ecdysozoa,Nematoda,Chromadorea,Rhabditida,Rhabditoidea,Rhabditidae,Peloderinae,Caenorhabditis,Caenorhabditis elegans","Caenorhabditis elegans","Metazoa"]
["ref|NP_505715.2|",392920401,"cellular organisms,Eukaryota,Opisthokonta,Metazoa,Eumetazoa,Bilateria,Coelomata,Protostomia,Ecdysozoa,Nematoda,Chromadorea,Rhabditida,Rhabditoidea,Rhabditidae,Peloderinae,Caenorhabditis,Caenorhabditis elegans","Caenorhabditis elegans","Metazoa"]
["ref|NP_620696.1|",20530229,"Viruses,ssDNA viruses,Nanoviridae,Nanovirus,Subterranean clover stunt virus","Subterranean clover stunt virus","Nanovirus"]
["ref|NP_972024.1|",42526926,"cellular organisms,Bacteria,Spirochaetes,Spirochaetia,Spirochaetales,Spirochaetaceae,Treponema,Treponema denticola,Treponema denticola ATCC 35405","Treponema denticola ATCC 35405","Spirochaetia"]
["ref|NP_988198.1|",45358641,"cellular organisms,Archaea,Euryarchaeota,Methanococci,Methanococcales,Methanococcaceae,Methanococcus,Methanococcus maripaludis,Methanococcus maripaludis S2","Methanococcus maripaludis S2","Methanococci"]
["ref|NP_998598.1|",47087401,"cellular organisms,Eukaryota,Opisthokonta,Metazoa,Eumetazoa,Bilateria,Coelomata,Deuterostomia,Chordata,Craniata,Vertebrata,Gnathostomata,Teleostomi,Euteleostomi,Actinopterygii,Actinopteri,Neopterygii,Teleostei,Elopocephala,Clupeocephala,Otocephala,Ostariophysi,Otophysi,Cypriniphysi,Cypriniformes,Cyprinoidea,Cyprinidae,Danio,Danio rerio","Danio rerio","Metazoa"]
["ref|XP_001025274.1|",118384243,"cellular organisms,Eukaryota,Alveolata,Ciliophora,Intramacronucleata,Oligohymenophorea,Hymenostomatida,Tetrahymenina,Tetrahymenidae,Tetrahymena,Tetrahymena thermophila","Tetrahymena thermophila","Ciliophora"]
["ref|XP_001027990.1|",118389890,"cellular organisms,Eukaryota,Alveolata,Ciliophora,Intramacronucleata,Oligohymenophorea,Hymenostomatida,Tetrahymenina,Tetrahymenidae,Tetrahymena,Tetrahymena thermophila","Tetrahymena thermophila","Ciliophora"]
["ref|XP_001033371.1|",118402103,"cellular organisms,Eukaryota,Alveolata,Ciliophora,Intramacronucleata,Oligohymenophorea,Hymenostomatida,Tetrahymenina,Tetrahymenidae,Tetrahymena,Tetrahymena thermophila","Tetrahymena thermophila","Ciliophora"]
["ref|XP_001197954.2|",390354433,"cellular organisms,Eukaryota,Opisthokonta,Metazoa,Eumetazoa,Bilateria,Coelomata,Deuterostomia,Echinodermata,Eleutherozoa,Echinozoa,Echinoidea,Euechinoidea,Echinacea,Echinoida,Strongylocentrotidae,Strongylocentrotus,Strongylocentrotus purpuratus","Strongylocentrotus purpuratus","Metazoa"]
["ref|XP_001209271.1|",115385449,"cellular organisms,Eukaryota,Opisthokonta,Fungi,Dikarya,Ascomycota,saccharomyceta,Pezizomycotina,leotiomyceta,Eurotiomycetes,Eurotiomycetidae,Eurotiales,Trichocomaceae,mitosporic Trichocomaceae,Aspergillus,Aspergillus terreus,Aspergillus terreus NIH2624","Aspergillus terreus NIH2624","Fungi"]
["ref|XP_001261514.1|",119482972,"cellular organisms,Eukaryota,Opisthokonta,Fungi,Dikarya,Ascomycota,saccharomyceta,Pezizomycotina,leotiomyceta,Eurotiomycetes,Eurotiomycetidae,Eurotiales,Trichocomaceae,Neosartorya,Neosartorya fischeri group,Neosartorya fischeri,Neosartorya fischeri NRRL 181","Neosartorya fischeri NRRL 181","Fungi"]
["ref|XP_001264670.1|",119495785,"cellular organisms,Eukaryota,Opisthokonta,Fungi,Dikarya,Ascomycota,saccharomyceta,Pezizomycotina,leotiomyceta,Eurotiomycetes,Eurotiomycetidae,Eurotiales,Trichocomaceae,Neosartorya,Neosartorya fischeri group,Neosartorya fischeri,Neosartorya fischeri NRRL 181","Neosartorya fischeri NRRL 181","Fungi"]
["ref|XP_001323411.1|",123480785,"cellular organisms,Eukaryota,Parabasalia,Trichomonadida,Trichomonadidae,Trichomonas,Trichomonas vaginalis,Trichomonas vaginalis G3","Trichomonas vaginalis G3","Trichomonadida"]
["ref|XP_001349685.1|",124801405,"cellular organisms,Eukaryota,Alveolata,Apicomplexa,Aconoidasida,Haemosporida,Plasmodium,Plasmodium (Laverania),Plasmodium falciparum,Plasmodium falciparum 3D7","Plasmodium falciparum 3D7","Apicomplexa"]
["ref|XP_001367229.2|",334311011,"cellular organisms,Eukaryota,Opisthokonta,Metazoa,Eumetazoa,Bilateria,Coelomata,Deuterostomia,Chordata,Craniata,Vertebrata,Gnathostomata,Teleostomi,Euteleostomi,Sarcopterygii,Tetrapoda,Amniota,Mammalia,Theria,Metatheria,Didelphimorphia,Didelphidae,Didelphinae,Monodelphis,Monodelphis domestica","Monodelphis domestica","Metazoa"]
["ref|XP_001416626.1|",145344203,"cellular organisms,Eukaryota,Viridiplantae,Chlorophyta,Mamiellophyceae,Mamiellales,Ostreococcus,Ostreococcus 'lucimarinus',Ostreococcus lucimarinus CCE9901","Ostreococcus lucimarinus CCE9901","Chlorophyta"]
["ref|XP_001420882.1|",145353138,"cellular organisms,Eukaryota,Viridiplantae,Chlorophyta,Mamiellophyceae,Mamiellales,Ostreococcus,Ostreococcus 'lucimarinus',Ostreococcus lucimarinus CCE9901","Ostreococcus lucimarinus CCE9901","Chlorophyta"]
["ref|XP_001421807.1|",145355096,"cellular organisms,Eukaryota,Viridiplantae,Chlorophyta,Mamiellophyceae,Mamiellales,Ostreococcus,Ostreococcus 'lucimarinus',Ostreococcus lucimarinus CCE9901","Ostreococcus lucimarinus CCE9901","Chlorophyta"]
["ref|XP_001469404.1|",146102742,"cellular organisms,Eukaryota,Euglenozoa,Kinetoplastida,Trypanosomatidae,Leishmania,Leishmania,Leishmania donovani species complex,Leishmania infantum,Leishmania infantum JPCM5","Leishmania infantum JPCM5","Kinetoplastida"]
["ref|XP_001549219.1|",154297586,"cellular organisms,Eukaryota,Opisthokonta,Fungi,Dikarya,Ascomycota,saccharomyceta,Pezizomycotina,leotiomyceta,sordariomyceta,Leotiomycetes,Helotiales,Sclerotiniaceae,Botryotinia,Botryotinia fuckeliana,Botryotinia fuckeliana B05.10","Botryotinia fuckeliana B05.10","Fungi"]
["ref|XP_001587041.1|",156039868,"cellular organisms,Eukaryota,Opisthokonta,Fungi,Dikarya,Ascomycota,saccharomyceta,Pezizomycotina,leotiomyceta,sordariomyceta,Leotiomycetes,Helotiales,Sclerotiniaceae,Sclerotinia,Sclerotinia sclerotiorum,Sclerotinia sclerotiorum 1980 UF-70","Sclerotinia sclerotiorum 1980 UF-70","Fungi"]
["ref|XP_001593918.1|",156055988,"cellular organisms,Eukaryota,Opisthokonta,Fungi,Dikarya,Ascomycota,saccharomyceta,Pezizomycotina,leotiomyceta,sordariomyceta,Leotiomycetes,Helotiales,Sclerotiniaceae,Sclerotinia,Sclerotinia sclerotiorum,Sclerotinia sclerotiorum 1980 UF-70","Sclerotinia sclerotiorum 1980 UF-70","Fungi"]
["ref|XP_001609533.1|",156084100,"cellular organisms,Eukaryota,Alveolata,Apicomplexa,Aconoidasida,Piroplasmida,Babesiidae,Babesia,Babesia bovis,Babesia bovis T2Bo","Babesia bovis T2Bo","Apicomplexa"]
["ref|XP_001610506.1|",156086194,"cellular organisms,Eukaryota,Alveolata,Apicomplexa,Aconoidasida,Piroplasmida,Babesiidae,Babesia,Babesia bovis,Babesia bovis T2Bo","Babesia bovis T2Bo","Apicomplexa"]
["ref|XP_001623656.1|",156355400,"cellular organisms,Eukaryota,Opisthokonta,Metazoa,Eumetazoa,Cnidaria,Anthozoa,Hexacorallia,Actiniaria,Edwardsiidae,Nematostella,Nematostella vectensis","Nematostella vectensis","Metazoa"]
["ref|XP_001633218.1|",156384198,"cellular organisms,Eukaryota,Opisthokonta,Metazoa,Eumetazoa,Cnidaria,Anthozoa,Hexacorallia,Actiniaria,Edwardsiidae,Nematostella,Nematostella vectensis","Nematostella vectensis","Metazoa"]
["ref|XP_001639005.1|",156400850,"cellular organisms,Eukaryota,Opisthokonta,Metazoa,Eumetazoa,Cnidaria,Anthozoa,Hexacorallia,Actiniaria,Edwardsiidae,Nematostella,Nematostella vectensis","Nematostella vectensis","Metazoa"]
["ref|XP_001647733.1|",157141625,"cellular organisms,Eukaryota,Opisthokonta,Metazoa,Eumetazoa,Bilateria,Coelomata,Protostomia,Ecdysozoa,Panarthropoda,Arthropoda,Mandibulata,Pancrustacea,Hexapoda,Insecta,Dicondylia,Pterygota,Neoptera,Endopterygota,Diptera,Nematocera,Culicimorpha,Culicoidea,Culicidae,Culicinae,Aedini,Aedes,Stegomyia,Aedes aegypti","Aedes aegypti","Metazoa"]
["ref|XP_001663784.1|",157136601,"cellular organisms,Eukaryota,Opisthokonta,Metazoa,Eumetazoa,Bilateria,Coelomata,Protostomia,Ecdysozoa,Panarthropoda,Arthropoda,Mandibulata,Pancrustacea,Hexapoda,Insecta,Dicondylia,Pterygota,Neoptera,Endopterygota,Diptera,Nematocera,Culicimorpha,Culicoidea,Culicidae,Culicinae,Aedini,Aedes,Stegomyia,Aedes aegypti","Aedes aegypti","Metazoa"]
["ref|XP_001693099.1|",159469903,"cellular organisms,Eukaryota,Viridiplantae,Chlorophyta,Chlorophyceae,Chlamydomonadales,Chlamydomonadaceae,Chlamydomonas,Chlamydomonas reinhardtii","Chlamydomonas reinhardtii","Chlorophyta"]
["ref|XP_001702430.1|",159488883,"cellular organisms,Eukaryota,Viridiplantae,Chlorophyta,Chlorophyceae,Chlamydomonadales,Chlamydomonadaceae,Chlamydomonas,Chlamydomonas reinhardtii","Chlamydomonas reinhardtii","Chlorophyta"]
["ref|XP_001702963.1|",159489970,"cellular organisms,Eukaryota,Viridiplantae,Chlorophyta,Chlorophyceae,Chlamydomonadales,Chlamydomonadaceae,Chlamydomonas,Chlamydomonas reinhardtii","Chlamydomonas reinhardtii","Chlorophyta"]
["ref|XP_001745868.1|",167523062,"cellular organisms,Eukaryota,Opisthokonta,Choanoflagellida,Codonosigidae,Monosiga,Monosiga brevicollis,Monosiga brevicollis MX1","Monosiga brevicollis MX1","Choanoflagellida"]
["ref|XP_001776169.1|",168047421,"cellular organisms,Eukaryota,Viridiplantae,Streptophyta,Streptophytina,Embryophyta,Bryophyta,Bryophytina,Bryopsida,Funariidae,Funariales,Funariaceae,Physcomitrella,Physcomitrella patens,Physcomitrella patens subsp. patens","Physcomitrella patens subsp. patens","Streptophyta"]
["ref|XP_001786514.1|",168069614,"cellular organisms,Eukaryota,Viridiplantae,Streptophyta,Streptophytina,Embryophyta,Bryophyta,Bryophytina,Bryopsida,Funariidae,Funariales,Funariaceae,Physcomitrella,Physcomitrella patens,Physcomitrella patens subsp. patens","Physcomitrella patens subsp. patens","Streptophyta"]
["ref|XP_001801149.1|",169615467,"cellular organisms,Eukaryota,Opisthokonta,Fungi,Dikarya,Ascomycota,saccharomyceta,Pezizomycotina,leotiomyceta,dothideomyceta,Dothideomycetes,Pleosporomycetidae,Pleosporales,Pleosporineae,Phaeosphaeriaceae,Phaeosphaeria,Phaeosphaeria nodorum,Phaeosphaeria nodorum SN15","Phaeosphaeria nodorum SN15","Fungi"]
["ref|XP_001845163.1|",170034603,"cellular organisms,Eukaryota,Opisthokonta,Metazoa,Eumetazoa,Bilateria,Coelomata,Protostomia,Ecdysozoa,Panarthropoda,Arthropoda,Mandibulata,Pancrustacea,Hexapoda,Insecta,Dicondylia,Pterygota,Neoptera,Endopterygota,Diptera,Nematocera,Culicimorpha,Culicoidea,Culicidae,Culicinae,Culicini,Culex,Culex,Culex pipiens complex,Culex quinquefasciatus","Culex quinquefasciatus","Metazoa"]
["ref|XP_001862549.1|",170053165,"cellular organisms,Eukaryota,Opisthokonta,Metazoa,Eumetazoa,Bilateria,Coelomata,Protostomia,Ecdysozoa,Panarthropoda,Arthropoda,Mandibulata,Pancrustacea,Hexapoda,Insecta,Dicondylia,Pterygota,Neoptera,Endopterygota,Diptera,Nematocera,Culicimorpha,Culicoidea,Culicidae,Culicinae,Culicini,Culex,Culex,Culex pipiens complex,Culex quinquefasciatus","Culex quinquefasciatus","Metazoa"]
["ref|XP_001874114.1|",170085781,"cellular organisms,Eukaryota,Opisthokonta,Fungi,Dikarya,Basidiomycota,Agaricomycotina,Agaricomycetes,Agaricomycetidae,Agaricales,Tricholomataceae,Laccaria,Laccaria bicolor,Laccaria bicolor S238N-H82","Laccaria bicolor S238N-H82","Fungi"]
["ref|XP_001893937.1|",170577243,"cellular organisms,Eukaryota,Opisthokonta,Metazoa,Eumetazoa,Bilateria,Coelomata,Protostomia,Ecdysozoa,Nematoda,Chromadorea,Spirurida,Filarioidea,Onchocercidae,Brugia,Brugia malayi","Brugia malayi","Metazoa"]
["ref|XP_001914953.2|",338728281,"cellular organisms,Eukaryota,Opisthokonta,Metazoa,Eumetazoa,Bilateria,Coelomata,Deuterostomia,Chordata,Craniata,Vertebrata,Gnathostomata,Teleostomi,Euteleostomi,Sarcopterygii,Tetrapoda,Amniota,Mammalia,Theria,Eutheria,Laurasiatheria,Perissodactyla,Equidae,Equus,Equus,Equus caballus","Equus caballus","Metazoa"]
["ref|XP_001921934.2|",292621161,"cellular organisms,Eukaryota,Opisthokonta,Metazoa,Eumetazoa,Bilateria,Coelomata,Deuterostomia,Chordata,Craniata,Vertebrata,Gnathostomata,Teleostomi,Euteleostomi,Actinopterygii,Actinopteri,Neopterygii,Teleostei,Elopocephala,Clupeocephala,Otocephala,Ostariophysi,Otophysi,Cypriniphysi,Cypriniformes,Cyprinoidea,Cyprinidae,Danio,Danio rerio","Danio rerio","Metazoa"]
["ref|XP_001951401.2|",328701166,"cellular organisms,Eukaryota,Opisthokonta,Metazoa,Eumetazoa,Bilateria,Coelomata,Protostomia,Ecdysozoa,Panarthropoda,Arthropoda,Mandibulata,Pancrustacea,Hexapoda,Insecta,Dicondylia,Pterygota,Neoptera,Paraneoptera,Hemiptera,Sternorrhyncha,Aphidiformes,Aphidomorpha,Aphidoidea,Aphididae,Aphidinae,Macrosiphini,Acyrthosiphon,Acyrthosiphon pisum","Acyrthosiphon pisum","Metazoa"]
["ref|XP_001986308.1|",195026666,"cellular organisms,Eukaryota,Opisthokonta,Metazoa,Eumetazoa,Bilateria,Coelomata,Protostomia,Ecdysozoa,Panarthropoda,Arthropoda,Mandibulata,Pancrustacea,Hexapoda,Insecta,Dicondylia,Pterygota,Neoptera,Endopterygota,Diptera,Brachycera,Muscomorpha,Eremoneura,Cyclorrhapha,Schizophora,Acalyptratae,Ephydroidea,Drosophilidae,Drosophilinae,Drosophilini,Drosophilina,Drosophiliti,Drosophila,Hawaiian Drosophila,picture wing clade,grimshawi clade,grimshawi group,grimshawi subgroup,Drosophila grimshawi","Drosophila grimshawi","Metazoa"]
["ref|XP_001987039.1|",195028350,"cellular organisms,Eukaryota,Opisthokonta,Metazoa,Eumetazoa,Bilateria,Coelomata,Protostomia,Ecdysozoa,Panarthropoda,Arthropoda,Mandibulata,Pancrustacea,Hexapoda,Insecta,Dicondylia,Pterygota,Neoptera,Endopterygota,Diptera,Brachycera,Muscomorpha,Eremoneura,Cyclorrhapha,Schizophora,Acalyptratae,Ephydroidea,Drosophilidae,Drosophilinae,Drosophilini,Drosophilina,Drosophiliti,Drosophila,Hawaiian Drosophila,picture wing clade,grimshawi clade,grimshawi group,grimshawi subgroup,Drosophila grimshawi","Drosophila grimshawi","Metazoa"]
["ref|XP_002004042.1|",195119045,"cellular organisms,Eukaryota,Opisthokonta,Metazoa,Eumetazoa,Bilateria,Coelomata,Protostomia,Ecdysozoa,Panarthropoda,Arthropoda,Mandibulata,Pancrustacea,Hexapoda,Insecta,Dicondylia,Pterygota,Neoptera,Endopterygota,Diptera,Brachycera,Muscomorpha,Eremoneura,Cyclorrhapha,Schizophora,Acalyptratae,Ephydroidea,Drosophilidae,Drosophilinae,Drosophilini,Drosophilina,Drosophiliti,Drosophila,Drosophila,repleta group,mulleri subgroup,mojavensis species complex,Drosophila mojavensis","Drosophila mojavensis","Metazoa"]
["ref|XP_002032467.1|",195331556,"cellular organisms,Eukaryota,Opisthokonta,Metazoa,Eumetazoa,Bilateria,Coelomata,Protostomia,Ecdysozoa,Panarthropoda,Arthropoda,Mandibulata,Pancrustacea,Hexapoda,Insecta,Dicondylia,Pterygota,Neoptera,Endopterygota,Diptera,Brachycera,Muscomorpha,Eremoneura,Cyclorrhapha,Schizophora,Acalyptratae,Ephydroidea,Drosophilidae,Drosophilinae,Drosophilini,Drosophilina,Drosophiliti,Drosophila,Sophophora,melanogaster group,melanogaster subgroup,Drosophila sechellia","Drosophila sechellia","Metazoa"]
["ref|XP_002047706.1|",195377862,"cellular organisms,Eukaryota,Opisthokonta,Metazoa,Eumetazoa,Bilateria,Coelomata,Protostomia,Ecdysozoa,Panarthropoda,Arthropoda,Mandibulata,Pancrustacea,Hexapoda,Insecta,Dicondylia,Pterygota,Neoptera,Endopterygota,Diptera,Brachycera,Muscomorpha,Eremoneura,Cyclorrhapha,Schizophora,Acalyptratae,Ephydroidea,Drosophilidae,Drosophilinae,Drosophilini,Drosophilina,Drosophiliti,Drosophila,Drosophila,virilis group,Drosophila virilis","Drosophila virilis","Metazoa"]
["ref|XP_002048141.1|",195378743,"cellular organisms,Eukaryota,Opisthokonta,Metazoa,Eumetazoa,Bilateria,Coelomata,Protostomia,Ecdysozoa,Panarthropoda,Arthropoda,Mandibulata,Pancrustacea,Hexapoda,Insecta,Dicondylia,Pterygota,Neoptera,Endopterygota,Diptera,Brachycera,Muscomorpha,Eremoneura,Cyclorrhapha,Schizophora,Acalyptratae,Ephydroidea,Drosophilidae,Drosophilinae,Drosophilini,Drosophilina,Drosophiliti,Drosophila,Drosophila,virilis group,Drosophila virilis","Drosophila virilis","Metazoa"]
["ref|XP_002058875.1|",195400541,"cellular organisms,Eukaryota,Opisthokonta,Metazoa,Eumetazoa,Bilateria,Coelomata,Protostomia,Ecdysozoa,Panarthropoda,Arthropoda,Mandibulata,Pancrustacea,Hexapoda,Insecta,Dicondylia,Pterygota,Neoptera,Endopterygota,Diptera,Brachycera,Muscomorpha,Eremoneura,Cyclorrhapha,Schizophora,Acalyptratae,Ephydroidea,Drosophilidae,Drosophilinae,Drosophilini,Drosophilina,Drosophiliti,Drosophila,Drosophila,virilis group,Drosophila virilis","Drosophila virilis","Metazoa"]
["ref|XP_002066408.1|",195436949,"cellular organisms,Eukaryota,Opisthokonta,Metazoa,Eumetazoa,Bilateria,Coelomata,Protostomia,Ecdysozoa,Panarthropoda,Arthropoda,Mandibulata,Pancrustacea,Hexapoda,Insecta,Dicondylia,Pterygota,Neoptera,Endopterygota,Diptera,Brachycera,Muscomorpha,Eremoneura,Cyclorrhapha,Schizophora,Acalyptratae,Ephydroidea,Drosophilidae,Drosophilinae,Drosophilini,Drosophilina,Drosophiliti,Drosophila,Sophophora,willistoni group,willistoni subgroup,Drosophila willistoni","Drosophila willistoni","Metazoa"]
["ref|XP_002105761.1|",195564302,"cellular organisms,Eukaryota,Opisthokonta,Metazoa,Eumetazoa,Bilateria,Coelomata,Protostomia,Ecdysozoa,Panarthropoda,Arthropoda,Mandibulata,Pancrustacea,Hexapoda,Insecta,Dicondylia,Pterygota,Neoptera,Endopterygota,Diptera,Brachycera,Muscomorpha,Eremoneura,Cyclorrhapha,Schizophora,Acalyptratae,Ephydroidea,Drosophilidae,Drosophilinae,Drosophilini,Drosophilina,Drosophiliti,Drosophila,Sophophora,melanogaster group,melanogaster subgroup,Drosophila simulans","Drosophila simulans","Metazoa"]
["ref|XP_002142315.1|",209881755,"cellular organisms,Eukaryota,Alveolata,Apicomplexa,Coccidia,Eucoccidiorida,Eimeriorina,Cryptosporidiidae,Cryptosporidium,Cryptosporidium muris,Cryptosporidium muris RN66","Cryptosporidium muris RN66","Apicomplexa"]
["ref|XP_002178010.1|",219112517,"cellular organisms,Eukaryota,stramenopiles,Bacillariophyta,Bacillariophyceae,Bacillariophycidae,Naviculales,Phaeodactylaceae,Phaeodactylum,Phaeodactylum tricornutum,Phaeodactylum tricornutum CCAP 1055/1","Phaeodactylum tricornutum CCAP 1055/1","Bacillariophyta"]
["ref|XP_002179507.1|",219117425,"cellular organisms,Eukaryota,stramenopiles,Bacillariophyta,Bacillariophyceae,Bacillariophycidae,Naviculales,Phaeodactylaceae,Phaeodactylum,Phaeodactylum tricornutum,Phaeodactylum tricornutum CCAP 1055/1","Phaeodactylum tricornutum CCAP 1055/1","Bacillariophyta"]
["ref|XP_002179670.1|",219117762,"cellular organisms,Eukaryota,stramenopiles,Bacillariophyta,Bacillariophyceae,Bacillariophycidae,Naviculales,Phaeodactylaceae,Phaeodactylum,Phaeodactylum tricornutum,Phaeodactylum tricornutum CCAP 1055/1","Phaeodactylum tricornutum CCAP 1055/1","Bacillariophyta"]
["ref|XP_002185688.1|",219120913,"cellular organisms,Eukaryota,stramenopiles,Bacillariophyta,Bacillariophyceae,Bacillariophycidae,Naviculales,Phaeodactylaceae,Phaeodactylum,Phaeodactylum tricornutum,Phaeodactylum tricornutum CCAP 1055/1","Phaeodactylum tricornutum CCAP 1055/1","Bacillariophyta"]
["ref|XP_002195774.1|",224067761,"cellular organisms,Eukaryota,Opisthokonta,Metazoa,Eumetazoa,Bilateria,Coelomata,Deuterostomia,Chordata,Craniata,Vertebrata,Gnathostomata,Teleostomi,Euteleostomi,Sarcopterygii,Tetrapoda,Amniota,Sauropsida,Sauria,Archosauria,Dinosauria,Saurischia,Theropoda,Coelurosauria,Aves,Neognathae,Passeriformes,Passeroidea,Estrildidae,Estrildinae,Taeniopygia,Taeniopygia guttata","Taeniopygia guttata","Metazoa"]
["ref|XP_002257951.1|",221053153,"cellular organisms,Eukaryota,Alveolata,Apicomplexa,Aconoidasida,Haemosporida,Plasmodium,Plasmodium (Plasmodium),Plasmodium knowlesi,Plasmodium knowlesi strain H","Plasmodium knowlesi strain H","Apicomplexa"]
["ref|XP_002261151.1|",221052856,"cellular organisms,Eukaryota,Alveolata,Apicomplexa,Aconoidasida,Haemosporida,Plasmodium,Plasmodium (Plasmodium),Plasmodium knowlesi,Plasmodium knowlesi strain H","Plasmodium knowlesi strain H","Apicomplexa"]
["ref|XP_002289565.1|",223999785,"cellular organisms,Eukaryota,stramenopiles,Bacillariophyta,Coscinodiscophyceae,Thalassiosirophycidae,Thalassiosirales,Thalassiosiraceae,Thalassiosira,Thalassiosira pseudonana,Thalassiosira pseudonana CCMP1335","Thalassiosira pseudonana CCMP1335","Bacillariophyta"]
["ref|XP_002296746.1|",224014166,"cellular organisms,Eukaryota,stramenopiles,Bacillariophyta,Coscinodiscophyceae,Thalassiosirophycidae,Thalassiosirales,Thalassiosiraceae,Thalassiosira,Thalassiosira pseudonana,Thalassiosira pseudonana CCMP1335","Thalassiosira pseudonana CCMP1335","Bacillariophyta"]
["ref|XP_002297788.1|",224053374,"cellular organisms,Eukaryota,Viridiplantae,Streptophyta,Streptophytina,Embryophyta,Tracheophyta,Euphyllophyta,Spermatophyta,Magnoliophyta,eudicotyledons,core eudicotyledons,rosids,fabids,Malpighiales,Salicaceae,Saliceae,Populus,Populus trichocarpa","Populus trichocarpa","Streptophyta"]
["ref|XP_002319552.1|",224125302,"cellular organisms,Eukaryota,Viridiplantae,Streptophyta,Streptophytina,Embryophyta,Tracheophyta,Euphyllophyta,Spermatophyta,Magnoliophyta,eudicotyledons,core eudicotyledons,rosids,fabids,Malpighiales,Salicaceae,Saliceae,Populus,Populus trichocarpa","Populus trichocarpa","Streptophyta"]
["ref|XP_002325188.1|",224144106,"cellular organisms,Eukaryota,Viridiplantae,Streptophyta,Streptophytina,Embryophyta,Tracheophyta,Euphyllophyta,Spermatophyta,Magnoliophyta,eudicotyledons,core eudicotyledons,rosids,fabids,Malpighiales,Salicaceae,Saliceae,Populus,Populus trichocarpa","Populus trichocarpa","Streptophyta"]
["ref|XP_002408790.1|",241634800,"cellular organisms,Eukaryota,Opisthokonta,Metazoa,Eumetazoa,Bilateria,Coelomata,Protostomia,Ecdysozoa,Panarthropoda,Arthropoda,Chelicerata,Arachnida,Acari,Parasitiformes,Ixodida,Ixodoidea,Ixodidae,Ixodinae,Ixodes,Ixodes scapularis","Ixodes scapularis","Metazoa"]
["ref|XP_002420694.1|",241955947,"cellular organisms,Eukaryota,Opisthokonta,Fungi,Dikarya,Ascomycota,saccharomyceta,Saccharomycotina,Saccharomycetes,Saccharomycetales,mitosporic Saccharomycetales,Candida,Candida dubliniensis,Candida dubliniensis CD36","Candida dubliniensis CD36","Fungi"]
["ref|XP_002441709.1|",242082568,"cellular organisms,Eukaryota,Viridiplantae,Streptophyta,Streptophytina,Embryophyta,Tracheophyta,Euphyllophyta,Spermatophyta,Magnoliophyta,Liliopsida,commelinids,Poales,Poaceae,PACMAD clade,Panicoideae,Andropogoneae,Sorghum,Sorghum bicolor","Sorghum bicolor","Streptophyta"]
["ref|XP_002497273.1|",254583410,"cellular organisms,Eukaryota,Opisthokonta,Fungi,Dikarya,Ascomycota,saccharomyceta,Saccharomycotina,Saccharomycetes,Saccharomycetales,Saccharomycetaceae,Zygosaccharomyces,Zygosaccharomyces rouxii,Zygosaccharomyces rouxii CBS 732","Zygosaccharomyces rouxii CBS 732","Fungi"]
["ref|XP_002500422.1|",255073495,"cellular organisms,Eukaryota,Viridiplantae,Chlorophyta,Mamiellophyceae,Mamiellales,Micromonas,Micromonas sp. RCC299","Micromonas sp. RCC299","Chlorophyta"]
["ref|XP_002505285.1|",255085708,"cellular organisms,Eukaryota,Viridiplantae,Chlorophyta,Mamiellophyceae,Mamiellales,Micromonas,Micromonas sp. RCC299","Micromonas sp. RCC299","Chlorophyta"]
["ref|XP_002519060.1|",255556051,"cellular organisms,Eukaryota,Viridiplantae,Streptophyta,Streptophytina,Embryophyta,Tracheophyta,Euphyllophyta,Spermatophyta,Magnoliophyta,eudicotyledons,core eudicotyledons,rosids,fabids,Malpighiales,Euphorbiaceae,Acalyphoideae,Acalypheae,Ricinus,Ricinus communis","Ricinus communis","Streptophyta"]
["ref|XP_002519300.1|",255556532,"cellular organisms,Eukaryota,Viridiplantae,Streptophyta,Streptophytina,Embryophyta,Tracheophyta,Euphyllophyta,Spermatophyta,Magnoliophyta,eudicotyledons,core eudicotyledons,rosids,fabids,Malpighiales,Euphorbiaceae,Acalyphoideae,Acalypheae,Ricinus,Ricinus communis","Ricinus communis","Streptophyta"]
["ref|XP_002544143.1|",258570679,"cellular organisms,Eukaryota,Opisthokonta,Fungi,Dikarya,Ascomycota,saccharomyceta,Pezizomycotina,leotiomyceta,Eurotiomycetes,Eurotiomycetidae,Onygenales,Onygenaceae,Uncinocarpus,Uncinocarpus reesii,Uncinocarpus reesii 1704","Uncinocarpus reesii 1704","Fungi"]
["ref|XP_002555711.1|",255718861,"cellular organisms,Eukaryota,Opisthokonta,Fungi,Dikarya,Ascomycota,saccharomyceta,Saccharomycotina,Saccharomycetes,Saccharomycetales,Saccharomycetaceae,Lachancea,Lachancea thermotolerans,Lachancea thermotolerans CBS 6340","Lachancea thermotolerans CBS 6340","Fungi"]
["ref|XP_002571882.1|",256071106,"cellular organisms,Eukaryota,Opisthokonta,Metazoa,Eumetazoa,Bilateria,Acoelomata,Platyhelminthes,Trematoda,Digenea,Strigeidida,Schistosomatoidea,Schistosomatidae,Schistosoma,Schistosoma mansoni","Schistosoma mansoni","Metazoa"]
["ref|XP_002587609.1|",260785117,"cellular organisms,Eukaryota,Opisthokonta,Metazoa,Eumetazoa,Bilateria,Coelomata,Deuterostomia,Chordata,Cephalochordata,Branchiostomidae,Branchiostoma,Branchiostoma floridae","Branchiostoma floridae","Metazoa"]
["ref|XP_002595248.1|",260800726,"cellular organisms,Eukaryota,Opisthokonta,Metazoa,Eumetazoa,Bilateria,Coelomata,Deuterostomia,Chordata,Cephalochordata,Branchiostomidae,Branchiostoma,Branchiostoma floridae","Branchiostoma floridae","Metazoa"]
["ref|XP_002603472.1|",260817194,"cellular organisms,Eukaryota,Opisthokonta,Metazoa,Eumetazoa,Bilateria,Coelomata,Deuterostomia,Chordata,Cephalochordata,Branchiostomidae,Branchiostoma,Branchiostoma floridae","Branchiostoma floridae","Metazoa"]
["ref|XP_002617753.1|",260946912,"cellular organisms,Eukaryota,Opisthokonta,Fungi,Dikarya,Ascomycota,saccharomyceta,Saccharomycotina,Saccharomycetes,Saccharomycetales,Metschnikowiaceae,Clavispora,Clavispora lusitaniae,Clavispora lusitaniae ATCC 42720","Clavispora lusitaniae ATCC 42720","Fungi"]
["ref|XP_002633826.1|",268537380,"cellular organisms,Eukaryota,Opisthokonta,Metazoa,Eumetazoa,Bilateria,Coelomata,Protostomia,Ecdysozoa,Nematoda,Chromadorea,Rhabditida,Rhabditoidea,Rhabditidae,Peloderinae,Caenorhabditis,Caenorhabditis briggsae","Caenorhabditis briggsae","Metazoa"]
["ref|XP_002670219.1|",290974974,"cellular organisms,Eukaryota,Heterolobosea,Schizopyrenida,Vahlkampfiidae,Naegleria,Naegleria gruberi,Naegleria gruberi strain NEG-M","Naegleria gruberi strain NEG-M","Schizopyrenida"]
["ref|XP_002672593.1|",290979744,"cellular organisms,Eukaryota,Heterolobosea,Schizopyrenida,Vahlkampfiidae,Naegleria,Naegleria gruberi,Naegleria gruberi strain NEG-M","Naegleria gruberi strain NEG-M","Schizopyrenida"]
["ref|XP_002692744.1|",297482380,"cellular organisms,Eukaryota,Opisthokonta,Metazoa,Eumetazoa,Bilateria,Coelomata,Deuterostomia,Chordata,Craniata,Vertebrata,Gnathostomata,Teleostomi,Euteleostomi,Sarcopterygii,Tetrapoda,Amniota,Mammalia,Theria,Eutheria,Laurasiatheria,Cetartiodactyla,Ruminantia,Pecora,Bovidae,Bovinae,Bos,Bos taurus","Bos taurus","Metazoa"]
["ref|XP_002697041.1|",297488576,"cellular organisms,Eukaryota,Opisthokonta,Metazoa,Eumetazoa,Bilateria,Coelomata,Deuterostomia,Chordata,Craniata,Vertebrata,Gnathostomata,Teleostomi,Euteleostomi,Sarcopterygii,Tetrapoda,Amniota,Mammalia,Theria,Eutheria,Laurasiatheria,Cetartiodactyla,Ruminantia,Pecora,Bovidae,Bovinae,Bos,Bos taurus","Bos taurus","Metazoa"]
["ref|XP_002713921.1|",291394978,"cellular organisms,Eukaryota,Opisthokonta,Metazoa,Eumetazoa,Bilateria,Coelomata,Deuterostomia,Chordata,Craniata,Vertebrata,Gnathostomata,Teleostomi,Euteleostomi,Sarcopterygii,Tetrapoda,Amniota,Mammalia,Theria,Eutheria,Euarchontoglires,Glires,Lagomorpha,Leporidae,Oryctolagus,Oryctolagus cuniculus","Oryctolagus cuniculus","Metazoa"]
["ref|XP_002718146.1|",291403633,"cellular organisms,Eukaryota,Opisthokonta,Metazoa,Eumetazoa,Bilateria,Coelomata,Deuterostomia,Chordata,Craniata,Vertebrata,Gnathostomata,Teleostomi,Euteleostomi,Sarcopterygii,Tetrapoda,Amniota,Mammalia,Theria,Eutheria,Euarchontoglires,Glires,Lagomorpha,Leporidae,Oryctolagus,Oryctolagus cuniculus","Oryctolagus cuniculus","Metazoa"]
["ref|XP_002720575.1|",291408554,"cellular organisms,Eukaryota,Opisthokonta,Metazoa,Eumetazoa,Bilateria,Coelomata,Deuterostomia,Chordata,Craniata,Vertebrata,Gnathostomata,Teleostomi,Euteleostomi,Sarcopterygii,Tetrapoda,Amniota,Mammalia,Theria,Eutheria,Euarchontoglires,Glires,Lagomorpha,Leporidae,Oryctolagus,Oryctolagus cuniculus","Oryctolagus cuniculus","Metazoa"]
["ref|XP_002738422.1|",291236995,"cellular organisms,Eukaryota,Opisthokonta,Metazoa,Eumetazoa,Bilateria,Coelomata,Deuterostomia,Hemichordata,Enteropneusta,Harrimaniidae,Saccoglossus,Saccoglossus kowalevskii","Saccoglossus kowalevskii","Metazoa"]
["ref|XP_002740098.1|",291240381,"cellular organisms,Eukaryota,Opisthokonta,Metazoa,Eumetazoa,Bilateria,Coelomata,Deuterostomia,Hemichordata,Enteropneusta,Harrimaniidae,Saccoglossus,Saccoglossus kowalevskii","Saccoglossus kowalevskii","Metazoa"]
["ref|XP_002740993.1|",291242191,"cellular organisms,Eukaryota,Opisthokonta,Metazoa,Eumetazoa,Bilateria,Coelomata,Deuterostomia,Hemichordata,Enteropneusta,Harrimaniidae,Saccoglossus,Saccoglossus kowalevskii","Saccoglossus kowalevskii","Metazoa"]
["ref|XP_002745659.2|",390460654,"cellular organisms,Eukaryota,Opisthokonta,Metazoa,Eumetazoa,Bilateria,Coelomata,Deuterostomia,Chordata,Craniata,Vertebrata,Gnathostomata,Teleostomi,Euteleostomi,Sarcopterygii,Tetrapoda,Amniota,Mammalia,Theria,Eutheria,Euarchontoglires,Primates,Haplorrhini,Simiiformes,Platyrrhini,Cebidae,Callitrichinae,Callithrix,Callithrix jacchus","Callithrix jacchus","Metazoa"]
["ref|XP_002758296.1|",296224945,"cellular organisms,Eukaryota,Opisthokonta,Metazoa,Eumetazoa,Bilateria,Coelomata,Deuterostomia,Chordata,Craniata,Vertebrata,Gnathostomata,Teleostomi,Euteleostomi,Sarcopterygii,Tetrapoda,Amniota,Mammalia,Theria,Eutheria,Euarchontoglires,Primates,Haplorrhini,Simiiformes,Platyrrhini,Cebidae,Callitrichinae,Callithrix,Callithrix jacchus","Callithrix jacchus","Metazoa"]
["ref|XP_002780582.1|",294933069,"cellular organisms,Eukaryota,Alveolata,Perkinsea,Perkinsida,Perkinsidae,Perkinsus,Perkinsus marinus,Perkinsus marinus ATCC 50983","Perkinsus marinus ATCC 50983","Perkinsea"]
["ref|XP_002868209.1|",297800650,"cellular organisms,Eukaryota,Viridiplantae,Streptophyta,Streptophytina,Embryophyta,Tracheophyta,Euphyllophyta,Spermatophyta,Magnoliophyta,eudicotyledons,core eudicotyledons,rosids,malvids,Brassicales,Brassicaceae,Camelineae,Arabidopsis,Arabidopsis lyrata,Arabidopsis lyrata subsp. lyrata","Arabidopsis lyrata subsp. lyrata","Streptophyta"]
["ref|XP_002898721.1|",301099259,"cellular organisms,Eukaryota,stramenopiles,Oomycetes,Peronosporales,Phytophthora,Phytophthora infestans,Phytophthora infestans T30-4","Phytophthora infestans T30-4","Oomycetes"]
["ref|XP_002899177.1|",301100174,"cellular organisms,Eukaryota,stramenopiles,Oomycetes,Peronosporales,Phytophthora,Phytophthora infestans,Phytophthora infestans T30-4","Phytophthora infestans T30-4","Oomycetes"]
["ref|XP_002907944.1|",301120434,"cellular organisms,Eukaryota,stramenopiles,Oomycetes,Peronosporales,Phytophthora,Phytophthora infestans,Phytophthora infestans T30-4","Phytophthora infestans T30-4","Oomycetes"]
["ref|XP_002958510.1|",302853997,"cellular organisms,Eukaryota,Viridiplantae,Chlorophyta,Chlorophyceae,Chlamydomonadales,Volvocaceae,Volvox,Volvox carteri,Volvox carteri f. nagariensis","Volvox carteri f. nagariensis","Chlorophyta"]
["ref|XP_002958511.1|",302853999,"cellular organisms,Eukaryota,Viridiplantae,Chlorophyta,Chlorophyceae,Chlamydomonadales,Volvocaceae,Volvox,Volvox carteri,Volvox carteri f. nagariensis","Volvox carteri f. nagariensis","Chlorophyta"]
["ref|XP_002958512.1|",302854001,"cellular organisms,Eukaryota,Viridiplantae,Chlorophyta,Chlorophyceae,Chlamydomonadales,Volvocaceae,Volvox,Volvox carteri,Volvox carteri f. nagariensis","Volvox carteri f. nagariensis","Chlorophyta"]
["ref|XP_002963904.1|",302760963,"cellular organisms,Eukaryota,Viridiplantae,Streptophyta,Streptophytina,Embryophyta,Tracheophyta,Lycopodiophyta,Isoetopsida,Selaginellales,Selaginellaceae,Selaginella,Selaginella moellendorffii","Selaginella moellendorffii","Streptophyta"]
["ref|XP_002995229.1|",300705747,"cellular organisms,Eukaryota,Opisthokonta,Fungi,Microsporidia,Apansporoblastina,Nosematidae,Nosema,Nosema ceranae,Nosema ceranae BRL01","Nosema ceranae BRL01","Fungi"]
["ref|XP_003000634.1|",302405595,"cellular organisms,Eukaryota,Opisthokonta,Fungi,Dikarya,Ascomycota,saccharomyceta,Pezizomycotina,leotiomyceta,sordariomyceta,Sordariomycetes,Hypocreomycetidae,Glomerellales,Plectosphaerellaceae,mitosporic Plectosphaerellaceae,Verticillium,Verticillium albo-atrum,Verticillium albo-atrum VaMs.102","Verticillium albo-atrum VaMs.102","Fungi"]
["ref|XP_003041538.1|",302885292,"cellular organisms,Eukaryota,Opisthokonta,Fungi,Dikarya,Ascomycota,saccharomyceta,Pezizomycotina,leotiomyceta,sordariomyceta,Sordariomycetes,Hypocreomycetidae,Hypocreales,Nectriaceae,Nectria,Nectria haematococca complex,Nectria haematococca,Nectria haematococca mpVI,Nectria haematococca mpVI 77-13-4","Nectria haematococca mpVI 77-13-4","Fungi"]
["ref|XP_003051222.1|",302914822,"cellular organisms,Eukaryota,Opisthokonta,Fungi,Dikarya,Ascomycota,saccharomyceta,Pezizomycotina,leotiomyceta,sordariomyceta,Sordariomycetes,Hypocreomycetidae,Hypocreales,Nectriaceae,Nectria,Nectria haematococca complex,Nectria haematococca,Nectria haematococca mpVI,Nectria haematococca mpVI 77-13-4","Nectria haematococca mpVI 77-13-4","Fungi"]
["ref|XP_003079943.1|",308805262,"cellular organisms,Eukaryota,Viridiplantae,Chlorophyta,Mamiellophyceae,Mamiellales,Ostreococcus,Ostreococcus tauri","Ostreococcus tauri","Chlorophyta"]
["ref|XP_003093982.1|",308463416,"cellular organisms,Eukaryota,Opisthokonta,Metazoa,Eumetazoa,Bilateria,Coelomata,Protostomia,Ecdysozoa,Nematoda,Chromadorea,Rhabditida,Rhabditoidea,Rhabditidae,Peloderinae,Caenorhabditis,Caenorhabditis remanei","Caenorhabditis remanei","Metazoa"]
["ref|XP_003100512.1|",308476593,"cellular organisms,Eukaryota,Opisthokonta,Metazoa,Eumetazoa,Bilateria,Coelomata,Protostomia,Ecdysozoa,Nematoda,Chromadorea,Rhabditida,Rhabditoidea,Rhabditidae,Peloderinae,Caenorhabditis,Caenorhabditis remanei","Caenorhabditis remanei","Metazoa"]
["ref|XP_003117801.1|",308511237,"cellular organisms,Eukaryota,Opisthokonta,Metazoa,Eumetazoa,Bilateria,Coelomata,Protostomia,Ecdysozoa,Nematoda,Chromadorea,Rhabditida,Rhabditoidea,Rhabditidae,Peloderinae,Caenorhabditis,Caenorhabditis remanei","Caenorhabditis remanei","Metazoa"]
["ref|XP_003170026.1|",315041298,"cellular organisms,Eukaryota,Opisthokonta,Fungi,Dikarya,Ascomycota,saccharomyceta,Pezizomycotina,leotiomyceta,Eurotiomycetes,Eurotiomycetidae,Onygenales,Arthrodermataceae,Arthroderma,Arthroderma gypseum,Arthroderma gypseum CBS 118893","Arthroderma gypseum CBS 118893","Fungi"]
["ref|XP_003175607.1|",315052466,"cellular organisms,Eukaryota,Opisthokonta,Fungi,Dikarya,Ascomycota,saccharomyceta,Pezizomycotina,leotiomyceta,Eurotiomycetes,Eurotiomycetidae,Onygenales,Arthrodermataceae,Arthroderma,Arthroderma gypseum,Arthroderma gypseum CBS 118893","Arthroderma gypseum CBS 118893","Fungi"]
["ref|XP_003228995.1|",327288562,"cellular organisms,Eukaryota,Opisthokonta,Metazoa,Eumetazoa,Bilateria,Coelomata,Deuterostomia,Chordata,Craniata,Vertebrata,Gnathostomata,Teleostomi,Euteleostomi,Sarcopterygii,Tetrapoda,Amniota,Sauropsida,Sauria,Lepidosauria,Squamata,Iguania,Iguanidae,Polychrotinae,Anolis,Anolis carolinensis","Anolis carolinensis","Metazoa"]
["ref|XP_003285870.1|",330795620,"cellular organisms,Eukaryota,Amoebozoa,Mycetozoa,Dictyosteliida,Dictyostelium,Dictyostelium purpureum","Dictyostelium purpureum","Mycetozoa"]
["ref|XP_003287039.1|",330797990,"cellular organisms,Eukaryota,Amoebozoa,Mycetozoa,Dictyosteliida,Dictyostelium,Dictyostelium purpureum","Dictyostelium purpureum","Mycetozoa"]
["ref|XP_003288145.1|",330800238,"cellular organisms,Eukaryota,Amoebozoa,Mycetozoa,Dictyosteliida,Dictyostelium,Dictyostelium purpureum","Dictyostelium purpureum","Mycetozoa"]
["ref|XP_003292672.1|",330841370,"cellular organisms,Eukaryota,Amoebozoa,Mycetozoa,Dictyosteliida,Dictyostelium,Dictyostelium purpureum","Dictyostelium purpureum","Mycetozoa"]
["ref|XP_003350892.1|",336272270,"cellular organisms,Eukaryota,Opisthokonta,Fungi,Dikarya,Ascomycota,saccharomyceta,Pezizomycotina,leotiomyceta,sordariomyceta,Sordariomycetes,Sordariomycetidae,Sordariales,Sordariaceae,Sordaria,Sordaria macrospora,Sordaria macrospora k-hell","Sordaria macrospora k-hell","Fungi"]
["ref|XP_003373585.1|",339249195,"cellular organisms,Eukaryota,Opisthokonta,Metazoa,Eumetazoa,Bilateria,Coelomata,Protostomia,Ecdysozoa,Nematoda,Enoplea,Enoplia,Trichocephalida,Trichinellidae,Trichinella,Trichinella spiralis","Trichinella spiralis","Metazoa"]
["ref|XP_003390484.1|",340383961,"cellular organisms,Eukaryota,Opisthokonta,Metazoa,Porifera,Demospongiae,Ceractinomorpha,Haplosclerida,Niphatidae,Amphimedon,Amphimedon queenslandica","Amphimedon queenslandica","Metazoa"]
["ref|XP_003411501.1|",344279451,"cellular organisms,Eukaryota,Opisthokonta,Metazoa,Eumetazoa,Bilateria,Coelomata,Deuterostomia,Chordata,Craniata,Vertebrata,Gnathostomata,Teleostomi,Euteleostomi,Sarcopterygii,Tetrapoda,Amniota,Mammalia,Theria,Eutheria,Afrotheria,Proboscidea,Elephantidae,Loxodonta,Loxodonta africana","Loxodonta africana","Metazoa"]
["ref|XP_003421968.1|",344306589,"cellular organisms,Eukaryota,Opisthokonta,Metazoa,Eumetazoa,Bilateria,Coelomata,Deuterostomia,Chordata,Craniata,Vertebrata,Gnathostomata,Teleostomi,Euteleostomi,Sarcopterygii,Tetrapoda,Amniota,Mammalia,Theria,Eutheria,Afrotheria,Proboscidea,Elephantidae,Loxodonta,Loxodonta africana","Loxodonta africana","Metazoa"]
["ref|XP_003443933.1|",348512805,"cellular organisms,Eukaryota,Opisthokonta,Metazoa,Eumetazoa,Bilateria,Coelomata,Deuterostomia,Chordata,Craniata,Vertebrata,Gnathostomata,Teleostomi,Euteleostomi,Actinopterygii,Actinopteri,Neopterygii,Teleostei,Elopocephala,Clupeocephala,Euteleostei,Neognathi,Neoteleostei,Eurypterygii,Ctenosquamata,Acanthomorpha,Euacanthomorpha,Holacanthopterygii,Acanthopterygii,Euacanthopterygii,Percomorpha,Perciformes,Labroidei,Cichlidae,African cichlids,Pseudocrenilabrinae,Tilapiini,Oreochromis,Oreochromis niloticus","Oreochromis niloticus","Metazoa"]
["ref|XP_003472683.1|",348573809,"cellular organisms,Eukaryota,Opisthokonta,Metazoa,Eumetazoa,Bilateria,Coelomata,Deuterostomia,Chordata,Craniata,Vertebrata,Gnathostomata,Teleostomi,Euteleostomi,Sarcopterygii,Tetrapoda,Amniota,Mammalia,Theria,Eutheria,Euarchontoglires,Glires,Rodentia,Hystricognathi,Caviidae,Cavia,Cavia porcellus","Cavia porcellus","Metazoa"]
["ref|XP_003495492.1|",354466056,"cellular organisms,Eukaryota,Opisthokonta,Metazoa,Eumetazoa,Bilateria,Coelomata,Deuterostomia,Chordata,Craniata,Vertebrata,Gnathostomata,Teleostomi,Euteleostomi,Sarcopterygii,Tetrapoda,Amniota,Mammalia,Theria,Eutheria,Euarchontoglires,Glires,Rodentia,Sciurognathi,Muroidea,Cricetidae,Cricetinae,Cricetulus,Cricetulus griseus","Cricetulus griseus","Metazoa"]
["ref|XP_003500969.1|",354477523,"cellular organisms,Eukaryota,Opisthokonta,Metazoa,Eumetazoa,Bilateria,Coelomata,Deuterostomia,Chordata,Craniata,Vertebrata,Gnathostomata,Teleostomi,Euteleostomi,Sarcopterygii,Tetrapoda,Amniota,Mammalia,Theria,Eutheria,Euarchontoglires,Glires,Rodentia,Sciurognathi,Muroidea,Cricetidae,Cricetinae,Cricetulus,Cricetulus griseus","Cricetulus griseus","Metazoa"]
["ref|XP_003525555.1|",356513713,"cellular organisms,Eukaryota,Viridiplantae,Streptophyta,Streptophytina,Embryophyta,Tracheophyta,Euphyllophyta,Spermatophyta,Magnoliophyta,eudicotyledons,core eudicotyledons,rosids,fabids,Fabales,Fabaceae,Papilionoideae,Phaseoleae,Glycine,Glycine max","Glycine max","Streptophyta"]
["ref|XP_003532046.1|",356526884,"cellular organisms,Eukaryota,Viridiplantae,Streptophyta,Streptophytina,Embryophyta,Tracheophyta,Euphyllophyta,Spermatophyta,Magnoliophyta,eudicotyledons,core eudicotyledons,rosids,fabids,Fabales,Fabaceae,Papilionoideae,Phaseoleae,Glycine,Glycine max","Glycine max","Streptophyta"]
["ref|XP_003560805.1|",357118118,"cellular organisms,Eukaryota,Viridiplantae,Streptophyta,Streptophytina,Embryophyta,Tracheophyta,Euphyllophyta,Spermatophyta,Magnoliophyta,Liliopsida,commelinids,Poales,Poaceae,BEP clade,Pooideae,Brachypodieae,Brachypodium,Brachypodium distachyon","Brachypodium distachyon","Streptophyta"]
["ref|XP_003607275.1|",357473981,"cellular organisms,Eukaryota,Viridiplantae,Streptophyta,Streptophytina,Embryophyta,Tracheophyta,Euphyllophyta,Spermatophyta,Magnoliophyta,eudicotyledons,core eudicotyledons,rosids,fabids,Fabales,Fabaceae,Papilionoideae,Trifolieae,Medicago,Medicago truncatula","Medicago truncatula","Streptophyta"]
["ref|XP_003631025.1|",357521473,"cellular organisms,Eukaryota,Viridiplantae,Streptophyta,Streptophytina,Embryophyta,Tracheophyta,Euphyllophyta,Spermatophyta,Magnoliophyta,eudicotyledons,core eudicotyledons,rosids,fabids,Fabales,Fabaceae,Papilionoideae,Trifolieae,Medicago,Medicago truncatula","Medicago truncatula","Streptophyta"]
["ref|XP_003668478.1|",365983290,"cellular organisms,Eukaryota,Opisthokonta,Fungi,Dikarya,Ascomycota,saccharomyceta,Saccharomycotina,Saccharomycetes,Saccharomycetales,Saccharomycetaceae,Naumovozyma,Naumovozyma dairenensis,Naumovozyma dairenensis CBS 421","Naumovozyma dairenensis CBS 421","Fungi"]
["ref|XP_003686238.1|",367003008,"cellular organisms,Eukaryota,Opisthokonta,Fungi,Dikarya,Ascomycota,saccharomyceta,Saccharomycotina,Saccharomycetes,Saccharomycetales,Saccharomycetaceae,Tetrapisispora,Tetrapisispora phaffii,Tetrapisispora phaffii CBS 4417","Tetrapisispora phaffii CBS 4417","Fungi"]
["ref|XP_003708164.1|",383865405,"cellular organisms,Eukaryota,Opisthokonta,Metazoa,Eumetazoa,Bilateria,Coelomata,Protostomia,Ecdysozoa,Panarthropoda,Arthropoda,Mandibulata,Pancrustacea,Hexapoda,Insecta,Dicondylia,Pterygota,Neoptera,Endopterygota,Hymenoptera,Apocrita,Aculeata,Apoidea,Megachilidae,Megachilinae,Megachilini,Megachile,Megachile rotundata","Megachile rotundata","Metazoa"]
["ref|XP_003723832.1|",390334039,"cellular organisms,Eukaryota,Opisthokonta,Metazoa,Eumetazoa,Bilateria,Coelomata,Deuterostomia,Echinodermata,Eleutherozoa,Echinozoa,Echinoidea,Euechinoidea,Echinacea,Echinoida,Strongylocentrotidae,Strongylocentrotus,Strongylocentrotus purpuratus","Strongylocentrotus purpuratus","Metazoa"]
["ref|XP_003739954.1|",391331031,"cellular organisms,Eukaryota,Opisthokonta,Metazoa,Eumetazoa,Bilateria,Coelomata,Protostomia,Ecdysozoa,Panarthropoda,Arthropoda,Chelicerata,Arachnida,Acari,Parasitiformes,Mesostigmata,Monogynaspida,Dermanyssina,Ascoidea,Phytoseiidae,Typhlodrominae,Metaseiulus,Metaseiulus occidentalis","Metaseiulus occidentalis","Metazoa"]
["ref|XP_003740296.1|",391331731,"cellular organisms,Eukaryota,Opisthokonta,Metazoa,Eumetazoa,Bilateria,Coelomata,Protostomia,Ecdysozoa,Panarthropoda,Arthropoda,Chelicerata,Arachnida,Acari,Parasitiformes,Mesostigmata,Monogynaspida,Dermanyssina,Ascoidea,Phytoseiidae,Typhlodrominae,Metaseiulus,Metaseiulus occidentalis","Metaseiulus occidentalis","Metazoa"]
["ref|XP_003763227.1|",395518147,"cellular organisms,Eukaryota,Opisthokonta,Metazoa,Eumetazoa,Bilateria,Coelomata,Deuterostomia,Chordata,Craniata,Vertebrata,Gnathostomata,Teleostomi,Euteleostomi,Sarcopterygii,Tetrapoda,Amniota,Mammalia,Theria,Metatheria,Dasyuromorphia,Dasyuridae,Sarcophilus,Sarcophilus harrisii","Sarcophilus harrisii","Metazoa"]
["ref|XP_003763597.1|",395518907,"cellular organisms,Eukaryota,Opisthokonta,Metazoa,Eumetazoa,Bilateria,Coelomata,Deuterostomia,Chordata,Craniata,Vertebrata,Gnathostomata,Teleostomi,Euteleostomi,Sarcopterygii,Tetrapoda,Amniota,Mammalia,Theria,Metatheria,Dasyuromorphia,Dasyuridae,Sarcophilus,Sarcophilus harrisii","Sarcophilus harrisii","Metazoa"]
["ref|XP_003784751.1|",395822920,"cellular organisms,Eukaryota,Opisthokonta,Metazoa,Eumetazoa,Bilateria,Coelomata,Deuterostomia,Chordata,Craniata,Vertebrata,Gnathostomata,Teleostomi,Euteleostomi,Sarcopterygii,Tetrapoda,Amniota,Mammalia,Theria,Eutheria,Euarchontoglires,Primates,Strepsirrhini,Lorisiformes,Galagidae,Otolemur,Otolemur garnettii","Otolemur garnettii","Metazoa"]
["ref|XP_003785993.1|",395825554,"cellular organisms,Eukaryota,Opisthokonta,Metazoa,Eumetazoa,Bilateria,Coelomata,Deuterostomia,Chordata,Craniata,Vertebrata,Gnathostomata,Teleostomi,Euteleostomi,Sarcopterygii,Tetrapoda,Amniota,Mammalia,Theria,Eutheria,Euarchontoglires,Primates,Strepsirrhini,Lorisiformes,Galagidae,Otolemur,Otolemur garnettii","Otolemur garnettii","Metazoa"]
["ref|XP_003856439.1|",398409965,"cellular organisms,Eukaryota,Opisthokonta,Fungi,Dikarya,Ascomycota,saccharomyceta,Pezizomycotina,leotiomyceta,dothideomyceta,Dothideomycetes,Dothideomycetidae,Capnodiales,Mycosphaerellaceae,Zymoseptoria,Zymoseptoria tritici,Zymoseptoria tritici IPO323","Zymoseptoria tritici IPO323","Fungi"]
["ref|XP_003864063.1|",398021801,"cellular organisms,Eukaryota,Euglenozoa,Kinetoplastida,Trypanosomatidae,Leishmania,Leishmania,Leishmania donovani species complex,Leishmania donovani","Leishmania donovani","Kinetoplastida"]
["ref|XP_380551.1|",46105494,"cellular organisms,Eukaryota,Opisthokonta,Fungi,Dikarya,Ascomycota,saccharomyceta,Pezizomycotina,leotiomyceta,sordariomyceta,Sordariomycetes,Hypocreomycetidae,Hypocreales,Nectriaceae,Gibberella,Gibberella zeae,Gibberella zeae PH-1","Gibberella zeae PH-1","Fungi"]
["ref|XP_385585.1|",46122063,"cellular organisms,Eukaryota,Opisthokonta,Fungi,Dikarya,Ascomycota,saccharomyceta,Pezizomycotina,leotiomyceta,sordariomyceta,Sordariomycetes,Hypocreomycetidae,Hypocreales,Nectriaceae,Gibberella,Gibberella zeae,Gibberella zeae PH-1","Gibberella zeae PH-1","Fungi"]
["ref|XP_387251.1|",46125395,"cellular organisms,Eukaryota,Opisthokonta,Fungi,Dikarya,Ascomycota,saccharomyceta,Pezizomycotina,leotiomyceta,sordariomyceta,Sordariomycetes,Hypocreomycetidae,Hypocreales,Nectriaceae,Gibberella,Gibberella zeae,Gibberella zeae PH-1","Gibberella zeae PH-1","Fungi"]
["ref|XP_453638.1|",50307319,"cellular organisms,Eukaryota,Opisthokonta,Fungi,Dikarya,Ascomycota,saccharomyceta,Saccharomycotina,Saccharomycetes,Saccharomycetales,Saccharomycetaceae,Kluyveromyces,Kluyveromyces lactis,Kluyveromyces lactis NRRL Y-1140","Kluyveromyces lactis NRRL Y-1140","Fungi"]
["ref|XP_460929.2|",294658589,"cellular organisms,Eukaryota,Opisthokonta,Fungi,Dikarya,Ascomycota,saccharomyceta,Saccharomycotina,Saccharomycetes,Saccharomycetales,Debaryomycetaceae,Debaryomyces,Debaryomyces hansenii,Debaryomyces hansenii var. hansenii,Debaryomyces hansenii CBS767","Debaryomyces hansenii CBS767","Fungi"]
["ref|XP_641735.1|",66815437,"cellular organisms,Eukaryota,Amoebozoa,Mycetozoa,Dictyosteliida,Dictyostelium,Dictyostelium discoideum,Dictyostelium discoideum AX4","Dictyostelium discoideum AX4","Mycetozoa"]
["ref|XP_653236.1|",67475011,"cellular organisms,Eukaryota,Amoebozoa,Archamoebae,Entamoebidae,Entamoeba,Entamoeba histolytica,Entamoeba histolytica HM-1:IMSS","Entamoeba histolytica HM-1:IMSS","Archamoebae"]
["ref|XP_666984.1|",67609435,"cellular organisms,Eukaryota,Alveolata,Apicomplexa,Coccidia,Eucoccidiorida,Eimeriorina,Cryptosporidiidae,Cryptosporidium,Cryptosporidium hominis,Cryptosporidium hominis TU502","Cryptosporidium hominis TU502","Apicomplexa"]
["ref|XP_667116.1|",67610850,"cellular organisms,Eukaryota,Alveolata,Apicomplexa,Coccidia,Eucoccidiorida,Eimeriorina,Cryptosporidiidae,Cryptosporidium,Cryptosporidium hominis,Cryptosporidium hominis TU502","Cryptosporidium hominis TU502","Apicomplexa"]
["ref|XP_710120.1|",68492200,"cellular organisms,Eukaryota,Opisthokonta,Fungi,Dikarya,Ascomycota,saccharomyceta,Saccharomycotina,Saccharomycetes,Saccharomycetales,mitosporic Saccharomycetales,Candida,Candida albicans,Candida albicans SC5314","Candida albicans SC5314","Fungi"]
["ref|XP_724000.1|",82539183,"cellular organisms,Eukaryota,Alveolata,Apicomplexa,Aconoidasida,Haemosporida,Plasmodium,Plasmodium (Vinckeia),Plasmodium yoelii,Plasmodium yoelii yoelii,Plasmodium yoelii yoelii 17XNL","Plasmodium yoelii yoelii 17XNL","Apicomplexa"]
["ref|XP_747339.1|",70983624,"cellular organisms,Eukaryota,Opisthokonta,Fungi,Dikarya,Ascomycota,saccharomyceta,Pezizomycotina,leotiomyceta,Eurotiomycetes,Eurotiomycetidae,Eurotiales,Trichocomaceae,mitosporic Trichocomaceae,Aspergillus,Aspergillus fumigatus,Aspergillus fumigatus Af293","Aspergillus fumigatus Af293","Fungi"]
["ref|XP_791547.2|",115738507,"cellular organisms,Eukaryota,Opisthokonta,Metazoa,Eumetazoa,Bilateria,Coelomata,Deuterostomia,Echinodermata,Eleutherozoa,Echinozoa,Echinoidea,Euechinoidea,Echinacea,Echinoida,Strongylocentrotidae,Strongylocentrotus,Strongylocentrotus purpuratus","Strongylocentrotus purpuratus","Metazoa"]
["ref|XP_805799.1|",71406538,"cellular organisms,Eukaryota,Euglenozoa,Kinetoplastida,Trypanosomatidae,Trypanosoma,Schizotrypanum,Trypanosoma cruzi,Trypanosoma cruzi strain CL Brener","Trypanosoma cruzi strain CL Brener","Kinetoplastida"]
["ref|XP_853266.2|",345793145,"cellular organisms,Eukaryota,Opisthokonta,Metazoa,Eumetazoa,Bilateria,Coelomata,Deuterostomia,Chordata,Craniata,Vertebrata,Gnathostomata,Teleostomi,Euteleostomi,Sarcopterygii,Tetrapoda,Amniota,Mammalia,Theria,Eutheria,Laurasiatheria,Carnivora,Caniformia,Canidae,Canis,Canis lupus,Canis lupus familiaris","Canis lupus familiaris","Metazoa"]
["ref|XP_965543.1|",85118928,"cellular organisms,Eukaryota,Opisthokonta,Fungi,Dikarya,Ascomycota,saccharomyceta,Pezizomycotina,leotiomyceta,sordariomyceta,Sordariomycetes,Sordariomycetidae,Sordariales,Sordariaceae,Neurospora,Neurospora crassa,Neurospora crassa OR74A","Neurospora crassa OR74A","Fungi"]
["ref|YP_001011704.1|",123966623,"cellular organisms,Bacteria,Cyanobacteria,Prochlorales,Prochlorococcaceae,Prochlorococcus,Prochlorococcus marinus,Prochlorococcus marinus str. MIT 9515","Prochlorococcus marinus str. MIT 9515","Prochlorales"]
["ref|YP_001013239.1|",124027919,"cellular organisms,Archaea,Crenarchaeota,Thermoprotei,Desulfurococcales,Pyrodictiaceae,Hyperthermus,Hyperthermus butylicus,Hyperthermus butylicus DSM 5456","Hyperthermus butylicus DSM 5456","Thermoprotei"]
["ref|YP_001129361.1|",139472812,"Viruses,dsDNA viruses, no RNA stage,Herpesvirales,Herpesviridae,Gammaherpesvirinae,Rhadinovirus,Human herpesvirus 8","Human herpesvirus 8","Herpesvirales"]
["ref|YP_001142396.1|",145299555,"cellular organisms,Bacteria,Proteobacteria,Gammaproteobacteria,Aeromonadales,Aeromonadaceae,Aeromonas,Aeromonas salmonicida,Aeromonas salmonicida subsp. salmonicida,Aeromonas salmonicida subsp. salmonicida A449","Aeromonas salmonicida subsp. salmonicida A449","Gammaproteobacteria"]
["ref|YP_001359430.1|",152993709,"cellular organisms,Bacteria,Proteobacteria,delta/epsilon subdivisions,Epsilonproteobacteria,unclassified Epsilonproteobacteria,Sulfurovum,Sulfurovum sp. NBC37-1","Sulfurovum sp. NBC37-1","delta-epsilon_subdivisions"]
["ref|YP_001425646.1|",155370112,"Viruses,dsDNA viruses, no RNA stage,Phycodnaviridae,Chlorovirus,Paramecium bursaria Chlorella virus A1,Paramecium bursaria Chlorella virus FR483","Paramecium bursaria Chlorella virus FR483","Phycodnaviridae"]
["ref|YP_001426126.1|",155370592,"Viruses,dsDNA viruses, no RNA stage,Phycodnaviridae,Chlorovirus,Paramecium bursaria Chlorella virus A1,Paramecium bursaria Chlorella virus FR483","Paramecium bursaria Chlorella virus FR483","Phycodnaviridae"]
["ref|YP_001426751.1|",155371217,"Viruses,dsDNA viruses, no RNA stage,Phycodnaviridae,Chlorovirus,unclassified Chlorovirus,Acanthocystis turfacea Chlorella virus 1","Acanthocystis turfacea Chlorella virus 1","Phycodnaviridae"]
["ref|YP_001427150.1|",155371616,"Viruses,dsDNA viruses, no RNA stage,Phycodnaviridae,Chlorovirus,unclassified Chlorovirus,Acanthocystis turfacea Chlorella virus 1","Acanthocystis turfacea Chlorella virus 1","Phycodnaviridae"]
["ref|YP_001427311.1|",155371777,"Viruses,dsDNA viruses, no RNA stage,Phycodnaviridae,Chlorovirus,unclassified Chlorovirus,Acanthocystis turfacea Chlorella virus 1","Acanthocystis turfacea Chlorella virus 1","Phycodnaviridae"]
["ref|YP_001490641.1|",157737957,"cellular organisms,Bacteria,Proteobacteria,delta/epsilon subdivisions,Epsilonproteobacteria,Campylobacterales,Campylobacteraceae,Arcobacter,Arcobacter butzleri,Arcobacter butzleri RM4018","Arcobacter butzleri RM4018","delta-epsilon_subdivisions"]
["ref|YP_001498573.1|",157953682,"Viruses,dsDNA viruses, no RNA stage,Phycodnaviridae,Chlorovirus,unclassified Chlorovirus,Paramecium bursaria Chlorella virus AR158","Paramecium bursaria Chlorella virus AR158","Phycodnaviridae"]
["ref|YP_001510244.1|",158317736,"cellular organisms,Bacteria,Actinobacteria,Actinobacteria,Actinobacteridae,Actinomycetales,Frankineae,Frankiaceae,Frankia,Frankia sp. EAN1pec","Frankia sp. EAN1pec","Actinobacteria"]
["ref|YP_001523884.1|",158422592,"cellular organisms,Bacteria,Proteobacteria,Alphaproteobacteria,Rhizobiales,Xanthobacteraceae,Azorhizobium,Azorhizobium caulinodans,Azorhizobium caulinodans ORS 571","Azorhizobium caulinodans ORS 571","Alphaproteobacteria"]
["ref|YP_001582591.1|",161528765,"cellular organisms,Archaea,Thaumarchaeota,Nitrosopumilales,Nitrosopumilaceae,Nitrosopumilus,Nitrosopumilus maritimus,Nitrosopumilus maritimus SCM1","Nitrosopumilus maritimus SCM1","Nitrosopumilales"]
["ref|YP_001648201.1|",163955097,"Viruses,dsDNA viruses, no RNA stage,Phycodnaviridae,unclassified Phycodnaviridae,Ostreococcus virus OsV5","Ostreococcus virus OsV5","Phycodnaviridae"]
["ref|YP_001648202.1|",163955098,"Viruses,dsDNA viruses, no RNA stage,Phycodnaviridae,unclassified Phycodnaviridae,Ostreococcus virus OsV5","Ostreococcus virus OsV5","Phycodnaviridae"]
["ref|YP_001718693.1|",170784777,"cellular organisms,Eukaryota,Viridiplantae,Streptophyta,Streptophytina,Embryophyta,Tracheophyta,Euphyllophyta,Spermatophyta,Magnoliophyta,eudicotyledons,core eudicotyledons,asterids,campanulids,Asterales,Campanulaceae,Trachelium,Trachelium caeruleum","Trachelium caeruleum","Streptophyta"]
["ref|YP_001820509.1|",182415443,"cellular organisms,Bacteria,Chlamydiae/Verrucomicrobia group,Verrucomicrobia,Opitutae,Opitutales,Opitutaceae,Opitutus,Opitutus terrae,Opitutus terrae PB90-1","Opitutus terrae PB90-1","Verrucomicrobia"]
["ref|YP_001821743.1|",182434024,"cellular organisms,Bacteria,Actinobacteria,Actinobacteria,Actinobacteridae,Actinomycetales,Streptomycineae,Streptomycetaceae,Streptomyces,Streptomyces griseus group,Streptomyces griseus,Streptomyces griseus subsp. griseus,Streptomyces griseus subsp. griseus NBRC 13350","Streptomyces griseus subsp. griseus NBRC 13350","Actinobacteria"]
["ref|YP_001889359.1|",187920328,"cellular organisms,Bacteria,Proteobacteria,Betaproteobacteria,Burkholderiales,Burkholderiaceae,Burkholderia,Burkholderia phytofirmans,Burkholderia phytofirmans PsJN","Burkholderia phytofirmans PsJN","Betaproteobacteria"]
["ref|YP_001958011.1|",189502294,"cellular organisms,Bacteria,Bacteroidetes/Chlorobi group,Bacteroidetes,unclassified Bacteroidetes,Candidatus Amoebophilus,Candidatus Amoebophilus asiaticus,Candidatus Amoebophilus asiaticus 5a2","Candidatus Amoebophilus asiaticus 5a2","Bacteroidetes"]
["ref|YP_001958491.1|",189499021,"cellular organisms,Bacteria,Bacteroidetes/Chlorobi group,Chlorobi,Chlorobia,Chlorobiales,Chlorobiaceae,Chlorobium/Pelodictyon group,Chlorobium,Chlorobium phaeobacteroides,Chlorobium phaeobacteroides BS1","Chlorobium phaeobacteroides BS1","Chlorobi"]
["ref|YP_002349242.1|",217963563,"cellular organisms,Bacteria,Firmicutes,Bacilli,Bacillales,Listeriaceae,Listeria,Listeria monocytogenes,Listeria monocytogenes HCC23","Listeria monocytogenes HCC23","Bacilli"]
["ref|YP_002730164.1|",225849930,"cellular organisms,Bacteria,Aquificae,Aquificae,Aquificales,Hydrogenothermaceae,Persephonella,Persephonella marina,Persephonella marina EX-H1","Persephonella marina EX-H1","Aquificae"]
["ref|YP_002975400.1|",241204304,"cellular organisms,Bacteria,Proteobacteria,Alphaproteobacteria,Rhizobiales,Rhizobiaceae,Rhizobium/Agrobacterium group,Rhizobium,Rhizobium leguminosarum,Rhizobium leguminosarum bv. trifolii,Rhizobium leguminosarum bv. trifolii WSM1325","Rhizobium leguminosarum bv. trifolii WSM1325","Alphaproteobacteria"]
["ref|YP_002994107.1|",242398683,"cellular organisms,Archaea,Euryarchaeota,Thermococci,Thermococcales,Thermococcaceae,Thermococcus,Thermococcus sibiricus,Thermococcus sibiricus MM 739","Thermococcus sibiricus MM 739","Thermococci"]
["ref|YP_003146720.1|",256822757,"cellular organisms,Bacteria,Proteobacteria,Gammaproteobacteria,Oceanospirillales,Alcanivoracaceae,Kangiella,Kangiella koreensis,Kangiella koreensis DSM 16069","Kangiella koreensis DSM 16069","Gammaproteobacteria"]
["ref|YP_003158663.1|",256829935,"cellular organisms,Bacteria,Proteobacteria,delta/epsilon subdivisions,Deltaproteobacteria,Desulfovibrionales,Desulfomicrobiaceae,Desulfomicrobium,Desulfomicrobium baculatum,Desulfomicrobium baculatum DSM 4028","Desulfomicrobium baculatum DSM 4028","delta-epsilon_subdivisions"]
["ref|YP_003406938.1|",284504223,"Viruses,dsDNA viruses, no RNA stage,unclassified dsDNA viruses,Marseillevirus family,Marseillevirus","Marseillevirus","unclassified_dsDNA_viruses"]
["ref|YP_003494939.1|",290343572,"Viruses,dsDNA viruses, no RNA stage,Phycodnaviridae,unclassified Phycodnaviridae,Ostreococcus tauri virus 1","Ostreococcus tauri virus 1","Phycodnaviridae"]
["ref|YP_003494942.1|",290343575,"Viruses,dsDNA viruses, no RNA stage,Phycodnaviridae,unclassified Phycodnaviridae,Ostreococcus tauri virus 1","Ostreococcus tauri virus 1","Phycodnaviridae"]
["ref|YP_003562148.1|",294498448,"cellular organisms,Bacteria,Firmicutes,Bacilli,Bacillales,Bacillaceae,Bacillus,Bacillus megaterium,Bacillus megaterium QM B1551","Bacillus megaterium QM B1551","Bacilli"]
["ref|YP_003563904.1|",294500204,"cellular organisms,Bacteria,Firmicutes,Bacilli,Bacillales,Bacillaceae,Bacillus,Bacillus megaterium,Bacillus megaterium QM B1551","Bacillus megaterium QM B1551","Bacilli"]
["ref|YP_003667877.1|",296506643,"cellular organisms,Bacteria,Firmicutes,Bacilli,Bacillales,Bacillaceae,Bacillus,Bacillus cereus group,Bacillus thuringiensis,Bacillus thuringiensis serovar kurstaki,Bacillus thuringiensis BMB171","Bacillus thuringiensis BMB171","Bacilli"]
["ref|YP_003738211.1|",300712397,"cellular organisms,Archaea,Euryarchaeota,Halobacteria,Halobacteriales,Halobacteriaceae,Halalkalicoccus,Halalkalicoccus jeotgali,Halalkalicoccus jeotgali B3","Halalkalicoccus jeotgali B3","Halobacteria"]
["ref|YP_003815147.1|",302346849,"cellular organisms,Bacteria,Bacteroidetes/Chlorobi group,Bacteroidetes,Bacteroidia,Bacteroidales,Prevotellaceae,Prevotella,Prevotella melaninogenica,Prevotella melaninogenica ATCC 25845","Prevotella melaninogenica ATCC 25845","Bacteroidetes"]
["ref|YP_003832477.1|",302669327,"cellular organisms,Bacteria,Firmicutes,Clostridia,Clostridiales,Lachnospiraceae,Butyrivibrio,Clostridium proteoclasticum,Butyrivibrio proteoclasticus B316","Butyrivibrio proteoclasticus B316","Clostridia"]
["ref|YP_003915391.1|",308175985,"cellular organisms,Bacteria,Actinobacteria,Actinobacteria,Actinobacteridae,Actinomycetales,Micrococcineae,Micrococcaceae,Arthrobacter,Arthrobacter arilaitensis,Arthrobacter arilaitensis Re117","Arthrobacter arilaitensis Re117","Actinobacteria"]
["ref|YP_003968322.1|",310779990,"cellular organisms,Bacteria,Fusobacteria,Fusobacteriia,Fusobacteriales,Fusobacteriaceae,Ilyobacter,Ilyobacter polytropus,Ilyobacter polytropus DSM 2926","Ilyobacter polytropus DSM 2926","Fusobacteriia"]
["ref|YP_003969643.1|",310831000,"Viruses,dsDNA viruses, no RNA stage,unclassified dsDNA viruses,Cafeteria roenbergensis virus BV-PW1","Cafeteria roenbergensis virus BV-PW1","unclassified_dsDNA_viruses"]
["ref|YP_003969668.1|",310831025,"Viruses,dsDNA viruses, no RNA stage,unclassified dsDNA viruses,Cafeteria roenbergensis virus BV-PW1","Cafeteria roenbergensis virus BV-PW1","unclassified_dsDNA_viruses"]
["ref|YP_003969707.1|",310831064,"Viruses,dsDNA viruses, no RNA stage,unclassified dsDNA viruses,Cafeteria roenbergensis virus BV-PW1","Cafeteria roenbergensis virus BV-PW1","unclassified_dsDNA_viruses"]
["ref|YP_003969719.1|",310831076,"Viruses,dsDNA viruses, no RNA stage,unclassified dsDNA viruses,Cafeteria roenbergensis virus BV-PW1","Cafeteria roenbergensis virus BV-PW1","unclassified_dsDNA_viruses"]
["ref|YP_003969741.1|",310831098,"Viruses,dsDNA viruses, no RNA stage,unclassified dsDNA viruses,Cafeteria roenbergensis virus BV-PW1","Cafeteria roenbergensis virus BV-PW1","unclassified_dsDNA_viruses"]
["ref|YP_003969775.1|",310831132,"Viruses,dsDNA viruses, no RNA stage,unclassified dsDNA viruses,Cafeteria roenbergensis virus BV-PW1","Cafeteria roenbergensis virus BV-PW1","unclassified_dsDNA_viruses"]
["ref|YP_003969792.1|",310831149,"Viruses,dsDNA viruses, no RNA stage,unclassified dsDNA viruses,Cafeteria roenbergensis virus BV-PW1","Cafeteria roenbergensis virus BV-PW1","unclassified_dsDNA_viruses"]
["ref|YP_003969795.1|",310831152,"Viruses,dsDNA viruses, no RNA stage,unclassified dsDNA viruses,Cafeteria roenbergensis virus BV-PW1","Cafeteria roenbergensis virus BV-PW1","unclassified_dsDNA_viruses"]
["ref|YP_003969814.1|",310831171,"Viruses,dsDNA viruses, no RNA stage,unclassified dsDNA viruses,Cafeteria roenbergensis virus BV-PW1","Cafeteria roenbergensis virus BV-PW1","unclassified_dsDNA_viruses"]
["ref|YP_003969816.1|",310831173,"Viruses,dsDNA viruses, no RNA stage,unclassified dsDNA viruses,Cafeteria roenbergensis virus BV-PW1","Cafeteria roenbergensis virus BV-PW1","unclassified_dsDNA_viruses"]
["ref|YP_003969838.1|",310831195,"Viruses,dsDNA viruses, no RNA stage,unclassified dsDNA viruses,Cafeteria roenbergensis virus BV-PW1","Cafeteria roenbergensis virus BV-PW1","unclassified_dsDNA_viruses"]
["ref|YP_003969839.1|",310831196,"Viruses,dsDNA viruses, no RNA stage,unclassified dsDNA viruses,Cafeteria roenbergensis virus BV-PW1","Cafeteria roenbergensis virus BV-PW1","unclassified_dsDNA_viruses"]
["ref|YP_003969852.1|",310831209,"Viruses,dsDNA viruses, no RNA stage,unclassified dsDNA viruses,Cafeteria roenbergensis virus BV-PW1","Cafeteria roenbergensis virus BV-PW1","unclassified_dsDNA_viruses"]
["ref|YP_003969858.1|",310831215,"Viruses,dsDNA viruses, no RNA stage,unclassified dsDNA viruses,Cafeteria roenbergensis virus BV-PW1","Cafeteria roenbergensis virus BV-PW1","unclassified_dsDNA_viruses"]
["ref|YP_003969887.1|",310831244,"Viruses,dsDNA viruses, no RNA stage,unclassified dsDNA viruses,Cafeteria roenbergensis virus BV-PW1","Cafeteria roenbergensis virus BV-PW1","unclassified_dsDNA_viruses"]
["ref|YP_003969891.1|",310831248,"Viruses,dsDNA viruses, no RNA stage,unclassified dsDNA viruses,Cafeteria roenbergensis virus BV-PW1","Cafeteria roenbergensis virus BV-PW1","unclassified_dsDNA_viruses"]
["ref|YP_003969923.1|",310831280,"Viruses,dsDNA viruses, no RNA stage,unclassified dsDNA viruses,Cafeteria roenbergensis virus BV-PW1","Cafeteria roenbergensis virus BV-PW1","unclassified_dsDNA_viruses"]
["ref|YP_003969937.1|",310831294,"Viruses,dsDNA viruses, no RNA stage,unclassified dsDNA viruses,Cafeteria roenbergensis virus BV-PW1","Cafeteria roenbergensis virus BV-PW1","unclassified_dsDNA_viruses"]
["ref|YP_003969947.1|",310831304,"Viruses,dsDNA viruses, no RNA stage,unclassified dsDNA viruses,Cafeteria roenbergensis virus BV-PW1","Cafeteria roenbergensis virus BV-PW1","unclassified_dsDNA_viruses"]
["ref|YP_003969972.1|",310831329,"Viruses,dsDNA viruses, no RNA stage,unclassified dsDNA viruses,Cafeteria roenbergensis virus BV-PW1","Cafeteria roenbergensis virus BV-PW1","unclassified_dsDNA_viruses"]
["ref|YP_003969975.1|",310831332,"Viruses,dsDNA viruses, no RNA stage,unclassified dsDNA viruses,Cafeteria roenbergensis virus BV-PW1","Cafeteria roenbergensis virus BV-PW1","unclassified_dsDNA_viruses"]
["ref|YP_003970058.1|",310831415,"Viruses,dsDNA viruses, no RNA stage,unclassified dsDNA viruses,Cafeteria roenbergensis virus BV-PW1","Cafeteria roenbergensis virus BV-PW1","unclassified_dsDNA_viruses"]
["ref|YP_003970080.1|",310831437,"Viruses,dsDNA viruses, no RNA stage,unclassified dsDNA viruses,Cafeteria roenbergensis virus BV-PW1","Cafeteria roenbergensis virus BV-PW1","unclassified_dsDNA_viruses"]
["ref|YP_003970183.1|",310831540,"Viruses,dsDNA viruses, no RNA stage,unclassified dsDNA viruses,Cafeteria roenbergensis virus BV-PW1","Cafeteria roenbergensis virus BV-PW1","unclassified_dsDNA_viruses"]
["ref|YP_003986746.1|",311977626,"Viruses,dsDNA viruses, no RNA stage,Mimiviridae,Mimivirus,Acanthamoeba polyphaga mimivirus","Acanthamoeba polyphaga mimivirus","Mimiviridae"]
["ref|YP_003986812.1|",311977692,"Viruses,dsDNA viruses, no RNA stage,Mimiviridae,Mimivirus,Acanthamoeba polyphaga mimivirus","Acanthamoeba polyphaga mimivirus","Mimiviridae"]
["ref|YP_003986853.1|",311977733,"Viruses,dsDNA viruses, no RNA stage,Mimiviridae,Mimivirus,Acanthamoeba polyphaga mimivirus","Acanthamoeba polyphaga mimivirus","Mimiviridae"]
["ref|YP_003986883.1|",311977763,"Viruses,dsDNA viruses, no RNA stage,Mimiviridae,Mimivirus,Acanthamoeba polyphaga mimivirus","Acanthamoeba polyphaga mimivirus","Mimiviridae"]
["ref|YP_003986887.1|",311977767,"Viruses,dsDNA viruses, no RNA stage,Mimiviridae,Mimivirus,Acanthamoeba polyphaga mimivirus","Acanthamoeba polyphaga mimivirus","Mimiviridae"]
["ref|YP_003986938.1|",311977818,"Viruses,dsDNA viruses, no RNA stage,Mimiviridae,Mimivirus,Acanthamoeba polyphaga mimivirus","Acanthamoeba polyphaga mimivirus","Mimiviridae"]
["ref|YP_003987019.1|",311977899,"Viruses,dsDNA viruses, no RNA stage,Mimiviridae,Mimivirus,Acanthamoeba polyphaga mimivirus","Acanthamoeba polyphaga mimivirus","Mimiviridae"]
["ref|YP_004033918.1|",313123659,"cellular organisms,Bacteria,Firmicutes,Bacilli,Lactobacillales,Lactobacillaceae,Lactobacillus,Lactobacillus delbrueckii,Lactobacillus delbrueckii subsp. bulgaricus,Lactobacillus delbrueckii subsp. bulgaricus ND02","Lactobacillus delbrueckii subsp. bulgaricus ND02","Bacilli"]
["ref|YP_004042269.1|",313203612,"cellular organisms,Bacteria,Bacteroidetes/Chlorobi group,Bacteroidetes,Bacteroidia,Bacteroidales,Porphyromonadaceae,Paludibacter,Paludibacter propionicigenes,Paludibacter propionicigenes WB4","Paludibacter propionicigenes WB4","Bacteroidetes"]
["ref|YP_004044113.1|",313205456,"cellular organisms,Bacteria,Bacteroidetes/Chlorobi group,Bacteroidetes,Bacteroidia,Bacteroidales,Porphyromonadaceae,Paludibacter,Paludibacter propionicigenes,Paludibacter propionicigenes WB4","Paludibacter propionicigenes WB4","Bacteroidetes"]
["ref|YP_004058477.1|",313680738,"cellular organisms,Bacteria,Deinococcus-Thermus,Deinococci,Thermales,Thermaceae,Oceanithermus,Oceanithermus profundus,Oceanithermus profundus DSM 14977","Oceanithermus profundus DSM 14977","Deinococci"]
["ref|YP_004061590.1|",313768159,"Viruses,dsDNA viruses, no RNA stage,Phycodnaviridae,Prasinovirus,unclassified Prasinovirus,Bathycoccus sp. RCC1105 virus BpV,Bathycoccus sp. RCC1105 virus BpV1","Bathycoccus sp. RCC1105 virus BpV1","Phycodnaviridae"]
["ref|YP_004061598.1|",313768167,"Viruses,dsDNA viruses, no RNA stage,Phycodnaviridae,Prasinovirus,unclassified Prasinovirus,Bathycoccus sp. RCC1105 virus BpV,Bathycoccus sp. RCC1105 virus BpV1","Bathycoccus sp. RCC1105 virus BpV1","Phycodnaviridae"]
["ref|YP_004061688.1|",313844025,"Viruses,dsDNA viruses, no RNA stage,Phycodnaviridae,Prasinovirus,unclassified Prasinovirus,Ostreococcus lucimarinus virus OlV1","Ostreococcus lucimarinus virus OlV1","Phycodnaviridae"]
["ref|YP_004061744.1|",313844081,"Viruses,dsDNA viruses, no RNA stage,Phycodnaviridae,Prasinovirus,unclassified Prasinovirus,Ostreococcus lucimarinus virus OlV1","Ostreococcus lucimarinus virus OlV1","Phycodnaviridae"]
["ref|YP_004061761.1|",313844098,"Viruses,dsDNA viruses, no RNA stage,Phycodnaviridae,Prasinovirus,unclassified Prasinovirus,Ostreococcus lucimarinus virus OlV1","Ostreococcus lucimarinus virus OlV1","Phycodnaviridae"]
["ref|YP_004061792.1|",313844129,"Viruses,dsDNA viruses, no RNA stage,Phycodnaviridae,Prasinovirus,unclassified Prasinovirus,Ostreococcus lucimarinus virus OlV1","Ostreococcus lucimarinus virus OlV1","Phycodnaviridae"]
["ref|YP_004061833.1|",313844170,"Viruses,dsDNA viruses, no RNA stage,Phycodnaviridae,Prasinovirus,unclassified Prasinovirus,Ostreococcus lucimarinus virus OlV1","Ostreococcus lucimarinus virus OlV1","Phycodnaviridae"]
["ref|YP_004061904.1|",313768224,"Viruses,dsDNA viruses, no RNA stage,Phycodnaviridae,Prasinovirus,unclassified Prasinovirus,Micromonas sp. RCC1109 virus MpV1","Micromonas sp. RCC1109 virus MpV1","Phycodnaviridae"]
["ref|YP_004061975.1|",313768295,"Viruses,dsDNA viruses, no RNA stage,Phycodnaviridae,Prasinovirus,unclassified Prasinovirus,Micromonas sp. RCC1109 virus MpV1","Micromonas sp. RCC1109 virus MpV1","Phycodnaviridae"]
["ref|YP_004062016.1|",313768336,"Viruses,dsDNA viruses, no RNA stage,Phycodnaviridae,Prasinovirus,unclassified Prasinovirus,Micromonas sp. RCC1109 virus MpV1","Micromonas sp. RCC1109 virus MpV1","Phycodnaviridae"]
["ref|YP_004062069.1|",313768389,"Viruses,dsDNA viruses, no RNA stage,Phycodnaviridae,Prasinovirus,unclassified Prasinovirus,Micromonas sp. RCC1109 virus MpV1","Micromonas sp. RCC1109 virus MpV1","Phycodnaviridae"]
["ref|YP_004062073.1|",313768393,"Viruses,dsDNA viruses, no RNA stage,Phycodnaviridae,Prasinovirus,unclassified Prasinovirus,Micromonas sp. RCC1109 virus MpV1","Micromonas sp. RCC1109 virus MpV1","Phycodnaviridae"]
["ref|YP_004063496.1|",314055158,"Viruses,dsDNA viruses, no RNA stage,Phycodnaviridae,unclassified Phycodnaviridae,Ostreococcus tauri virus 2","Ostreococcus tauri virus 2","Phycodnaviridae"]
["ref|YP_004063571.1|",314055233,"Viruses,dsDNA viruses, no RNA stage,Phycodnaviridae,unclassified Phycodnaviridae,Ostreococcus tauri virus 2","Ostreococcus tauri virus 2","Phycodnaviridae"]
["ref|YP_004063598.1|",314055260,"Viruses,dsDNA viruses, no RNA stage,Phycodnaviridae,unclassified Phycodnaviridae,Ostreococcus tauri virus 2","Ostreococcus tauri virus 2","Phycodnaviridae"]
["ref|YP_004063631.1|",314055293,"Viruses,dsDNA viruses, no RNA stage,Phycodnaviridae,unclassified Phycodnaviridae,Ostreococcus tauri virus 2","Ostreococcus tauri virus 2","Phycodnaviridae"]
["ref|YP_004068112.1|",315126109,"cellular organisms,Bacteria,Proteobacteria,Gammaproteobacteria,Alteromonadales,Pseudoalteromonadaceae,Pseudoalteromonas,Pseudoalteromonas sp. SM9913","Pseudoalteromonas sp. SM9913","Gammaproteobacteria"]
["ref|YP_004070802.1|",315230366,"cellular organisms,Archaea,Euryarchaeota,Thermococci,Thermococcales,Thermococcaceae,Thermococcus,Thermococcus barophilus,Thermococcus barophilus MP","Thermococcus barophilus MP","Thermococci"]
["ref|YP_004091364.1|",317132050,"cellular organisms,Bacteria,Firmicutes,Clostridia,Clostridiales,Ruminococcaceae,Ethanoligenens,Ethanoligenens harbinense,Ethanoligenens harbinense YUAN-3","Ethanoligenens harbinense YUAN-3","Clostridia"]
["ref|YP_004103749.1|",317055282,"cellular organisms,Bacteria,Firmicutes,Clostridia,Clostridiales,Ruminococcaceae,Ruminococcus,Ruminococcus albus,Ruminococcus albus 7","Ruminococcus albus 7","Clostridia"]
["ref|YP_004167604.1|",319956341,"cellular organisms,Bacteria,Proteobacteria,delta/epsilon subdivisions,Epsilonproteobacteria,Campylobacterales,unclassified Campylobacterales,Nitratifractor,Nitratifractor salsuginis,Nitratifractor salsuginis DSM 16511","Nitratifractor salsuginis DSM 16511","delta-epsilon_subdivisions"]
["ref|YP_004218381.1|",322436169,"cellular organisms,Bacteria,Fibrobacteres/Acidobacteria group,Acidobacteria,Acidobacteriia,Acidobacteriales,Acidobacteriaceae,Granulicella,Granulicella tundricola,Granulicella tundricola MP5ACTX9","Granulicella tundricola MP5ACTX9","Acidobacteria"]
["ref|YP_004253600.1|",325281058,"cellular organisms,Bacteria,Bacteroidetes/Chlorobi group,Bacteroidetes,Bacteroidia,Bacteroidales,Porphyromonadaceae,Odoribacter,Odoribacter splanchnicus,Odoribacter splanchnicus DSM 20712","Odoribacter splanchnicus DSM 20712","Bacteroidetes"]
["ref|YP_004260034.1|",325300117,"cellular organisms,Bacteria,Bacteroidetes/Chlorobi group,Bacteroidetes,Bacteroidia,Bacteroidales,Bacteroidaceae,Bacteroides,Bacteroides salanitronis,Bacteroides salanitronis DSM 18170","Bacteroides salanitronis DSM 18170","Bacteroidetes"]
["ref|YP_004306639.1|",327198109,"Viruses,dsDNA viruses, no RNA stage,Caudovirales,Siphoviridae,unclassified Siphoviridae,Enterococcus phage EFRM31","Enterococcus phage EFRM31","Caudovirales"]
["ref|YP_004322520.1|",326782119,"Viruses,dsDNA viruses, no RNA stage,Caudovirales,Myoviridae,unclassified Myoviridae,Prochlorococcus phage P-HM1","Prochlorococcus phage P-HM1","Caudovirales"]
["ref|YP_004324185.1|",326783791,"Viruses,dsDNA viruses, no RNA stage,Caudovirales,Myoviridae,unclassified Myoviridae,Synechococcus phage S-SSM7","Synechococcus phage S-SSM7","Caudovirales"]
["ref|YP_004347087.1|",327409667,"Viruses,dsDNA viruses, no RNA stage,unclassified dsDNA viruses,Marseillevirus family,Lausannevirus","Lausannevirus","unclassified_dsDNA_viruses"]
["ref|YP_004413822.1|",330839242,"cellular organisms,Bacteria,Firmicutes,Negativicutes,Selenomonadales,Veillonellaceae,Selenomonas,Selenomonas sputigena,Selenomonas sputigena ATCC 35185","Selenomonas sputigena ATCC 35185","Negativicutes"]
["ref|YP_004446506.1|",332663718,"cellular organisms,Bacteria,Bacteroidetes/Chlorobi group,Bacteroidetes,Sphingobacteriia,Sphingobacteriales,Saprospiraceae,Haliscomenobacter,Haliscomenobacter hydrossis,Haliscomenobacter hydrossis DSM 1100","Haliscomenobacter hydrossis DSM 1100","Bacteroidetes"]
["ref|YP_004494171.1|",333920590,"cellular organisms,Bacteria,Actinobacteria,Actinobacteria,Actinobacteridae,Actinomycetales,Corynebacterineae,Mycobacteriaceae,Amycolicicoccus,Amycolicicoccus subflavus,Amycolicicoccus subflavus DQS3-9A1","Amycolicicoccus subflavus DQS3-9A1","Actinobacteria"]
["ref|YP_004551971.1|",334319412,"cellular organisms,Bacteria,Proteobacteria,Alphaproteobacteria,Rhizobiales,Rhizobiaceae,Sinorhizobium/Ensifer group,Sinorhizobium,Sinorhizobium meliloti,Sinorhizobium meliloti AK83","Sinorhizobium meliloti AK83","Alphaproteobacteria"]
["ref|YP_004615344.1|",336476203,"cellular organisms,Archaea,Euryarchaeota,Methanomicrobia,Methanosarcinales,Methanosarcinaceae,Methanosalsum,Methanosalsum zhilinae,Methanosalsum zhilinae DSM 4017","Methanosalsum zhilinae DSM 4017","Methanomicrobia"]
["ref|YP_004732918.1|",339906121,"Viruses,dsDNA viruses, no RNA stage,Iridoviridae,Iridovirus,unclassified Iridovirus,Invertebrate iridescent virus 9,Wiseana iridescent virus","Wiseana iridescent virus","Iridoviridae"]
["ref|YP_004774121.1|",343084826,"cellular organisms,Bacteria,Bacteroidetes/Chlorobi group,Bacteroidetes,Cytophagia,Cytophagales,Cyclobacteriaceae,Cyclobacterium,Cyclobacterium marinum,Cyclobacterium marinum DSM 745","Cyclobacterium marinum DSM 745","Bacteroidetes"]
["ref|YP_004789520.1|",344204377,"cellular organisms,Bacteria,Bacteroidetes/Chlorobi group,Bacteroidetes,Flavobacteriia,Flavobacteriales,Flavobacteriaceae,Muricauda,Muricauda ruestringensis,Muricauda ruestringensis DSM 13258","Muricauda ruestringensis DSM 13258","Bacteroidetes"]
["ref|YP_004820839.1|",345018486,"cellular organisms,Bacteria,Firmicutes,Clostridia,Thermoanaerobacterales,Thermoanaerobacteraceae,Thermoanaerobacter,Thermoanaerobacter wiegelii,Thermoanaerobacter wiegelii Rt8.B1","Thermoanaerobacter wiegelii Rt8.B1","Clostridia"]
["ref|YP_004838115.1|",347531352,"cellular organisms,Bacteria,Firmicutes,Clostridia,Clostridiales,Lachnospiraceae,Roseburia,Roseburia hominis,Roseburia hominis A2-183","Roseburia hominis A2-183","Clostridia"]
["ref|YP_004894356.1|",363540124,"Viruses,dsDNA viruses, no RNA stage,Mimiviridae,Mimivirus,Megavirus chiliensis","Megavirus chiliensis","Mimiviridae"]
["ref|YP_004894448.1|",363539836,"Viruses,dsDNA viruses, no RNA stage,Mimiviridae,Mimivirus,Megavirus chiliensis","Megavirus chiliensis","Mimiviridae"]
["ref|YP_004894485.1|",363540749,"Viruses,dsDNA viruses, no RNA stage,Mimiviridae,Mimivirus,Megavirus chiliensis","Megavirus chiliensis","Mimiviridae"]
["ref|YP_004894493.1|",363540772,"Viruses,dsDNA viruses, no RNA stage,Mimiviridae,Mimivirus,Megavirus chiliensis","Megavirus chiliensis","Mimiviridae"]
["ref|YP_004894513.1|",363540453,"Viruses,dsDNA viruses, no RNA stage,Mimiviridae,Mimivirus,Megavirus chiliensis","Megavirus chiliensis","Mimiviridae"]
["ref|YP_004894515.1|",363540260,"Viruses,dsDNA viruses, no RNA stage,Mimiviridae,Mimivirus,Megavirus chiliensis","Megavirus chiliensis","Mimiviridae"]
["ref|YP_004894535.1|",363540130,"Viruses,dsDNA viruses, no RNA stage,Mimiviridae,Mimivirus,Megavirus chiliensis","Megavirus chiliensis","Mimiviridae"]
["ref|YP_004894570.1|",363540279,"Viruses,dsDNA viruses, no RNA stage,Mimiviridae,Mimivirus,Megavirus chiliensis","Megavirus chiliensis","Mimiviridae"]
["ref|YP_004894571.1|",363540043,"Viruses,dsDNA viruses, no RNA stage,Mimiviridae,Mimivirus,Megavirus chiliensis","Megavirus chiliensis","Mimiviridae"]
["ref|YP_004894612.1|",363540729,"Viruses,dsDNA viruses, no RNA stage,Mimiviridae,Mimivirus,Megavirus chiliensis","Megavirus chiliensis","Mimiviridae"]
["ref|YP_004894655.1|",363539989,"Viruses,dsDNA viruses, no RNA stage,Mimiviridae,Mimivirus,Megavirus chiliensis","Megavirus chiliensis","Mimiviridae"]
["ref|YP_004894734.1|",363540384,"Viruses,dsDNA viruses, no RNA stage,Mimiviridae,Mimivirus,Megavirus chiliensis","Megavirus chiliensis","Mimiviridae"]
["ref|YP_004909934.1|",357398009,"cellular organisms,Bacteria,Actinobacteria,Actinobacteria,Actinobacteridae,Actinomycetales,Streptomycineae,Streptomycetaceae,Streptomyces,Streptomyces cattleya,Streptomyces cattleya NRRL 8057 = DSM 46488","Streptomyces cattleya NRRL 8057 = DSM 46488","Actinobacteria"]
["ref|YP_004918352.1|",357406428,"cellular organisms,Bacteria,Proteobacteria,Gammaproteobacteria,Methylococcales,Methylococcaceae,Methylomicrobium,Methylomicrobium alcaliphilum,Methylomicrobium alcaliphilum 20Z","Methylomicrobium alcaliphilum 20Z","Gammaproteobacteria"]
["ref|YP_005035551.1|",374288466,"cellular organisms,Bacteria,Proteobacteria,delta/epsilon subdivisions,Deltaproteobacteria,Bdellovibrionales,Bacteriovoracaceae,Bacteriovorax,Bacteriovorax marinus,Bacteriovorax marinus SJ","Bacteriovorax marinus SJ","delta-epsilon_subdivisions"]
["ref|YP_005047155.1|",374296964,"cellular organisms,Bacteria,Firmicutes,Clostridia,Clostridiales,Clostridiaceae,Clostridium,Clostridium clariflavum,Clostridium clariflavum DSM 19732","Clostridium clariflavum DSM 19732","Clostridia"]
["ref|YP_005076936.1|",374323807,"cellular organisms,Bacteria,Firmicutes,Bacilli,Bacillales,Paenibacillaceae,Paenibacillus,Paenibacillus terrae,Paenibacillus terrae HPL-003","Paenibacillus terrae HPL-003","Bacilli"]
["ref|YP_005149079.1|",376262359,"cellular organisms,Bacteria,Firmicutes,Clostridia,Clostridiales,Clostridiaceae,Clostridium,Clostridium sp. BNL1100","Clostridium sp. BNL1100","Clostridia"]
["ref|YP_005454256.1|",394935473,"Viruses,dsDNA viruses, no RNA stage,Polyomaviridae,Polyomavirus,unclassified Polyomavirus,Canary polyomavirus","Canary polyomavirus","Polyomaviridae"]
["ref|YP_005497394.1|",384044127,"cellular organisms,Bacteria,Firmicutes,Bacilli,Bacillales,Bacillaceae,Bacillus,Bacillus megaterium,Bacillus megaterium WSH-002","Bacillus megaterium WSH-002","Bacilli"]
["ref|YP_005609691.1|",384218525,"cellular organisms,Bacteria,Proteobacteria,Alphaproteobacteria,Rhizobiales,Bradyrhizobiaceae,Bradyrhizobium,Bradyrhizobium japonicum,Bradyrhizobium japonicum USDA 6","Bradyrhizobium japonicum USDA 6","Alphaproteobacteria"]
["ref|YP_005845944.1|",385809548,"cellular organisms,Bacteria,Bacteroidetes/Chlorobi group,Ignavibacteria,Ignavibacteria,Ignavibacteriales,Ignavibacteriaceae,Ignavibacterium,Ignavibacterium album,Ignavibacterium album JCM 16511","Ignavibacterium album JCM 16511","Ignavibacteria"]
["ref|YP_006229131.1|",386755914,"cellular organisms,Bacteria,Proteobacteria,delta/epsilon subdivisions,Epsilonproteobacteria,Campylobacterales,Helicobacteraceae,Helicobacter,Helicobacter pylori,Helicobacter pylori PeCan18","Helicobacter pylori PeCan18","delta-epsilon_subdivisions"]
["ref|YP_006374145.1|",389874789,"cellular organisms,Bacteria,Proteobacteria,Alphaproteobacteria,Rhodospirillales,Rhodospirillaceae,Tistrella,Tistrella mobilis,Tistrella mobilis KA081020-065","Tistrella mobilis KA081020-065","Alphaproteobacteria"]
["ref|YP_006418982.1|",390955224,"cellular organisms,Bacteria,Bacteroidetes/Chlorobi group,Bacteroidetes,Flavobacteriia,Flavobacteriales,Flavobacteriaceae,Aequorivita,Aequorivita sublithincola,Aequorivita sublithincola DSM 14238","Aequorivita sublithincola DSM 14238","Bacteroidetes"]
["ref|YP_006448668.1|",392412061,"cellular organisms,Bacteria,Proteobacteria,delta/epsilon subdivisions,Deltaproteobacteria,Syntrophobacterales,Syntrophaceae,Desulfomonile,Desulfomonile tiedjei,Desulfomonile tiedjei DSM 6799","Desulfomonile tiedjei DSM 6799","delta-epsilon_subdivisions"]
["ref|YP_006486160.1|",392987567,"cellular organisms,Bacteria,Firmicutes,Bacilli,Lactobacillales,Enterococcaceae,Enterococcus,Enterococcus hirae,Enterococcus hirae ATCC 9790","Enterococcus hirae ATCC 9790","Bacilli"]
["ref|YP_078590.1|",52079799,"cellular organisms,Bacteria,Firmicutes,Bacilli,Bacillales,Bacillaceae,Bacillus,Bacillus subtilis group,Bacillus licheniformis,Bacillus licheniformis DSM 13 = ATCC 14580","Bacillus licheniformis DSM 13 = ATCC 14580","Bacilli"]
["ref|YP_136200.1|",55378350,"cellular organisms,Archaea,Euryarchaeota,Halobacteria,Halobacteriales,Halobacteriaceae,Haloarcula,Haloarcula marismortui,Haloarcula marismortui ATCC 43049","Haloarcula marismortui ATCC 43049","Halobacteria"]
["ref|YP_147467.1|",56420149,"cellular organisms,Bacteria,Firmicutes,Bacilli,Bacillales,Bacillaceae,Geobacillus,Geobacillus kaustophilus,Geobacillus kaustophilus HTA426","Geobacillus kaustophilus HTA426","Bacilli"]
["ref|YP_294088.1|",73852804,"Viruses,dsDNA viruses, no RNA stage,Phycodnaviridae,Coccolithovirus,Emiliania huxleyi virus 86","Emiliania huxleyi virus 86","Phycodnaviridae"]
["ref|YP_294156.1|",73852872,"Viruses,dsDNA viruses, no RNA stage,Phycodnaviridae,Coccolithovirus,Emiliania huxleyi virus 86","Emiliania huxleyi virus 86","Phycodnaviridae"]
["ref|YP_358789.1|",78000005,"Viruses,dsDNA viruses, no RNA stage,Caudovirales,Siphoviridae,unclassified Siphoviridae,Lactobacillus phage Lc-Nu","Lactobacillus phage Lc-Nu","Caudovirales"]
["ref|YP_437912.1|",83649477,"cellular organisms,Bacteria,Proteobacteria,Gammaproteobacteria,Oceanospirillales,Hahellaceae,Hahella,Hahella chejuensis,Hahella chejuensis KCTC 2396","Hahella chejuensis KCTC 2396","Gammaproteobacteria"]
["ref|YP_473549.1|",86604786,"cellular organisms,Bacteria,Cyanobacteria,Chroococcales,Synechococcus,Synechococcus sp. JA-3-3Ab","Synechococcus sp. JA-3-3Ab","Chroococcales"]
["ref|YP_679391.1|",110639182,"cellular organisms,Bacteria,Bacteroidetes/Chlorobi group,Bacteroidetes,Cytophagia,Cytophagales,Cytophagaceae,Cytophaga,Cytophaga hutchinsonii,Cytophaga hutchinsonii ATCC 33406","Cytophaga hutchinsonii ATCC 33406","Bacteroidetes"]
["ref|YP_722159.1|",113476098,"cellular organisms,Bacteria,Cyanobacteria,Oscillatoriales,Trichodesmium,Trichodesmium erythraeum,Trichodesmium erythraeum IMS101","Trichodesmium erythraeum IMS101","Oscillatoriales"]
["ref|YP_754186.1|",114567032,"cellular organisms,Bacteria,Firmicutes,Clostridia,Clostridiales,Syntrophomonadaceae,Syntrophomonas,Syntrophomonas wolfei,Syntrophomonas wolfei subsp. wolfei,Syntrophomonas wolfei subsp. wolfei str. Goettingen","Syntrophomonas wolfei subsp. wolfei str. Goettingen","Clostridia"]
["ref|YP_844086.1|",116754968,"cellular organisms,Archaea,Euryarchaeota,Methanomicrobia,Methanosarcinales,Methanosaetaceae,Methanosaeta,Methanosaeta thermophila,Methanosaeta thermophila PT","Methanosaeta thermophila PT","Methanomicrobia"]
["ref|YP_915060.1|",119384004,"cellular organisms,Bacteria,Proteobacteria,Alphaproteobacteria,Rhodobacterales,Rhodobacteraceae,Paracoccus,Paracoccus denitrificans,Paracoccus denitrificans PD1222","Paracoccus denitrificans PD1222","Alphaproteobacteria"]
["ref|YP_944086.1|",119946406,"cellular organisms,Bacteria,Proteobacteria,Gammaproteobacteria,Alteromonadales,Psychromonadaceae,Psychromonas,Psychromonas ingrahamii,Psychromonas ingrahamii 37","Psychromonas ingrahamii 37","Gammaproteobacteria"]
["ref|YP_945412.1|",119953203,"cellular organisms,Bacteria,Spirochaetes,Spirochaetia,Spirochaetales,Spirochaetaceae,Borrelia,Borrelia turicatae,Borrelia turicatae 91E135","Borrelia turicatae 91E135","Spirochaetia"]
["ref|YP_987265.1|",121595369,"cellular organisms,Bacteria,Proteobacteria,Betaproteobacteria,Burkholderiales,Comamonadaceae,Acidovorax,Acidovorax sp. JS42","Acidovorax sp. JS42","Betaproteobacteria"]
["ref|ZP_00053932.1|",23014095,"cellular organisms,Bacteria,Proteobacteria,Alphaproteobacteria,Rhodospirillales,Rhodospirillaceae,Magnetospirillum,Magnetospirillum magnetotacticum,Magnetospirillum magnetotacticum MS-1","Magnetospirillum magnetotacticum MS-1","Alphaproteobacteria"]
["ref|ZP_01000851.1|",84502732,"cellular organisms,Bacteria,Proteobacteria,Alphaproteobacteria,Rhodobacterales,Rhodobacteraceae,Oceanicola,Oceanicola batsensis,Oceanicola batsensis HTCC2597","Oceanicola batsensis HTCC2597","Alphaproteobacteria"]
["ref|ZP_01055805.1|",86137227,"cellular organisms,Bacteria,Proteobacteria,Alphaproteobacteria,Rhodobacterales,Rhodobacteraceae,Roseobacter,Roseobacter sp. MED193","Roseobacter sp. MED193","Alphaproteobacteria"]
["ref|ZP_01127474.1|",88812223,"cellular organisms,Bacteria,Proteobacteria,Gammaproteobacteria,Chromatiales,Ectothiorhodospiraceae,Nitrococcus,Nitrococcus mobilis,Nitrococcus mobilis Nb-231","Nitrococcus mobilis Nb-231","Gammaproteobacteria"]
["ref|ZP_01155065.1|",89067611,"cellular organisms,Bacteria,Proteobacteria,Alphaproteobacteria,Rhodobacterales,Rhodobacteraceae,Oceanicola,Oceanicola granulosus,Oceanicola granulosus HTCC2516","Oceanicola granulosus HTCC2516","Alphaproteobacteria"]
["ref|ZP_01288853.1|",94265086,"cellular organisms,Bacteria,Proteobacteria,delta/epsilon subdivisions,Deltaproteobacteria,unclassified Deltaproteobacteria,unclassified Deltaproteobacteria (miscellaneous),delta proteobacterium MLMS-1","delta proteobacterium MLMS-1","delta-epsilon_subdivisions"]
["ref|ZP_01460654.1|",115373355,"cellular organisms,Bacteria,Proteobacteria,delta/epsilon subdivisions,Deltaproteobacteria,Myxococcales,Cystobacterineae,Cystobacteraceae,Stigmatella,Stigmatella aurantiaca,Stigmatella aurantiaca DW4/3-1","Stigmatella aurantiaca DW4/3-1","delta-epsilon_subdivisions"]
["ref|ZP_01694941.1|",124010288,"cellular organisms,Bacteria,Bacteroidetes/Chlorobi group,Bacteroidetes,Cytophagia,Cytophagales,Cytophagaceae,Microscilla,Microscilla marina,Microscilla marina ATCC 23134","Microscilla marina ATCC 23134","Bacteroidetes"]
["ref|ZP_01732190.1|",126661109,"cellular organisms,Bacteria,Cyanobacteria,Chroococcales,Cyanothece,Cyanothece sp. CCY0110","Cyanothece sp. CCY0110","Chroococcales"]
["ref|ZP_01873280.1|",149196225,"cellular organisms,Bacteria,Chlamydiae/Verrucomicrobia group,Lentisphaerae,Lentisphaerales,Lentisphaeraceae,Lentisphaera,Lentisphaera araneosa,Lentisphaera araneosa HTCC2155","Lentisphaera araneosa HTCC2155","Lentisphaerae"]
["ref|ZP_01983885.1|",153831218,"cellular organisms,Bacteria,Proteobacteria,Gammaproteobacteria,Vibrionales,Vibrionaceae,Vibrio,Vibrio cholerae,Vibrio cholerae 623-39","Vibrio cholerae 623-39","Gammaproteobacteria"]
["ref|ZP_02162487.1|",163755367,"cellular organisms,Bacteria,Bacteroidetes/Chlorobi group,Bacteroidetes,Flavobacteriia,Flavobacteriales,Flavobacteriaceae,Kordia,Kordia algicida,Kordia algicida OT-1","Kordia algicida OT-1","Bacteroidetes"]
["ref|ZP_02327458.1|",167462369,"cellular organisms,Bacteria,Firmicutes,Bacilli,Bacillales,Paenibacillaceae,Paenibacillus,Paenibacillus larvae,Paenibacillus larvae subsp. larvae,Paenibacillus larvae subsp. larvae BRL-230010","Paenibacillus larvae subsp. larvae BRL-230010","Bacilli"]
["ref|ZP_02364780.1|",167571906,"cellular organisms,Bacteria,Proteobacteria,Betaproteobacteria,Burkholderiales,Burkholderiaceae,Burkholderia,pseudomallei group,Burkholderia oklahomensis,Burkholderia oklahomensis C6786","Burkholderia oklahomensis C6786","Betaproteobacteria"]
["ref|ZP_02394996.1|",167636710,"cellular organisms,Bacteria,Firmicutes,Bacilli,Bacillales,Bacillaceae,Bacillus,Bacillus cereus group,Bacillus anthracis,Bacillus anthracis str. A0442","Bacillus anthracis str. A0442","Bacilli"]
["ref|ZP_02434306.1|",167762179,"cellular organisms,Bacteria,Bacteroidetes/Chlorobi group,Bacteroidetes,Bacteroidia,Bacteroidales,Bacteroidaceae,Bacteroides,Bacteroides stercoris,Bacteroides stercoris ATCC 43183","Bacteroides stercoris ATCC 43183","Bacteroidetes"]
["ref|ZP_02634597.1|",168208972,"cellular organisms,Bacteria,Firmicutes,Clostridia,Clostridiales,Clostridiaceae,Clostridium,Clostridium perfringens,Clostridium perfringens B,Clostridium perfringens B str. ATCC 3626","Clostridium perfringens B str. ATCC 3626","Clostridia"]
["ref|ZP_02641553.1|",168215928,"cellular organisms,Bacteria,Firmicutes,Clostridia,Clostridiales,Clostridiaceae,Clostridium,Clostridium perfringens,Clostridium perfringens NCTC 8239","Clostridium perfringens NCTC 8239","Clostridia"]
["ref|ZP_02907204.1|",171318033,"cellular organisms,Bacteria,Proteobacteria,Betaproteobacteria,Burkholderiales,Burkholderiaceae,Burkholderia,Burkholderia cepacia complex,Burkholderia ambifaria,Burkholderia ambifaria MEX-5","Burkholderia ambifaria MEX-5","Betaproteobacteria"]
["ref|ZP_02954504.1|",182626764,"cellular organisms,Bacteria,Firmicutes,Clostridia,Clostridiales,Clostridiaceae,Clostridium,Clostridium perfringens,Clostridium perfringens D,Clostridium perfringens D str. JGS1721","Clostridium perfringens D str. JGS1721","Clostridia"]
["ref|ZP_02995542.1|",187779069,"cellular organisms,Bacteria,Firmicutes,Clostridia,Clostridiales,Clostridiaceae,Clostridium,Clostridium sporogenes,Clostridium sporogenes ATCC 15579","Clostridium sporogenes ATCC 15579","Clostridia"]
["ref|ZP_03073724.1|",194467737,"cellular organisms,Bacteria,Firmicutes,Bacilli,Lactobacillales,Lactobacillaceae,Lactobacillus,Lactobacillus reuteri,Lactobacillus reuteri 100-23","Lactobacillus reuteri 100-23","Bacilli"]
["ref|ZP_03439675.1|",217034257,"cellular organisms,Bacteria,Proteobacteria,delta/epsilon subdivisions,Epsilonproteobacteria,Campylobacterales,Helicobacteraceae,Helicobacter,Helicobacter pylori,Helicobacter pylori 98-10","Helicobacter pylori 98-10","delta-epsilon_subdivisions"]
["ref|ZP_03488910.1|",218282703,"cellular organisms,Bacteria,Firmicutes,Erysipelotrichi,Erysipelotrichales,Erysipelotrichaceae,unclassified Erysipelotrichaceae,Eubacterium biforme,Eubacterium biforme DSM 3989","Eubacterium biforme DSM 3989","Erysipelotrichi"]
["ref|ZP_03805416.1|",226329898,"cellular organisms,Bacteria,Proteobacteria,Gammaproteobacteria,Enterobacteriales,Enterobacteriaceae,Proteus,Proteus penneri,Proteus penneri ATCC 35198","Proteus penneri ATCC 35198","Gammaproteobacteria"]
["ref|ZP_04130507.1|",228969730,"cellular organisms,Bacteria,Firmicutes,Bacilli,Bacillales,Bacillaceae,Bacillus,Bacillus cereus group,Bacillus thuringiensis,Bacillus thuringiensis serovar sotto,Bacillus thuringiensis serovar sotto str. T04001","Bacillus thuringiensis serovar sotto str. T04001","Bacilli"]
["ref|ZP_04455413.1|",229829344,"cellular organisms,Bacteria,Firmicutes,Clostridia,Clostridiales,Lachnospiraceae,Shuttleworthia,Shuttleworthia satelles,Shuttleworthia satelles DSM 14600","Shuttleworthia satelles DSM 14600","Clostridia"]
["ref|ZP_05057080.1|",254443604,"cellular organisms,Bacteria,Chlamydiae/Verrucomicrobia group,Verrucomicrobia,Verrucomicrobiae,Verrucomicrobiales,unclassified Verrucomicrobiales,unclassified Verrucomicrobiales (miscellaneous),Verrucomicrobiae bacterium DG1235","Verrucomicrobiae bacterium DG1235","Verrucomicrobia"]
["ref|ZP_05077741.1|",254464330,"cellular organisms,Bacteria,Proteobacteria,Alphaproteobacteria,Rhodobacterales,unclassified Rhodobacterales,Rhodobacterales bacterium Y4I","Rhodobacterales bacterium Y4I","Alphaproteobacteria"]
["ref|ZP_05248423.1|",254875713,"cellular organisms,Bacteria,Proteobacteria,Gammaproteobacteria,Thiotrichales,Francisellaceae,Francisella,Francisella philomiragia,Francisella philomiragia subsp. philomiragia ATCC 25015","Francisella philomiragia subsp. philomiragia ATCC 25015","Gammaproteobacteria"]
["ref|ZP_05404314.1|",255658905,"cellular organisms,Bacteria,Firmicutes,Negativicutes,Selenomonadales,Veillonellaceae,Mitsuokella,Mitsuokella multacida,Mitsuokella multacida DSM 20544","Mitsuokella multacida DSM 20544","Negativicutes"]
["ref|ZP_05562251.1|",256958080,"cellular organisms,Bacteria,Firmicutes,Bacilli,Lactobacillales,Enterococcaceae,Enterococcus,Enterococcus faecalis,Enterococcus faecalis DS5","Enterococcus faecalis DS5","Bacilli"]
["ref|ZP_05674354.1|",257894701,"cellular organisms,Bacteria,Firmicutes,Bacilli,Lactobacillales,Enterococcaceae,Enterococcus,Enterococcus faecium,Enterococcus faecium 1,231,408","NULL","Bacilli"]
["ref|ZP_05782185.1|",260428206,"cellular organisms,Bacteria,Proteobacteria,Alphaproteobacteria,Rhodobacterales,Rhodobacteraceae,Citreicella,Citreicella sp. SE45","Citreicella sp. SE45","Alphaproteobacteria"]
["ref|ZP_05913067.1|",260904745,"cellular organisms,Bacteria,Actinobacteria,Actinobacteria,Actinobacteridae,Actinomycetales,Micrococcineae,Brevibacteriaceae,Brevibacterium,Brevibacterium linens,Brevibacterium linens BL2","Brevibacterium linens BL2","Actinobacteria"]
["ref|ZP_06082839.1|",262406290,"cellular organisms,Bacteria,Bacteroidetes/Chlorobi group,Bacteroidetes,Bacteroidia,Bacteroidales,Bacteroidaceae,Bacteroides,Bacteroides sp. 2_1_22","Bacteroides sp. 2_1_22","Bacteroidetes"]
["ref|ZP_06125431.1|",268591210,"cellular organisms,Bacteria,Proteobacteria,Gammaproteobacteria,Enterobacteriales,Enterobacteriaceae,Providencia,Providencia rettgeri,Providencia rettgeri DSM 1131","Providencia rettgeri DSM 1131","Gammaproteobacteria"]
["ref|ZP_06144897.1|",268611170,"cellular organisms,Bacteria,Firmicutes,Clostridia,Clostridiales,Ruminococcaceae,Ruminococcus,Ruminococcus flavefaciens,Ruminococcus flavefaciens FD-1","Ruminococcus flavefaciens FD-1","Clostridia"]
["ref|ZP_06185792.1|",270157135,"cellular organisms,Bacteria,Proteobacteria,Gammaproteobacteria,Legionellales,Legionellaceae,Legionella,Legionella longbeachae,Legionella longbeachae D-4968","Legionella longbeachae D-4968","Gammaproteobacteria"]
["ref|ZP_06247995.1|",281416975,"cellular organisms,Bacteria,Firmicutes,Clostridia,Clostridiales,Clostridiaceae,Clostridium,Clostridium thermocellum,Clostridium thermocellum JW20","Clostridium thermocellum JW20","Clostridia"]
["ref|ZP_06574086.1|",291326831,"cellular organisms,Bacteria,Proteobacteria,Gammaproteobacteria,Enterobacteriales,Enterobacteriaceae,Providencia,Providencia rettgeri,Providencia rettgeri DSM 1131","Providencia rettgeri DSM 1131","Gammaproteobacteria"]
["ref|ZP_06688134.1|",293605759,"cellular organisms,Bacteria,Proteobacteria,Betaproteobacteria,Burkholderiales,Alcaligenaceae,Achromobacter,Achromobacter piechaudii,Achromobacter piechaudii ATCC 43553","Achromobacter piechaudii ATCC 43553","Betaproteobacteria"]
["ref|ZP_06850328.1|",296168512,"cellular organisms,Bacteria,Actinobacteria,Actinobacteria,Actinobacteridae,Actinomycetales,Corynebacterineae,Mycobacteriaceae,Mycobacterium,Mycobacterium parascrofulaceum,Mycobacterium parascrofulaceum ATCC BAA-614","Mycobacterium parascrofulaceum ATCC BAA-614","Actinobacteria"]
["ref|ZP_06864355.1|",296314414,"cellular organisms,Bacteria,Proteobacteria,Betaproteobacteria,Neisseriales,Neisseriaceae,Neisseria,Neisseria polysaccharea,Neisseria polysaccharea ATCC 43768","Neisseria polysaccharea ATCC 43768","Betaproteobacteria"]
["ref|ZP_06887563.1|",296445608,"cellular organisms,Bacteria,Proteobacteria,Alphaproteobacteria,Rhizobiales,Methylocystaceae,Methylosinus,Methylosinus trichosporium,Methylosinus trichosporium OB3b","Methylosinus trichosporium OB3b","Alphaproteobacteria"]
["ref|ZP_07205208.1|",301064837,"cellular organisms,Bacteria,Proteobacteria,delta/epsilon subdivisions,Deltaproteobacteria,unclassified Deltaproteobacteria,unclassified Deltaproteobacteria (miscellaneous),delta proteobacterium NaphS2","delta proteobacterium NaphS2","delta-epsilon_subdivisions"]
["ref|ZP_07457000.1|",306823625,"cellular organisms,Bacteria,Actinobacteria,Actinobacteria,Actinobacteridae,Bifidobacteriales,Bifidobacteriaceae,Bifidobacterium,Bifidobacterium dentium,Bifidobacterium dentium ATCC 27679","Bifidobacterium dentium ATCC 27679","Actinobacteria"]
["ref|ZP_07965252.1|",317507530,"cellular organisms,Bacteria,Actinobacteria,Actinobacteria,Actinobacteridae,Actinomycetales,Corynebacterineae,Segniliparaceae,Segniliparus,Segniliparus rugosus,Segniliparus rugosus ATCC BAA-974","Segniliparus rugosus ATCC BAA-974","Actinobacteria"]
["ref|ZP_08026196.1|",320094413,"cellular organisms,Bacteria,Actinobacteria,Actinobacteria,Actinobacteridae,Actinomycetales,Actinomycineae,Actinomycetaceae,Actinomyces,Actinomyces sp. oral taxon 178,Actinomyces sp. oral taxon 178 str. F0338","Actinomyces sp. oral taxon 178 str. F0338","Actinobacteria"]
["ref|ZP_08053947.1|",322379610,"cellular organisms,Bacteria,Proteobacteria,delta/epsilon subdivisions,Epsilonproteobacteria,Campylobacterales,Helicobacteraceae,Helicobacter,Helicobacter suis,Helicobacter suis HS1","Helicobacter suis HS1","delta-epsilon_subdivisions"]
["ref|ZP_08130721.1|",325263988,"cellular organisms,Bacteria,Firmicutes,Clostridia,Clostridiales,Clostridiaceae,Clostridium,Clostridium sp. D5","Clostridium sp. D5","Clostridia"]
["ref|ZP_08265262.1|",329850417,"cellular organisms,Bacteria,Proteobacteria,Alphaproteobacteria,Caulobacterales,Caulobacteraceae,Asticcacaulis,Asticcacaulis biprosthecium,Asticcacaulis biprosthecum C19","Asticcacaulis biprosthecum C19","Alphaproteobacteria"]
["ref|ZP_08309169.1|",330445517,"cellular organisms,Bacteria,Proteobacteria,Gammaproteobacteria,Vibrionales,Vibrionaceae,Photobacterium,Photobacterium leiognathi,Photobacterium leiognathi subsp. mandapamensis,Photobacterium leiognathi subsp. mandapamensis svers.1.1.","Photobacterium leiognathi subsp. mandapamensis svers.1.1.","Gammaproteobacteria"]
["ref|ZP_08492457.1|",334118368,"cellular organisms,Bacteria,Cyanobacteria,Oscillatoriales,Microcoleus,Microcoleus vaginatus,Microcoleus vaginatus FGP-2","Microcoleus vaginatus FGP-2","Oscillatoriales"]
["ref|ZP_08622988.1|",338810748,"cellular organisms,Bacteria,Firmicutes,Negativicutes,Selenomonadales,Veillonellaceae,Acetonema,Acetonema longum,Acetonema longum DSM 6540","Acetonema longum DSM 6540","Negativicutes"]
["ref|ZP_08624938.1|",338812781,"cellular organisms,Bacteria,Firmicutes,Negativicutes,Selenomonadales,Veillonellaceae,Acetonema,Acetonema longum,Acetonema longum DSM 6540","Acetonema longum DSM 6540","Negativicutes"]
["ref|ZP_08650857.1|",339301771,"cellular organisms,Bacteria,Firmicutes,Bacilli,Lactobacillales,Streptococcaceae,Streptococcus,Streptococcus agalactiae,Streptococcus agalactiae ATCC 13813","Streptococcus agalactiae ATCC 13813","Bacilli"]
["ref|ZP_08686504.1|",340749651,"cellular organisms,Bacteria,Fusobacteria,Fusobacteriia,Fusobacteriales,Fusobacteriaceae,Fusobacterium,Fusobacterium mortiferum,Fusobacterium mortiferum ATCC 9817","Fusobacterium mortiferum ATCC 9817","Fusobacteriia"]
["ref|ZP_08819954.1|",345867957,"cellular organisms,Bacteria,Bacteroidetes/Chlorobi group,Bacteroidetes,Flavobacteriia,Flavobacteriales,Flavobacteriaceae,Bizionia,Bizionia argentinensis,Bizionia argentinensis JUB59","Bizionia argentinensis JUB59","Bacteroidetes"]
["ref|ZP_09030931.1|",354612995,"cellular organisms,Bacteria,Actinobacteria,Actinobacteria,Actinobacteridae,Actinomycetales,Pseudonocardineae,Pseudonocardiaceae,Saccharomonospora,Saccharomonospora paurometabolica,Saccharomonospora paurometabolica YIM 90007","Saccharomonospora paurometabolica YIM 90007","Actinobacteria"]
["ref|ZP_09048726.1|",355626451,"cellular organisms,Bacteria,Firmicutes,Clostridia,Clostridiales,Clostridiaceae,Clostridium,Clostridium sp. 7_3_54FAA","Clostridium sp. 7_3_54FAA","Clostridia"]
["ref|ZP_09092199.1|",357030238,"cellular organisms,Bacteria,Proteobacteria,Alphaproteobacteria,Rhizobiales,Phyllobacteriaceae,Mesorhizobium,Mesorhizobium amorphae,Mesorhizobium amorphae CCNWGS0123","Mesorhizobium amorphae CCNWGS0123","Alphaproteobacteria"]
["ref|ZP_09148086.1|",358061432,"cellular organisms,Bacteria,Firmicutes,Clostridia,Clostridiales,Clostridiaceae,Clostridium,Clostridium hathewayi,Clostridium hathewayi WAL-18680","Clostridium hathewayi WAL-18680","Clostridia"]
["ref|ZP_09188735.1|",359395683,"cellular organisms,Bacteria,Proteobacteria,Gammaproteobacteria,Oceanospirillales,Halomonadaceae,Halomonas,Halomonas boliviensis,Halomonas boliviensis LC1","Halomonas boliviensis LC1","Gammaproteobacteria"]
["ref|ZP_09195774.1|",359402867,"cellular organisms,Bacteria,Tenericutes,Mollicutes,Entomoplasmatales,Spiroplasmataceae,Spiroplasma,Spiroplasma melliferum,Spiroplasma melliferum KC3","Spiroplasma melliferum KC3","Mollicutes"]
["ref|ZP_09201020.1|",359408551,"cellular organisms,Bacteria,Proteobacteria,Alphaproteobacteria,unclassified Alphaproteobacteria,SAR116 cluster,unclassified SAR116 cluster,SAR116 cluster alpha proteobacterium HIMB100","SAR116 cluster alpha proteobacterium HIMB100","Alphaproteobacteria"]
["ref|ZP_09235518.1|",359445803,"cellular organisms,Bacteria,Proteobacteria,Gammaproteobacteria,Alteromonadales,Pseudoalteromonadaceae,Pseudoalteromonas,Pseudoalteromonas sp. BSi20439","Pseudoalteromonas sp. BSi20439","Gammaproteobacteria"]
["ref|ZP_09338432.1|",365121512,"cellular organisms,Bacteria,Bacteroidetes/Chlorobi group,Bacteroidetes,Bacteroidia,Bacteroidales,Porphyromonadaceae,Tannerella,Tannerella sp. 6_1_58FAA_CT1","Tannerella sp. 6_1_58FAA_CT1","Bacteroidetes"]
["ref|ZP_09446519.1|",365922290,"cellular organisms,Bacteria,Proteobacteria,Gammaproteobacteria,Cardiobacteriales,Cardiobacteriaceae,Cardiobacterium,Cardiobacterium valvarum,Cardiobacterium valvarum F0432","Cardiobacterium valvarum F0432","Gammaproteobacteria"]
["ref|ZP_09561647.1|",373470517,"cellular organisms,Bacteria,Firmicutes,Clostridia,Clostridiales,Lachnospiraceae,unclassified Lachnospiraceae,Lachnospiraceae bacterium oral taxon 082,Lachnospiraceae bacterium oral taxon 082 str. F0431","Lachnospiraceae bacterium oral taxon 082 str. F0431","Clostridia"]
["ref|ZP_09623886.1|",374365799,"cellular organisms,Bacteria,Proteobacteria,Betaproteobacteria,Burkholderiales,Burkholderiaceae,Cupriavidus,Cupriavidus basilensis,Cupriavidus basilensis OR16","Cupriavidus basilensis OR16","Betaproteobacteria"]
["ref|ZP_09631698.1|",374374039,"cellular organisms,Bacteria,Bacteroidetes/Chlorobi group,Bacteroidetes,Sphingobacteriia,Sphingobacteriales,Chitinophagaceae,Niabella,Niabella soli,Niabella soli DSM 19437","Niabella soli DSM 19437","Bacteroidetes"]
["ref|ZP_09779921.1|",376002072,"cellular organisms,Bacteria,Cyanobacteria,Oscillatoriales,Arthrospira,Arthrospira sp. PCC 8005","Arthrospira sp. PCC 8005","Oscillatoriales"]
["ref|ZP_09849798.1|",379059272,"cellular organisms,Bacteria,Actinobacteria,Actinobacteria,Actinobacteridae,Actinomycetales,Micrococcineae,Intrasporangiaceae,Serinicoccus,Serinicoccus profundi,Serinicoccus profundi MCCC 1A05965","Serinicoccus profundi MCCC 1A05965","Actinobacteria"]
["ref|ZP_09858297.1|",380693438,"cellular organisms,Bacteria,Bacteroidetes/Chlorobi group,Bacteroidetes,Bacteroidia,Bacteroidales,Bacteroidaceae,Bacteroides,Bacteroides faecis,Bacteroides faecis MAJ27","Bacteroides faecis MAJ27","Bacteroidetes"]
["ref|ZP_09925408.1|",381400443,"cellular organisms,Bacteria,Proteobacteria,Betaproteobacteria,Neisseriales,Neisseriaceae,Kingella,Kingella kingae,Kingella kingae PYKK081","Kingella kingae PYKK081","Betaproteobacteria"]
["ref|ZP_09969255.1|",383813831,"cellular organisms,Bacteria,Proteobacteria,Gammaproteobacteria,Enterobacteriales,Enterobacteriaceae,Serratia,Serratia sp. M24T3","Serratia sp. M24T3","Gammaproteobacteria"]
["ref|ZP_09993243.1|",384082068,"cellular organisms,Bacteria,Proteobacteria,Gammaproteobacteria,unclassified Gammaproteobacteria,unclassified Gammaproteobacteria (miscellaneous),gamma proteobacterium HIMB30","gamma proteobacterium HIMB30","Gammaproteobacteria"]
["ref|ZP_10139645.1|",388457350,"cellular organisms,Bacteria,Proteobacteria,Gammaproteobacteria,Legionellales,Legionellaceae,Fluoribacter,Fluoribacter dumoffii,Fluoribacter dumoffii Tex-KL","Fluoribacter dumoffii Tex-KL","Gammaproteobacteria"]
["ref|ZP_10258512.1|",390630531,"cellular organisms,Bacteria,Firmicutes,Bacilli,Lactobacillales,Leuconostocaceae,Weissella,Weissella confusa,Weissella confusa LBAE C39-2","Weissella confusa LBAE C39-2","Bacilli"]
["ref|ZP_10459341.1|",395778830,"cellular organisms,Bacteria,Proteobacteria,Alphaproteobacteria,Rhizobiales,Bartonellaceae,Bartonella,Bartonella elizabethae,Bartonella elizabethae Re6043vi","Bartonella elizabethae Re6043vi","Alphaproteobacteria"]
["ref|ZP_10524596.1|",398339893,"cellular organisms,Bacteria,Spirochaetes,Spirochaetia,Spirochaetales,Leptospiraceae,Leptospira,Leptospira kirschneri,Leptospira kirschneri serovar Bim,Leptospira kirschneri serovar Bim str. 1051","Leptospira kirschneri serovar Bim str. 1051","Spirochaetia"]
["ref|ZP_10729783.1|",399028596,"cellular organisms,Bacteria,Bacteroidetes/Chlorobi group,Bacteroidetes,Flavobacteriia,Flavobacteriales,Flavobacteriaceae,Flavobacterium,Flavobacterium sp. CF136","Flavobacterium sp. CF136","Bacteroidetes"]
["ref|ZP_10753959.1|",399090197,"cellular organisms,Bacteria,Proteobacteria,Alphaproteobacteria,Caulobacterales,Caulobacteraceae,Caulobacter,Caulobacter sp. AP07","Caulobacter sp. AP07","Alphaproteobacteria"]

{"sheet":"best_hits","index":4,"n_rows":632,"n_cols":26,"rows_kept":632,"cut":false,"hidden":false,"merged":[]}
["Best Refseq hits of OLPV and P.globosa viruses: phyletic distribution",{"$nulls":8},"total proteins having Refseq hits  (eval cutoff 0.1)->",413,392,316]
[null,null,null,"PGV","OLPV1","OLPV2","sum",null,null,null,"PGV","OLPV1","OLPV2","sum"]
["Metazoa",{"$f":"VLOOKUP(A3,[1]Sheet6!$A:$D,4,FALSE)","v":"Opisthokonta"},{"$f":"VLOOKUP(A3,[1]Sheet6!$A:$D,3,FALSE)","v":"Eukaryota"},66,53,42,161,null,"Cafeteria roenbergensis virus BV-PW1","unclassified_dsDNA_viruses (CroV)",24,21,16,61,null,"who are they?"]
["Gammaproteobacteria",{"$f":"VLOOKUP(A4,[1]Sheet6!$A:$D,4,FALSE)","v":"Proteobacteria"},{"$f":"VLOOKUP(A4,[1]Sheet6!$A:$D,3,FALSE)","v":"Bacteria"},21,40,23,84,null,"Acanthamoeba polyphaga mimivirus","Mimiviridae",7,11,12,30]
["Fungi",{"$f":"VLOOKUP(A5,[1]Sheet6!$A:$D,4,FALSE)","v":"Opisthokonta"},{"$f":"VLOOKUP(A5,[1]Sheet6!$A:$D,3,FALSE)","v":"Eukaryota"},31,24,24,79,null,"Megavirus chiliensis","Mimiviridae",12,8,10,30,null,"What proteins do have best hits to MIMI- or Phycodnaviridae?"]
["unclassified_dsDNA_viruses (CroV)","NCLDV","dsDNA viruses",24,21,16,61,null,"Micromonas sp. RCC1109 virus MpV1","Phycodnaviridae",6,3,4,13]
["Mimiviridae","NCLDV",{"$f":"VLOOKUP(A7,[1]Sheet6!$A:$D,3,FALSE)","v":"dsDNA viruses"},19,19,22,60,null,"Ostreococcus lucimarinus virus OlV1","Phycodnaviridae",5,4,3,12,null,"Mimiviridae",null,"CroV",null,"Phycodnaviridae",{"$nulls":4},"Metazoa"]
["Phycodnaviridae","NCLDV",{"$f":"VLOOKUP(A8,[1]Sheet6!$A:$D,3,FALSE)","v":"dsDNA viruses"},33,22,24,79,null,"Ostreococcus tauri virus 2","Phycodnaviridae",5,1,4,10,null,"d5 ntpase involved in dna replication",null,"5' 3' exonuclease",null,"Fe II oxygenase ",{"$nulls":4},"Phaglob357289535","z band alternatively spliced pdz motif 52 isoform c "]
["Bacilli",{"$f":"VLOOKUP(A9,[1]Sheet6!$A:$D,4,FALSE)","v":"Firmicutes"},{"$f":"VLOOKUP(A9,[1]Sheet6!$A:$D,3,FALSE)","v":"Bacteria"},19,24,20,63,null,"Dictyostelium purpureum","Mycetozoa",4,3,2,9,null,"dna directed rna polymerase ii",null,"asparagine synthetase ",null,"amidohydrolase ",{"$nulls":4},"Phaglob357289540","group 1 glycosyl transferase "]
["Bacteroidetes",{"$f":"VLOOKUP(A10,[1]Sheet6!$A:$D,4,FALSE)","v":"Bacteroidetes/Chlorobi group"},{"$f":"VLOOKUP(A10,[1]Sheet6!$A:$D,3,FALSE)","v":"Bacteria"},20,21,22,63,null,"Branchiostoma floridae","Metazoa",3,5,null,8,null,"dna ligase ",null,"carboxyl terminal protease ",null,"dna cytosine specific methyltransferase",{"$nulls":4},"Phaglob357289548","zinc finger involved transcriptional activator "]
["Clostridia",{"$f":"VLOOKUP(A11,[1]Sheet6!$A:$D,4,FALSE)","v":"Firmicutes"},{"$f":"VLOOKUP(A11,[1]Sheet6!$A:$D,3,FALSE)","v":"Bacteria"},19,18,17,54,null,"Bathycoccus sp. RCC1105 virus BpV1","Phycodnaviridae",2,5,1,8,null,"dna rna helicase",null,"d6 d11 helicase (no close hom in Phycodna)",null,"exonuclease",{"$nulls":4},"Phaglob357289552","integral membrane "]
["Alphaproteobacteria",{"$f":"VLOOKUP(A12,[1]Sheet6!$A:$D,4,FALSE)","v":"Proteobacteria"},{"$f":"VLOOKUP(A12,[1]Sheet6!$A:$D,3,FALSE)","v":"Bacteria"},18,20,11,49,null,"Nematostella vectensis","Metazoa",3,1,4,8,null,"lambda type exonuclease",null,"dead deah box helicase",null,"had superfamily hydrolase ",{"$nulls":4},"Phaglob357289576","auxin transport big "]
["Streptophyta",{"$f":"VLOOKUP(A13,[1]Sheet6!$A:$D,4,FALSE)","v":"Viridiplantae"},{"$f":"VLOOKUP(A13,[1]Sheet6!$A:$D,3,FALSE)","v":"Eukaryota"},18,8,7,33,null,"Ostreococcus tauri virus 1","Phycodnaviridae",2,2,4,8,null,"metallophosphoesterase ",null,"disulfide oxidoreductase",null,"ntpase helicase  (no close hom in Mimivirus)",{"$nulls":4},"Phaglob357289582","zinc finger 202 "]
["delta-epsilon_subdivisions",{"$f":"VLOOKUP(A14,[1]Sheet6!$A:$D,4,FALSE)","v":"Proteobacteria"},{"$f":"VLOOKUP(A14,[1]Sheet6!$A:$D,3,FALSE)","v":"Bacteria"},12,13,7,32,null,"Saccoglossus kowalevskii","Metazoa",3,1,4,8,null,"major capsid protein",null,"dna adenine methylase ",null,"proliferating cell nuclear antigen",{"$nulls":4},"Phaglob357289590",0]
["Actinobacteria",{"$f":"VLOOKUP(A15,[1]Sheet6!$A:$D,4,FALSE)","v":"Actinobacteria"},{"$f":"VLOOKUP(A15,[1]Sheet6!$A:$D,3,FALSE)","v":"Bacteria"},13,10,5,28,null,"Tetrahymena thermophila","Ciliophora",3,3,2,8,null,"methyltransferase ",null,"dna polymerase B",null,"tata box binding protein",{"$nulls":4},"Phaglob357289599","kinase "]
["Apicomplexa",{"$f":"VLOOKUP(A16,[1]Sheet6!$A:$D,4,FALSE)","v":"Alveolata"},{"$f":"VLOOKUP(A16,[1]Sheet6!$A:$D,3,FALSE)","v":"Eukaryota"},9,7,10,26,null,"Phytophthora infestans T30-4","Oomycetes",3,3,1,7,null,"mrna capping enzyme (no close hom in Phycodna)  ",null,"dna polymerase delta catalytic subunit",null,"vv a32 virion packaging atpase",{"$nulls":4},"Phaglob357289605","glutamine gamma glutamyltransferase "]
["Betaproteobacteria",{"$f":"VLOOKUP(A17,[1]Sheet6!$A:$D,4,FALSE)","v":"Proteobacteria"},{"$f":"VLOOKUP(A17,[1]Sheet6!$A:$D,3,FALSE)","v":"Bacteria"},8,13,5,26,null,"Strongylocentrotus purpuratus","Metazoa",3,2,2,7,null,"ntpase ",null,"dna polymerase I (CroV and bacteria, no OLPVs)",{"$nulls":6},"Phaglob357289611","1 phosphatidylinositol 4 5 bisphosphate phosphodiesterase delta "]
["Chlorophyta",{"$f":"VLOOKUP(A18,[1]Sheet6!$A:$D,4,FALSE)","v":"Viridiplantae"},{"$f":"VLOOKUP(A18,[1]Sheet6!$A:$D,3,FALSE)","v":"Eukaryota"},12,6,5,23,null,"Naegleria gruberi strain NEG-M","Schizopyrenida",2,4,null,6,null,"nudix hydrolase ",null,"dna polymerase III subunit beta ",null,"Phaglob357289538","paired mesoderm homeobox 1b ",null,null,null,"Phaglob357289615","transcriptional repressor ctcfl isoform 2 "]
["Caudovirales","bacteriophages",{"$f":"VLOOKUP(A19,[1]Sheet6!$A:$D,3,FALSE)","v":"dsDNA viruses"},4,5,4,13,null,"Phaeodactylum tricornutum CCAP 1055/1","Bacillariophyta",4,2,null,6,null,"patatin phospholipase ",null,"eco57i restriction endonuclease ",null,"Phaglob357289539","osv5_080f ",null,null,null,"Phaglob357289616","polynucleotide kinase 3' phosphatase "]
["Ciliophora",{"$f":"VLOOKUP(A20,[1]Sheet6!$A:$D,4,FALSE)","v":"Alveolata"},{"$f":"VLOOKUP(A20,[1]Sheet6!$A:$D,3,FALSE)","v":"Eukaryota"},3,5,4,12,null,"Toxoplasma gondii ME49","Apicomplexa",null,2,4,6,null,"poly a polymerase catalytic subunit ",null,"eukaryotic translation initiation factor 4e type 3",null,"Phaglob357289555","osv5_138r ",null,null,null,"Phaglob357289617","shew185_1696 "]
["Mycetozoa",{"$f":"VLOOKUP(A21,[1]Sheet6!$A:$D,4,FALSE)","v":"Amoebozoa"},{"$f":"VLOOKUP(A21,[1]Sheet6!$A:$D,3,FALSE)","v":"Eukaryota"},5,4,3,12,null,"Ostreococcus virus OsV5","Phycodnaviridae",2,1,3,6,null,"ribonuclease III",null,"helicase",null,"Phaglob357289559",0,null,null,null,"Phaglob357289618","sarcolemmal membrane isoform 1 "]
["Chroococcales",{"$f":"VLOOKUP(A22,[1]Sheet6!$A:$D,4,FALSE)","v":"Cyanobacteria"},{"$f":"VLOOKUP(A22,[1]Sheet6!$A:$D,3,FALSE)","v":"Bacteria"},2,6,3,11,null,"Populus trichocarpa","Streptophyta",3,2,1,6,null,"superfamily ii helicase VV D11",null,"kinase (no close hom in Phycodna)  ",null,"Phaglob357289563","ny2a_b543l ",null,null,null,"Phaglob357289620","pmi18_06083 "]
["Spirochaetia",{"$f":"VLOOKUP(A23,[1]Sheet6!$A:$D,4,FALSE)","v":"Spirochaetes"},{"$f":"VLOOKUP(A23,[1]Sheet6!$A:$D,3,FALSE)","v":"Bacteria"},3,5,3,11,null,"Chlamydomonas reinhardtii","Chlorophyta",3,null,2,5,null,"transcription initiation factor IIB ",null,"lambda type exonuclease ",null,"Phaglob357289564","tepre1_0238 ",null,null,null,"Phaglob357289621","gmp reductase 2 isoform 1 "]
["Bacillariophyta",{"$f":"VLOOKUP(A24,[1]Sheet6!$A:$D,4,FALSE)","v":"stramenopiles"},{"$f":"VLOOKUP(A24,[1]Sheet6!$A:$D,3,FALSE)","v":"Eukaryota"},6,3,null,9,null,"Gibberella zeae PH-1","Fungi",3,1,1,5,null,null,null,"lon protease",null,"Phaglob357289579","haemagluttinin motif hep_hag iss ",null,null,null,"Phaglob357289626","atp dependent protease binding subunit clpb "]
["Kinetoplastida",{"$f":"VLOOKUP(A25,[1]Sheet6!$A:$D,4,FALSE)","v":"Euglenozoa"},{"$f":"VLOOKUP(A25,[1]Sheet6!$A:$D,3,FALSE)","v":"Eukaryota"},3,2,3,8,null,"Oryctolagus cuniculus","Metazoa",3,1,1,5,null,"Phaglob357289587","otv1_135 ","major capsid protein",null,"Phaglob357289583","zinc finger dna binding ",null,null,null,"Phaglob357289640","transmembrane channel 2 "]
["Oomycetes",{"$f":"VLOOKUP(A26,[1]Sheet6!$A:$D,4,FALSE)","v":"stramenopiles"},{"$f":"VLOOKUP(A26,[1]Sheet6!$A:$D,3,FALSE)","v":"Eukaryota"},3,3,1,7,null,"Ostreococcus tauri","Chlorophyta",1,3,1,5,null,"Phaglob357289604","histidine kinase response regulator ","metallopeptidase wlm",null,"Phaglob357289589","hyalin ",null,null,null,"Phaglob357289642","e3 ubiquitin ligase rfwd2 isoform 1 "]
["Oscillatoriales",{"$f":"VLOOKUP(A27,[1]Sheet6!$A:$D,4,FALSE)","v":"Cyanobacteria"},{"$f":"VLOOKUP(A27,[1]Sheet6!$A:$D,3,FALSE)","v":"Bacteria"},3,3,1,7,null,"Bombus impatiens","Metazoa",null,4,null,4,null,"Phaglob357289610","metallophosphoesterase (poly(A) polymerase catalytic subunit; present in Moumou, Mega, African swine fever virus)","FtsJ methyltransferase",null,"Phaglob357289595","fr483_n624l ",null,null,null,"Phaglob357289649","beta 1 4 galactosyltransferase "]
["Thermoprotei",{"$f":"VLOOKUP(A28,[1]Sheet6!$A:$D,4,FALSE)","v":"Crenarchaeota"},{"$f":"VLOOKUP(A28,[1]Sheet6!$A:$D,3,FALSE)","v":"Archaea"},1,2,4,7,null,"Acanthocystis turfacea Chlorella virus 1","Phycodnaviridae",3,null,1,4,null,"Phaglob357289612","atcv1_z280l ","nudix hydrolase",null,"Phaglob357289600","vv a32 virion packaging atpase (mimiv - yes)",null,null,null,"Phaglob357289665","uncharacterized c1orf50 "]
["Schizopyrenida",{"$f":"VLOOKUP(A29,[1]Sheet6!$A:$D,4,FALSE)","v":"Heterolobosea"},{"$f":"VLOOKUP(A29,[1]Sheet6!$A:$D,3,FALSE)","v":"Eukaryota"},2,4,null,6,null,"Caenorhabditis remanei","Metazoa",3,1,null,4,null,"Phaglob357289637",0,"ribonuclease III",null,"Phaglob357289601","vv a32 virion packaging atpase ",null,null,null,"Phaglob357289668","cre_13804 "]
["Negativicutes",{"$f":"VLOOKUP(A30,[1]Sheet6!$A:$D,4,FALSE)","v":"Firmicutes"},{"$f":"VLOOKUP(A30,[1]Sheet6!$A:$D,3,FALSE)","v":"Bacteria"},4,1,1,6,null,"Nasonia vitripennis","Metazoa",null,2,2,4,null,"Phaglob357289650","transcription initiation factor iib ","tata box binding ",null,"Phaglob357289613","bpv1_044c ",null,null,null,"Phaglob357289669",0]
["unclassified_dsDNA_viruses (Marseil)","NCLDV","dsDNA viruses",2,1,2,5,null,"Paramecium tetraurelia strain d4-2","Ciliophora",null,2,2,4,null,"Phaglob357289654","patatin phospholipase ","type II dna methyltransferase ",null,"Phaglob357289614",0,null,null,null,"Phaglob357289675","zinc finger 729 "]
["Erysipelotrichi",{"$f":"VLOOKUP(A32,[1]Sheet6!$A:$D,4,FALSE)","v":"Firmicutes"},{"$f":"VLOOKUP(A32,[1]Sheet6!$A:$D,3,FALSE)","v":"Bacteria"},1,3,1,5,null,"Schizophyllum commune H4-8","Fungi",null,3,1,4,null,"Phaglob357289670","osv5_242f ","ubiquitin conjugating enzyme e2",null,"Phaglob357289629","ny2a_b261l ",null,null,null,"Phaglob357289685",0]
["Methanomicrobia",{"$f":"VLOOKUP(A33,[1]Sheet6!$A:$D,4,FALSE)","v":"Euryarchaeota"},{"$f":"VLOOKUP(A33,[1]Sheet6!$A:$D,3,FALSE)","v":"Archaea"},2,1,2,5,null,"Trichomonas vaginalis G3","Trichomonadida",1,3,null,4,null,"Phaglob357289682","ntpase ","vv a18 helicase",null,"Phaglob357289632","otv2_120 ",null,null,null,"Phaglob357289691","hmpref6123_0036 "]
["Verrucomicrobia",{"$f":"VLOOKUP(A34,[1]Sheet6!$A:$D,4,FALSE)","v":"Chlamydiae/Verrucomicrobia group"},{"$f":"VLOOKUP(A34,[1]Sheet6!$A:$D,3,FALSE)","v":"Bacteria"},2,1,2,5,null,"Caenorhabditis briggsae","Metazoa",1,2,1,4,null,"Phaglob357289693","A2-like TF",null,null,"Phaglob357289635","2og fe ii oxygenase ",null,null,null,"Phaglob357289694","cre_16351 "]
["Fusobacteriia",{"$f":"VLOOKUP(A35,[1]Sheet6!$A:$D,4,FALSE)","v":"Fusobacteria"},{"$f":"VLOOKUP(A35,[1]Sheet6!$A:$D,3,FALSE)","v":"Bacteria"},2,2,null,4,null,"Candida albicans SC5314","Fungi",1,2,1,4,null,"Phaglob357289705","proton coupled amino acid transporter 3 ","Phaglob357289551","5' 3' exonuclease ","Phaglob357289639","olv1_191 ",null,null,null,"Phaglob357289697","cobalamin biosynthesis "]
["Trichomonadida",{"$f":"VLOOKUP(A36,[1]Sheet6!$A:$D,4,FALSE)","v":"Parabasalia"},{"$f":"VLOOKUP(A36,[1]Sheet6!$A:$D,3,FALSE)","v":"Eukaryota"},1,3,null,4,null,"Loxodonta africana","Metazoa",2,1,1,4,null,"Phaglob357289735","d5 ntpase involved dna replication ","Phaglob357289554","dna binding ","Phaglob357289676","thimadraft_3897 ",null,null,null,"Phaglob357289698","e3 ubiquitin ligase rnf168 isoform 1 "]
["Archamoebae",{"$f":"VLOOKUP(A37,[1]Sheet6!$A:$D,4,FALSE)","v":"Amoebozoa"},{"$f":"VLOOKUP(A37,[1]Sheet6!$A:$D,3,FALSE)","v":"Eukaryota"},1,1,2,4,null,"Megachile rotundata","Metazoa",1,2,1,4,null,"Phaglob357289771","mrna capping enzyme (no close hom in Phycodna)  ","Phaglob357289557",0,"Phaglob357289716","acrb acrd acrf transporter ",null,null,null,"Phaglob357289706","caspase recruitment 11 "]
["Perkinsea",{"$f":"VLOOKUP(A38,[1]Sheet6!$A:$D,4,FALSE)","v":"Alveolata"},{"$f":"VLOOKUP(A38,[1]Sheet6!$A:$D,3,FALSE)","v":"Eukaryota"},1,1,2,4,null,"Micromonas sp. RCC299","Chlorophyta",2,1,1,4,null,"Phaglob357289773","bdi_1511 ","Phaglob357289569","dna replication repair recf ","Phaglob357289718",0,null,null,null,"Phaglob357289720","dna methyltransferase "]
["Chlorobi",{"$f":"VLOOKUP(A39,[1]Sheet6!$A:$D,4,FALSE)","v":"Bacteroidetes/Chlorobi group"},{"$f":"VLOOKUP(A39,[1]Sheet6!$A:$D,3,FALSE)","v":"Bacteria"},1,null,2,3,null,"Paramecium bursaria Chlorella virus AR158","Phycodnaviridae",1,1,2,4,null,"Phaglob357289774","dna directed rna polymerase ii subunit rpb7 ","Phaglob357289585","tata box binding ","Phaglob357289731","olv1_030c ",null,null,null,"Phaglob357289730","uncharacterized loc100888756 "]
["Halobacteria",{"$f":"VLOOKUP(A40,[1]Sheet6!$A:$D,4,FALSE)","v":"Euryarchaeota"},{"$f":"VLOOKUP(A40,[1]Sheet6!$A:$D,3,FALSE)","v":"Archaea"},2,1,null,3,null,"Paramecium bursaria Chlorella virus FR483","Phycodnaviridae",2,1,1,4,null,"Phaglob357289776","nudix hydrolase ","Phaglob357289603","otv2_075 ","Phaglob357289777","osv5_212r ",null,null,null,"Phaglob357289733","dna directed rna polymerase ii subunit rpb9 "]
["Methanococci",{"$f":"VLOOKUP(A41,[1]Sheet6!$A:$D,4,FALSE)","v":"Euryarchaeota"},{"$f":"VLOOKUP(A41,[1]Sheet6!$A:$D,3,FALSE)","v":"Archaea"},2,1,null,3,null,"Perkinsus marinus ATCC 50983","Perkinsea",1,1,2,4,null,"Phaglob357289829","l aspartate beta decarboxylase ","Phaglob357289625",0,"Phaglob357289778","fad dependent sulfhydryl oxidase erv2 ",null,null,null,"Phaglob357289734","ubiquitin conjugating enzyme e2 z "]
["Mollicutes",{"$f":"VLOOKUP(A42,[1]Sheet6!$A:$D,4,FALSE)","v":"Tenericutes"},{"$f":"VLOOKUP(A42,[1]Sheet6!$A:$D,3,FALSE)","v":"Bacteria"},1,null,2,3,null,"Plasmodium falciparum 3D7","Apicomplexa",1,2,1,4,null,"Phaglob357289858","superfamily ii helicase vv d11 ","Phaglob357289656","human hepatopoietin ","Phaglob357289794","histone lysine n methyltransferase mll3 ",null,null,null,"Phaglob357289737","type 2 ice structuring "]
["Iridoviridae","NCLDV",{"$f":"VLOOKUP(A43,[1]Sheet6!$A:$D,3,FALSE)","v":"dsDNA viruses"},1,1,1,3,null,"Ricinus communis","Streptophyta",2,1,1,4,null,"Phaglob357289932","dna ligase ","Phaglob357289664","lambda type exonuclease ","Phaglob357289795",0,null,null,null,"Phaglob357289743","dna directed rna polymerase ii subunit rpb2 "]
["Asfarviridae","NCLDV",{"$f":"VLOOKUP(A44,[1]Sheet6!$A:$D,3,FALSE)","v":"dsDNA viruses"},null,2,null,2,null,"Selaginella moellendorffii","Streptophyta",1,2,1,4,null,"OLPV1_322510522","lipoate ligase a","Phaglob357289671","type ii dna methyltransferase ","Phaglob357289818","mpv1_153c ",null,null,null,"Phaglob357289750","low quality zinc finger homeobox 4 "]
["Nostocales",{"$f":"VLOOKUP(A45,[1]Sheet6!$A:$D,4,FALSE)","v":"Cyanobacteria"},{"$f":"VLOOKUP(A45,[1]Sheet6!$A:$D,3,FALSE)","v":"Bacteria"},null,2,null,2,null,"Taeniopygia guttata","Metazoa",1,2,1,4,null,"OLPV1_322510548","ribonuclease iii","Phaglob357289692","major capsid ","Phaglob357289819","upstream activation factor subunit spp27 isoform 1 ",null,null,null,"Phaglob357289753","th970_20502 "]
["Thermococci",{"$f":"VLOOKUP(A46,[1]Sheet6!$A:$D,4,FALSE)","v":"Euryarchaeota"},{"$f":"VLOOKUP(A46,[1]Sheet6!$A:$D,3,FALSE)","v":"Archaea"},2,null,null,2,null,"Drosophila virilis","Metazoa",3,null,null,3,null,"OLPV1_322510552","dna directed rna polymerase ii","Phaglob357289775","d6 d11 helicase (no close hom in Phycodna)","Phaglob357289892","ntpase helicase  (no close hom in Mimivirus)",null,null,null,"Phaglob357289755","zinc finger 420 "]
["Thermotogae",{"$f":"VLOOKUP(A47,[1]Sheet6!$A:$D,4,FALSE)","v":"Thermotogae"},{"$f":"VLOOKUP(A47,[1]Sheet6!$A:$D,3,FALSE)","v":"Bacteria"},null,null,2,2,null,"Encephalitozoon intestinalis ATCC 50506","Fungi",null,3,null,3,null,"OLPV1_322510553","rna binding","Phaglob357289784","dna polymerase b precursor ","Phaglob357289909","mpv1_186c ",null,null,null,"Phaglob357289769","p20439_2580 "]
["Acidobacteria",{"$f":"VLOOKUP(A48,[1]Sheet6!$A:$D,4,FALSE)","v":"Fibrobacteres/Acidobacteria group"},{"$f":"VLOOKUP(A48,[1]Sheet6!$A:$D,3,FALSE)","v":"Bacteria"},1,null,1,2,null,"Ostreococcus lucimarinus CCE9901","Chlorophyta",3,null,null,3,null,"OLPV1_322510555","nechadraft_68506","Phaglob357289791","kinase (no close hom in Phycodna)  ","Phaglob357289942","atcv1_z249l ",null,null,null,"Phaglob357289770","ftsj methyltransferase 1 "]
["Choanoflagellida",{"$f":"VLOOKUP(A49,[1]Sheet6!$A:$D,4,FALSE)","v":"Opisthokonta"},{"$f":"VLOOKUP(A49,[1]Sheet6!$A:$D,3,FALSE)","v":"Eukaryota"},1,null,1,2,null,"Rattus norvegicus","Metazoa",null,null,3,3,null,"OLPV1_322510569","atcv1_z280l","Phaglob357289796","metallopeptidase wlm ","Phaglob357289956","2og fe ii oxygenase ",null,null,null,"Phaglob357289788","hyaluronan proteoglycan link 4 precursor "]
["Ktedonobacteria",{"$f":"VLOOKUP(A50,[1]Sheet6!$A:$D,4,FALSE)","v":"Chloroflexi"},{"$f":"VLOOKUP(A50,[1]Sheet6!$A:$D,3,FALSE)","v":"Bacteria"},null,1,1,2,null,"Volvox carteri f. nagariensis","Chlorophyta",3,null,null,3,null,"OLPV1_322510574","otv1_135","Phaglob357289800","lon protease la ","Phaglob357289960","had superfamily hydrolase ",null,null,null,"Phaglob357289801","lepbi_i1342 "]
["Nitrosopumilales",{"$f":"VLOOKUP(A51,[1]Sheet6!$A:$D,4,FALSE)","v":"Thaumarchaeota"},{"$f":"VLOOKUP(A51,[1]Sheet6!$A:$D,3,FALSE)","v":"Archaea"},1,1,null,2,null,"Acyrthosiphon pisum","Metazoa",2,1,null,3,null,"OLPV1_322510599","aspartate transaminase","Phaglob357289821","dna polymerase iii subunit beta ","OLPV1_322510472","exonuclease",null,null,null,"Phaglob357289810","zinc finger eos isoform 1 "]
["Prochlorales",{"$f":"VLOOKUP(A52,[1]Sheet6!$A:$D,4,FALSE)","v":"Cyanobacteria"},{"$f":"VLOOKUP(A52,[1]Sheet6!$A:$D,3,FALSE)","v":"Bacteria"},1,null,1,2,null,"Aedes aegypti","Metazoa",2,1,null,3,null,"OLPV1_322510622",0,"Phaglob357289831",0,"OLPV1_322510497","sod1p",null,null,null,"Phaglob357289817","heat shock dnaj "]
["Adenoviridae","other viruses",{"$f":"VLOOKUP(A53,[1]Sheet6!$A:$D,3,FALSE)","v":"dsDNA viruses"},null,1,null,1,null,"Anolis carolinensis","Metazoa",1,2,null,3,null,"OLPV1_322510627","gh10061","Phaglob357289840","dna polymerase i (CroV and bacteria, no OLPVs)","OLPV1_322510533","ny2a_b559l",null,null,null,"Phaglob357289834","zinc finger c2h2 type "]
["Aquificae",{"$f":"VLOOKUP(A54,[1]Sheet6!$A:$D,4,FALSE)","v":"Aquificae"},{"$f":"VLOOKUP(A54,[1]Sheet6!$A:$D,3,FALSE)","v":"Bacteria"},1,null,null,1,null,"Caenorhabditis elegans","Metazoa",2,null,1,3,null,"OLPV1_322510639","lambda type exonuclease","Phaglob357289857","ribonuclease iii ","OLPV1_322510538",0,null,null,null,"Phaglob357289859","zinc finger homeobox 4 "]
["Caldilineae",{"$f":"VLOOKUP(A55,[1]Sheet6!$A:$D,4,FALSE)","v":"Chloroflexi"},{"$f":"VLOOKUP(A55,[1]Sheet6!$A:$D,3,FALSE)","v":"Bacteria"},null,null,1,1,null,"Callithrix jacchus","Metazoa",2,null,1,3,null,"OLPV1_322510650","dna rna helicase","Phaglob357289861","ncu00734 ","OLPV1_322510542","vv a32 packaging atpase",null,null,null,"Phaglob357289860","cardiomyopathy 5 "]
["Cercozoa",{"$f":"VLOOKUP(A56,[1]Sheet6!$A:$D,4,FALSE)","v":"Rhizaria"},{"$f":"VLOOKUP(A56,[1]Sheet6!$A:$D,3,FALSE)","v":"Eukaryota"},null,null,1,1,null,"Candida dubliniensis CD36","Fungi",1,2,null,3,null,"OLPV1_322510658","superfamily ii helicase vv d11 ","Phaglob357289864","asparagine synthetase ","OLPV1_322510588","otv2_120",null,null,null,"Phaglob357289862","methyltransferase "]
["Chlamydiae",{"$f":"VLOOKUP(A57,[1]Sheet6!$A:$D,4,FALSE)","v":"Chlamydiae/Verrucomicrobia group"},{"$f":"VLOOKUP(A57,[1]Sheet6!$A:$D,3,FALSE)","v":"Bacteria"},null,null,1,1,null,"Candidatus Ruthia magnifica str. Cm (Calyptogena magnifica)","Gammaproteobacteria",null,2,1,3,null,"OLPV1_322510688","zinc finger dna binding","Phaglob357289917","atpb gene product ","OLPV1_322510598","mpv1_153c",null,null,null,"Phaglob357289869","maestro isoform 1 "]
["Chloroflexi",{"$f":"VLOOKUP(A58,[1]Sheet6!$A:$D,4,FALSE)","v":"Chloroflexi"},{"$f":"VLOOKUP(A58,[1]Sheet6!$A:$D,3,FALSE)","v":"Bacteria"},null,1,null,1,null,"Cricetulus griseus","Metazoa",2,1,null,3,null,"OLPV1_322510700","d5 ntpase involved dna replication","Phaglob357289949","methyltransferase ","OLPV1_322510600","upstream activation factor subunit spp27 isoform 1",null,null,null,"Phaglob357289870","zinc finger scan 21 "]
["Deinococci",{"$f":"VLOOKUP(A59,[1]Sheet6!$A:$D,4,FALSE)","v":"Deinococcus-Thermus"},{"$f":"VLOOKUP(A59,[1]Sheet6!$A:$D,3,FALSE)","v":"Bacteria"},1,null,null,1,null,"Cryptosporidium hominis TU502","Apicomplexa",2,1,null,3,null,"OLPV1_322510716","ttherm_00031700","OLPV1_322510506","vv a18 helicase","OLPV1_322510607","olv1_060",null,null,null,"Phaglob357289872","penicillin binding "]
["Diplomonadida",{"$f":"VLOOKUP(A60,[1]Sheet6!$A:$D,4,FALSE)","v":"Fornicata"},{"$f":"VLOOKUP(A60,[1]Sheet6!$A:$D,3,FALSE)","v":"Eukaryota"},null,1,null,1,null,"Danio rerio","Metazoa",2,1,null,3,null,"OLPV1_322510741","superfamily ii helicase vv d11 ","OLPV1_322510511","uncharacterized k02a2.6","OLPV1_322510608",0,null,null,null,"Phaglob357289876","hspb1 1 "]
["Fibrobacteres",{"$f":"VLOOKUP(A61,[1]Sheet6!$A:$D,4,FALSE)","v":"Fibrobacteres/Acidobacteria group"},{"$f":"VLOOKUP(A61,[1]Sheet6!$A:$D,3,FALSE)","v":"Bacteria"},null,1,null,1,null,"Drosophila grimshawi","Metazoa",2,null,1,3,null,"OLPV1_322510754","mpv1_104c","OLPV1_322510515","dead deah box helicase","OLPV1_322510623","A2-like TF",null,null,null,"Phaglob357289878",0]
["Herpesvirales","other viruses",{"$f":"VLOOKUP(A62,[1]Sheet6!$A:$D,3,FALSE)","v":"dsDNA viruses"},1,null,null,1,null,"Drosophila mojavensis","Metazoa",1,null,2,3,null,"OLPV1_322510756","transcription initiation factor iib general ","OLPV1_322510536",0,"OLPV1_322510626","mitochondrial chaperone bcs1",null,null,null,"Phaglob357289879","abc superfamily atp binding "]
["Ignavibacteria",{"$f":"VLOOKUP(A63,[1]Sheet6!$A:$D,4,FALSE)","v":"Bacteroidetes/Chlorobi group"},{"$f":"VLOOKUP(A63,[1]Sheet6!$A:$D,3,FALSE)","v":"Bacteria"},1,null,null,1,null,"Gallus gallus","Metazoa",1,2,null,3,null,"OLPV2_322510898|gb|ADX06211.1|","mg15 gene product ","OLPV1_322510549","d6 d11 helicase","OLPV1_322510631","fr483_n741r",null,null,null,"Phaglob357289883","adenosine monophosphate deaminase "]
["Lentisphaerae",{"$f":"VLOOKUP(A64,[1]Sheet6!$A:$D,4,FALSE)","v":"Chlamydiae/Verrucomicrobia group"},{"$f":"VLOOKUP(A64,[1]Sheet6!$A:$D,3,FALSE)","v":"Bacteria"},1,null,null,1,null,"Glycine max","Streptophyta",2,null,1,3,null,"OLPV2_322510917|gb|ADX06230.1|","mitochondrial chaperone bcs1 ","OLPV1_322510621","otv2_075","OLPV1_322510636","osv5_242f",null,null,null,"Phaglob357289884","gm23503 "]
["Nanovirus",{"$f":"VLOOKUP(A65,[1]Sheet6!$A:$D,4,FALSE)","v":"Nanoviridae"},{"$f":"VLOOKUP(A65,[1]Sheet6!$A:$D,3,FALSE)","v":"ssDNA viruses"},1,null,null,1,null,"Maribacter sp. HTCC2170","Bacteroidetes",null,1,2,3,null,"OLPV2_322510967|gb|ADX06280.1|",0,"OLPV1_322510624","olv1_167","OLPV1_322510686","tata box binding",null,null,null,"Phaglob357289888","serine threonine kinase rio1 "]
["Nitrospira",{"$f":"VLOOKUP(A66,[1]Sheet6!$A:$D,4,FALSE)","v":"Nitrospirae"},{"$f":"VLOOKUP(A66,[1]Sheet6!$A:$D,3,FALSE)","v":"Bacteria"},null,1,null,1,null,"Medicago truncatula","Streptophyta",2,1,null,3,null,"OLPV2_322510979|gb|ADX06292.1|","lysozyme inhibitor ","OLPV1_322510653","ps273r","OLPV1_322510696","olv1_030c",null,null,null,"Phaglob357289903","frpr 8 "]
["Papillomaviridae","other viruses",{"$f":"VLOOKUP(A67,[1]Sheet6!$A:$D,3,FALSE)","v":"dsDNA viruses"},null,null,1,1,null,"Micromonas pusilla CCMP1545","Chlorophyta",null,2,1,3,null,"OLPV2_322510985|gb|ADX06298.1|","poly a polymerase catalytic subunit ","OLPV1_322510659","nudix hydrolase","OLPV1_322510723",0,null,null,null,"Phaglob357289916","kqs_09425 "]
["Planctomycetia",{"$f":"VLOOKUP(A68,[1]Sheet6!$A:$D,4,FALSE)","v":"Planctomycetes"},{"$f":"VLOOKUP(A68,[1]Sheet6!$A:$D,3,FALSE)","v":"Bacteria"},null,1,null,1,null,"Nectria haematococca mpVI 77-13-4","Fungi",2,null,1,3,null,"OLPV2_322510987|gb|ADX06300.1|","major capsid 4 ","OLPV1_322510699","ubiquitin conjugating enzyme e2 z","OLPV1_322510762","proliferating cell nuclear antigen",null,null,null,"Phaglob357289934",0]
["Polyomaviridae","other viruses",{"$f":"VLOOKUP(A69,[1]Sheet6!$A:$D,3,FALSE)","v":"dsDNA viruses"},1,null,null,1,null,"Oreochromis niloticus","Metazoa",1,null,2,3,null,"OLPV2_322510994|gb|ADX06307.1|","otv2_125 ","OLPV1_322510714","lon protease","OLPV1_322510821","gaba a receptor interacting factor 1 59",null,null,null,"Phaglob357289946","outer membrane "]
["Stigonematales",{"$f":"VLOOKUP(A70,[1]Sheet6!$A:$D,4,FALSE)","v":"Cyanobacteria"},{"$f":"VLOOKUP(A70,[1]Sheet6!$A:$D,3,FALSE)","v":"Bacteria"},null,1,null,1,null,"Otolemur garnettii","Metazoa",2,null,1,3,null,"OLPV2_322511021|gb|ADX06334.1|","lambda type exonuclease ","OLPV1_322510722","metallopeptidase wlm","OLPV1_322510826","hlyd secretion",null,null,null,"Phaglob357289959","dnaj subfamily b 8 "]
["Thermomicrobia",{"$f":"VLOOKUP(A71,[1]Sheet6!$A:$D,4,FALSE)","v":"Chloroflexi"},{"$f":"VLOOKUP(A71,[1]Sheet6!$A:$D,3,FALSE)","v":"Bacteria"},null,null,1,1,null,"Paramecium bursaria Chlorella virus 1","Phycodnaviridae",1,2,null,3,null,"OLPV2_322511031|gb|ADX06344.1|","mi1_09806 ","OLPV1_322510740","nudix hydrolase","OLPV1_322510858","dna cytosine specific methyltransferase",null,null,null,"Phaglob357289968","atp dependent dna helicase pif1 "]
["Thermoplasmata",{"$f":"VLOOKUP(A72,[1]Sheet6!$A:$D,4,FALSE)","v":"Euryarchaeota"},{"$f":"VLOOKUP(A72,[1]Sheet6!$A:$D,3,FALSE)","v":"Archaea"},null,null,1,1,null,"Physcomitrella patens subsp. patens","Streptophyta",2,null,1,3,null,"OLPV2_322511048|gb|ADX06361.1|",0,"OLPV1_322510745","ps273r","OLPV1_322510859","eio_1240",null,null,null,"Phaglob357289972","slit 1 "]
["candidate_division_WWE1",{"$f":"VLOOKUP(A73,[1]Sheet6!$A:$D,4,FALSE)","v":"unclassified Bacteria"},{"$f":"VLOOKUP(A73,[1]Sheet6!$A:$D,3,FALSE)","v":"Bacteria"},null,1,null,1,null,"Plasmodium knowlesi strain H","Apicomplexa",2,1,null,3,null,"OLPV2_322511076|gb|ADX06389.1|","zinc finger 462 ","OLPV1_322510751","disulfide oxidoreductase","OLPV2_322510899|gb|ADX06212.1|","ferric uptake regulator fur ",null,null,null,"Phaglob357289973","ttherm_00161160 "]
["unclassified_Euryarchaeota",{"$f":"VLOOKUP(A74,[1]Sheet6!$A:$D,4,FALSE)","v":"Euryarchaeota"},{"$f":"VLOOKUP(A74,[1]Sheet6!$A:$D,3,FALSE)","v":"Archaea"},null,null,1,1,null,"Plasmodium vivax Sal-1","Apicomplexa",null,1,2,3,null,"OLPV2_322511083|gb|ADX06396.1|","mpv1_104c ","OLPV1_322510760","eukaryotic translation initiation factor 4e type 3","OLPV2_322510914|gb|ADX06227.1|","exonuclease "]
[{"$nulls":8},"Plasmodium yoelii yoelii 17XNL","Apicomplexa",1,null,2,3,null,"OLPV2_322511086|gb|ADX06399.1|","transcription initiation factor iib general ","OLPV1_322510779","disulfide oxidoreductase","OLPV2_322510921|gb|ADX06234.1|","eio_1240 "]
["total ",null,null,413,392,316,null,null,"Providencia rettgeri DSM 1131","Gammaproteobacteria",2,1,null,3,null,"OLPV2_322511112|gb|ADX06425.1|","d5 ntpase involved dna replication ","OLPV1_322510792","helicase","OLPV2_322510923|gb|ADX06236.1|","eio_1240 "]
[{"$nulls":8},"Psychroflexus torquis ATCC 700755","Bacteroidetes",null,2,1,3,null,"OLPV2_322511133|gb|ADX06446.1|","transcriptional regulator ","OLPV1_322510810","hmpref9457_03708","OLPV2_322510933|gb|ADX06246.1|","eio_1240 "]
[{"$nulls":8},"Thalassiosira pseudonana CCMP1335","Bacillariophyta",2,1,null,3,null,"OLPV2_322511155|gb|ADX06468.1|","mrna cap guanine n7 methyltransferase ","OLPV1_322510814","5' 3' exonuclease","OLPV2_322510943|gb|ADX06256.1|","amaca2_11400 "]
[{"$nulls":8},"Trichinella spiralis","Metazoa",1,2,null,3,null,"OLPV2_322511157|gb|ADX06470.1|","polyketide synthase type i ","OLPV1_322510829","dna polymerase delta catalytic subunit","OLPV2_322510960|gb|ADX06273.1|","vv a32 packaging atpase "]
[{"$nulls":8},"Trypanosoma cruzi strain CL Brener","Kinetoplastida",1,null,2,3,null,"OLPV2_322511160|gb|ADX06473.1|","dynamin ","OLPV2_322510878|gb|ADX06191.1|","mpv1_064 ","OLPV2_322510963|gb|ADX06276.1|","fr483_n624l "]
[{"$nulls":8},"Amphimedon queenslandica","Metazoa",1,1,1,3,null,"OLPV2_322511163|gb|ADX06476.1|","ribonuclease iii ","OLPV2_322510883|gb|ADX06196.1|","fr483_n516r ","OLPV2_322510970|gb|ADX06283.1|",0]
[{"$nulls":8},"Bacillus halodurans C-125","Bacilli",1,1,1,3,null,"OLPV2_322511179|gb|ADX06492.1|","nudix hydrolase ","OLPV2_322510888|gb|ADX06201.1|","eco57i restriction endonuclease ","OLPV2_322510973|gb|ADX06286.1|","amidohydrolase "]
[{"$nulls":8},"Brachypodium distachyon","Streptophyta",1,1,1,3,null,"OLPV2_322511180|gb|ADX06493.1|","superfamily ii helicase vv d11 ","OLPV2_322510890|gb|ADX06203.1|","dna adenine methylase ","OLPV2_322510984|gb|ADX06297.1|","zinc binding cmp dcmp deaminase "]
[{"$nulls":8},"Butyrivibrio proteoclasticus B316","Clostridia",1,1,1,3,null,"OLPV2_322511184|gb|ADX06497.1|","ps273r ","OLPV2_322510891|gb|ADX06204.1|","hmpref9457_03708 ","OLPV2_322511003|gb|ADX06316.1|","mpv1_153c "]
[{"$nulls":8},"Dictyostelium discoideum AX4","Mycetozoa",1,1,1,3,null,null,null,"OLPV2_322510966|gb|ADX06279.1|","mitochondrial dna polymerase i d ","OLPV2_322511013|gb|ADX06326.1|",0]
[{"$nulls":8},"Entamoeba histolytica HM-1:IMSS","Archamoebae",1,1,1,3,null,null,null,"OLPV2_322510999|gb|ADX06312.1|","transmembrane 1 tmem1b ","OLPV2_322511024|gb|ADX06337.1|",0]
[{"$nulls":8},"Marseillevirus","unclassified_dsDNA_viruses (Marseil)",1,1,1,3,null,null,null,"OLPV2_322511045|gb|ADX06358.1|","major capsid 1 ","OLPV2_322511027|gb|ADX06340.1|","otv1_149 "]
[{"$nulls":8},"Methanosalsum zhilinae DSM 4017","Methanomicrobia",1,1,1,3,null,null,null,"OLPV2_322511049|gb|ADX06362.1|","otv2_075 ","OLPV2_322511028|gb|ADX06341.1|","fr483_n741r "]
[{"$nulls":8},"Acetonema longum DSM 6540","Negativicutes",2,null,null,2,null,null,null,"OLPV2_322511080|gb|ADX06393.1|","disulfide oxidoreductase ","OLPV2_322511041|gb|ADX06354.1|","otv2_162 "]
[{"$nulls":8},"Acinetobacter radioresistens SK82","Gammaproteobacteria",null,2,null,2,null,null,null,"OLPV2_322511089|gb|ADX06402.1|","eukaryotic translation initiation factor 4e type 3 ","OLPV2_322511047|gb|ADX06360.1|",0]
[{"$nulls":8},"Aeromonas phage 44RR2.8t","Caudovirales",null,2,null,2,null,null,null,"OLPV2_322511110|gb|ADX06423.1|","ubiquitin conjugating enzyme e2 z ","OLPV2_322511062|gb|ADX06375.1|",0]
[{"$nulls":8},"African swine fever virus","Asfarviridae",null,2,null,2,null,null,null,"OLPV2_322511132|gb|ADX06445.1|","metallopeptidase wlm ","OLPV2_322511063|gb|ADX06376.1|",0]
[{"$nulls":8},"Aggregatibacter actinomycetemcomitans ANH9381","Gammaproteobacteria",null,2,null,2,null,null,null,"OLPV2_322511144|gb|ADX06457.1|","eco57i restriction endonuclease ","OLPV2_322511091|gb|ADX06404.1|","pcna "]
[{"$nulls":8},"Agrobacterium radiobacter K84","Alphaproteobacteria",null,2,null,2,null,null,null,"OLPV2_322511153|gb|ADX06466.1|","ftsj methyltransferase 1 ","OLPV2_322511100|gb|ADX06413.1|","tata box binding "]
[{"$nulls":8},"Anopheles gambiae str. PEST","Metazoa",null,2,null,2,null,null,null,"OLPV2_322511185|gb|ADX06498.1|","carboxyl terminal protease ","OLPV2_322511107|gb|ADX06420.1|",0]
[{"$nulls":8},"Arthroderma gypseum CBS 118893","Fungi",2,null,null,2,{"$nulls":5},"OLPV2_322511134|gb|ADX06447.1|",0]
[{"$nulls":8},"Babesia bovis T2Bo","Apicomplexa",2,null,null,2]
[{"$nulls":8},"Bacillus megaterium QM B1551","Bacilli",2,null,null,2]
[{"$nulls":8},"Bacteroides sp. 2_1_33B","Bacteroidetes",null,2,null,2]
[{"$nulls":8},"Bos taurus","Metazoa",2,null,null,2]
[{"$nulls":8},"Brevibacillus sp. BC25","Bacilli",null,2,null,2]
[{"$nulls":8},"Campylobacterales bacterium GD 1","delta-epsilon_subdivisions",null,null,2,2]
[{"$nulls":8},"Candida glabrata CBS 138","Fungi",null,null,2,2]
[{"$nulls":8},"Coprobacillus sp. D7","Erysipelotrichi",null,2,null,2]
[{"$nulls":8},"Culex quinquefasciatus","Metazoa",2,null,null,2]
[{"$nulls":8},"Cyanothece sp. PCC 7425","Chroococcales",null,2,null,2]
[{"$nulls":8},"Drosophila ananassae","Metazoa",null,2,null,2]
[{"$nulls":8},"Ectocarpus siliculosus virus 1","Phycodnaviridae",2,null,null,2]
[{"$nulls":8},"Emiliania huxleyi virus 86","Phycodnaviridae",2,null,null,2]
[{"$nulls":8},"Encephalitozoon cuniculi GB-M1","Fungi",null,null,2,2]
[{"$nulls":8},"Hirschia baltica ATCC 49814","Alphaproteobacteria",null,2,null,2]
[{"$nulls":8},"Hydra magnipapillata","Metazoa",null,2,null,2]
[{"$nulls":8},"Loa loa","Metazoa",null,2,null,2]
[{"$nulls":8},"Lyngbya sp. PCC 8106","Oscillatoriales",null,2,null,2]
[{"$nulls":8},"Metaseiulus occidentalis","Metazoa",2,null,null,2]
[{"$nulls":8},"Neosartorya fischeri NRRL 181","Fungi",2,null,null,2]
[{"$nulls":8},"Novosphingobium sp. Rr 2-17","Alphaproteobacteria",null,2,null,2]
[{"$nulls":8},"Oryza sativa Japonica Group","Streptophyta",2,null,null,2]
[{"$nulls":8},"Paludibacter propionicigenes WB4","Bacteroidetes",2,null,null,2]
[{"$nulls":8},"Pseudoalteromonas sp. BSi20495","Gammaproteobacteria",null,null,2,2]
[{"$nulls":8},"Sarcophilus harrisii","Metazoa",2,null,null,2]
[{"$nulls":8},"Sclerotinia sclerotiorum 1980 UF-70","Fungi",2,null,null,2]
[{"$nulls":8},"Shewanella baltica OS117","Gammaproteobacteria",null,2,null,2]
[{"$nulls":8},"Spirochaeta africana DSM 8902","Spirochaetia",null,2,null,2]
[{"$nulls":8},"Streptococcus thermophilus MN-ZLW-002","Bacilli",null,2,null,2]
[{"$nulls":8},"Streptomyces cattleya NRRL 8057 = DSM 46488","Actinobacteria",2,null,null,2]
[{"$nulls":8},"Talaromyces stipitatus ATCC 10500","Fungi",null,null,2,2]
[{"$nulls":8},"Tribolium castaneum","Metazoa",null,null,2,2]
[{"$nulls":8},"Arabidopsis lyrata subsp. lyrata","Streptophyta",1,null,1,2]
[{"$nulls":8},"Aspergillus terreus NIH2624","Fungi",1,null,1,2]
[{"$nulls":8},"Bdellovibrio bacteriovorus HD100","delta-epsilon_subdivisions",null,1,1,2]
[{"$nulls":8},"Belliella baltica DSM 15883","Bacteroidetes",null,1,1,2]
[{"$nulls":8},"Bizionia argentinensis JUB59","Bacteroidetes",1,1,null,2]
[{"$nulls":8},"Borrelia turicatae 91E135","Spirochaetia",1,1,null,2]
[{"$nulls":8},"Botryotinia fuckeliana B05.10","Fungi",1,1,null,2]
[{"$nulls":8},"Bradyrhizobium japonicum USDA 6","Alphaproteobacteria",1,1,null,2]
[{"$nulls":8},"Brugia malayi","Metazoa",1,1,null,2]
[{"$nulls":8},"Canis lupus familiaris","Metazoa",1,null,1,2]
[{"$nulls":8},"Cardiobacterium valvarum F0432","Gammaproteobacteria",1,1,null,2]
[{"$nulls":8},"Clostridium sporogenes ATCC 15579","Clostridia",1,1,null,2]
[{"$nulls":8},"Clostridium thermocellum JW20","Clostridia",1,null,1,2]
[{"$nulls":8},"Collinsella aerofaciens ATCC 25986","Actinobacteria",null,1,1,2]
[{"$nulls":8},"Colwellia psychrerythraea 34H","Gammaproteobacteria",null,1,1,2]
[{"$nulls":8},"Cytophaga hutchinsonii ATCC 33406","Bacteroidetes",1,1,null,2]
[{"$nulls":8},"Debaryomyces hansenii CBS767","Fungi",1,1,null,2]
[{"$nulls":8},"Desulfovibrio aespoeensis Aspo-2","delta-epsilon_subdivisions",null,1,1,2]
[{"$nulls":8},"Drosophila sechellia","Metazoa",1,1,null,2]
[{"$nulls":8},"Drosophila simulans","Metazoa",1,1,null,2]
[{"$nulls":8},"Drosophila willistoni","Metazoa",1,null,1,2]
[{"$nulls":8},"Equus caballus","Metazoa",1,1,null,2]
[{"$nulls":8},"Erythrobacter sp. SD-21","Alphaproteobacteria",null,1,1,2]
[{"$nulls":8},"Ethanoligenens harbinense YUAN-3","Clostridia",1,null,1,2]
[{"$nulls":8},"Eubacterium biforme DSM 3989","Erysipelotrichi",1,1,null,2]
[{"$nulls":8},"Feldmannia species virus","Phycodnaviridae",null,1,1,2]
[{"$nulls":8},"Flavobacterium sp. CF136","Bacteroidetes",1,null,1,2]
[{"$nulls":8},"Fluoribacter dumoffii Tex-KL","Gammaproteobacteria",1,1,null,2]
[{"$nulls":8},"Granulicella tundricola MP5ACTX9","Acidobacteria",1,null,1,2]
[{"$nulls":8},"Hafnia alvei ATCC 51873","Gammaproteobacteria",null,1,1,2]
[{"$nulls":8},"Hahella chejuensis KCTC 2396","Gammaproteobacteria",1,1,null,2]
[{"$nulls":8},"Halomonas boliviensis LC1","Gammaproteobacteria",1,null,1,2]
[{"$nulls":8},"Ixodes scapularis","Metazoa",1,1,null,2]
[{"$nulls":8},"Kluyveromyces lactis NRRL Y-1140","Fungi",1,null,1,2]
[{"$nulls":8},"Ktedonobacter racemifer DSM 44963","Ktedonobacteria",null,1,1,2]
[{"$nulls":8},"Lachancea thermotolerans CBS 6340","Fungi",1,1,null,2]
[{"$nulls":8},"Lausannevirus","unclassified_dsDNA_viruses (Marseil)",1,null,1,2]
[{"$nulls":8},"Lodderomyces elongisporus NRRL YB-4239","Fungi",null,1,1,2]
[{"$nulls":8},"Microscilla marina ATCC 23134","Bacteroidetes",1,null,1,2]
[{"$nulls":8},"Monodelphis domestica","Metazoa",1,1,null,2]
[{"$nulls":8},"Monosiga brevicollis MX1","Choanoflagellida",1,null,1,2]
[{"$nulls":8},"Nautilia profundicola AmH","delta-epsilon_subdivisions",null,1,1,2]
[{"$nulls":8},"Niabella soli DSM 19437","Bacteroidetes",1,null,1,2]
[{"$nulls":8},"Nosema ceranae BRL01","Fungi",1,null,1,2]
[{"$nulls":8},"Opitutus terrae PB90-1","Verrucomicrobia",1,null,1,2]
[{"$nulls":8},"Prevotella dentalis DSM 3688","Bacteroidetes",null,1,1,2]
[{"$nulls":8},"Proteus penneri ATCC 35198","Gammaproteobacteria",1,1,null,2]
[{"$nulls":8},"Roseovarius sp. TM1035","Alphaproteobacteria",null,1,1,2]
[{"$nulls":8},"Ruminococcus flavefaciens FD-1","Clostridia",1,null,1,2]
[{"$nulls":8},"Singapore grouper iridovirus","Iridoviridae",null,1,1,2]
[{"$nulls":8},"Sinorhizobium meliloti AK83","Alphaproteobacteria",1,1,null,2]
[{"$nulls":8},"Sordaria macrospora k-hell","Fungi",1,null,1,2]
[{"$nulls":8},"Synechococcus phage S-SSM7","Caudovirales",1,null,1,2]
[{"$nulls":8},"Trichodesmium erythraeum IMS101","Oscillatoriales",1,null,1,2]
[{"$nulls":8},"Xenopus (Silurana) tropicalis","Metazoa",null,1,1,2]
[{"$nulls":8},"Xenopus laevis","Metazoa",null,1,1,2]
[{"$nulls":8},"alpha proteobacterium HIMB114","Alphaproteobacteria",null,1,1,2]
[{"$nulls":8},"Acaryochloris marina MBIC11017","Chroococcales",null,null,1,1]
[{"$nulls":8},"Acetivibrio cellulolyticus CD2","Clostridia",null,1,null,1]
[{"$nulls":8},"Acholeplasma laidlawii PG-8A","Mollicutes",null,null,1,1]
[{"$nulls":8},"Achromobacter piechaudii ATCC 43553","Betaproteobacteria",1,null,null,1]
[{"$nulls":8},"Acidilobus saccharovorans 345-15","Thermoprotei",null,null,1,1]
[{"$nulls":8},"Acidiphilium sp. PM","Alphaproteobacteria",null,1,null,1]
[{"$nulls":8},"Acidovorax sp. JS42","Betaproteobacteria",1,null,null,1]
[{"$nulls":8},"Aciduliprofundum boonei T469","unclassified_Euryarchaeota",null,null,1,1]
[{"$nulls":8},"Acinetobacter baumannii 6013150","Gammaproteobacteria",null,null,1,1]
[{"$nulls":8},"Actinobacillus minor 202","Gammaproteobacteria",null,null,1,1]
[{"$nulls":8},"Actinomyces graevenitzii C83","Actinobacteria",null,1,null,1]
[{"$nulls":8},"Actinomyces odontolyticus F0309","Actinobacteria",null,1,null,1]
[{"$nulls":8},"Actinomyces sp. oral taxon 178 str. F0338","Actinobacteria",1,null,null,1]
[{"$nulls":8},"Aequorivita sublithincola DSM 14238","Bacteroidetes",1,null,null,1]
[{"$nulls":8},"Aeromonas phage Aeh1","Caudovirales",null,1,null,1]
[{"$nulls":8},"Aeromonas salmonicida subsp. salmonicida A449","Gammaproteobacteria",1,null,null,1]
[{"$nulls":8},"Ailuropoda melanoleuca","Metazoa",null,null,1,1]
[{"$nulls":8},"Ajellomyces capsulatus NAm1","Fungi",null,1,null,1]
[{"$nulls":8},"Aliivibrio fischeri","Gammaproteobacteria",null,null,1,1]
[{"$nulls":8},"Alishewanella aestuarii B11","Gammaproteobacteria",null,1,null,1]
[{"$nulls":8},"Amycolicicoccus subflavus DQS3-9A1","Actinobacteria",1,null,null,1]
[{"$nulls":8},"Anaerococcus hydrogenalis ACS-025-V-Sch4","Clostridia",null,1,null,1]
[{"$nulls":8},"Anaerococcus hydrogenalis DSM 7454","Clostridia",null,1,null,1]
[{"$nulls":8},"Anoxybacillus flavithermus WK1","Bacilli",null,1,null,1]
[{"$nulls":8},"Apis florea","Metazoa",null,null,1,1]
[{"$nulls":8},"Arcobacter butzleri RM4018","delta-epsilon_subdivisions",1,null,null,1]
[{"$nulls":8},"Arthrobacter arilaitensis Re117","Actinobacteria",1,null,null,1]
[{"$nulls":8},"Arthroderma benhamiae CBS 112371","Fungi",null,null,1,1]
[{"$nulls":8},"Arthrospira maxima CS-328","Oscillatoriales",null,1,null,1]
[{"$nulls":8},"Arthrospira sp. PCC 8005","Oscillatoriales",1,null,null,1]
[{"$nulls":8},"Ashbya gossypii ATCC 10895","Fungi",null,1,null,1]
[{"$nulls":8},"Aspergillus clavatus NRRL 1","Fungi",null,null,1,1]
[{"$nulls":8},"Aspergillus flavus NRRL3357","Fungi",null,null,1,1]
[{"$nulls":8},"Aspergillus fumigatus Af293","Fungi",1,null,null,1]
[{"$nulls":8},"Asticcacaulis biprosthecum C19","Alphaproteobacteria",1,null,null,1]
[{"$nulls":8},"Atopobium vaginae DSM 15829","Actinobacteria",null,1,null,1]
[{"$nulls":8},"Azorhizobium caulinodans ORS 571","Alphaproteobacteria",1,null,null,1]
[{"$nulls":8},"Bacillus anthracis str. A0442","Bacilli",1,null,null,1]
[{"$nulls":8},"Bacillus atrophaeus 1942","Bacilli",null,null,1,1]
[{"$nulls":8},"Bacillus cereus 03BB108","Bacilli",null,1,null,1]
[{"$nulls":8},"Bacillus clausii KSM-K16","Bacilli",null,null,1,1]
[{"$nulls":8},"Bacillus licheniformis DSM 13 = ATCC 14580","Bacilli",1,null,null,1]
[{"$nulls":8},"Bacillus megaterium WSH-002","Bacilli",1,null,null,1]
[{"$nulls":8},"Bacillus pseudofirmus OF4","Bacilli",null,null,1,1]
[{"$nulls":8},"Bacillus selenitireducens MLS10","Bacilli",null,null,1,1]
[{"$nulls":8},"Bacillus sp. JS","Bacilli",null,1,null,1]
[{"$nulls":8},"Bacillus sp. SG-1","Bacilli",null,1,null,1]
[{"$nulls":8},"Bacillus subtilis subsp. subtilis str. RO-NN-1","Bacilli",null,null,1,1]
[{"$nulls":8},"Bacillus thuringiensis BMB171","Bacilli",1,null,null,1]
[{"$nulls":8},"Bacillus thuringiensis serovar huazhongensis BGSC 4BD1","Bacilli",null,1,null,1]
[{"$nulls":8},"Bacillus thuringiensis serovar pakistani str. T13001","Bacilli",null,null,1,1]
[{"$nulls":8},"Bacillus thuringiensis serovar sotto str. T04001","Bacilli",1,null,null,1]
[{"$nulls":8},"Bacteriovorax marinus SJ","delta-epsilon_subdivisions",1,null,null,1]
[{"$nulls":8},"Bacteroides faecis MAJ27","Bacteroidetes",1,null,null,1]
[{"$nulls":8},"Bacteroides finegoldii DSM 17565","Bacteroidetes",null,null,1,1]
[{"$nulls":8},"Bacteroides fragilis NCTC 9343","Bacteroidetes",null,1,null,1]
[{"$nulls":8},"Bacteroides phage B40-8","Caudovirales",null,1,null,1]
[{"$nulls":8},"Bacteroides salanitronis DSM 18170","Bacteroidetes",1,null,null,1]
[{"$nulls":8},"Bacteroides sp. 2_1_22","Bacteroidetes",1,null,null,1]
[{"$nulls":8},"Bacteroides stercoris ATCC 43183","Bacteroidetes",1,null,null,1]
[{"$nulls":8},"Bacteroides vulgatus ATCC 8482","Bacteroidetes",null,1,null,1]
[{"$nulls":8},"Bartonella elizabethae Re6043vi","Alphaproteobacteria",1,null,null,1]
[{"$nulls":8},"Bifidobacterium dentium ATCC 27679","Actinobacteria",1,null,null,1]
[{"$nulls":8},"Blattabacterium sp. (Blattella germanica) str. Bge","Bacteroidetes",null,null,1,1]
[{"$nulls":8},"Blautia hydrogenotrophica DSM 10507","Clostridia",null,1,null,1]
[{"$nulls":8},"Bombyx mori","Metazoa",null,null,1,1]
[{"$nulls":8},"Brachyspira intermedia PWS/A","Spirochaetia",null,null,1,1]
[{"$nulls":8},"Bradyrhizobium sp. YR681","Alphaproteobacteria",null,null,1,1]
[{"$nulls":8},"Brevibacillus laterosporus LMG 15441","Bacilli",null,1,null,1]
[{"$nulls":8},"Brevibacterium linens BL2","Actinobacteria",1,null,null,1]
[{"$nulls":8},"Brevundimonas diminuta ATCC 11568","Alphaproteobacteria",null,null,1,1]
[{"$nulls":8},"Burkholderia ambifaria MEX-5","Betaproteobacteria",1,null,null,1]
[{"$nulls":8},"Burkholderia oklahomensis C6786","Betaproteobacteria",1,null,null,1]
[{"$nulls":8},"Burkholderia oklahomensis EO147","Betaproteobacteria",null,1,null,1]
[{"$nulls":8},"Burkholderia phymatum STM815","Betaproteobacteria",null,null,1,1]
[{"$nulls":8},"Burkholderia phytofirmans PsJN","Betaproteobacteria",1,null,null,1]
[{"$nulls":8},"Burkholderia pseudomallei 1655","Betaproteobacteria",null,1,null,1]
[{"$nulls":8},"Burkholderia terrae BS001","Betaproteobacteria",null,1,null,1]
[{"$nulls":8},"Burkholderia thailandensis TXDOH","Betaproteobacteria",null,null,1,1]
[{"$nulls":8},"Burkholderia ubonensis Bu","Betaproteobacteria",null,null,1,1]
[{"$nulls":8},"Burkholderia xenovorans LB400","Betaproteobacteria",null,1,null,1]
[{"$nulls":8},"Caldilinea aerophila DSM 14535 = NBRC 104270","Caldilineae",null,null,1,1]
[{"$nulls":8},"Caloramator australicus RC3","Clostridia",null,null,1,1]
[{"$nulls":8},"Caminibacter mediatlanticus TB-2","delta-epsilon_subdivisions",null,null,1,1]
[{"$nulls":8},"Campylobacter coli RM2228","delta-epsilon_subdivisions",null,1,null,1]
[{"$nulls":8},"Campylobacter gracilis RM3268","delta-epsilon_subdivisions",null,1,null,1]
[{"$nulls":8},"Campylobacter jejuni RM1221","delta-epsilon_subdivisions",null,1,null,1]
[{"$nulls":8},"Campylobacter jejuni subsp. jejuni 414","delta-epsilon_subdivisions",null,1,null,1]
[{"$nulls":8},"Campylobacter upsaliensis RM3195","delta-epsilon_subdivisions",null,1,null,1]
[{"$nulls":8},"Canary polyomavirus","Polyomaviridae",1,null,null,1]
[{"$nulls":8},"Candidatus Amoebophilus asiaticus 5a2","Bacteroidetes",1,null,null,1]
[{"$nulls":8},"Candidatus Arthromitus sp. SFB-mouse-Japan","Clostridia",null,1,null,1]
[{"$nulls":8},"Candidatus Azobacteroides pseudotrichonymphae genomovar. CFP2","Bacteroidetes",null,null,1,1]
[{"$nulls":8},"Candidatus Cloacamonas acidaminovorans","candidate_division_WWE1",null,1,null,1]
[{"$nulls":8},"Candidatus Nitrosoarchaeum koreensis MY1","Nitrosopumilales",null,1,null,1]
[{"$nulls":8},"Catenulispora acidiphila DSM 44928","Actinobacteria",null,null,1,1]
[{"$nulls":8},"Caulobacter segnis ATCC 21756","Alphaproteobacteria",null,1,null,1]
[{"$nulls":8},"Caulobacter sp. AP07","Alphaproteobacteria",1,null,null,1]
[{"$nulls":8},"Cavia porcellus","Metazoa",1,null,null,1]
[{"$nulls":8},"Chitinophaga pinensis DSM 2588","Bacteroidetes",null,1,null,1]
[{"$nulls":8},"Chlorobaculum parvum NCIB 8327","Chlorobi",null,null,1,1]
[{"$nulls":8},"Chlorobium phaeobacteroides BS1","Chlorobi",1,null,null,1]
[{"$nulls":8},"Chlorobium phaeovibrioides DSM 265","Chlorobi",null,null,1,1]
[{"$nulls":8},"Chromohalobacter salexigens DSM 3043","Gammaproteobacteria",null,1,null,1]
[{"$nulls":8},"Chryseobacterium sp. CF314","Bacteroidetes",null,null,1,1]
[{"$nulls":8},"Citreicella sp. SE45","Alphaproteobacteria",1,null,null,1]
[{"$nulls":8},"Citrobacter rodentium ICC168","Gammaproteobacteria",null,1,null,1]
[{"$nulls":8},"Clavispora lusitaniae ATCC 42720","Fungi",1,null,null,1]
[{"$nulls":8},"Clostridium botulinum A str. ATCC 3502","Clostridia",null,1,null,1]
[{"$nulls":8},"Clostridium botulinum B1 str. Okra","Clostridia",null,1,null,1]
[{"$nulls":8},"Clostridium botulinum E3 str. Alaska E43","Clostridia",null,1,null,1]
[{"$nulls":8},"Clostridium clariflavum DSM 19732","Clostridia",1,null,null,1]
[{"$nulls":8},"Clostridium hathewayi DSM 13479","Clostridia",null,1,null,1]
[{"$nulls":8},"Clostridium hathewayi WAL-18680","Clostridia",1,null,null,1]
[{"$nulls":8},"Clostridium leptum DSM 753","Clostridia",null,null,1,1]
[{"$nulls":8},"Clostridium papyrosolvens DSM 2782","Clostridia",null,null,1,1]
[{"$nulls":8},"Clostridium perfringens B str. ATCC 3626","Clostridia",1,null,null,1]
[{"$nulls":8},"Clostridium perfringens D str. JGS1721","Clostridia",1,null,null,1]
[{"$nulls":8},"Clostridium perfringens NCTC 8239","Clostridia",1,null,null,1]
[{"$nulls":8},"Clostridium sp. 7_3_54FAA","Clostridia",1,null,null,1]
[{"$nulls":8},"Clostridium sp. BNL1100","Clostridia",1,null,null,1]
[{"$nulls":8},"Clostridium sp. D5","Clostridia",1,null,null,1]
[{"$nulls":8},"Clostridium symbiosum WAL-14163","Clostridia",null,1,null,1]
[{"$nulls":8},"Clostridium thermocellum ATCC 27405","Clostridia",null,null,1,1]
[{"$nulls":8},"Coccidioides immitis RS","Fungi",null,1,null,1]
[{"$nulls":8},"Collinsella stercoris DSM 13279","Actinobacteria",null,1,null,1]
[{"$nulls":8},"Coprinopsis cinerea okayama7#130","Fungi",null,null,1,1]
[{"$nulls":8},"Cryptococcus neoformans var. neoformans B-3501A","Fungi",null,null,1,1]
[{"$nulls":8},"Cryptococcus neoformans var. neoformans JEC21","Fungi",null,1,null,1]
[{"$nulls":8},"Cryptosporidium muris RN66","Apicomplexa",1,null,null,1]
[{"$nulls":8},"Cupriavidus basilensis OR16","Betaproteobacteria",1,null,null,1]
[{"$nulls":8},"Cyanothece sp. CCY0110","Chroococcales",1,null,null,1]
[{"$nulls":8},"Cyanothece sp. PCC 7424","Chroococcales",null,1,null,1]
[{"$nulls":8},"Cyanothece sp. PCC 8802","Chroococcales",null,1,null,1]
[{"$nulls":8},"Cyclobacterium marinum DSM 745","Bacteroidetes",1,null,null,1]
[{"$nulls":8},"Desulfobacterium autotrophicum HRM2","delta-epsilon_subdivisions",null,1,null,1]
[{"$nulls":8},"Desulfomicrobium baculatum DSM 4028","delta-epsilon_subdivisions",1,null,null,1]
[{"$nulls":8},"Desulfomonile tiedjei DSM 6799","delta-epsilon_subdivisions",1,null,null,1]
[{"$nulls":8},"Desulfotomaculum acetoxidans DSM 771","Clostridia",null,1,null,1]
[{"$nulls":8},"Desulfotomaculum kuznetsovii DSM 6115","Clostridia",null,null,1,1]
[{"$nulls":8},"Duck adenovirus A","Adenoviridae",null,1,null,1]
[{"$nulls":8},"Ectothiorhodospira sp. PHS-1","Gammaproteobacteria",null,null,1,1]
[{"$nulls":8},"Elizabethkingia anophelis Ag1","Bacteroidetes",null,1,null,1]
[{"$nulls":8},"Entamoeba dispar SAW760","Archamoebae",null,null,1,1]
[{"$nulls":8},"Enterobacteria phage Phi1","Caudovirales",null,null,1,1]
[{"$nulls":8},"Enterobacteria phage vB_EcoM-VR7","Caudovirales",null,null,1,1]
[{"$nulls":8},"Enterococcus faecalis DS5","Bacilli",1,null,null,1]
[{"$nulls":8},"Enterococcus hirae ATCC 9790","Bacilli",1,null,null,1]
[{"$nulls":8},"Enterococcus phage EFRM31","Caudovirales",1,null,null,1]
[{"$nulls":8},"Enterocytozoon bieneusi H348","Fungi",null,null,1,1]
[{"$nulls":8},"Eremococcus coleocola ACS-139-V-Col8","Bacilli",null,null,1,1]
[{"$nulls":8},"Eubacterium sp. 3_1_31","Clostridia",null,null,1,1]
[{"$nulls":8},"Eubacterium yurii subsp. margaretiae ATCC 43715","Clostridia",null,1,null,1]
[{"$nulls":8},"Ferroplasma acidarmanus fer1","Thermoplasmata",null,null,1,1]
[{"$nulls":8},"Fibrobacter succinogenes subsp. succinogenes S85","Fibrobacteres",null,1,null,1]
[{"$nulls":8},"Finegoldia magna ATCC 29328","Clostridia",null,1,null,1]
[{"$nulls":8},"Fischerella sp. JSC-11","Stigonematales",null,1,null,1]
[{"$nulls":8},"Flavobacteria bacterium BAL38","Bacteroidetes",null,null,1,1]
[{"$nulls":8},"Flavobacterium indicum GPTSA100-9","Bacteroidetes",null,1,null,1]
[{"$nulls":8},"Fluviicola taffensis DSM 16823","Bacteroidetes",null,1,null,1]
[{"$nulls":8},"Francisella philomiragia subsp. philomiragia ATCC 25015","Gammaproteobacteria",1,null,null,1]
[{"$nulls":8},"Frankia sp. EAN1pec","Actinobacteria",1,null,null,1]
[{"$nulls":8},"Frateuria aurantia DSM 6220","Gammaproteobacteria",null,1,null,1]
[{"$nulls":8},"Fusobacterium mortiferum ATCC 9817","Fusobacteriia",1,null,null,1]
[{"$nulls":8},"Fusobacterium nucleatum subsp. polymorphum ATCC 10953","Fusobacteriia",null,1,null,1]
[{"$nulls":8},"Fusobacterium periodonticum ATCC 33693","Fusobacteriia",null,1,null,1]
[{"$nulls":8},"Gallibacterium anatis UMN179","Gammaproteobacteria",null,1,null,1]
[{"$nulls":8},"Gemella haemolysans ATCC 10379","Bacilli",null,1,null,1]
[{"$nulls":8},"Geobacillus kaustophilus HTA426","Bacilli",1,null,null,1]
[{"$nulls":8},"Giardia lamblia ATCC 50803","Diplomonadida",null,1,null,1]
[{"$nulls":8},"Gillisia limnaea DSM 15749","Bacteroidetes",null,null,1,1]
[{"$nulls":8},"Gluconacetobacter europaeus LMG 18494","Alphaproteobacteria",null,1,null,1]
[{"$nulls":8},"Granulicatella adiacens ATCC 49175","Bacilli",null,1,null,1]
[{"$nulls":8},"Haemophilus parasuis SH0165","Gammaproteobacteria",null,1,null,1]
[{"$nulls":8},"Halalkalicoccus jeotgali B3","Halobacteria",1,null,null,1]
[{"$nulls":8},"Halanaerobium hydrogeniformans","Clostridia",null,null,1,1]
[{"$nulls":8},"Haliscomenobacter hydrossis DSM 1100","Bacteroidetes",1,null,null,1]
[{"$nulls":8},"Haloarcula marismortui ATCC 43049","Halobacteria",1,null,null,1]
[{"$nulls":8},"Haloterrigena turkmenica DSM 5511","Halobacteria",null,1,null,1]
[{"$nulls":8},"Helicobacter cetorum MIT 00-7128","delta-epsilon_subdivisions",null,null,1,1]
[{"$nulls":8},"Helicobacter cinaedi CCUG 18818","delta-epsilon_subdivisions",null,1,null,1]
[{"$nulls":8},"Helicobacter pylori 98-10","delta-epsilon_subdivisions",1,null,null,1]
[{"$nulls":8},"Helicobacter pylori PeCan18","delta-epsilon_subdivisions",1,null,null,1]
[{"$nulls":8},"Helicobacter pylori PeCan4","delta-epsilon_subdivisions",null,1,null,1]
[{"$nulls":8},"Helicobacter pylori SNT49","delta-epsilon_subdivisions",null,1,null,1]
[{"$nulls":8},"Helicobacter suis HS1","delta-epsilon_subdivisions",1,null,null,1]
[{"$nulls":8},"Herpetosiphon aurantiacus DSM 785","Chloroflexi",null,1,null,1]
[{"$nulls":8},"Human herpesvirus 8","Herpesvirales",1,null,null,1]
[{"$nulls":8},"Human papillomavirus type 26","Papillomaviridae",null,null,1,1]
[{"$nulls":8},"Hyperthermus butylicus DSM 5456","Thermoprotei",1,null,null,1]
[{"$nulls":8},"Ignavibacterium album JCM 16511","Ignavibacteria",1,null,null,1]
[{"$nulls":8},"Ignicoccus hospitalis KIN4/I","Thermoprotei",null,1,null,1]
[{"$nulls":8},"Ilyobacter polytropus DSM 2926","Fusobacteriia",1,null,null,1]
[{"$nulls":8},"Kangiella koreensis DSM 16069","Gammaproteobacteria",1,null,null,1]
[{"$nulls":8},"Kingella kingae PYKK081","Betaproteobacteria",1,null,null,1]
[{"$nulls":8},"Klebsiella pneumoniae KCTC 2242","Gammaproteobacteria",null,1,null,1]
[{"$nulls":8},"Klebsiella sp. MS 92-3","Gammaproteobacteria",null,null,1,1]
[{"$nulls":8},"Kordia algicida OT-1","Bacteroidetes",1,null,null,1]
[{"$nulls":8},"Krokinobacter sp. 4H-3-7-5","Bacteroidetes",null,1,null,1]
[{"$nulls":8},"Laccaria bicolor S238N-H82","Fungi",1,null,null,1]
[{"$nulls":8},"Lachnospiraceae bacterium 9_1_43BFAA","Clostridia",null,null,1,1]
[{"$nulls":8},"Lachnospiraceae bacterium oral taxon 082 str. F0431","Clostridia",1,null,null,1]
[{"$nulls":8},"Lacinutrix sp. 5H-3-7-4","Bacteroidetes",null,1,null,1]
[{"$nulls":8},"Lactobacillus amylolyticus DSM 11664","Bacilli",null,null,1,1]
[{"$nulls":8},"Lactobacillus coleohominis 101-4-CHN","Bacilli",null,null,1,1]
[{"$nulls":8},"Lactobacillus coryniformis subsp. torquens KCTC 3535","Bacilli",null,1,null,1]
[{"$nulls":8},"Lactobacillus delbrueckii subsp. bulgaricus ND02","Bacilli",1,null,null,1]
[{"$nulls":8},"Lactobacillus hilgardii ATCC 8290","Bacilli",null,1,null,1]
[{"$nulls":8},"Lactobacillus hominis CRBIP 24.179","Bacilli",null,null,1,1]
[{"$nulls":8},"Lactobacillus phage Lc-Nu","Caudovirales",1,null,null,1]
[{"$nulls":8},"Lactobacillus reuteri 100-23","Bacilli",1,null,null,1]
[{"$nulls":8},"Legionella longbeachae D-4968","Gammaproteobacteria",1,null,null,1]
[{"$nulls":8},"Leishmania braziliensis MHOM/BR/75/M2904","Kinetoplastida",null,1,null,1]
[{"$nulls":8},"Leishmania donovani","Kinetoplastida",1,null,null,1]
[{"$nulls":8},"Leishmania infantum JPCM5","Kinetoplastida",1,null,null,1]
[{"$nulls":8},"Leishmania major strain Friedlin","Kinetoplastida",null,null,1,1]
[{"$nulls":8},"Lentisphaera araneosa HTCC2155","Lentisphaerae",1,null,null,1]
[{"$nulls":8},"Leptonema illini DSM 21528","Spirochaetia",null,1,null,1]
[{"$nulls":8},"Leptospira interrogans serovar Lai str. 56601","Spirochaetia",null,1,null,1]
[{"$nulls":8},"Leptospira kirschneri serovar Bim str. 1051","Spirochaetia",1,null,null,1]
[{"$nulls":8},"Leptothrix ochracea L12","Betaproteobacteria",null,1,null,1]
[{"$nulls":8},"Leuconostoc fallax KCTC 3537","Bacilli",null,null,1,1]
[{"$nulls":8},"Listeria monocytogenes HCC23","Bacilli",1,null,null,1]
[{"$nulls":8},"Macaca mulatta","Metazoa",null,null,1,1]
[{"$nulls":8},"Magnetospirillum magneticum AMB-1","Alphaproteobacteria",null,null,1,1]
[{"$nulls":8},"Magnetospirillum magnetotacticum MS-1","Alphaproteobacteria",1,null,null,1]
[{"$nulls":8},"Mannheimia haemolytica serotype A2 str. BOVINE","Gammaproteobacteria",null,null,1,1]
[{"$nulls":8},"Megamonas funiformis YIT 11815","Negativicutes",null,1,null,1]
[{"$nulls":8},"Mesoflavibacter zeaxanthinifaciens S86","Bacteroidetes",null,null,1,1]
[{"$nulls":8},"Mesorhizobium amorphae CCNWGS0123","Alphaproteobacteria",1,null,null,1]
[{"$nulls":8},"Metallosphaera cuprina Ar-4","Thermoprotei",null,1,null,1]
[{"$nulls":8},"Methanocaldococcus jannaschii DSM 2661","Methanococci",1,null,null,1]
[{"$nulls":8},"Methanocaldococcus vulcanius M7","Methanococci",null,1,null,1]
[{"$nulls":8},"Methanococcus maripaludis S2","Methanococci",1,null,null,1]
[{"$nulls":8},"Methanohalobium evestigatum Z-7303","Methanomicrobia",null,null,1,1]
[{"$nulls":8},"Methanosaeta thermophila PT","Methanomicrobia",1,null,null,1]
[{"$nulls":8},"Methylacidiphilum fumariolicum SolV","Verrucomicrobia",null,null,1,1]
[{"$nulls":8},"Methylacidiphilum infernorum V4","Verrucomicrobia",null,1,null,1]
[{"$nulls":8},"Methylomicrobium alcaliphilum 20Z","Gammaproteobacteria",1,null,null,1]
[{"$nulls":8},"Methylophilales bacterium HTCC2181","Betaproteobacteria",null,1,null,1]
[{"$nulls":8},"Methylosinus trichosporium OB3b","Alphaproteobacteria",1,null,null,1]
[{"$nulls":8},"Methylotenera mobilis JLW8","Betaproteobacteria",null,1,null,1]
[{"$nulls":8},"Methylotenera versatilis 301","Betaproteobacteria",null,1,null,1]
[{"$nulls":8},"Methylovorus glucosetrophus SIP3-4","Betaproteobacteria",null,1,null,1]
[{"$nulls":8},"Meyerozyma guilliermondii ATCC 6260","Fungi",null,null,1,1]
[{"$nulls":8},"Microcoleus vaginatus FGP-2","Oscillatoriales",1,null,null,1]
[{"$nulls":8},"Microcystis aeruginosa NIES-843","Chroococcales",null,1,null,1]
[{"$nulls":8},"Mitsuokella multacida DSM 20544","Negativicutes",1,null,null,1]
[{"$nulls":8},"Muricauda ruestringensis DSM 13258","Bacteroidetes",1,null,null,1]
[{"$nulls":8},"Mus musculus","Metazoa",null,1,null,1]
[{"$nulls":8},"Mycobacterium massiliense str. GO 06","Actinobacteria",null,1,null,1]
[{"$nulls":8},"Mycobacterium parascrofulaceum ATCC BAA-614","Actinobacteria",1,null,null,1]
[{"$nulls":8},"Mycobacterium sp. MCS","Actinobacteria",null,null,1,1]
[{"$nulls":8},"Mycoplasma bovis Hubei-1","Mollicutes",null,null,1,1]
[{"$nulls":8},"NULL","Bacilli",1,null,null,1]
[{"$nulls":8},"Naumovozyma dairenensis CBS 421","Fungi",1,null,null,1]
[{"$nulls":8},"Neisseria gonorrhoeae FA6140","Betaproteobacteria",null,1,null,1]
[{"$nulls":8},"Neisseria meningitidis FAM18","Betaproteobacteria",null,1,null,1]
[{"$nulls":8},"Neisseria polysaccharea ATCC 43768","Betaproteobacteria",1,null,null,1]
[{"$nulls":8},"Neurospora crassa OR74A","Fungi",1,null,null,1]
[{"$nulls":8},"Nitratifractor salsuginis DSM 16511","delta-epsilon_subdivisions",1,null,null,1]
[{"$nulls":8},"Nitratiruptor sp. SB155-2","delta-epsilon_subdivisions",null,1,null,1]
[{"$nulls":8},"Nitrococcus mobilis Nb-231","Gammaproteobacteria",1,null,null,1]
[{"$nulls":8},"Nitrolancetus hollandicus Lb","Thermomicrobia",null,null,1,1]
[{"$nulls":8},"Nitrosopumilus maritimus SCM1","Nitrosopumilales",1,null,null,1]
[{"$nulls":8},"Nodularia spumigena CCY9414","Nostocales",null,1,null,1]
[{"$nulls":8},"Nostoc punctiforme PCC 73102","Nostocales",null,1,null,1]
[{"$nulls":8},"Novosphingobium nitrogenifigens DSM 19370","Alphaproteobacteria",null,null,1,1]
[{"$nulls":8},"Novosphingobium sp. AP12","Alphaproteobacteria",null,null,1,1]
[{"$nulls":8},"Oceanicola batsensis HTCC2597","Alphaproteobacteria",1,null,null,1]
[{"$nulls":8},"Oceanicola granulosus HTCC2516","Alphaproteobacteria",1,null,null,1]
[{"$nulls":8},"Oceanithermus profundus DSM 14977","Deinococci",1,null,null,1]
[{"$nulls":8},"Odoribacter splanchnicus DSM 20712","Bacteroidetes",1,null,null,1]
[{"$nulls":8},"Oribacterium sp. oral taxon 078 str. F0262","Clostridia",null,null,1,1]
[{"$nulls":8},"Oryzias latipes","Metazoa",null,null,1,1]
[{"$nulls":8},"Oxalobacteraceae bacterium IMCC9480","Betaproteobacteria",null,1,null,1]
[{"$nulls":8},"Paenibacillus elgii B69","Bacilli",null,1,null,1]
[{"$nulls":8},"Paenibacillus larvae subsp. larvae BRL-230010","Bacilli",1,null,null,1]
[{"$nulls":8},"Paenibacillus mucilaginosus KNP414","Bacilli",null,1,null,1]
[{"$nulls":8},"Paenibacillus terrae HPL-003","Bacilli",1,null,null,1]
[{"$nulls":8},"Paenibacillus vortex V453","Bacilli",null,1,null,1]
[{"$nulls":8},"Pantoea sp. YR343","Gammaproteobacteria",null,1,null,1]
[{"$nulls":8},"Pantoea stewartii subsp. stewartii DC283","Gammaproteobacteria",null,null,1,1]
[{"$nulls":8},"Parachlamydia acanthamoebae str. Hall's coccus","Chlamydiae",null,null,1,1]
[{"$nulls":8},"Paracoccus denitrificans PD1222","Alphaproteobacteria",1,null,null,1]
[{"$nulls":8},"Paramecium bursaria Chlorella virus NY2A","Phycodnaviridae",null,1,null,1]
[{"$nulls":8},"Pasteurella multocida subsp. multocida str. Pm70","Gammaproteobacteria",1,null,null,1]
[{"$nulls":8},"Paulinella chromatophora","Cercozoa",null,null,1,1]
[{"$nulls":8},"Pelosinus fermentans DSM 17108","Negativicutes",null,null,1,1]
[{"$nulls":8},"Penicillium chrysogenum Wisconsin 54-1255","Fungi",null,1,null,1]
[{"$nulls":8},"Peptostreptococcus stomatis DSM 17678","Clostridia",null,null,1,1]
[{"$nulls":8},"Persephonella marina EX-H1","Aquificae",1,null,null,1]
[{"$nulls":8},"Phaeosphaeria nodorum SN15","Fungi",1,null,null,1]
[{"$nulls":8},"Photobacterium leiognathi subsp. mandapamensis svers.1.1.","Gammaproteobacteria",1,null,null,1]
[{"$nulls":8},"Plasmodium chabaudi chabaudi","Apicomplexa",null,null,1,1]
[{"$nulls":8},"Pontibacter sp. BAB1700","Bacteroidetes",null,null,1,1]
[{"$nulls":8},"Prevotella amnii CRIS 21A-A","Bacteroidetes",null,null,1,1]
[{"$nulls":8},"Prevotella bergensis DSM 17361","Bacteroidetes",null,1,null,1]
[{"$nulls":8},"Prevotella melaninogenica ATCC 25845","Bacteroidetes",1,null,null,1]
[{"$nulls":8},"Prevotella oulorum F0390","Bacteroidetes",null,1,null,1]
[{"$nulls":8},"Prevotella timonensis CRIS 5C-B1","Bacteroidetes",null,null,1,1]
[{"$nulls":8},"Prochlorococcus marinus str. AS9601","Prochlorales",null,null,1,1]
[{"$nulls":8},"Prochlorococcus marinus str. MIT 9515","Prochlorales",1,null,null,1]
[{"$nulls":8},"Prochlorococcus phage P-HM1","Caudovirales",1,null,null,1]
[{"$nulls":8},"Prochlorococcus phage P-SSM7","Caudovirales",null,null,1,1]
[{"$nulls":8},"Propionibacterium acnes J139","Actinobacteria",null,1,null,1]
[{"$nulls":8},"Pseudoalteromonas sp. BSi20439","Gammaproteobacteria",1,null,null,1]
[{"$nulls":8},"Pseudoalteromonas sp. BSi20652","Gammaproteobacteria",null,1,null,1]
[{"$nulls":8},"Pseudoalteromonas sp. SM9913","Gammaproteobacteria",1,null,null,1]
[{"$nulls":8},"Pseudoalteromonas tunicata D2","Gammaproteobacteria",null,1,null,1]
[{"$nulls":8},"Pseudomonas extremaustralis 14-3 substr. 14-3b","Gammaproteobacteria",null,1,null,1]
[{"$nulls":8},"Pseudomonas fluorescens SBW25","Gammaproteobacteria",null,1,null,1]
[{"$nulls":8},"Pseudomonas putida W619","Gammaproteobacteria",null,null,1,1]
[{"$nulls":8},"Pseudomonas sp. GM78","Gammaproteobacteria",null,null,1,1]
[{"$nulls":8},"Psychromonas ingrahamii 37","Gammaproteobacteria",1,null,null,1]
[{"$nulls":8},"Pyrenophora teres f. teres 0-1","Fungi",null,null,1,1]
[{"$nulls":8},"Pyrobaculum sp. 1860","Thermoprotei",null,null,1,1]
[{"$nulls":8},"Pyrolobus fumarii 1A","Thermoprotei",null,null,1,1]
[{"$nulls":8},"Ralstonia pickettii 12J","Betaproteobacteria",null,null,1,1]
[{"$nulls":8},"Rhizobium etli 8C-3","Alphaproteobacteria",null,null,1,1]
[{"$nulls":8},"Rhizobium leguminosarum bv. trifolii WSM1325","Alphaproteobacteria",1,null,null,1]
[{"$nulls":8},"Rhodanobacter sp. 2APBS1","Gammaproteobacteria",null,null,1,1]
[{"$nulls":8},"Rhodanobacter spathiphylli B39","Gammaproteobacteria",null,null,1,1]
[{"$nulls":8},"Rhodobacter capsulatus SB 1003","Alphaproteobacteria",null,1,null,1]
[{"$nulls":8},"Rhodobacteraceae bacterium KLH11","Alphaproteobacteria",null,1,null,1]
[{"$nulls":8},"Rhodobacterales bacterium Y4I","Alphaproteobacteria",1,null,null,1]
[{"$nulls":8},"Rickettsia australis str. Cutlack","Alphaproteobacteria",null,null,1,1]
[{"$nulls":8},"Rickettsia bellii OSU 85-389","Alphaproteobacteria",null,1,null,1]
[{"$nulls":8},"Rickettsia canadensis str. McKiel","Alphaproteobacteria",null,1,null,1]
[{"$nulls":8},"Roseburia hominis A2-183","Clostridia",1,null,null,1]
[{"$nulls":8},"Roseobacter sp. AzwK-3b","Alphaproteobacteria",null,1,null,1]
[{"$nulls":8},"Roseobacter sp. MED193","Alphaproteobacteria",1,null,null,1]
[{"$nulls":8},"Rothia dentocariosa M567","Actinobacteria",null,null,1,1]
[{"$nulls":8},"Rubrivivax benzoatilyticus JA2","Betaproteobacteria",null,null,1,1]
[{"$nulls":8},"Ruminococcus albus 7","Clostridia",1,null,null,1]
[{"$nulls":8},"Ruminococcus gnavus ATCC 29149","Clostridia",null,1,null,1]
[{"$nulls":8},"Ruminococcus lactaris ATCC 29176","Clostridia",null,1,null,1]
[{"$nulls":8},"Runella slithyformis DSM 19594","Bacteroidetes",null,null,1,1]
[{"$nulls":8},"SAR116 cluster alpha proteobacterium HIMB100","Alphaproteobacteria",1,null,null,1]
[{"$nulls":8},"Saccharomonospora glauca K62","Actinobacteria",null,1,null,1]
[{"$nulls":8},"Saccharomonospora paurometabolica YIM 90007","Actinobacteria",1,null,null,1]
[{"$nulls":8},"Salmonella enterica subsp. enterica serovar Dublin str. CT_02021853","Gammaproteobacteria",null,null,1,1]
[{"$nulls":8},"Salmonella enterica subsp. enterica serovar Javiana str. GA_MM04042433","Gammaproteobacteria",null,1,null,1]
[{"$nulls":8},"Salmonella enterica subsp. enterica serovar Typhi str. J185","Gammaproteobacteria",null,1,null,1]
[{"$nulls":8},"Salmonella enterica subsp. enterica serovar Virchow str. SL491","Gammaproteobacteria",null,1,null,1]
[{"$nulls":8},"Scheffersomyces stipitis CBS 6054","Fungi",null,1,null,1]
[{"$nulls":8},"Schistosoma mansoni","Metazoa",1,null,null,1]
[{"$nulls":8},"Schizosaccharomyces pombe 972h-","Fungi",null,1,null,1]
[{"$nulls":8},"Segniliparus rugosus ATCC BAA-974","Actinobacteria",1,null,null,1]
[{"$nulls":8},"Selenomonas sputigena ATCC 35185","Negativicutes",1,null,null,1]
[{"$nulls":8},"Serinicoccus profundi MCCC 1A05965","Actinobacteria",1,null,null,1]
[{"$nulls":8},"Serratia odorifera 4Rx13","Gammaproteobacteria",null,1,null,1]
[{"$nulls":8},"Serratia sp. M24T3","Gammaproteobacteria",1,null,null,1]
[{"$nulls":8},"Shewanella baltica OS195","Gammaproteobacteria",null,1,null,1]
[{"$nulls":8},"Shewanella halifaxensis HAW-EB4","Gammaproteobacteria",null,1,null,1]
[{"$nulls":8},"Shewanella sp. MR-7","Gammaproteobacteria",null,1,null,1]
[{"$nulls":8},"Shewanella violacea DSS12","Gammaproteobacteria",null,1,null,1]
[{"$nulls":8},"Shuttleworthia satelles DSM 14600","Clostridia",1,null,null,1]
[{"$nulls":8},"Solibacillus silvestris StLB046","Bacilli",null,null,1,1]
[{"$nulls":8},"Solobacterium moorei F0204","Erysipelotrichi",null,null,1,1]
[{"$nulls":8},"Sorghum bicolor","Streptophyta",1,null,null,1]
[{"$nulls":8},"Sphaerochaeta globus str. Buddy","Spirochaetia",null,null,1,1]
[{"$nulls":8},"Sphingobacterium sp. 21","Bacteroidetes",null,null,1,1]
[{"$nulls":8},"Sphingomonas wittichii RW1","Alphaproteobacteria",null,1,null,1]
[{"$nulls":8},"Spiroplasma melliferum KC3","Mollicutes",1,null,null,1]
[{"$nulls":8},"Spirosoma linguale DSM 74","Bacteroidetes",null,null,1,1]
[{"$nulls":8},"Stackebrandtia nassauensis DSM 44728","Actinobacteria",null,null,1,1]
[{"$nulls":8},"Staphylococcus aureus subsp. aureus ED133","Bacilli",null,null,1,1]
[{"$nulls":8},"Staphylococcus epidermidis ATCC 12228","Bacilli",null,1,null,1]
[{"$nulls":8},"Staphylococcus hominis SK119","Bacilli",null,null,1,1]
[{"$nulls":8},"Staphylococcus saprophyticus subsp. saprophyticus ATCC 15305","Bacilli",null,null,1,1]
[{"$nulls":8},"Staphylococcus simiae CCM 7213","Bacilli",null,1,null,1]
[{"$nulls":8},"Staphylococcus warneri L37603","Bacilli",null,1,null,1]
[{"$nulls":8},"Stenotrophomonas sp. SKA14","Gammaproteobacteria",null,null,1,1]
[{"$nulls":8},"Stigmatella aurantiaca DW4/3-1","delta-epsilon_subdivisions",1,null,null,1]
[{"$nulls":8},"Streptococcus agalactiae ATCC 13813","Bacilli",1,null,null,1]
[{"$nulls":8},"Streptococcus downei F0415","Bacilli",null,null,1,1]
[{"$nulls":8},"Streptococcus dysgalactiae subsp. equisimilis ATCC 12394","Bacilli",null,null,1,1]
[{"$nulls":8},"Streptococcus gordonii str. Challis substr. CH1","Bacilli",null,null,1,1]
[{"$nulls":8},"Streptococcus macedonicus ACA-DC 198","Bacilli",null,1,null,1]
[{"$nulls":8},"Streptococcus parasanguinis FW213","Bacilli",null,1,null,1]
[{"$nulls":8},"Streptococcus uberis 0140J","Bacilli",null,1,null,1]
[{"$nulls":8},"Streptomyces chartreusis NRRL 12338","Actinobacteria",null,1,null,1]
[{"$nulls":8},"Streptomyces griseus subsp. griseus NBRC 13350","Actinobacteria",1,null,null,1]
[{"$nulls":8},"Streptosporangium roseum DSM 43021","Actinobacteria",null,1,null,1]
[{"$nulls":8},"Subdoligranulum variabile DSM 15176","Clostridia",null,null,1,1]
[{"$nulls":8},"Subterranean clover stunt virus","Nanovirus",1,null,null,1]
[{"$nulls":8},"Sulfolobus tokodaii str. 7","Thermoprotei",null,null,1,1]
[{"$nulls":8},"Sulfurovum sp. NBC37-1","delta-epsilon_subdivisions",1,null,null,1]
[{"$nulls":8},"Sus scrofa","Metazoa",null,1,null,1]
[{"$nulls":8},"Synechococcus elongatus PCC 6301","Chroococcales",null,1,null,1]
[{"$nulls":8},"Synechococcus phage Syn19","Caudovirales",null,1,null,1]
[{"$nulls":8},"Synechococcus sp. CC9902","Chroococcales",null,null,1,1]
[{"$nulls":8},"Synechococcus sp. JA-3-3Ab","Chroococcales",1,null,null,1]
[{"$nulls":8},"Synechococcus sp. WH 8109","Chroococcales",null,null,1,1]
[{"$nulls":8},"Syntrophobotulus glycolicus DSM 8271","Clostridia",null,null,1,1]
[{"$nulls":8},"Syntrophomonas wolfei subsp. wolfei str. Goettingen","Clostridia",1,null,null,1]
[{"$nulls":8},"Takifugu rubripes","Metazoa",null,null,1,1]
[{"$nulls":8},"Tannerella sp. 6_1_58FAA_CT1","Bacteroidetes",1,null,null,1]
[{"$nulls":8},"Tetragenococcus halophilus NBRC 12172","Bacilli",null,null,1,1]
[{"$nulls":8},"Tetrapisispora phaffii CBS 4417","Fungi",1,null,null,1]
[{"$nulls":8},"Thermoanaerobacter sp. X514","Clostridia",null,1,null,1]
[{"$nulls":8},"Thermoanaerobacter wiegelii Rt8.B1","Clostridia",1,null,null,1]
[{"$nulls":8},"Thermococcus barophilus MP","Thermococci",1,null,null,1]
[{"$nulls":8},"Thermococcus sibiricus MM 739","Thermococci",1,null,null,1]
[{"$nulls":8},"Thermodesulfovibrio yellowstonii DSM 11347","Nitrospira",null,1,null,1]
[{"$nulls":8},"Thermosediminibacter oceani DSM 16646","Clostridia",null,null,1,1]
[{"$nulls":8},"Thermotoga naphthophila RKU-10","Thermotogae",null,null,1,1]
[{"$nulls":8},"Thermotoga petrophila RKU-1","Thermotogae",null,null,1,1]
[{"$nulls":8},"Thioalkalimicrobium cyclicum ALM1","Gammaproteobacteria",null,1,null,1]
[{"$nulls":8},"Thiorhodovibrio sp. 970","Gammaproteobacteria",null,null,1,1]
[{"$nulls":8},"Tistrella mobilis KA081020-065","Alphaproteobacteria",1,null,null,1]
[{"$nulls":8},"Torulaspora delbrueckii","Fungi",null,1,null,1]
[{"$nulls":8},"Trachelium caeruleum","Streptophyta",1,null,null,1]
[{"$nulls":8},"Treponema denticola ATCC 35405","Spirochaetia",1,null,null,1]
[{"$nulls":8},"Treponema phagedenis F0421","Spirochaetia",null,null,1,1]
[{"$nulls":8},"Trichophyton rubrum CBS 118892","Fungi",null,null,1,1]
[{"$nulls":8},"Trichoplax adhaerens","Metazoa",null,null,1,1]
[{"$nulls":8},"Trypanosoma brucei brucei strain 927/4 GUTat10.1","Kinetoplastida",null,1,null,1]
[{"$nulls":8},"Tuber melanosporum Mel28","Fungi",null,1,null,1]
[{"$nulls":8},"Uncinocarpus reesii 1704","Fungi",1,null,null,1]
[{"$nulls":8},"Verminephrobacter aporrectodeae subsp. tuberculatae At4","Betaproteobacteria",null,1,null,1]
[{"$nulls":8},"Verrucomicrobiae bacterium DG1235","Verrucomicrobia",1,null,null,1]
[{"$nulls":8},"Verticillium albo-atrum VaMs.102","Fungi",1,null,null,1]
[{"$nulls":8},"Vibrio cholerae 623-39","Gammaproteobacteria",1,null,null,1]
[{"$nulls":8},"Vibrio cholerae RC385","Gammaproteobacteria",null,1,null,1]
[{"$nulls":8},"Vibrio mimicus MB451","Gammaproteobacteria",null,1,null,1]
[{"$nulls":8},"Vibrio sp. AND4","Gammaproteobacteria",null,1,null,1]
[{"$nulls":8},"Vibrionales bacterium SWAT-3","Gammaproteobacteria",null,null,1,1]
[{"$nulls":8},"Vitis vinifera","Streptophyta",null,1,null,1]
[{"$nulls":8},"Weeksella virosa DSM 16922","Bacteroidetes",null,null,1,1]
[{"$nulls":8},"Weissella confusa LBAE C39-2","Bacilli",1,null,null,1]
[{"$nulls":8},"Wiseana iridescent virus","Iridoviridae",1,null,null,1]
[{"$nulls":8},"Zunongwangia profunda SM-A87","Bacteroidetes",null,1,null,1]
[{"$nulls":8},"Zygosaccharomyces rouxii CBS 732","Fungi",1,null,null,1]
[{"$nulls":8},"Zymomonas mobilis subsp. mobilis ATCC 29191","Alphaproteobacteria",null,null,1,1]
[{"$nulls":8},"Zymoseptoria tritici IPO323","Fungi",1,null,null,1]
[{"$nulls":8},"delta proteobacterium MLMS-1","delta-epsilon_subdivisions",1,null,null,1]
[{"$nulls":8},"delta proteobacterium NaphS2","delta-epsilon_subdivisions",1,null,null,1]
[{"$nulls":8},"gamma proteobacterium HIMB30","Gammaproteobacteria",1,null,null,1]
[{"$nulls":8},"gamma proteobacterium IMCC1989","Gammaproteobacteria",null,null,1,1]
[{"$nulls":8},"gamma proteobacterium NOR5-3","Gammaproteobacteria",null,1,null,1]
[{"$nulls":8},"gamma proteobacterium NOR51-B","Gammaproteobacteria",null,null,1,1]
[{"$nulls":8},"planctomycete KSU-1","Planctomycetia",null,1,null,1]
[{"$nulls":8},"unidentified eubacterium SCB49","Bacteroidetes",null,1,null,1]
[]
[{"$nulls":8},"total",null,413,392,316]

{"sheet":"Sheet1","index":5,"n_rows":13,"n_cols":5,"rows_kept":13,"cut":false,"hidden":false,"merged":[]}
[null,"PGV","OLPV1","OLPV2"]
["Metazoa",66,53,42,12]
["Fungi",31,24,24,11]
["Viridiplantae",30,14,12,10]
["other Eukaryota",48,44,32,9]
["Mimiviridae",43,40,38,8]
["Phycodnaviridae",33,22,24,7]
["other viruses",10,10,8,6]
["Proteobacteria",59,86,46,5]
["Firmicutes",38,42,37,4]
["Bacteroidetes/Chlorobi",20,21,22,3]
["other Bacteria",25,30,23,2]
["Archaea",10,6,8,1]